{"text_format":"1","workbook":"xlsx","n_sheets":38,"sheets":["1","2","3","4","5","6","7","Fechamento semanal1","8","9","10","11","12","13","14","Fechamento semanal2 ","15","16","17","18","19","20","21","Fechamento semanal3   ","22","23","24","25","26","27","28","  Fechamento semanal4   ","29","30","31","Fechamento semanal5","  Fechamento Mensal       ","DRE"],"not_rendered":{"charts":0,"images":0,"macros":1,"external_links":0,"defined_names":4,"comments":0,"pivot_tables":0},"unopened":[],"bounds":{"document_bytes":16777216,"sheet_cells":100000,"rows_first":2000,"rows_last":500,"rows_between":2000,"halvings":0,"cell_chars":16384,"cell_head_chars":4096},"cells_cut":0,"cells_raw":0,"read":"whole","date_system":"1900"}

{"sheet":"1","index":0,"n_rows":32,"n_cols":31,"rows_kept":32,"cut":false,"hidden":false,"merged":[[0,5,0,6],[0,10,31,10],[1,5,1,9],[31,0,31,1],[31,5,31,6],[1,0,1,1],[1,4,2,4]]}
["FATURAMENTO REFERENTE AO DIA","2017-04-30","Previsto",null,null,"Saldo do dia anterios",null,null,"FATURAMENTO REAL",null,{"$f":"B1+1","v":"2017-05-01"},null,"Dinheiro em Conta",{"$f":"10667.1+786.24","v":11453.34},null,null,null,null,{"$f":"'  Fechamento Mensal       '!$B$13","v":"MP"},"Valor",{"$f":"'  Fechamento Mensal       '!$B$14","v":"Op"},null,{"$f":"'  Fechamento Mensal       '!$B$15","v":"Fx"},null,{"$f":"'  Fechamento Mensal       '!$B$16","v":"Va"},null,{"$f":"'  Fechamento Mensal       '!$B$17","v":"Tx"},null,{"$f":"'  Fechamento Mensal       '!$B$18","v":"PL"},null,{"$f":"'  Fechamento Mensal       '!M5","v":0}]
["Contas Previstas para pagamento",null,"Saldo Anterior",null,"Tipo de Custo","Contas Pagas - Real",null,null,null,null,null,null,"Notas Grandes",{"$f":"2750+500","v":3250},null,null,null,null,{"$f":"IFERROR(VLOOKUP($S$1,E4:I4,2,FALSE),\"-\")","v":"-"},{"$f":"IFERROR(VLOOKUP($S$1,E4:J4,4,FALSE),\"-\")","v":"-"}]
["Fornecedor","Vencimento","Valor",{"$f":"SUM(D1:D2)","v":0},null,"Fornecedor","Vencimento","Valor","Forma de pagamento","-",null,null,"Dinheiro trocado",{"$f":"360+240+95+162+58.35","v":915.35},null,null,null,null,{"$f":"IFERROR(VLOOKUP($S$1,E5:I5,2,FALSE),\"-\")","v":"-"}]
[null,null,null,{"$f":"D1-C4","v":0},null,null,null,null,null,{"$f":"J1-H4","v":0},null,null,"Cheques",{"$f":"55","v":55},null,null,null,null,{"$f":"IFERROR(VLOOKUP($S$1,E6:I6,2,FALSE),\"-\")","v":"-"}]
[null,null,null,{"$f":"D4-C5","v":0},null,null,null,null,null,{"$f":"J4-H5","v":0},null,null,"Total",{"$f":"SUM(N1:N4)","v":15673.69},null,null,null,null,"-"]
[null,null,null,0,null,null,null,null,null,0,null,null,null,null,null,null,null,null,"-"]
[null,null,null,0,null,null,null,null,null,0,null,null,null,null,null,null,null,null,"-"]
[null,null,null,0,null,null,null,null,null,0,null,null,"Tipo de Custos","Cód","Total dia",null,null,null,"-"]
[null,null,null,0,null,null,null,null,null,0,null,null,{"$f":"'  Fechamento Mensal       '!$A$13","v":"Matéria-Prima"},{"$f":"'  Fechamento Mensal       '!$B$13","v":"MP"},{"$f":"SUMIF($E$4:$E$31,N9,H4:H31)","v":0},null,null,null,"-"]
[null,null,null,0,null,null,null,null,null,0,null,null,{"$f":"'  Fechamento Mensal       '!$A$14","v":"Operacional"},{"$f":"'  Fechamento Mensal       '!$B$14","v":"Op"},{"$f":"SUMIF($E$4:$E$31,N10,$H$4:$H$31)","v":0},null,null,null,"-"]
[null,null,null,0,null,null,null,null,null,0,null,null,{"$f":"'  Fechamento Mensal       '!$A$15","v":"Despesas Fixas"},{"$f":"'  Fechamento Mensal       '!$B$15","v":"Fx"},{"$f":"SUMIF($E$4:$E$31,N11,$H$4:$H$31)","v":0},null,null,null,"-"]
[null,null,null,0,null,null,null,null,null,0,null,null,{"$f":"'  Fechamento Mensal       '!$A$16","v":"Variáveis"},{"$f":"'  Fechamento Mensal       '!$B$16","v":"Va"},0,null,null,null,"-"]
[null,null,null,0,null,null,null,null,null,0,null,null,{"$f":"'  Fechamento Mensal       '!$A$17","v":"Financeiras (taxas e juros)"},{"$f":"'  Fechamento Mensal       '!$B$17","v":"Tx"},0,null,null,null,"-"]
[null,null,null,0,null,null,null,null,null,0,null,null,{"$f":"'  Fechamento Mensal       '!$A$18","v":"Pró-labore"},{"$f":"'  Fechamento Mensal       '!$B$18","v":"PL"},0,null,null,null,"-"]
[null,null,null,0,null,null,null,null,null,0,null,null,{"$f":"'  Fechamento Mensal       '!$A$19","v":"Outros"},{"$f":"'  Fechamento Mensal       '!B19","v":"Ou"},0,null,null,null,"-"]
[null,null,null,0,null,null,null,null,null,0,null,null,null,null,null,null,null,null,"-"]
[null,null,null,0,null,null,null,null,null,0,null,null,null,null,null,null,null,null,"-"]
[null,null,null,0,null,null,null,null,null,0,null,null,null,null,null,null,null,null,"-"]
[null,null,null,0,null,null,null,null,null,0,null,null,null,null,null,null,null,null,"-"]
[null,null,null,0,null,null,null,null,null,0,null,null,null,null,null,null,null,null,"-"]
[null,null,null,0,null,null,null,null,null,0,null,null,null,null,null,null,null,null,"-"]
[null,null,null,0,null,null,null,null,null,0,null,null,null,null,null,null,null,null,"-"]
[null,null,null,0,null,null,null,null,null,0,null,null,null,null,null,null,null,null,"-"]
[null,null,null,0,null,null,null,null,null,0,null,null,null,null,null,null,null,null,"-"]
[null,null,null,0,null,null,null,null,null,0,null,null,null,null,null,null,null,null,"-"]
[null,null,null,0,null,null,null,null,null,0,null,null,null,null,null,null,null,null,"-"]
[null,null,null,0,null,null,null,null,null,0,null,null,null,null,null,null,null,null,"-"]
[null,null,null,0,null,null,null,null,null,0,null,null,null,null,null,null,null,null,"-"]
[null,null,null,0,null,null,null,null,null,0,null,null,null,null,null,null,null,null,"-"]
[null,null,null,0,null,null,null,null,null,0]
[null,null,null,0,null,null,null,null,null,0]
["Total",null,{"$f":"SUM(C4:C31)","v":0},null,null,"Total",null,{"$f":"SUM(H4:H31)","v":0}]

{"sheet":"2","index":1,"n_rows":32,"n_cols":15,"rows_kept":32,"cut":false,"hidden":false,"merged":[[0,5,0,6],[0,10,31,10],[1,5,1,9],[31,0,31,1],[31,5,31,6],[1,0,1,1],[1,4,2,4]]}
["FATURAMENTO REFERENTE AO DIA",{"$f":"'1'!K1:K32+1","v":"2017-05-02"},"Previsto",null,null,"Saldo do dia anterios",null,{"$f":"'1'!J31","v":0},"FATURAMENTO REAL",null,{"$f":"B1+1","v":"2017-05-03"},null,"Dinheiro em Conta",{"$f":"10667.1+786.24","v":11453.34}]
["Contas Previstas para pagamento",null,"Saldo Anterior",{"$f":"'1'!D31","v":0},"Tipo de Custo","Contas Pagas - Real",null,null,null,null,null,null,"Notas Grandes",{"$f":"2750+500","v":3250}]
["Fornecedor","Vencimento","Valor",{"$f":"SUM(D1:D2)","v":0},null,"Fornecedor","Vencimento","Valor","Forma de pagamento","-",null,null,"Dinheiro trocado",{"$f":"360+240+95+162+58.35","v":915.35}]
[null,null,null,{"$f":"D3-C4","v":0},null,null,null,null,null,{"$f":"J1-H4","v":0},null,null,"Cheques",{"$f":"55","v":55}]
[null,null,null,{"$f":"D4-C5","v":0},null,null,null,null,null,{"$f":"J4-H5","v":0},null,null,"Total",{"$f":"SUM(N1:N4)","v":15673.69}]
[null,null,null,0,null,null,null,null,null,0]
[null,null,null,0,null,null,null,null,null,0]
[null,null,null,0,null,null,null,null,null,0,null,null,"Tipo de Custos","Cód","Total dia"]
[null,null,null,0,null,null,null,null,null,0,null,null,{"$f":"'  Fechamento Mensal       '!$A$13","v":"Matéria-Prima"},{"$f":"'  Fechamento Mensal       '!$B$13","v":"MP"},{"$f":"SUMIF($E$4:$E$31,N9,H4:H31)","v":0}]
[null,null,null,0,null,null,null,null,null,0,null,null,{"$f":"'  Fechamento Mensal       '!$A$14","v":"Operacional"},{"$f":"'  Fechamento Mensal       '!$B$14","v":"Op"},{"$f":"SUMIF($E$4:$E$31,N10,$H$4:$H$31)","v":0}]
[null,null,null,0,null,null,null,null,null,0,null,null,{"$f":"'  Fechamento Mensal       '!$A$15","v":"Despesas Fixas"},{"$f":"'  Fechamento Mensal       '!$B$15","v":"Fx"},{"$f":"SUMIF($E$4:$E$31,N11,$H$4:$H$31)","v":0}]
[null,null,null,0,null,null,null,null,null,0,null,null,{"$f":"'  Fechamento Mensal       '!$A$16","v":"Variáveis"},{"$f":"'  Fechamento Mensal       '!$B$16","v":"Va"},0]
[null,null,null,0,null,null,null,null,null,0,null,null,{"$f":"'  Fechamento Mensal       '!$A$17","v":"Financeiras (taxas e juros)"},{"$f":"'  Fechamento Mensal       '!$B$17","v":"Tx"},0]
[null,null,null,0,null,null,null,null,null,0,null,null,{"$f":"'  Fechamento Mensal       '!$A$18","v":"Pró-labore"},{"$f":"'  Fechamento Mensal       '!$B$18","v":"PL"},0]
[null,null,null,0,null,null,null,null,null,0,null,null,{"$f":"'  Fechamento Mensal       '!$A$19","v":"Outros"},{"$f":"'  Fechamento Mensal       '!B19","v":"Ou"},0]
[null,null,null,0,null,null,null,null,null,0]
[null,null,null,0,null,null,null,null,null,0]
[null,null,null,0,null,null,null,null,null,0]
[null,null,null,0,null,null,null,null,null,0]
[null,null,null,0,null,null,null,null,null,0]
[null,null,null,0,null,null,null,null,null,0]
[null,null,null,0,null,null,null,null,null,0]
[null,null,null,0,null,null,null,null,null,0]
[null,null,null,0,null,null,null,null,null,0]
[null,null,null,0,null,null,null,null,null,0]
[null,null,null,0,null,null,null,null,null,0]
[null,null,null,0,null,null,null,null,null,0]
[null,null,null,0,null,null,null,null,null,0]
[null,null,null,0,null,null,null,null,null,0]
[null,null,null,0,null,null,null,null,null,0]
[null,null,null,0,null,null,null,null,null,0]
["Total",null,{"$f":"SUM(C4:C31)","v":0},null,null,"Total",null,{"$f":"SUM(H4:H31)","v":0}]

{"sheet":"3","index":2,"n_rows":32,"n_cols":15,"rows_kept":32,"cut":false,"hidden":false,"merged":[[0,5,0,6],[0,10,31,10],[1,5,1,9],[31,0,31,1],[31,5,31,6],[1,0,1,1],[1,4,2,4]]}
["FATURAMENTO REFERENTE AO DIA",{"$f":"'2'!K1:K32+1","v":"2017-05-04"},"Previsto",null,null,"Saldo do dia anterios",null,{"$f":"'2'!J31","v":0},"FATURAMENTO REAL",null,{"$f":"B1+1","v":"2017-05-05"},null,"Dinheiro em Conta",{"$f":"3324.69","v":3324.69}]
["Contas Previstas para pagamento",null,"Saldo Anterior",{"$f":"'2'!D31","v":0},"Tipo de Custo","Contas Pagas - Real",null,null,null,null,null,null,"Notas Grandes",{"$f":"1500","v":1500}]
["Fornecedor","Vencimento","Valor",{"$f":"SUM(D1:D2)","v":0},null,"Fornecedor","Vencimento","Valor","Forma de pagamento","-",null,null,"Dinheiro trocado",{"$f":"280+130+90+172+54.55","v":726.55}]
[null,null,null,{"$f":"D3-C4","v":0},null,null,null,null,null,null,null,null,"Cheques",55]
[null,null,null,{"$f":"D4-C5","v":0},null,null,null,null,null,null,null,null,"Total",{"$f":"SUM(N1:N4)","v":5606.2400000000007}]
[null,null,null,0,null,null,null,null,null,{"$f":"J1-H6","v":0}]
[null,null,null,0,null,null,null,null,null,{"$f":"J6-H7","v":0}]
[null,null,null,0,null,null,null,null,null,0,null,null,"Tipo de Custos","Cód","Total dia"]
[null,null,null,0,null,null,null,null,null,0,null,null,{"$f":"'  Fechamento Mensal       '!$A$13","v":"Matéria-Prima"},{"$f":"'  Fechamento Mensal       '!$B$13","v":"MP"},{"$f":"SUMIF($E$4:$E$31,N9,H4:H31)","v":0}]
[null,null,null,0,null,null,null,null,null,0,null,null,{"$f":"'  Fechamento Mensal       '!$A$14","v":"Operacional"},{"$f":"'  Fechamento Mensal       '!$B$14","v":"Op"},{"$f":"SUMIF($E$4:$E$31,N10,$H$4:$H$31)","v":0}]
[null,null,null,0,null,null,null,null,null,0,null,null,{"$f":"'  Fechamento Mensal       '!$A$15","v":"Despesas Fixas"},{"$f":"'  Fechamento Mensal       '!$B$15","v":"Fx"},{"$f":"SUMIF($E$4:$E$31,N11,$H$4:$H$31)","v":0}]
[null,null,null,0,null,null,null,null,null,0,null,null,{"$f":"'  Fechamento Mensal       '!$A$16","v":"Variáveis"},{"$f":"'  Fechamento Mensal       '!$B$16","v":"Va"},0]
[null,null,null,0,null,null,null,null,null,0,null,null,{"$f":"'  Fechamento Mensal       '!$A$17","v":"Financeiras (taxas e juros)"},{"$f":"'  Fechamento Mensal       '!$B$17","v":"Tx"},0]
[null,null,null,0,null,null,null,null,null,0,null,null,{"$f":"'  Fechamento Mensal       '!$A$18","v":"Pró-labore"},{"$f":"'  Fechamento Mensal       '!$B$18","v":"PL"},0]
[null,null,null,0,null,null,null,null,null,0,null,null,{"$f":"'  Fechamento Mensal       '!$A$19","v":"Outros"},{"$f":"'  Fechamento Mensal       '!B19","v":"Ou"},0]
[null,null,null,0,null,null,null,null,null,0]
[null,null,null,0,null,null,null,null,null,0]
[null,null,null,0,null,null,null,null,null,0]
[null,null,null,0,null,null,null,null,null,0]
[null,null,null,0,null,null,null,null,null,0]
[null,null,null,0,null,null,null,null,null,0]
[null,null,null,0,null,null,null,null,null,0]
[null,null,null,0,null,null,null,null,null,0]
[null,null,null,0,null,null,null,null,null,0]
[null,null,null,0,null,null,null,null,null,0]
[null,null,null,0,null,null,null,null,null,0]
[null,null,null,0,null,null,null,null,null,0]
[null,null,null,0,null,null,null,null,null,0]
[null,null,null,0,null,null,null,null,null,0]
[null,null,null,0,null,null,null,null,null,0]
[null,null,null,0,null,null,null,null,null,0]
["Total",null,{"$f":"SUM(C4:C31)","v":0},null,null,"Total",null,{"$f":"SUM(H4:H31)","v":0}]

{"sheet":"4","index":3,"n_rows":32,"n_cols":15,"rows_kept":32,"cut":false,"hidden":false,"merged":[[0,5,0,6],[0,10,31,10],[1,5,1,9],[31,0,31,1],[31,5,31,6],[1,0,1,1],[1,4,2,4]]}
["FATURAMENTO REFERENTE AO DIA","2017-05-03","Previsto",null,null,"Saldo do dia anterios",null,{"$f":"'3'!J31","v":0},"FATURAMENTO REAL",null,{"$f":"B1+1","v":"2017-05-04"},null,"Dinheiro em Conta",2425.9699999999998]
["Contas Previstas para pagamento",null,"Saldo Anterior",{"$f":"'3'!D31","v":0},"Tipo de Custo","Contas Pagas - Real",null,null,null,null,null,null,"Notas Grandes",{"$f":"400+500+1000","v":1900}]
["Fornecedor","Vencimento","Valor",{"$f":"SUM(D1:D2)","v":0},null,"Fornecedor","Vencimento","Valor","Forma de pagamento","-",null,null,"Dinheiro trocado",{"$f":"460+260+75+188+192","v":1175}]
[null,null,null,{"$f":"D3-C4","v":0},null,null,null,null,null,{"$f":"J1-H4","v":0},null,null,"Cheques",106.52]
[null,null,null,{"$f":"D4-C5","v":0},null,null,null,null,null,{"$f":"J4-H5","v":0},null,null,"Total",{"$f":"SUM(N1:N4)","v":5607.49}]
[null,null,null,0,null,null,null,null,null,0]
[null,null,null,0,null,null,null,null,null,0]
[null,null,null,0,null,null,null,null,null,0,null,null,"Tipo de Custos","Cód","Total dia"]
[null,null,null,0,null,null,null,null,null,0,null,null,{"$f":"'  Fechamento Mensal       '!$A$13","v":"Matéria-Prima"},{"$f":"'  Fechamento Mensal       '!$B$13","v":"MP"},{"$f":"SUMIF($E$4:$E$31,N9,H4:H31)","v":0}]
[null,null,null,0,null,null,null,null,null,0,null,null,{"$f":"'  Fechamento Mensal       '!$A$14","v":"Operacional"},{"$f":"'  Fechamento Mensal       '!$B$14","v":"Op"},{"$f":"SUMIF($E$4:$E$31,N10,$H$4:$H$31)","v":0}]
[null,null,null,0,null,null,null,null,null,0,null,null,{"$f":"'  Fechamento Mensal       '!$A$15","v":"Despesas Fixas"},{"$f":"'  Fechamento Mensal       '!$B$15","v":"Fx"},{"$f":"SUMIF($E$4:$E$31,N11,$H$4:$H$31)","v":0}]
[null,null,null,0,null,null,null,null,null,0,null,null,{"$f":"'  Fechamento Mensal       '!$A$16","v":"Variáveis"},{"$f":"'  Fechamento Mensal       '!$B$16","v":"Va"},0]
[null,null,null,0,null,null,null,null,null,0,null,null,{"$f":"'  Fechamento Mensal       '!$A$17","v":"Financeiras (taxas e juros)"},{"$f":"'  Fechamento Mensal       '!$B$17","v":"Tx"},0]
[null,null,null,0,null,null,null,null,null,0,null,null,{"$f":"'  Fechamento Mensal       '!$A$18","v":"Pró-labore"},{"$f":"'  Fechamento Mensal       '!$B$18","v":"PL"},0]
[null,null,null,0,null,null,null,null,null,0,null,null,{"$f":"'  Fechamento Mensal       '!$A$19","v":"Outros"},{"$f":"'  Fechamento Mensal       '!B19","v":"Ou"},0]
[null,null,null,0,null,null,null,null,null,0]
[null,null,null,0,null,null,null,null,null,0]
[null,null,null,0,null,null,null,null,null,0]
[null,null,null,0,null,null,null,null,null,0]
[null,null,null,0,null,null,null,null,null,0]
[null,null,null,0,null,null,null,null,null,0]
[null,null,null,0,null,null,null,null,null,0]
[null,null,null,0,null,null,null,null,null,0]
[null,null,null,0,null,null,null,null,null,0]
[null,null,null,0,null,null,null,null,null,0]
[null,null,null,0,null,null,null,null,null,0]
[null,null,null,0,null,null,null,null,null,0]
[null,null,null,0,null,null,null,null,null,0]
[null,null,null,0,null,null,null,null,null,0]
[null,null,null,0,null,null,null,null,null,0]
[null,null,null,0,null,null,null,null,null,0]
["Total",null,{"$f":"SUM(C4:C31)","v":0},null,null,"Total",null,{"$f":"SUM(H4:H31)","v":0}]

{"sheet":"5","index":4,"n_rows":32,"n_cols":15,"rows_kept":32,"cut":false,"hidden":false,"merged":[[0,5,0,6],[0,10,31,10],[1,5,1,9],[31,0,31,1],[31,5,31,6],[1,0,1,1],[1,4,2,4]]}
["FATURAMENTO REFERENTE AO DIA","2017-05-04","Previsto",null,null,"Saldo do dia anterios",null,{"$f":"'4'!J31","v":0},"FATURAMENTO REAL",null,{"$f":"B1+1","v":"2017-05-05"},null,"Dinheiro em Conta",2620.4]
["Contas Previstas para pagamento",null,"Saldo Anterior",{"$f":"'4'!D31","v":0},"Tipo de Custo","Contas Pagas - Real",null,null,null,null,null,null,"Notas Grandes",600]
["Fornecedor","Vencimento","Valor",{"$f":"SUM(D1:D2)","v":0},null,"Fornecedor","Vencimento","Valor","Forma de pagamento","-",null,null,"Dinheiro trocado",{"$f":"250+198+190.25+237.5+120","v":995.75}]
[null,null,null,{"$f":"D3-C4","v":0},null,null,null,null,null,null,null,null,"Cheques"]
[null,null,null,{"$f":"D4-C5","v":0},null,null,null,null,null,null,null,null,"Total",{"$f":"SUM(N1:N4)","v":4216.1499999999996}]
[null,null,null,0,null,null,null,null,null,{"$f":"J1-H6","v":0}]
[null,null,null,0,null,null,null,null,null,{"$f":"J6-H7","v":0}]
[null,null,null,0,null,null,null,null,null,0,null,null,"Tipo de Custos","Cód","Total dia"]
[null,null,null,0,null,null,null,null,null,0,null,null,{"$f":"'  Fechamento Mensal       '!$A$13","v":"Matéria-Prima"},{"$f":"'  Fechamento Mensal       '!$B$13","v":"MP"},{"$f":"SUMIF($E$4:$E$31,N9,H4:H31)","v":0}]
[null,null,null,0,null,null,null,null,null,0,null,null,{"$f":"'  Fechamento Mensal       '!$A$14","v":"Operacional"},{"$f":"'  Fechamento Mensal       '!$B$14","v":"Op"},{"$f":"SUMIF($E$4:$E$31,N10,$H$4:$H$31)","v":0}]
[null,null,null,0,null,null,null,null,null,0,null,null,{"$f":"'  Fechamento Mensal       '!$A$15","v":"Despesas Fixas"},{"$f":"'  Fechamento Mensal       '!$B$15","v":"Fx"},{"$f":"SUMIF($E$4:$E$31,N11,$H$4:$H$31)","v":0}]
[null,null,null,0,null,null,null,null,null,0,null,null,{"$f":"'  Fechamento Mensal       '!$A$16","v":"Variáveis"},{"$f":"'  Fechamento Mensal       '!$B$16","v":"Va"},0]
[null,null,null,0,null,null,null,null,null,0,null,null,{"$f":"'  Fechamento Mensal       '!$A$17","v":"Financeiras (taxas e juros)"},{"$f":"'  Fechamento Mensal       '!$B$17","v":"Tx"},0]
[null,null,null,0,null,null,null,null,null,0,null,null,{"$f":"'  Fechamento Mensal       '!$A$18","v":"Pró-labore"},{"$f":"'  Fechamento Mensal       '!$B$18","v":"PL"},0]
[null,null,null,0,null,null,null,null,null,0,null,null,{"$f":"'  Fechamento Mensal       '!$A$19","v":"Outros"},{"$f":"'  Fechamento Mensal       '!B19","v":"Ou"},0]
[null,null,null,0,null,null,null,null,null,0]
[null,null,null,0,null,null,null,null,null,0]
[null,null,null,0,null,null,null,null,null,0]
[null,null,null,0,null,null,null,null,null,0]
[null,null,null,0,null,null,null,null,null,0]
[null,null,null,0,null,null,null,null,null,0]
[null,null,null,0,null,null,null,null,null,0]
[null,null,null,0,null,null,null,null,null,0]
[null,null,null,0,null,null,null,null,null,0]
[null,null,null,0,null,null,null,null,null,0]
[null,null,null,0,null,null,null,null,null,0]
[null,null,null,0,null,null,null,null,null,0]
[null,null,null,0,null,null,null,null,null,0]
[null,null,null,0,null,null,null,null,null,0]
[null,null,null,0,null,null,null,null,null,0]
[null,null,null,0,null,null,null,null,null,0]
["Total",null,{"$f":"SUM(C4:C31)","v":0},null,null,"Total",null,{"$f":"SUM(H4:H31)","v":0}]

{"sheet":"6","index":5,"n_rows":32,"n_cols":15,"rows_kept":32,"cut":false,"hidden":false,"merged":[[0,5,0,6],[0,10,31,10],[1,5,1,9],[31,0,31,1],[31,5,31,6],[1,0,1,1],[1,4,2,4]]}
["FATURAMENTO REFERENTE AO DIA","2017-05-05","Previsto",null,null,"Saldo do dia anterios",null,{"$f":"'5'!J31","v":0},"FATURAMENTO REAL",null,{"$f":"B1+1","v":"2017-05-06"},null,"Dinheiro em Conta"]
["Contas Previstas para pagamento",null,"Saldo Anterior",{"$f":"'5'!D31","v":0},"Tipo de Custo","Contas Pagas - Real",null,null,null,null,null,null,"Notas Grandes"]
["Fornecedor","Vencimento","Valor",{"$f":"SUM(D1:D2)","v":0},null,"Fornecedor","Vencimento","Valor","Forma de pagamento","-",null,null,"Dinheiro trocado"]
[null,null,null,{"$f":"D3-C4","v":0},null,null,null,null,null,{"$f":"J1-H4","v":0},null,null,"Cheques"]
[null,null,null,{"$f":"D4-C5","v":0},null,null,null,null,null,{"$f":"J4-H5","v":0},null,null,"Total",{"$f":"SUM(N1:N4)","v":0}]
[null,null,null,0,null,null,null,null,null,0]
[null,null,null,0,null,null,null,null,null,0]
[null,null,null,0,null,null,null,null,null,0,null,null,"Tipo de Custos","Cód","Total dia"]
[null,null,null,0,null,null,null,null,null,0,null,null,{"$f":"'  Fechamento Mensal       '!$A$13","v":"Matéria-Prima"},{"$f":"'  Fechamento Mensal       '!$B$13","v":"MP"},{"$f":"SUMIF($E$4:$E$31,N9,H4:H31)","v":0}]
[null,null,null,0,null,null,null,null,null,0,null,null,{"$f":"'  Fechamento Mensal       '!$A$14","v":"Operacional"},{"$f":"'  Fechamento Mensal       '!$B$14","v":"Op"},{"$f":"SUMIF($E$4:$E$31,N10,$H$4:$H$31)","v":0}]
[null,null,null,0,null,null,null,null,null,0,null,null,{"$f":"'  Fechamento Mensal       '!$A$15","v":"Despesas Fixas"},{"$f":"'  Fechamento Mensal       '!$B$15","v":"Fx"},{"$f":"SUMIF($E$4:$E$31,N11,$H$4:$H$31)","v":0}]
[null,null,null,0,null,null,null,null,null,0,null,null,{"$f":"'  Fechamento Mensal       '!$A$16","v":"Variáveis"},{"$f":"'  Fechamento Mensal       '!$B$16","v":"Va"},0]
[null,null,null,0,null,null,null,null,null,0,null,null,{"$f":"'  Fechamento Mensal       '!$A$17","v":"Financeiras (taxas e juros)"},{"$f":"'  Fechamento Mensal       '!$B$17","v":"Tx"},0]
[null,null,null,0,null,null,null,null,null,0,null,null,{"$f":"'  Fechamento Mensal       '!$A$18","v":"Pró-labore"},{"$f":"'  Fechamento Mensal       '!$B$18","v":"PL"},0]
[null,null,null,0,null,null,null,null,null,0,null,null,{"$f":"'  Fechamento Mensal       '!$A$19","v":"Outros"},{"$f":"'  Fechamento Mensal       '!B19","v":"Ou"},0]
[null,null,null,0,null,null,null,null,null,0]
[null,null,null,0,null,null,null,null,null,0]
[null,null,null,0,null,null,null,null,null,0]
[null,null,null,0,null,null,null,null,null,0]
[null,null,null,0,null,null,null,null,null,0]
[null,null,null,0,null,null,null,null,null,0]
[null,null,null,0,null,null,null,null,null,0]
[null,null,null,0,null,null,null,null,null,0]
[null,null,null,0,null,null,null,null,null,0]
[null,null,null,0,null,null,null,null,null,0]
[null,null,null,0,null,null,null,null,null,0]
[null,null,null,0,null,null,null,null,null,0]
[null,null,null,0,null,null,null,null,null,0]
[null,null,null,0,null,null,null,null,null,0]
[null,null,null,0,null,null,null,null,null,0]
[null,null,null,0,null,null,null,null,null,0]
["Total",null,{"$f":"SUM(C4:C31)","v":0},null,null,"Total",null,{"$f":"SUM(H4:H31)","v":0}]

{"sheet":"7","index":6,"n_rows":32,"n_cols":15,"rows_kept":32,"cut":false,"hidden":false,"merged":[[0,5,0,6],[0,10,31,10],[1,5,1,9],[31,0,31,1],[31,5,31,6],[1,0,1,1],[1,4,2,4]]}
["FATURAMENTO REFERENTE AO DIA","2017-05-06","Previsto",null,null,"Saldo do dia anterios",null,{"$f":"'6'!J31","v":0},"FATURAMENTO REAL",null,{"$f":"B1+1","v":"2017-05-07"},null,"Dinheiro em Conta"]
["Contas Previstas para pagamento",null,"Saldo Anterior",{"$f":"'6'!D31","v":0},"Tipo de Custo","Contas Pagas - Real",null,null,null,null,null,null,"Notas Grandes"]
["Fornecedor","Vencimento","Valor",{"$f":"SUM(D1:D2)","v":0},null,"Fornecedor","Vencimento","Valor","Forma de pagamento","-",null,null,"Dinheiro trocado"]
[null,null,null,{"$f":"D3-C4","v":0},null,null,null,null,null,{"$f":"J1-H4","v":0},null,null,"Cheques"]
[null,null,null,{"$f":"D4-C5","v":0},null,null,null,null,null,{"$f":"J4-H5","v":0},null,null,"Total",{"$f":"SUM(N1:N4)","v":0}]
[null,null,null,0,null,null,null,null,null,0]
[null,null,null,0,null,null,null,null,null,0]
[null,null,null,0,null,null,null,null,null,0,null,null,"Tipo de Custos","Cód","Total dia"]
[null,null,null,0,null,null,null,null,null,0,null,null,{"$f":"'  Fechamento Mensal       '!$A$13","v":"Matéria-Prima"},{"$f":"'  Fechamento Mensal       '!$B$13","v":"MP"},{"$f":"SUMIF($E$4:$E$31,N9,H4:H31)","v":0}]
[null,null,null,0,null,null,null,null,null,0,null,null,{"$f":"'  Fechamento Mensal       '!$A$14","v":"Operacional"},{"$f":"'  Fechamento Mensal       '!$B$14","v":"Op"},{"$f":"SUMIF($E$4:$E$31,N10,$H$4:$H$31)","v":0}]
[null,null,null,0,null,null,null,null,null,0,null,null,{"$f":"'  Fechamento Mensal       '!$A$15","v":"Despesas Fixas"},{"$f":"'  Fechamento Mensal       '!$B$15","v":"Fx"},{"$f":"SUMIF($E$4:$E$31,N11,$H$4:$H$31)","v":0}]
[null,null,null,0,null,null,null,null,null,0,null,null,{"$f":"'  Fechamento Mensal       '!$A$16","v":"Variáveis"},{"$f":"'  Fechamento Mensal       '!$B$16","v":"Va"},0]
[null,null,null,0,null,null,null,null,null,0,null,null,{"$f":"'  Fechamento Mensal       '!$A$17","v":"Financeiras (taxas e juros)"},{"$f":"'  Fechamento Mensal       '!$B$17","v":"Tx"},0]
[null,null,null,0,null,null,null,null,null,0,null,null,{"$f":"'  Fechamento Mensal       '!$A$18","v":"Pró-labore"},{"$f":"'  Fechamento Mensal       '!$B$18","v":"PL"},0]
[null,null,null,0,null,null,null,null,null,0,null,null,{"$f":"'  Fechamento Mensal       '!$A$19","v":"Outros"},{"$f":"'  Fechamento Mensal       '!B19","v":"Ou"},0]
[null,null,null,0,null,null,null,null,null,0]
[null,null,null,0,null,null,null,null,null,0]
[null,null,null,0,null,null,null,null,null,0]
[null,null,null,0,null,null,null,null,null,0]
[null,null,null,0,null,null,null,null,null,0]
[null,null,null,0,null,null,null,null,null,0]
[null,null,null,0,null,null,null,null,null,0]
[null,null,null,0,null,null,null,null,null,0]
[null,null,null,0,null,null,null,null,null,0]
[null,null,null,0,null,null,null,null,null,0]
[null,null,null,0,null,null,null,null,null,0]
[null,null,null,0,null,null,null,null,null,0]
[null,null,null,0,null,null,null,null,null,0]
[null,null,null,0,null,null,null,null,null,0]
[null,null,null,0,null,null,null,null,null,0]
[null,null,null,0,null,null,null,null,null,0]
["Total",null,{"$f":"SUM(C4:C31)","v":0},null,null,"Total",null,{"$f":"SUM(H4:H31)","v":0}]

{"sheet":"Fechamento semanal1","index":7,"n_rows":48,"n_cols":12,"rows_kept":48,"cut":false,"hidden":false,"merged":[[0,0,0,3],[2,5,2,6],[11,5,11,6],[38,5,38,6],[38,9,38,11],[0,5,0,11],[11,9,11,10],[20,5,20,6],[20,9,20,10],[29,5,29,6],[29,9,29,10]]}
["Balancete Da Semana, 01 a 07 Maio",null,null,null,null,"DRE Parcial Dias 01 a 07 de maio"]
["Faturamento Previsto ","Faturamento Real","Resultado","Percentual"]
[{"$f":"'1'!D1+'2'!D1+'3'!D1+'4'!D1+'5'!D1+'6'!D1+'7'!D1","v":0},{"$f":"'1'!J1+'2'!J1+'3'!J1+'4'!J1+'5'!J1+'6'!J1+'7'!J1","v":0},{"$f":"B3-A3","v":0},{"$f":"B3/A3","v":{"$error":"#DIV/0!"}},null,"FATURAMENTO",null,{"$f":"SUM(G4:G10)","v":0}]
[null,null,null,{"$f":"D3-C4","v":{"$error":"#DIV/0!"}},null,1,{"$f":"'1'!J1","v":0}]
["Pagamento Previstos","Pagamento Realizados","Resultado","Percetual",null,2,{"$f":"'2'!J1","v":0}]
[{"$f":"'1'!C32+'2'!C32+'3'!C32+'4'!C32+'5'!C32+'6'!C32+'7'!C32","v":0},{"$f":"'1'!H32+'2'!H32+'3'!H32+'4'!H32+'5'!H32+'6'!H32+'7'!H32","v":0},{"$f":"B6-A6","v":0},{"$f":"B6/A6","v":{"$error":"#DIV/0!"}},null,3,{"$f":"'3'!J1","v":0}]
[null,null,null,null,null,4,{"$f":"'4'!J1","v":0}]
["Credito/Debito  Acumulado Previsto",{"$f":"A3-A6","v":0},null,null,null,5,{"$f":"'5'!J1","v":0}]
["Credito/Debito  Acumulado Real",{"$f":"B3-B6","v":0},null,null,null,6,{"$f":"'6'!J1","v":0}]
[null,null,null,null,null,7,{"$f":"'7'!J1","v":0}]
[]
[null,null,null,null,null,{"$f":"K41","v":"Matéria-Prima"},null,{"$f":"SUM(G13:G19)","v":0},null,{"$f":"K42","v":"Operacional"},null,{"$f":"SUM(K13:K19)","v":0}]
[null,null,null,null,null,1,{"$f":"'1'!$O$9","v":0},null,null,1,{"$f":"'1'!$O$10","v":0}]
[null,null,null,null,null,2,{"$f":"'2'!$O$9","v":0},null,null,2,{"$f":"'2'!$O$10","v":0}]
[null,null,null,null,null,3,{"$f":"'3'!$O$9","v":0},null,null,3,{"$f":"'3'!$O$10","v":0}]
[null,null,null,null,null,4,{"$f":"'4'!$O$9","v":0},null,null,4,{"$f":"'4'!$O$10","v":0}]
[null,null,null,null,null,5,{"$f":"'5'!$O$9","v":0},null,null,5,{"$f":"'5'!$O$10","v":0}]
[null,null,null,null,null,6,{"$f":"'6'!$O$9","v":0},null,null,6,{"$f":"'6'!$O$10","v":0}]
[null,null,null,null,null,7,{"$f":"'7'!$O$9","v":0},null,null,7,{"$f":"'7'!$O$10","v":0}]
[]
[null,null,null,null,null,{"$f":"K43","v":"Despesas Fixas"},null,{"$f":"SUM(G22:G28)","v":0},null,{"$f":"K43","v":"Despesas Fixas"},null,{"$f":"SUM(K22:K28)","v":0}]
[null,null,null,null,null,1,{"$f":"'1'!$O$11","v":0},null,null,1,{"$f":"'1'!$O$12","v":0}]
[null,null,null,null,null,2,{"$f":"'2'!$O$11","v":0},null,null,2,{"$f":"'2'!$O$12","v":0}]
[null,null,null,null,null,3,{"$f":"'3'!$O$11","v":0},null,null,3,{"$f":"'3'!$O$12","v":0}]
[null,null,null,null,null,4,{"$f":"'4'!$O$11","v":0},null,null,4,{"$f":"'4'!$O$12","v":0}]
[null,null,null,null,null,5,{"$f":"'5'!$O$11","v":0},null,null,5,{"$f":"'5'!$O$12","v":0}]
[null,null,null,null,null,6,{"$f":"'6'!$O$11","v":0},null,null,6,{"$f":"'6'!$O$12","v":0}]
[null,null,null,null,null,7,{"$f":"'7'!$O$11","v":0},null,null,7,{"$f":"'7'!$O$12","v":0}]
[]
[null,null,null,null,null,{"$f":"K45","v":"Financeiras (taxas e juros)"},null,{"$f":"SUM(G31:G37)","v":0},null,{"$f":"K46","v":"Pró-labore"},null,{"$f":"SUM(K31:K37)","v":0}]
[null,null,null,null,null,1,{"$f":"'1'!$O$13","v":0},null,null,1,{"$f":"'1'!$O$14","v":0}]
[null,null,null,null,null,2,{"$f":"'2'!$O$13","v":0},null,null,2,{"$f":"'2'!$O$14","v":0}]
[null,null,null,null,null,3,{"$f":"'3'!$O$13","v":0},null,null,3,{"$f":"'3'!$O$14","v":0}]
[null,null,null,null,null,4,{"$f":"'4'!$O$13","v":0},null,null,4,{"$f":"'4'!$O$14","v":0}]
[null,null,null,null,null,5,{"$f":"'5'!$O$13","v":0},null,null,5,{"$f":"'5'!$O$14","v":0}]
[null,null,null,null,null,6,{"$f":"'6'!$O$13","v":0},null,null,6,{"$f":"'6'!$O$14","v":0}]
[null,null,null,null,null,7,{"$f":"'7'!$O$13","v":0},null,null,7,{"$f":"'7'!$O$14","v":0}]
[]
[null,null,null,null,null,{"$f":"K47","v":"Outros"},null,{"$f":"SUM(G40:G46)","v":0},null,"RESUMO DA SEMANA"]
[null,null,null,null,null,1,{"$f":"'1'!$O$15","v":0},null,null,"(+)","FATURAMENTO",{"$f":"H3","v":0}]
[null,null,null,null,null,2,{"$f":"'2'!$O$15","v":0},null,null,"(-)",{"$f":"'  Fechamento Mensal       '!$A$13","v":"Matéria-Prima"},{"$f":"H12","v":0}]
[null,null,null,null,null,3,{"$f":"'3'!$O$15","v":0},null,null,"(-)",{"$f":"'  Fechamento Mensal       '!$A$14","v":"Operacional"},{"$f":"L12","v":0}]
[null,null,null,null,null,4,{"$f":"'4'!$O$15","v":0},null,null,"(-)",{"$f":"'  Fechamento Mensal       '!$A$15","v":"Despesas Fixas"},{"$f":"H21","v":0}]
[null,null,null,null,null,5,{"$f":"'5'!$O$15","v":0},null,null,"(-)",{"$f":"'  Fechamento Mensal       '!$A$16","v":"Variáveis"},{"$f":"L21","v":0}]
[null,null,null,null,null,6,{"$f":"'6'!$O$15","v":0},null,null,"(-)",{"$f":"'  Fechamento Mensal       '!$A$17","v":"Financeiras (taxas e juros)"},{"$f":"H30","v":0}]
[null,null,null,null,null,7,{"$f":"'7'!$O$15","v":0},null,null,"(-)",{"$f":"'  Fechamento Mensal       '!$A$18","v":"Pró-labore"},{"$f":"L30","v":0}]
[null,null,null,null,null,null,null,null,null,"(-)",{"$f":"'  Fechamento Mensal       '!$A$19","v":"Outros"},{"$f":"H39","v":0}]
[null,null,null,null,null,null,null,null,null,"(=)","RESULT SEMANA",{"$f":"L40-SUM(L41:L47)","v":0}]

{"sheet":"8","index":8,"n_rows":32,"n_cols":15,"rows_kept":32,"cut":false,"hidden":false,"merged":[[0,5,0,6],[0,10,31,10],[1,5,1,9],[31,0,31,1],[31,5,31,6],[1,0,1,1],[1,4,2,4]]}
["FATURAMENTO REFERENTE AO DIA","2017-05-07","Previsto",null,null,"z",null,{"$f":"'7'!J31","v":0},"FATURAMENTO REAL",null,{"$f":"B1+1","v":"2017-05-08"},null,"Dinheiro em Conta",{"$f":"13534.27+2672","v":16206.27}]
["Contas Previstas para pagamento",null,"Saldo Anterior",null,"Tipo de Custo","Contas Pagas - Real",null,null,null,null,null,null,"Notas Grandes",{"$f":"1800+2750","v":4550}]
["Fornecedor","Vencimento","Valor",{"$f":"SUM(D1:D2)","v":0},null,"Fornecedor","Vencimento","Valor","Forma de pagamento","-",null,null,"Dinheiro trocado",{"$f":"640+460+115+190+142.35","v":1547.35}]
[null,null,null,{"$f":"D3-C4","v":0},null,null,null,null,null,null,null,null,"Dinheiro Guardado"]
[null,null,null,{"$f":"D4-C5","v":0},null,null,null,null,null,null,null,null,"Total",{"$f":"SUM(N1:N4)","v":22303.62}]
[null,null,null,0,null,null,null,null,null,{"$f":"J1-H6","v":0}]
[null,null,null,0,null,null,null,null,null,{"$f":"J6-H7","v":0}]
[null,null,null,0,null,null,null,null,null,0,null,null,"Tipo de Custos","Cód","Total dia"]
[null,null,null,0,null,null,null,null,null,0,null,null,{"$f":"'  Fechamento Mensal       '!$A$13","v":"Matéria-Prima"},{"$f":"'  Fechamento Mensal       '!$B$13","v":"MP"},{"$f":"SUMIF($E$4:$E$31,N9,H4:H31)","v":0}]
[null,null,null,0,null,null,null,null,null,0,null,null,{"$f":"'  Fechamento Mensal       '!$A$14","v":"Operacional"},{"$f":"'  Fechamento Mensal       '!$B$14","v":"Op"},{"$f":"SUMIF($E$4:$E$31,N10,$H$4:$H$31)","v":0}]
[null,null,null,0,null,null,null,null,null,0,null,null,{"$f":"'  Fechamento Mensal       '!$A$15","v":"Despesas Fixas"},{"$f":"'  Fechamento Mensal       '!$B$15","v":"Fx"},{"$f":"SUMIF($E$4:$E$31,N11,$H$4:$H$31)","v":0}]
[null,null,null,0,null,null,null,null,null,0,null,null,{"$f":"'  Fechamento Mensal       '!$A$16","v":"Variáveis"},{"$f":"'  Fechamento Mensal       '!$B$16","v":"Va"},0]
[null,null,null,0,null,null,null,null,null,0,null,null,{"$f":"'  Fechamento Mensal       '!$A$17","v":"Financeiras (taxas e juros)"},{"$f":"'  Fechamento Mensal       '!$B$17","v":"Tx"},0]
[null,null,null,0,null,null,null,null,null,0,null,null,{"$f":"'  Fechamento Mensal       '!$A$18","v":"Pró-labore"},{"$f":"'  Fechamento Mensal       '!$B$18","v":"PL"},0]
[null,null,null,0,null,null,null,null,null,0,null,null,{"$f":"'  Fechamento Mensal       '!$A$19","v":"Outros"},{"$f":"'  Fechamento Mensal       '!B19","v":"Ou"},0]
[null,null,null,0,null,null,null,null,null,0]
[null,null,null,0,null,null,null,null,null,0]
[null,null,null,0,null,null,null,null,null,0]
[null,null,null,0,null,null,null,null,null,0]
[null,null,null,0,null,null,null,null,null,0]
[null,null,null,0,null,null,null,null,null,0]
[null,null,null,0,null,null,null,null,null,0]
[null,null,null,0,null,null,null,null,null,0]
[null,null,null,0,null,null,null,null,null,0]
[null,null,null,0,null,null,null,null,null,0]
[null,null,null,0,null,null,null,null,null,0]
[null,null,null,0,null,null,null,null,null,0]
[null,null,null,0,null,null,null,null,null,0]
[null,null,null,0,null,null,null,null,null,0]
[null,null,null,0,null,null,null,null,null,0]
[null,null,null,0,null,null,null,null,null,0]
["Total",null,{"$f":"SUM(C4:C31)","v":0},null,null,"Total",null,{"$f":"SUM(H4:H31)","v":0}]

{"sheet":"9","index":9,"n_rows":32,"n_cols":15,"rows_kept":32,"cut":false,"hidden":false,"merged":[[0,5,0,6],[0,10,31,10],[1,5,1,9],[31,0,31,1],[31,5,31,6],[1,0,1,1],[1,4,2,4]]}
["FATURAMENTO REFERENTE AO DIA","2017-05-08","Previsto",null,null,"Saldo do dia anterios",null,{"$f":"'8'!J31","v":0},"FATURAMENTO REAL",null,{"$f":"B1+1","v":"2017-05-09"},null,"Dinheiro em Conta",2078.52]
["Contas Previstas para pagamento",null,"Saldo Anterior",{"$f":"'8'!D31","v":0},"Tipo de Custo","Contas Pagas - Real",null,null,null,null,null,null,"Notas Grandes",{"$f":"300+900","v":1200}]
["Fornecedor","Vencimento","Valor",{"$f":"SUM(D1:D2)","v":0},null,"Fornecedor","Vencimento","Valor","Forma de pagamento","-",null,null,"Dinheiro trocado",{"$f":"160+800+25+110+103.5","v":1198.5}]
[null,null,null,{"$f":"D3-C4","v":0},null,null,null,null,null,{"$f":"J1-H4","v":0},null,null,"Cheques"]
[null,null,null,{"$f":"D4-C5","v":0},null,null,null,null,null,{"$f":"J4-H5","v":0},null,null,"Total",{"$f":"SUM(N1:N4)","v":4477.0200000000004}]
[null,null,null,0,null,null,null,null,null,0]
[null,null,null,0,null,null,null,null,null,0]
[null,null,null,0,null,null,null,null,null,0,null,null,"Tipo de Custos","Cód","Total dia"]
[null,null,null,0,null,null,null,null,null,0,null,null,{"$f":"'  Fechamento Mensal       '!$A$13","v":"Matéria-Prima"},{"$f":"'  Fechamento Mensal       '!$B$13","v":"MP"},{"$f":"SUMIF($E$4:$E$31,N9,H4:H31)","v":0}]
[null,null,null,0,null,null,null,null,null,0,null,null,{"$f":"'  Fechamento Mensal       '!$A$14","v":"Operacional"},{"$f":"'  Fechamento Mensal       '!$B$14","v":"Op"},{"$f":"SUMIF($E$4:$E$31,N10,$H$4:$H$31)","v":0}]
[null,null,null,0,null,null,null,null,null,0,null,null,{"$f":"'  Fechamento Mensal       '!$A$15","v":"Despesas Fixas"},{"$f":"'  Fechamento Mensal       '!$B$15","v":"Fx"},{"$f":"SUMIF($E$4:$E$31,N11,$H$4:$H$31)","v":0}]
[null,null,null,0,null,null,null,null,null,0,null,null,{"$f":"'  Fechamento Mensal       '!$A$16","v":"Variáveis"},{"$f":"'  Fechamento Mensal       '!$B$16","v":"Va"},0]
[null,null,null,0,null,null,null,null,null,0,null,null,{"$f":"'  Fechamento Mensal       '!$A$17","v":"Financeiras (taxas e juros)"},{"$f":"'  Fechamento Mensal       '!$B$17","v":"Tx"},0]
[null,null,null,0,null,null,null,null,null,0,null,null,{"$f":"'  Fechamento Mensal       '!$A$18","v":"Pró-labore"},{"$f":"'  Fechamento Mensal       '!$B$18","v":"PL"},0]
[null,null,null,0,null,null,null,null,null,0,null,null,{"$f":"'  Fechamento Mensal       '!$A$19","v":"Outros"},{"$f":"'  Fechamento Mensal       '!B19","v":"Ou"},0]
[null,null,null,0,null,null,null,null,null,0]
[null,null,null,0,null,null,null,null,null,0]
[null,null,null,0,null,null,null,null,null,0]
[null,null,null,0,null,null,null,null,null,0]
[null,null,null,0,null,null,null,null,null,0]
[null,null,null,0,null,null,null,null,null,0]
[null,null,null,0,null,null,null,null,null,0]
[null,null,null,0,null,null,null,null,null,0]
[null,null,null,0,null,null,null,null,null,0]
[null,null,null,0,null,null,null,null,null,0]
[null,null,null,0,null,null,null,null,null,0]
[null,null,null,0,null,null,null,null,null,0]
[null,null,null,0,null,null,null,null,null,0]
[null,null,null,0,null,null,null,null,null,0]
[null,null,null,0,null,null,null,null,null,0]
[null,null,null,0,null,null,null,null,null,0]
["Total",null,{"$f":"SUM(C4:C31)","v":0},null,null,"Total",null,{"$f":"SUM(H4:H31)","v":0}]

{"sheet":"10","index":10,"n_rows":32,"n_cols":15,"rows_kept":32,"cut":false,"hidden":false,"merged":[[0,5,0,6],[0,10,31,10],[1,5,1,9],[31,0,31,1],[31,5,31,6],[1,0,1,1],[1,4,2,4]]}
["FATURAMENTO REFERENTE AO DIA","2017-05-09","Previsto",null,null,"Saldo do dia anterios",null,{"$f":"'9'!J31","v":0},"FATURAMENTO REAL",null,{"$f":"B1+1","v":"2017-05-10"},null,"Dinheiro em Conta"]
["Contas Previstas para pagamento",null,"Saldo Anterior",{"$f":"'9'!D31","v":0},"Tipo de Custo","Contas Pagas - Real",null,null,null,null,null,null,"Notas Grandes",{"$f":"300+950","v":1250}]
["Fornecedor","Vencimento","Valor",{"$f":"SUM(D1:D2)","v":0},null,"Fornecedor","Vencimento","Valor","Forma de pagamento","-",null,null,"Dinheiro trocado",{"$f":"200+240+45+92+189.15","v":766.15}]
[null,null,null,{"$f":"D3-C4","v":0},null,null,null,null,null,null,null,null,"Cheques"]
[null,null,null,{"$f":"D4-C5","v":0},null,null,null,null,null,null,null,null,"Total",{"$f":"SUM(N1:N4)","v":2016.15}]
[null,null,null,0]
[null,null,null,0,null,null,null,null,null,{"$f":"J1-H7","v":0}]
[null,null,null,0,null,null,null,null,null,{"$f":"J7-H8","v":0},null,null,"Tipo de Custos","Cód","Total dia"]
[null,null,null,0,null,null,null,null,null,0,null,null,{"$f":"'  Fechamento Mensal       '!$A$13","v":"Matéria-Prima"},{"$f":"'  Fechamento Mensal       '!$B$13","v":"MP"},{"$f":"SUMIF($E$4:$E$31,N9,H4:H31)","v":0}]
[null,null,null,0,null,null,null,null,null,0,null,null,{"$f":"'  Fechamento Mensal       '!$A$14","v":"Operacional"},{"$f":"'  Fechamento Mensal       '!$B$14","v":"Op"},{"$f":"SUMIF($E$4:$E$31,N10,$H$4:$H$31)","v":0}]
[null,null,null,0,null,null,null,null,null,0,null,null,{"$f":"'  Fechamento Mensal       '!$A$15","v":"Despesas Fixas"},{"$f":"'  Fechamento Mensal       '!$B$15","v":"Fx"},{"$f":"SUMIF($E$4:$E$31,N11,$H$4:$H$31)","v":0}]
[null,null,null,0,null,null,null,null,null,0,null,null,{"$f":"'  Fechamento Mensal       '!$A$16","v":"Variáveis"},{"$f":"'  Fechamento Mensal       '!$B$16","v":"Va"},0]
[null,null,null,0,null,null,null,null,null,0,null,null,{"$f":"'  Fechamento Mensal       '!$A$17","v":"Financeiras (taxas e juros)"},{"$f":"'  Fechamento Mensal       '!$B$17","v":"Tx"},0]
[null,null,null,0,null,null,null,null,null,0,null,null,{"$f":"'  Fechamento Mensal       '!$A$18","v":"Pró-labore"},{"$f":"'  Fechamento Mensal       '!$B$18","v":"PL"},0]
[null,null,null,0,null,null,null,null,null,0,null,null,{"$f":"'  Fechamento Mensal       '!$A$19","v":"Outros"},{"$f":"'  Fechamento Mensal       '!B19","v":"Ou"},0]
[null,null,null,0,null,null,null,null,null,0]
[null,null,null,0,null,null,null,null,null,0]
[null,null,null,0,null,null,null,null,null,0]
[null,null,null,0,null,null,null,null,null,0]
[null,null,null,0,null,null,null,null,null,0]
[null,null,null,0,null,null,null,null,null,0]
[null,null,null,0,null,null,null,null,null,0]
[null,null,null,0,null,null,null,null,null,0]
[null,null,null,0,null,null,null,null,null,0]
[null,null,null,0,null,null,null,null,null,0]
[null,null,null,0,null,null,null,null,null,0]
[null,null,null,0,null,null,null,null,null,0]
[null,null,null,0,null,null,null,null,null,0]
[null,null,null,0,null,null,null,null,null,0]
[null,null,null,0,null,null,null,null,null,0]
[null,null,null,0,null,null,null,null,null,0]
["Total",null,{"$f":"SUM(C4:C31)","v":0},null,null,"Total",null,{"$f":"SUM(H4:H31)","v":0}]

{"sheet":"11","index":11,"n_rows":32,"n_cols":15,"rows_kept":32,"cut":false,"hidden":false,"merged":[[0,5,0,6],[0,10,31,10],[1,5,1,9],[31,0,31,1],[31,5,31,6],[1,0,1,1],[1,4,2,4]]}
["FATURAMENTO REFERENTE AO DIA","2017-05-10","Previsto",null,null,"Saldo do dia anterios",null,{"$f":"'10'!J31","v":0},"FATURAMENTO REAL",null,{"$f":"B1+1","v":"2017-05-11"},null,"Dinheiro em Conta",3244.42]
["Contas Previstas para pagamento",null,"Saldo Anterior",{"$f":"'10'!D31","v":0},"Tipo de Custo","Contas Pagas - Real",null,null,null,null,null,null,"Notas Grandes",{"$f":"700+1150","v":1850}]
["Fornecedor","Vencimento","Valor",{"$f":"SUM(D1:D2)","v":0},null,"Fornecedor","Vencimento","Valor","Forma de pagamento","-",null,null,"Dinheiro trocado",{"$f":"40+290+135+124+168.65","v":757.65}]
[null,null,null,{"$f":"D3-C4","v":0},null,null,null,null,null,{"$f":"J1-H4","v":0},null,null,"Cheques"]
[null,null,null,{"$f":"D4-C5","v":0},null,null,null,null,null,{"$f":"J4-H5","v":0},null,null,"Total",{"$f":"SUM(N1:N4)","v":5852.07}]
[null,null,null,{"$f":"D5-C6","v":0},null,null,null,null,null,{"$f":"J5-H6","v":0}]
[null,null,null,0,null,null,null,null,null,0]
[null,null,null,0,null,null,null,null,null,0,null,null,"Tipo de Custos","Cód","Total dia"]
[null,null,null,0,null,null,null,null,null,0,null,null,{"$f":"'  Fechamento Mensal       '!$A$13","v":"Matéria-Prima"},{"$f":"'  Fechamento Mensal       '!$B$13","v":"MP"},{"$f":"SUMIF($E$4:$E$31,N9,H4:H31)","v":0}]
[null,null,null,0,null,null,null,null,null,0,null,null,{"$f":"'  Fechamento Mensal       '!$A$14","v":"Operacional"},{"$f":"'  Fechamento Mensal       '!$B$14","v":"Op"},{"$f":"SUMIF($E$4:$E$31,N10,$H$4:$H$31)","v":0}]
[null,null,null,0,null,null,null,null,null,0,null,null,{"$f":"'  Fechamento Mensal       '!$A$15","v":"Despesas Fixas"},{"$f":"'  Fechamento Mensal       '!$B$15","v":"Fx"},{"$f":"SUMIF($E$4:$E$31,N11,$H$4:$H$31)","v":0}]
[null,null,null,0,null,null,null,null,null,0,null,null,{"$f":"'  Fechamento Mensal       '!$A$16","v":"Variáveis"},{"$f":"'  Fechamento Mensal       '!$B$16","v":"Va"},0]
[null,null,null,0,null,null,null,null,null,0,null,null,{"$f":"'  Fechamento Mensal       '!$A$17","v":"Financeiras (taxas e juros)"},{"$f":"'  Fechamento Mensal       '!$B$17","v":"Tx"},0]
[null,null,null,0,null,null,null,null,null,0,null,null,{"$f":"'  Fechamento Mensal       '!$A$18","v":"Pró-labore"},{"$f":"'  Fechamento Mensal       '!$B$18","v":"PL"},0]
[null,null,null,0,null,null,null,null,null,0,null,null,{"$f":"'  Fechamento Mensal       '!$A$19","v":"Outros"},{"$f":"'  Fechamento Mensal       '!B19","v":"Ou"},0]
[null,null,null,0,null,null,null,null,null,0]
[null,null,null,0,null,null,null,null,null,0]
[null,null,null,0,null,null,null,null,null,0]
[null,null,null,0,null,null,null,null,null,0]
[null,null,null,0,null,null,null,null,null,0]
[null,null,null,0,null,null,null,null,null,0]
[null,null,null,0,null,null,null,null,null,0]
[null,null,null,0,null,null,null,null,null,0]
[null,null,null,0,null,null,null,null,null,0]
[null,null,null,0,null,null,null,null,null,0]
[null,null,null,0,null,null,null,null,null,0]
[null,null,null,0,null,null,null,null,null,0]
[null,null,null,0,null,null,null,null,null,0]
[null,null,null,0,null,null,null,null,null,0]
[null,null,null,0,null,null,null,null,null,0]
[null,null,null,0,null,null,null,null,null,0]
["Total",null,{"$f":"SUM(C4:C31)","v":0},null,null,"Total",null,{"$f":"SUM(H4:H31)","v":0}]

{"sheet":"12","index":12,"n_rows":32,"n_cols":15,"rows_kept":32,"cut":false,"hidden":false,"merged":[[0,5,0,6],[1,5,1,9],[1,0,1,1],[1,4,2,4],[0,10,31,10],[31,0,31,1],[31,5,31,6]]}
["FATURAMENTO REFERENTE AO DIA","2017-05-10","Previsto",null,null,"Saldo do dia anterios",null,{"$f":"'10'!J31","v":0},"FATURAMENTO REAL",null,{"$f":"B1+1","v":"2017-05-11"},"Saldo do dinheiro: R$ 2.605,15 / Cartão: 3278","Dinheiro em Conta"]
["Contas Previstas para pagamento",null,"Saldo Anterior",{"$f":"'10'!D31","v":0},"Tipo de Custo","Contas Pagas - Real",null,null,null,null,null,null,"Notas Grandes"]
["Fornecedor","Vencimento","Valor",{"$f":"SUM(D1:D2)","v":0},null,"Fornecedor","Vencimento","Valor","Forma de pagamento","-",null,"DINHEIRO","Dinheiro trocado"]
[null,null,null,{"$f":"D3-C4","v":0},null,null,null,null,null,{"$f":"J1-H4","v":0},null,null,"Cheques"]
[null,null,null,{"$f":"D4-C5","v":0},null,null,null,null,null,{"$f":"J4-H5","v":0},null,null,"Total",{"$f":"SUM(N1:N4)","v":0}]
[null,null,null,{"$f":"D5-C6","v":0},null,null,null,null,null,{"$f":"J5-H6","v":0}]
[null,null,null,0,null,null,null,null,null,0]
[null,null,null,0,null,null,null,null,null,0,null,null,"Tipo de Custos","Cód","Total dia"]
[null,null,null,0,null,null,null,null,null,0,null,null,{"$f":"'  Fechamento Mensal       '!$A$13","v":"Matéria-Prima"},{"$f":"'  Fechamento Mensal       '!$B$13","v":"MP"},{"$f":"SUMIF($E$4:$E$29,N9,H4:H29)","v":0}]
[null,null,null,0,null,null,null,null,null,0,null,null,{"$f":"'  Fechamento Mensal       '!$A$14","v":"Operacional"},{"$f":"'  Fechamento Mensal       '!$B$14","v":"Op"},{"$f":"SUMIF($E$4:$E$29,N10,$H$4:$H$29)","v":0}]
[null,null,null,0,null,null,null,null,null,0,null,null,{"$f":"'  Fechamento Mensal       '!$A$15","v":"Despesas Fixas"},{"$f":"'  Fechamento Mensal       '!$B$15","v":"Fx"},0]
[null,null,null,0,null,null,null,null,null,0,null,"CONTA",{"$f":"'  Fechamento Mensal       '!$A$16","v":"Variáveis"},{"$f":"'  Fechamento Mensal       '!$B$16","v":"Va"},0]
[null,null,null,0,null,null,null,null,null,0,null,null,{"$f":"'  Fechamento Mensal       '!$A$17","v":"Financeiras (taxas e juros)"},{"$f":"'  Fechamento Mensal       '!$B$17","v":"Tx"},0]
[null,null,null,0,null,null,null,null,null,0,null,null,{"$f":"'  Fechamento Mensal       '!$A$18","v":"Pró-labore"},{"$f":"'  Fechamento Mensal       '!$B$18","v":"PL"},0]
[null,null,null,0,null,null,null,null,null,0,null,null,{"$f":"'  Fechamento Mensal       '!$A$19","v":"Outros"},{"$f":"'  Fechamento Mensal       '!B19","v":"Ou"},0]
[null,null,null,0,null,null,null,null,null,0]
[null,null,null,0,null,null,null,null,null,0]
[null,null,null,0,null,null,null,null,null,0]
[null,null,null,0,null,null,null,null,null,0]
[null,null,null,0,null,null,null,null,null,0]
[null,null,null,0,null,null,null,null,null,0]
[null,null,null,0,null,null,null,null,null,0]
[null,null,null,0,null,null,null,null,null,0]
[null,null,null,0,null,null,null,null,null,0]
[null,null,null,0,null,null,null,null,null,0]
[null,null,null,0,null,null,null,null,null,0]
[null,null,null,0,null,null,null,null,null,0]
[null,null,null,0,null,null,null,null,null,0]
[null,null,null,0,null,null,null,null,null,0]
[null,null,null,0,null,null,null,null,null,0]
[null,null,null,0,null,null,null,null,null,0]
["Total",null,{"$f":"SUM(C4:C31)","v":0},null,null,"Total",null,{"$f":"SUM(H4:H31)","v":0}]

{"sheet":"13","index":13,"n_rows":32,"n_cols":15,"rows_kept":32,"cut":false,"hidden":false,"merged":[[0,5,0,6],[1,5,1,9],[1,0,1,1],[1,4,2,4],[0,10,31,10],[31,0,31,1],[31,5,31,6]]}
["FATURAMENTO REFERENTE AO DIA","2017-05-10","Previsto",null,null,"Saldo do dia anterios",null,{"$f":"'10'!J31","v":0},"FATURAMENTO REAL",null,{"$f":"B1+1","v":"2017-05-11"},"Saldo do dinheiro: R$ 2.605,15 / Cartão: 3278","Dinheiro em Conta"]
["Contas Previstas para pagamento",null,"Saldo Anterior",{"$f":"'10'!D31","v":0},"Tipo de Custo","Contas Pagas - Real",null,null,null,null,null,null,"Notas Grandes"]
["Fornecedor","Vencimento","Valor",{"$f":"SUM(D1:D2)","v":0},null,"Fornecedor","Vencimento","Valor","Forma de pagamento","-",null,"DINHEIRO","Dinheiro trocado"]
[null,null,null,{"$f":"D3-C4","v":0},null,null,null,null,null,{"$f":"J1-H4","v":0},null,null,"Cheques"]
[null,null,null,{"$f":"D4-C5","v":0},null,null,null,null,null,{"$f":"J4-H5","v":0},null,null,"Total",{"$f":"SUM(N1:N4)","v":0}]
[null,null,null,{"$f":"D5-C6","v":0},null,null,null,null,null,{"$f":"J5-H6","v":0}]
[null,null,null,0,null,null,null,null,null,0]
[null,null,null,0,null,null,null,null,null,0,null,null,"Tipo de Custos","Cód","Total dia"]
[null,null,null,0,null,null,null,null,null,0,null,null,{"$f":"'  Fechamento Mensal       '!$A$13","v":"Matéria-Prima"},{"$f":"'  Fechamento Mensal       '!$B$13","v":"MP"},{"$f":"SUMIF($E$4:$E$29,N9,H4:H29)","v":0}]
[null,null,null,0,null,null,null,null,null,0,null,null,{"$f":"'  Fechamento Mensal       '!$A$14","v":"Operacional"},{"$f":"'  Fechamento Mensal       '!$B$14","v":"Op"},{"$f":"SUMIF($E$4:$E$29,N10,$H$4:$H$29)","v":0}]
[null,null,null,0,null,null,null,null,null,0,null,null,{"$f":"'  Fechamento Mensal       '!$A$15","v":"Despesas Fixas"},{"$f":"'  Fechamento Mensal       '!$B$15","v":"Fx"},0]
[null,null,null,0,null,null,null,null,null,0,null,"CONTA",{"$f":"'  Fechamento Mensal       '!$A$16","v":"Variáveis"},{"$f":"'  Fechamento Mensal       '!$B$16","v":"Va"},0]
[null,null,null,0,null,null,null,null,null,0,null,null,{"$f":"'  Fechamento Mensal       '!$A$17","v":"Financeiras (taxas e juros)"},{"$f":"'  Fechamento Mensal       '!$B$17","v":"Tx"},0]
[null,null,null,0,null,null,null,null,null,0,null,null,{"$f":"'  Fechamento Mensal       '!$A$18","v":"Pró-labore"},{"$f":"'  Fechamento Mensal       '!$B$18","v":"PL"},0]
[null,null,null,0,null,null,null,null,null,0,null,null,{"$f":"'  Fechamento Mensal       '!$A$19","v":"Outros"},{"$f":"'  Fechamento Mensal       '!B19","v":"Ou"},0]
[null,null,null,0,null,null,null,null,null,0]
[null,null,null,0,null,null,null,null,null,0]
[null,null,null,0,null,null,null,null,null,0]
[null,null,null,0,null,null,null,null,null,0]
[null,null,null,0,null,null,null,null,null,0]
[null,null,null,0,null,null,null,null,null,0]
[null,null,null,0,null,null,null,null,null,0]
[null,null,null,0,null,null,null,null,null,0]
[null,null,null,0,null,null,null,null,null,0]
[null,null,null,0,null,null,null,null,null,0]
[null,null,null,0,null,null,null,null,null,0]
[null,null,null,0,null,null,null,null,null,0]
[null,null,null,0,null,null,null,null,null,0]
[null,null,null,0,null,null,null,null,null,0]
[null,null,null,0,null,null,null,null,null,0]
[null,null,null,0,null,null,null,null,null,0]
["Total",null,{"$f":"SUM(C4:C31)","v":0},null,null,"Total",null,{"$f":"SUM(H4:H31)","v":0}]

{"sheet":"14","index":14,"n_rows":32,"n_cols":15,"rows_kept":32,"cut":false,"hidden":false,"merged":[[0,5,0,6],[0,10,31,10],[1,5,1,9],[31,0,31,1],[31,5,31,6],[1,0,1,1],[1,4,2,4]]}
["FATURAMENTO REFERENTE AO DIA","2017-05-13","Previsto",null,null,"Saldo do dia anterios",null,{"$f":"'13'!J27","v":0},"FATURAMENTO REAL",null,{"$f":"B1+1","v":"2017-05-14"},null,"Dinheiro em Conta"]
["Contas Previstas para pagamento",null,"Saldo Anterior",{"$f":"'13'!D27","v":0},"Tipo de Custo","Contas Pagas - Real",null,null,null,null,null,null,"Notas Grandes"]
["Fornecedor","Vencimento","Valor",{"$f":"SUM(D1:D2)","v":0},null,"Fornecedor","Vencimento","Valor","Forma de pagamento","-",null,null,"Dinheiro trocado"]
[null,null,null,{"$f":"D3-C4","v":0},null,null,null,null,null,{"$f":"J1-H4","v":0},null,null,"Cheques"]
[null,null,null,{"$f":"D4-C5","v":0},null,null,null,null,null,{"$f":"J4-H5","v":0},null,null,"Total",{"$f":"SUM(N1:N4)","v":0}]
[null,null,null,0,null,null,null,null,null,0]
[null,null,null,0,null,null,null,null,null,0]
[null,null,null,0,null,null,null,null,null,0,null,null,"Tipo de Custos","Cód","Total dia"]
[null,null,null,0,null,null,null,null,null,0,null,null,{"$f":"'  Fechamento Mensal       '!$A$13","v":"Matéria-Prima"},{"$f":"'  Fechamento Mensal       '!$B$13","v":"MP"},{"$f":"SUMIF($E$4:$E$31,N9,H4:H31)","v":0}]
[null,null,null,0,null,null,null,null,null,0,null,null,{"$f":"'  Fechamento Mensal       '!$A$14","v":"Operacional"},{"$f":"'  Fechamento Mensal       '!$B$14","v":"Op"},{"$f":"SUMIF($E$4:$E$31,N10,$H$4:$H$31)","v":0}]
[null,null,null,0,null,null,null,null,null,0,null,null,{"$f":"'  Fechamento Mensal       '!$A$15","v":"Despesas Fixas"},{"$f":"'  Fechamento Mensal       '!$B$15","v":"Fx"},{"$f":"SUMIF($E$4:$E$31,N11,$H$4:$H$31)","v":0}]
[null,null,null,0,null,null,null,null,null,0,null,null,{"$f":"'  Fechamento Mensal       '!$A$16","v":"Variáveis"},{"$f":"'  Fechamento Mensal       '!$B$16","v":"Va"},0]
[null,null,null,0,null,null,null,null,null,0,null,null,{"$f":"'  Fechamento Mensal       '!$A$17","v":"Financeiras (taxas e juros)"},{"$f":"'  Fechamento Mensal       '!$B$17","v":"Tx"},0]
[null,null,null,0,null,null,null,null,null,0,null,null,{"$f":"'  Fechamento Mensal       '!$A$18","v":"Pró-labore"},{"$f":"'  Fechamento Mensal       '!$B$18","v":"PL"},0]
[null,null,null,0,null,null,null,null,null,0,null,null,{"$f":"'  Fechamento Mensal       '!$A$19","v":"Outros"},{"$f":"'  Fechamento Mensal       '!B19","v":"Ou"},0]
[null,null,null,0,null,null,null,null,null,0]
[null,null,null,0,null,null,null,null,null,0]
[null,null,null,0,null,null,null,null,null,0]
[null,null,null,0,null,null,null,null,null,0]
[null,null,null,0,null,null,null,null,null,0]
[null,null,null,0,null,null,null,null,null,0]
[null,null,null,0,null,null,null,null,null,0]
[null,null,null,0,null,null,null,null,null,0]
[null,null,null,0,null,null,null,null,null,0]
[null,null,null,0,null,null,null,null,null,0]
[null,null,null,0,null,null,null,null,null,0]
[null,null,null,0,null,null,null,null,null,0]
[null,null,null,0,null,null,null,null,null,0]
[null,null,null,0,null,null,null,null,null,0]
[null,null,null,0,null,null,null,null,null,0]
[null,null,null,0,null,null,null,null,null,0]
["Total",null,{"$f":"SUM(C4:C31)","v":0},null,null,"Total",null,{"$f":"SUM(H4:H31)","v":0}]

{"sheet":"Fechamento semanal2 ","index":15,"n_rows":48,"n_cols":12,"rows_kept":48,"cut":false,"hidden":false,"merged":[[20,5,20,6],[20,9,20,10],[29,5,29,6],[29,9,29,10],[38,5,38,6],[38,9,38,11],[0,0,0,3],[0,5,0,11],[2,5,2,6],[11,5,11,6],[11,9,11,10]]}
["Balancete Da Semana, 08 a 14 Maio",null,null,null,null,"DRE Parcial Dias 08 a 14 de maio"]
["Faturamento Previsto ","Faturamento Real","Resultado","Percentual"]
[{"$f":"'8'!D1+'9'!D1+'10'!D1+'11'!D1+'12'!D1+'13'!D1+'14'!D1","v":0},{"$f":"'8'!J1+'9'!J1+'10'!J1+'11'!J1+'12'!J1+'13'!J1+'14'!J1","v":0},{"$f":"B3-A3","v":0},{"$f":"B3/A3","v":{"$error":"#DIV/0!"}},null,"FATURAMENTO",null,{"$f":"SUM(G4:G10)","v":0}]
[null,null,null,{"$f":"D3-C4","v":{"$error":"#DIV/0!"}},null,8,{"$f":"'8'!J1","v":0}]
["Pagamento Previstos","Pagamento Realizados","Resultado","Percetual",null,9,{"$f":"'9'!J1","v":0}]
[{"$f":"'8'!C32+'9'!C32+'10'!C32+'11'!C32+'12'!C30+'13'!C28+'14'!C32","v":0},{"$f":"'8'!H32+'9'!H32+'10'!H32+'11'!H32+'12'!H27+'13'!H28+'14'!H32","v":0},{"$f":"B6-A6","v":0},{"$f":"B6/A6","v":{"$error":"#DIV/0!"}},null,10,{"$f":"'10'!J1","v":0}]
[null,null,null,null,null,11,{"$f":"'11'!J1","v":0}]
["Credito/Debito  Acumulado Previsto",{"$f":"A3-A6","v":0},null,null,null,12,{"$f":"'12'!J1","v":0}]
["Credito/Debito  Acumulado Real",{"$f":"B3-B6","v":0},null,null,null,13,{"$f":"'13'!J1","v":0}]
[null,null,null,null,null,14,{"$f":"'14'!J1","v":0}]
[]
[null,null,null,null,null,{"$f":"K41","v":"Matéria-Prima"},null,{"$f":"SUM(G13:G19)","v":0},null,{"$f":"K42","v":"Operacional"},null,{"$f":"SUM(K13:K19)","v":0}]
[null,null,null,null,null,8,{"$f":"'8'!$O$9","v":0},null,null,8,{"$f":"'8'!$O$10","v":0}]
[null,null,null,null,null,9,{"$f":"'9'!$O$9","v":0},null,null,9,{"$f":"'9'!$O$10","v":0}]
[null,null,null,null,null,10,{"$f":"'10'!$O$9","v":0},null,null,10,{"$f":"'10'!$O$10","v":0}]
[null,null,null,null,null,11,{"$f":"'11'!$O$9","v":0},null,null,11,{"$f":"'11'!$O$10","v":0}]
[null,null,null,null,null,12,{"$f":"'12'!$O$9","v":0},null,null,12,{"$f":"'12'!$O$10","v":0}]
[null,null,null,null,null,13,{"$f":"'13'!$O$9","v":0},null,null,13,{"$f":"'13'!$O$10","v":0}]
[null,null,null,null,null,14,{"$f":"'14'!$O$9","v":0},null,null,14,{"$f":"'14'!$O$10","v":0}]
[]
[null,null,null,null,null,{"$f":"K43","v":"Despesas Fixas"},null,{"$f":"SUM(G22:G28)","v":0},null,{"$f":"K44","v":"Variáveis"},null,{"$f":"SUM(K22:K28)","v":0}]
[null,null,null,null,null,8,{"$f":"'8'!$O$11","v":0},null,null,8,{"$f":"'8'!$O$12","v":0}]
[null,null,null,null,null,9,{"$f":"'9'!$O$11","v":0},null,null,9,{"$f":"'9'!$O$12","v":0}]
[null,null,null,null,null,10,{"$f":"'10'!$O$11","v":0},null,null,10,{"$f":"'10'!$O$12","v":0}]
[null,null,null,null,null,11,{"$f":"'11'!$O$11","v":0},null,null,11,{"$f":"'11'!$O$12","v":0}]
[null,null,null,null,null,12,{"$f":"'12'!$O$11","v":0},null,null,12,{"$f":"'12'!$O$12","v":0}]
[null,null,null,null,null,13,{"$f":"'13'!$O$11","v":0},null,null,13,{"$f":"'13'!$O$12","v":0}]
[null,null,null,null,null,14,{"$f":"'14'!$O$11","v":0},null,null,14,{"$f":"'14'!$O$12","v":0}]
[]
[null,null,null,null,null,{"$f":"K45","v":"Financeiras (taxas e juros)"},null,{"$f":"SUM(G31:G37)","v":0},null,{"$f":"K46","v":"Pró-labore"},null,{"$f":"SUM(K31:K37)","v":0}]
[null,null,null,null,null,8,{"$f":"'8'!$O$13","v":0},null,null,8,{"$f":"'8'!$O$14","v":0}]
[null,null,null,null,null,9,{"$f":"'9'!$O$13","v":0},null,null,9,{"$f":"'9'!$O$14","v":0}]
[null,null,null,null,null,10,{"$f":"'10'!$O$13","v":0},null,null,10,{"$f":"'10'!$O$14","v":0}]
[null,null,null,null,null,11,{"$f":"'11'!$O$13","v":0},null,null,11,{"$f":"'11'!$O$14","v":0}]
[null,null,null,null,null,12,{"$f":"'12'!$O$13","v":0},null,null,12,{"$f":"'12'!$O$14","v":0}]
[null,null,null,null,null,13,{"$f":"'13'!$O$13","v":0},null,null,13,{"$f":"'13'!$O$14","v":0}]
[null,null,null,null,null,14,{"$f":"'14'!$O$13","v":0},null,null,14,{"$f":"'14'!$O$14","v":0}]
[]
[null,null,null,null,null,{"$f":"K47","v":"Outros"},null,{"$f":"SUM(G40:G46)","v":0},null,"RESUMO DA SEMANA"]
[null,null,null,null,null,8,{"$f":"'8'!$O$15","v":0},null,null,"(+)","FATURAMENTO",{"$f":"H3","v":0}]
[null,null,null,null,null,9,{"$f":"'9'!$O$15","v":0},null,null,"(-)",{"$f":"'  Fechamento Mensal       '!$A$13","v":"Matéria-Prima"},{"$f":"H12","v":0}]
[null,null,null,null,null,10,{"$f":"'10'!$O$15","v":0},null,null,"(-)",{"$f":"'  Fechamento Mensal       '!$A$14","v":"Operacional"},{"$f":"L12","v":0}]
[null,null,null,null,null,11,{"$f":"'11'!$O$15","v":0},null,null,"(-)",{"$f":"'  Fechamento Mensal       '!$A$15","v":"Despesas Fixas"},{"$f":"H21","v":0}]
[null,null,null,null,null,12,{"$f":"'12'!$O$15","v":0},null,null,"(-)",{"$f":"'  Fechamento Mensal       '!$A$16","v":"Variáveis"},{"$f":"L21","v":0}]
[null,null,null,null,null,13,{"$f":"'13'!$O$15","v":0},null,null,"(-)",{"$f":"'  Fechamento Mensal       '!$A$17","v":"Financeiras (taxas e juros)"},{"$f":"H30","v":0}]
[null,null,null,null,null,14,{"$f":"'14'!$O$15","v":0},null,null,"(-)",{"$f":"'  Fechamento Mensal       '!$A$18","v":"Pró-labore"},{"$f":"L30","v":0}]
[null,null,null,null,null,null,null,null,null,"(-)",{"$f":"'  Fechamento Mensal       '!$A$19","v":"Outros"},{"$f":"H39","v":0}]
[null,null,null,null,null,null,null,null,null,"(=)","RESULT SEMANA",{"$f":"L40-SUM(L41:L47)","v":0}]

{"sheet":"15","index":16,"n_rows":32,"n_cols":15,"rows_kept":32,"cut":false,"hidden":false,"merged":[[0,5,0,6],[0,10,31,10],[1,5,1,9],[31,0,31,1],[31,5,31,6],[1,0,1,1],[1,4,2,4]]}
["FATURAMENTO REFERENTE AO DIA","2017-05-14","Previsto",null,null,"Saldo do dia anterios",null,{"$f":"'14'!J31","v":0},"FATURAMENTO REAL",null,{"$f":"B1+1","v":"2017-05-15"},null,"Dinheiro em Conta"]
["Contas Previstas para pagamento",null,"Saldo Anterior",{"$f":"'14'!D31","v":0},"Tipo de Custo","Contas Pagas - Real",null,null,null,null,null,null,"Notas Grandes"]
["Fornecedor","Vencimento","Valor",{"$f":"SUM(D1:D2)","v":0},null,"Fornecedor","Vencimento","Valor","Forma de pagamento","-",null,null,"Dinheiro trocado"]
[null,null,null,{"$f":"D3-C4","v":0},null,null,null,null,null,{"$f":"J1-H4","v":0},null,null,"Cheques"]
[null,null,null,{"$f":"D4-C5","v":0},null,null,null,null,null,{"$f":"#REF!-H5","v":{"$error":"#REF!"}}]
[null,null,null,0,null,null,null,null,null,{"$f":"J5-H6","v":{"$error":"#REF!"}}]
[null,null,null,0,null,null,null,null,null,{"$error":"#REF!"}]
[null,null,null,0,null,null,null,null,null,{"$error":"#REF!"},null,null,"Tipo de Custos","Cód","Total dia"]
[null,null,null,0,null,null,null,null,null,{"$error":"#REF!"},null,null,{"$f":"'  Fechamento Mensal       '!$A$13","v":"Matéria-Prima"},{"$f":"'  Fechamento Mensal       '!$B$13","v":"MP"},{"$f":"SUMIF($E$4:$E$31,N9,H4:H31)","v":0}]
[null,null,null,0,null,null,null,null,null,{"$error":"#REF!"},null,null,{"$f":"'  Fechamento Mensal       '!$A$14","v":"Operacional"},{"$f":"'  Fechamento Mensal       '!$B$14","v":"Op"},{"$f":"SUMIF($E$4:$E$31,N10,$H$4:$H$31)","v":0}]
[null,null,null,0,null,null,null,null,null,{"$error":"#REF!"},null,null,{"$f":"'  Fechamento Mensal       '!$A$15","v":"Despesas Fixas"},{"$f":"'  Fechamento Mensal       '!$B$15","v":"Fx"},{"$f":"SUMIF($E$4:$E$31,N11,$H$4:$H$31)","v":0}]
[null,null,null,0,null,null,null,null,null,{"$error":"#REF!"},null,null,{"$f":"'  Fechamento Mensal       '!$A$16","v":"Variáveis"},{"$f":"'  Fechamento Mensal       '!$B$16","v":"Va"},0]
[null,null,null,0,null,null,null,null,null,{"$error":"#REF!"},null,null,{"$f":"'  Fechamento Mensal       '!$A$17","v":"Financeiras (taxas e juros)"},{"$f":"'  Fechamento Mensal       '!$B$17","v":"Tx"},0]
[null,null,null,0,null,null,null,null,null,{"$error":"#REF!"},null,null,{"$f":"'  Fechamento Mensal       '!$A$18","v":"Pró-labore"},{"$f":"'  Fechamento Mensal       '!$B$18","v":"PL"},0]
[null,null,null,0,null,null,null,null,null,{"$error":"#REF!"},null,null,{"$f":"'  Fechamento Mensal       '!$A$19","v":"Outros"},{"$f":"'  Fechamento Mensal       '!B19","v":"Ou"},0]
[null,null,null,0,null,null,null,null,null,{"$error":"#REF!"}]
[null,null,null,0,null,null,null,null,null,{"$error":"#REF!"}]
[null,null,null,0,null,null,null,null,null,{"$error":"#REF!"}]
[null,null,null,0,null,null,null,null,null,{"$error":"#REF!"}]
[null,null,null,0,null,null,null,null,null,{"$error":"#REF!"}]
[null,null,null,0,null,null,null,null,null,{"$error":"#REF!"}]
[null,null,null,0,null,null,null,null,null,{"$error":"#REF!"}]
[null,null,null,0,null,null,null,null,null,{"$error":"#REF!"}]
[null,null,null,0,null,null,null,null,null,{"$error":"#REF!"}]
[null,null,null,0,null,null,null,null,null,{"$error":"#REF!"}]
[null,null,null,0,null,null,null,null,null,{"$error":"#REF!"}]
[null,null,null,0,null,null,null,null,null,{"$error":"#REF!"}]
[null,null,null,0,null,null,null,null,null,{"$error":"#REF!"}]
[null,null,null,0]
[null,null,null,0]
[null,null,null,0]
["Total",null,{"$f":"SUM(C4:C31)","v":0},null,null,"Total",null,{"$f":"SUM(H4:H31)","v":0}]

{"sheet":"16","index":17,"n_rows":32,"n_cols":15,"rows_kept":32,"cut":false,"hidden":false,"merged":[[0,5,0,6],[0,10,31,10],[1,5,1,9],[31,0,31,1],[31,5,31,6],[1,0,1,1],[1,4,2,4]]}
["FATURAMENTO REFERENTE AO DIA","2017-05-15","Previsto",null,null,"Saldo do dia anterios",null,{"$f":"'15'!#REF!","v":{"$error":"#REF!"}},"FATURAMENTO REAL",null,{"$f":"B1+1","v":"2017-05-16"},null,"Dinheiro em Conta"]
["Contas Previstas para pagamento",null,"Saldo Anterior",{"$f":"'15'!#REF!","v":{"$error":"#REF!"}},"Tipo de Custo","Contas Pagas - Real",null,null,null,null,null,null,"Notas Grandes"]
["Fornecedor","Vencimento","Valor",{"$f":"SUM(D1:D2)","v":{"$error":"#REF!"}},null,"Fornecedor","Vencimento","Valor","Forma de pagamento","-",null,null,"Dinheiro trocado"]
[null,null,null,{"$f":"D3-C4","v":{"$error":"#REF!"}},null,null,null,null,null,{"$f":"J1-H4","v":0},null,null,"Cheques"]
[null,null,null,{"$f":"D4-C5","v":{"$error":"#REF!"}},null,null,null,null,null,{"$f":"J4-H5","v":0},null,null,"Total",{"$f":"SUM(N1:N4)","v":0}]
[null,null,null,{"$error":"#REF!"},null,null,null,null,null,0]
[null,null,null,{"$error":"#REF!"},null,null,null,null,null,0]
[null,null,null,{"$error":"#REF!"},null,null,null,null,null,0,null,null,"Tipo de Custos","Cód","Total dia"]
[null,null,null,{"$error":"#REF!"},null,null,null,null,null,0,null,null,{"$f":"'  Fechamento Mensal       '!$A$13","v":"Matéria-Prima"},{"$f":"'  Fechamento Mensal       '!$B$13","v":"MP"},{"$f":"SUMIF($E$4:$E$31,N9,H4:H31)","v":0}]
[null,null,null,{"$error":"#REF!"},null,null,null,null,null,0,null,null,{"$f":"'  Fechamento Mensal       '!$A$14","v":"Operacional"},{"$f":"'  Fechamento Mensal       '!$B$14","v":"Op"},{"$f":"SUMIF($E$4:$E$31,N10,$H$4:$H$31)","v":0}]
[null,null,null,{"$error":"#REF!"},null,null,null,null,null,0,null,null,{"$f":"'  Fechamento Mensal       '!$A$15","v":"Despesas Fixas"},{"$f":"'  Fechamento Mensal       '!$B$15","v":"Fx"},{"$f":"SUMIF($E$4:$E$31,N11,$H$4:$H$31)","v":0}]
[null,null,null,{"$error":"#REF!"},null,null,null,null,null,0,null,null,{"$f":"'  Fechamento Mensal       '!$A$16","v":"Variáveis"},{"$f":"'  Fechamento Mensal       '!$B$16","v":"Va"},0]
[null,null,null,{"$error":"#REF!"},null,null,null,null,null,0,null,null,{"$f":"'  Fechamento Mensal       '!$A$17","v":"Financeiras (taxas e juros)"},{"$f":"'  Fechamento Mensal       '!$B$17","v":"Tx"},0]
[null,null,null,{"$error":"#REF!"},null,null,null,null,null,0,null,null,{"$f":"'  Fechamento Mensal       '!$A$18","v":"Pró-labore"},{"$f":"'  Fechamento Mensal       '!$B$18","v":"PL"},0]
[null,null,null,{"$error":"#REF!"},null,null,null,null,null,0,null,null,{"$f":"'  Fechamento Mensal       '!$A$19","v":"Outros"},{"$f":"'  Fechamento Mensal       '!B19","v":"Ou"},0]
[null,null,null,{"$error":"#REF!"},null,null,null,null,null,0]
[null,null,null,{"$error":"#REF!"},null,null,null,null,null,0]
[null,null,null,{"$error":"#REF!"},null,null,null,null,null,0]
[null,null,null,{"$error":"#REF!"},null,null,null,null,null,0]
[null,null,null,{"$error":"#REF!"},null,null,null,null,null,0]
[null,null,null,{"$error":"#REF!"},null,null,null,null,null,0]
[null,null,null,{"$error":"#REF!"},null,null,null,null,null,0]
[null,null,null,{"$error":"#REF!"},null,null,null,null,null,0]
[null,null,null,{"$error":"#REF!"},null,null,null,null,null,0]
[null,null,null,{"$error":"#REF!"},null,null,null,null,null,0]
[null,null,null,{"$error":"#REF!"},null,null,null,null,null,0]
[null,null,null,{"$error":"#REF!"},null,null,null,null,null,0]
[null,null,null,{"$error":"#REF!"},null,null,null,null,null,0]
[null,null,null,{"$error":"#REF!"},null,null,null,null,null,0]
[null,null,null,{"$error":"#REF!"},null,null,null,null,null,0]
[null,null,null,{"$error":"#REF!"},null,null,null,null,null,0]
["Total",null,{"$f":"SUM(C4:C31)","v":0},null,null,"Total",null,{"$f":"SUM(H4:H31)","v":0}]

{"sheet":"17","index":18,"n_rows":32,"n_cols":15,"rows_kept":32,"cut":false,"hidden":false,"merged":[[0,5,0,6],[0,10,31,10],[1,5,1,9],[31,0,31,1],[31,5,31,6],[1,0,1,1],[1,4,2,4]]}
["FATURAMENTO REFERENTE AO DIA","2017-05-16","Previsto",null,null,"Saldo do dia anterios",null,{"$f":"'16'!J31","v":0},"FATURAMENTO REAL",null,{"$f":"B1+1","v":"2017-05-17"},null,"Dinheiro em Conta",3296]
["Contas Previstas para pagamento",null,"Saldo Anterior",{"$f":"'16'!D31","v":{"$error":"#REF!"}},"Tipo de Custo","Contas Pagas - Real",null,null,null,null,null,null,"Notas Grandes",{"$f":"500+1250","v":1750}]
["Fornecedor","Vencimento","Valor",{"$f":"SUM(D1:D2)","v":{"$error":"#REF!"}},null,"Fornecedor","Vencimento","Valor","Forma de pagamento","-",null,null,"Dinheiro trocado",{"$f":"280+300+160+140+42.35","v":922.35}]
[null,null,null,{"$f":"D3-C4","v":{"$error":"#REF!"}},null,null,null,null,null,{"$f":"J1-H4","v":0},null,null,"Cheques"]
[null,null,null,{"$f":"D4-C5","v":{"$error":"#REF!"}},null,null,null,null,null,{"$f":"J4-H5","v":0},null,null,"Total",{"$f":"SUM(N1:N4)","v":5968.35}]
[null,null,null,{"$error":"#REF!"},null,null,null,null,null,0]
[null,null,null,{"$error":"#REF!"},null,null,null,null,null,0]
[null,null,null,{"$error":"#REF!"},null,null,null,null,null,0,null,null,"Tipo de Custos","Cód","Total dia"]
[null,null,null,{"$error":"#REF!"},null,null,null,null,null,0,null,null,{"$f":"'  Fechamento Mensal       '!$A$13","v":"Matéria-Prima"},{"$f":"'  Fechamento Mensal       '!$B$13","v":"MP"},{"$f":"SUMIF($E$4:$E$31,N9,H4:H31)","v":0}]
[null,null,null,{"$error":"#REF!"},null,null,null,null,null,0,null,null,{"$f":"'  Fechamento Mensal       '!$A$14","v":"Operacional"},{"$f":"'  Fechamento Mensal       '!$B$14","v":"Op"},{"$f":"SUMIF($E$4:$E$31,N10,$H$4:$H$31)","v":0}]
[null,null,null,{"$error":"#REF!"},null,null,null,null,null,0,null,null,{"$f":"'  Fechamento Mensal       '!$A$15","v":"Despesas Fixas"},{"$f":"'  Fechamento Mensal       '!$B$15","v":"Fx"},{"$f":"SUMIF($E$4:$E$31,N11,$H$4:$H$31)","v":0}]
[null,null,null,{"$error":"#REF!"},null,null,null,null,null,0,null,null,{"$f":"'  Fechamento Mensal       '!$A$16","v":"Variáveis"},{"$f":"'  Fechamento Mensal       '!$B$16","v":"Va"},0]
[null,null,null,{"$error":"#REF!"},null,null,null,null,null,0,null,null,{"$f":"'  Fechamento Mensal       '!$A$17","v":"Financeiras (taxas e juros)"},{"$f":"'  Fechamento Mensal       '!$B$17","v":"Tx"},0]
[null,null,null,{"$error":"#REF!"},null,null,null,null,null,0,null,null,{"$f":"'  Fechamento Mensal       '!$A$18","v":"Pró-labore"},{"$f":"'  Fechamento Mensal       '!$B$18","v":"PL"},0]
[null,null,null,{"$error":"#REF!"},null,null,null,null,null,0,null,null,{"$f":"'  Fechamento Mensal       '!$A$19","v":"Outros"},{"$f":"'  Fechamento Mensal       '!B19","v":"Ou"},0]
[null,null,null,{"$error":"#REF!"},null,null,null,null,null,0]
[null,null,null,{"$error":"#REF!"},null,null,null,null,null,0]
[null,null,null,{"$error":"#REF!"},null,null,null,null,null,0]
[null,null,null,{"$error":"#REF!"},null,null,null,null,null,0]
[null,null,null,{"$error":"#REF!"},null,null,null,null,null,0]
[null,null,null,{"$error":"#REF!"},null,null,null,null,null,0]
[null,null,null,{"$error":"#REF!"},null,null,null,null,null,0]
[null,null,null,{"$error":"#REF!"},null,null,null,null,null,0]
[null,null,null,{"$error":"#REF!"},null,null,null,null,null,0]
[null,null,null,{"$error":"#REF!"},null,null,null,null,null,0]
[null,null,null,{"$error":"#REF!"},null,null,null,null,null,0]
[null,null,null,{"$error":"#REF!"},null,null,null,null,null,0]
[null,null,null,{"$error":"#REF!"},null,null,null,null,null,0]
[null,null,null,{"$error":"#REF!"},null,null,null,null,null,0]
[null,null,null,{"$error":"#REF!"},null,null,null,null,null,0]
[null,null,null,{"$error":"#REF!"},null,null,null,null,null,0]
["Total",null,{"$f":"SUM(C4:C31)","v":0},null,null,"Total",null,{"$f":"SUM(H4:H31)","v":0}]

{"sheet":"18","index":19,"n_rows":32,"n_cols":15,"rows_kept":32,"cut":false,"hidden":false,"merged":[[0,5,0,6],[0,10,31,10],[1,5,1,9],[31,0,31,1],[31,5,31,6],[1,0,1,1],[1,4,2,4]]}
["FATURAMENTO REFERENTE AO DIA","2017-05-17","Previsto",null,null,"Saldo do dia anterios",null,{"$f":"'17'!J31","v":0},"FATURAMENTO REAL",null,{"$f":"B1+1","v":"2017-05-18"},null,"Dinheiro em Conta",4278]
["Contas Previstas para pagamento",null,"Saldo Anterior",null,"Tipo de Custo","Contas Pagas - Real",null,null,null,null,null,null,"Notas Grandes",{"$f":"600+1750","v":2350}]
["Fornecedor","Vencimento","Valor",{"$f":"SUM(D1:D2)","v":0},null,"Fornecedor","Vencimento","Valor","Forma de pagamento","-",null,null,"Dinheiro trocado",{"$f":"320+170+110+114+44.2","v":758.2}]
[null,null,null,{"$f":"D3-C4","v":0},null,null,null,null,null,{"$f":"J1-H4","v":0},null,null,"Cheques"]
[null,null,null,{"$f":"D4-C5","v":0},null,null,null,null,null,{"$f":"J4-H5","v":0},null,null,"Total",{"$f":"SUM(N1:N4)","v":7386.2}]
[null,null,null,0,null,null,null,null,null,0]
[null,null,null,0,null,null,null,null,null,0]
[null,null,null,0,null,null,null,null,null,0,null,null,"Tipo de Custos","Cód","Total dia"]
[null,null,null,0,null,null,null,null,null,0,null,null,{"$f":"'  Fechamento Mensal       '!$A$13","v":"Matéria-Prima"},{"$f":"'  Fechamento Mensal       '!$B$13","v":"MP"},{"$f":"SUMIF($E$4:$E$31,N9,H4:H31)","v":0}]
[null,null,null,0,null,null,null,null,null,0,null,null,{"$f":"'  Fechamento Mensal       '!$A$14","v":"Operacional"},{"$f":"'  Fechamento Mensal       '!$B$14","v":"Op"},{"$f":"SUMIF($E$4:$E$31,N10,$H$4:$H$31)","v":0}]
[null,null,null,0,null,null,null,null,null,0,null,null,{"$f":"'  Fechamento Mensal       '!$A$15","v":"Despesas Fixas"},{"$f":"'  Fechamento Mensal       '!$B$15","v":"Fx"},{"$f":"SUMIF($E$4:$E$31,N11,$H$4:$H$31)","v":0}]
[null,null,null,0,null,null,null,null,null,0,null,null,{"$f":"'  Fechamento Mensal       '!$A$16","v":"Variáveis"},{"$f":"'  Fechamento Mensal       '!$B$16","v":"Va"},0]
[null,null,null,0,null,null,null,null,null,0,null,null,{"$f":"'  Fechamento Mensal       '!$A$17","v":"Financeiras (taxas e juros)"},{"$f":"'  Fechamento Mensal       '!$B$17","v":"Tx"},0]
[null,null,null,0,null,null,null,null,null,0,null,null,{"$f":"'  Fechamento Mensal       '!$A$18","v":"Pró-labore"},{"$f":"'  Fechamento Mensal       '!$B$18","v":"PL"},0]
[null,null,null,0,null,null,null,null,null,0,null,null,{"$f":"'  Fechamento Mensal       '!$A$19","v":"Outros"},{"$f":"'  Fechamento Mensal       '!B19","v":"Ou"},0]
[null,null,null,0,null,null,null,null,null,0]
[null,null,null,0,null,null,null,null,null,0]
[null,null,null,0,null,null,null,null,null,0]
[null,null,null,0,null,null,null,null,null,0]
[null,null,null,0,null,null,null,null,null,0]
[null,null,null,0,null,null,null,null,null,0]
[null,null,null,0,null,null,null,null,null,0]
[null,null,null,0,null,null,null,null,null,0]
[null,null,null,0,null,null,null,null,null,0]
[null,null,null,0,null,null,null,null,null,0]
[null,null,null,0,null,null,null,null,null,0]
[null,null,null,0,null,null,null,null,null,0]
[null,null,null,0,null,null,null,null,null,0]
[null,null,null,0,null,null,null,null,null,0]
[null,null,null,0,null,null,null,null,null,0]
[null,null,null,0,null,null,null,null,null,0]
["Total",null,{"$f":"SUM(C4:C31)","v":0},null,null,"Total",null,{"$f":"SUM(H4:H31)","v":0}]

{"sheet":"19","index":20,"n_rows":32,"n_cols":15,"rows_kept":32,"cut":false,"hidden":false,"merged":[[0,5,0,6],[0,10,31,10],[1,5,1,9],[31,0,31,1],[31,5,31,6],[1,0,1,1],[1,4,2,4]]}
["FATURAMENTO REFERENTE AO DIA","2017-05-18","Previsto",null,null,"Saldo do dia anterios",null,{"$f":"'18'!J31","v":0},"FATURAMENTO REAL",null,{"$f":"B1+1","v":"2017-05-19"},null,"Dinheiro em Conta",2814.91]
["Contas Previstas para pagamento",null,"Saldo Anterior",null,"Tipo de Custo","Contas Pagas - Real",null,null,null,null,null,null,"Notas Grandes",{"$f":"500+400","v":900}]
["Fornecedor","Vencimento","Valor",{"$f":"SUM(D1:D2)","v":0},null,"Fornecedor","Vencimento","Valor","Forma de pagamento","-",null,null,"Dinheiro trocado",{"$f":"360+290+105+80+25.7","v":860.7}]
[null,null,null,{"$f":"D3-C4","v":0},null,null,null,null,null,{"$f":"J1-H4","v":0},null,null,"Cheques"]
[null,null,null,{"$f":"D4-C5","v":0},null,null,null,null,null,{"$f":"J4-H5","v":0},null,null,"Total",{"$f":"SUM(N1:N4)","v":4575.6099999999997}]
[null,null,null,0,null,null,null,null,null,0]
[null,null,null,0,null,null,null,null,null,0]
[null,null,null,0,null,null,null,null,null,0,null,null,"Tipo de Custos","Cód","Total dia"]
[null,null,null,0,null,null,null,null,null,0,null,null,{"$f":"'  Fechamento Mensal       '!$A$13","v":"Matéria-Prima"},{"$f":"'  Fechamento Mensal       '!$B$13","v":"MP"},{"$f":"SUMIF($E$4:$E$31,N9,H4:H31)","v":0}]
[null,null,null,0,null,null,null,null,null,0,null,null,{"$f":"'  Fechamento Mensal       '!$A$14","v":"Operacional"},{"$f":"'  Fechamento Mensal       '!$B$14","v":"Op"},{"$f":"SUMIF($E$4:$E$31,N10,$H$4:$H$31)","v":0}]
[null,null,null,0,null,null,null,null,null,0,null,null,{"$f":"'  Fechamento Mensal       '!$A$15","v":"Despesas Fixas"},{"$f":"'  Fechamento Mensal       '!$B$15","v":"Fx"},{"$f":"SUMIF($E$4:$E$31,N11,$H$4:$H$31)","v":0}]
[null,null,null,0,null,null,null,null,null,0,null,null,{"$f":"'  Fechamento Mensal       '!$A$16","v":"Variáveis"},{"$f":"'  Fechamento Mensal       '!$B$16","v":"Va"},0]
[null,null,null,0,null,null,null,null,null,0,null,null,{"$f":"'  Fechamento Mensal       '!$A$17","v":"Financeiras (taxas e juros)"},{"$f":"'  Fechamento Mensal       '!$B$17","v":"Tx"},0]
[null,null,null,{"$f":"D13-C14","v":0},null,null,null,null,null,0,null,null,{"$f":"'  Fechamento Mensal       '!$A$18","v":"Pró-labore"},{"$f":"'  Fechamento Mensal       '!$B$18","v":"PL"},0]
[null,null,null,{"$f":"D14-C15","v":0},null,null,null,null,null,0,null,null,{"$f":"'  Fechamento Mensal       '!$A$19","v":"Outros"},{"$f":"'  Fechamento Mensal       '!B19","v":"Ou"},0]
[null,null,null,{"$f":"D15-C16","v":0},null,null,null,null,null,0]
[null,null,null,0,null,null,null,null,null,0]
[null,null,null,0,null,null,null,null,null,0]
[null,null,null,0,null,null,null,null,null,0]
[null,null,null,0,null,null,null,null,null,0]
[null,null,null,0,null,null,null,null,null,0]
[null,null,null,0,null,null,null,null,null,0]
[null,null,null,{"$f":"D22-C23","v":0},null,null,null,null,null,0]
[null,null,null,{"$f":"D23-C24","v":0},null,null,null,null,null,0]
[null,null,null,{"$f":"D24-C25","v":0},null,null,null,null,null,0]
[null,null,null,0,null,null,null,null,null,0]
[null,null,null,0,null,null,null,null,null,0]
[null,null,null,0,null,null,null,null,null,0]
[null,null,null,0,null,null,null,null,null,0]
[null,null,null,0,null,null,null,null,null,0]
[null,null,null,0,null,null,null,null,null,0]
["Total",null,{"$f":"SUM(C4:C31)","v":0},null,null,"Total",null,{"$f":"SUM(H4:H31)","v":0}]

{"sheet":"20","index":21,"n_rows":32,"n_cols":15,"rows_kept":32,"cut":false,"hidden":false,"merged":[[0,5,0,6],[1,5,1,9],[1,0,1,1],[1,4,2,4],[0,10,31,10],[31,0,31,1],[31,5,31,6]]}
["FATURAMENTO REFERENTE AO DIA","2017-05-18","Previsto",null,null,"Saldo do dia anterios",null,{"$f":"'18'!J31","v":0},"FATURAMENTO REAL",null,{"$f":"B1+1","v":"2017-05-19"},null,"Dinheiro em Conta",2814.91]
["Contas Previstas para pagamento",null,"Saldo Anterior",null,"Tipo de Custo","Contas Pagas - Real",null,null,null,null,null,null,"Notas Grandes",{"$f":"500+400","v":900}]
["Fornecedor","Vencimento","Valor",{"$f":"SUM(D1:D2)","v":0},null,"Fornecedor","Vencimento","Valor","Forma de pagamento","-",null,null,"Dinheiro trocado",{"$f":"360+290+105+80+25.7","v":860.7}]
[null,null,null,{"$f":"D3-C4","v":0},null,null,null,null,null,{"$f":"J1-H4","v":0},null,null,"Cheques"]
[null,null,null,{"$f":"D4-C5","v":0},null,null,null,null,null,{"$f":"J4-H5","v":0},null,null,"Total",{"$f":"SUM(N1:N4)","v":4575.6099999999997}]
[null,null,null,0,null,null,null,null,null,0]
[null,null,null,0,null,null,null,null,null,0]
[null,null,null,0,null,null,null,null,null,0,null,null,"Tipo de Custos","Cód","Total dia"]
[null,null,null,0,null,null,null,null,null,0,null,null,{"$f":"'  Fechamento Mensal       '!$A$13","v":"Matéria-Prima"},{"$f":"'  Fechamento Mensal       '!$B$13","v":"MP"},{"$f":"SUMIF($E$4:$E$31,N9,H4:H31)","v":0}]
[null,null,null,0,null,null,null,null,null,0,null,null,{"$f":"'  Fechamento Mensal       '!$A$14","v":"Operacional"},{"$f":"'  Fechamento Mensal       '!$B$14","v":"Op"},{"$f":"SUMIF($E$4:$E$31,N10,$H$4:$H$31)","v":0}]
[null,null,null,0,null,null,null,null,null,0,null,null,{"$f":"'  Fechamento Mensal       '!$A$15","v":"Despesas Fixas"},{"$f":"'  Fechamento Mensal       '!$B$15","v":"Fx"},{"$f":"SUMIF($E$4:$E$31,N11,$H$4:$H$31)","v":0}]
[null,null,null,0,null,null,null,null,null,0,null,null,{"$f":"'  Fechamento Mensal       '!$A$16","v":"Variáveis"},{"$f":"'  Fechamento Mensal       '!$B$16","v":"Va"},0]
[null,null,null,0,null,null,null,null,null,0,null,null,{"$f":"'  Fechamento Mensal       '!$A$17","v":"Financeiras (taxas e juros)"},{"$f":"'  Fechamento Mensal       '!$B$17","v":"Tx"},0]
[null,null,null,{"$f":"D13-C14","v":0},null,null,null,null,null,0,null,null,{"$f":"'  Fechamento Mensal       '!$A$18","v":"Pró-labore"},{"$f":"'  Fechamento Mensal       '!$B$18","v":"PL"},0]
[null,null,null,{"$f":"D14-C15","v":0},null,null,null,null,null,0,null,null,{"$f":"'  Fechamento Mensal       '!$A$19","v":"Outros"},{"$f":"'  Fechamento Mensal       '!B19","v":"Ou"},0]
[null,null,null,{"$f":"D15-C16","v":0},null,null,null,null,null,0]
[null,null,null,0,null,null,null,null,null,0]
[null,null,null,0,null,null,null,null,null,0]
[null,null,null,0,null,null,null,null,null,0]
[null,null,null,0,null,null,null,null,null,0]
[null,null,null,0,null,null,null,null,null,0]
[null,null,null,0,null,null,null,null,null,0]
[null,null,null,{"$f":"D22-C23","v":0},null,null,null,null,null,0]
[null,null,null,{"$f":"D23-C24","v":0},null,null,null,null,null,0]
[null,null,null,{"$f":"D24-C25","v":0},null,null,null,null,null,0]
[null,null,null,0,null,null,null,null,null,0]
[null,null,null,0,null,null,null,null,null,0]
[null,null,null,0,null,null,null,null,null,0]
[null,null,null,0,null,null,null,null,null,0]
[null,null,null,0,null,null,null,null,null,0]
[null,null,null,0,null,null,null,null,null,0]
["Total",null,{"$f":"SUM(C4:C31)","v":0},null,null,"Total",null,{"$f":"SUM(H4:H31)","v":0}]

{"sheet":"21","index":22,"n_rows":32,"n_cols":15,"rows_kept":32,"cut":false,"hidden":false,"merged":[[0,5,0,6],[0,10,31,10],[1,5,1,9],[31,0,31,1],[31,5,31,6],[1,0,1,1],[1,4,2,4]]}
["FATURAMENTO REFERENTE AO DIA","2017-05-20","Previsto",null,null,"Saldo do dia anterios",null,{"$f":"'20'!J29","v":0},"FATURAMENTO REAL",null,{"$f":"B1+1","v":"2017-05-21"},null,"Dinheiro em Conta"]
["Contas Previstas para pagamento",null,"Saldo Anterior",{"$f":"'20'!D29","v":0},"Tipo de Custo","Contas Pagas - Real",null,null,null,null,null,null,"Notas Grandes"]
["Fornecedor","Vencimento","Valor",{"$f":"SUM(D1:D2)","v":0},null,"Fornecedor","Vencimento","Valor","Forma de pagamento","-",null,null,"Dinheiro trocado"]
[null,null,null,{"$f":"D3-C4","v":0},null,null,null,null,null,{"$f":"J1-H4","v":0},null,null,"Cheques"]
[null,null,null,{"$f":"D4-C5","v":0},null,null,null,null,null,{"$f":"J4-H5","v":0},null,null,"Total",{"$f":"SUM(N1:N4)","v":0}]
[null,null,null,0,null,null,null,null,null,0]
[null,null,null,0,null,null,null,null,null,0]
[null,null,null,0,null,null,null,null,null,0,null,null,"Tipo de Custos","Cód","Total dia"]
[null,null,null,0,null,null,null,null,null,0,null,null,{"$f":"'  Fechamento Mensal       '!$A$13","v":"Matéria-Prima"},{"$f":"'  Fechamento Mensal       '!$B$13","v":"MP"},{"$f":"SUMIF($E$4:$E$31,N9,H4:H31)","v":0}]
[null,null,null,0,null,null,null,null,null,0,null,null,{"$f":"'  Fechamento Mensal       '!$A$14","v":"Operacional"},{"$f":"'  Fechamento Mensal       '!$B$14","v":"Op"},{"$f":"SUMIF($E$4:$E$31,N10,$H$4:$H$31)","v":0}]
[null,null,null,0,null,null,null,null,null,0,null,null,{"$f":"'  Fechamento Mensal       '!$A$15","v":"Despesas Fixas"},{"$f":"'  Fechamento Mensal       '!$B$15","v":"Fx"},{"$f":"SUMIF($E$4:$E$31,N11,$H$4:$H$31)","v":0}]
[null,null,null,0,null,null,null,null,null,0,null,null,{"$f":"'  Fechamento Mensal       '!$A$16","v":"Variáveis"},{"$f":"'  Fechamento Mensal       '!$B$16","v":"Va"},0]
[null,null,null,0,null,null,null,null,null,0,null,null,{"$f":"'  Fechamento Mensal       '!$A$17","v":"Financeiras (taxas e juros)"},{"$f":"'  Fechamento Mensal       '!$B$17","v":"Tx"},0]
[null,null,null,0,null,null,null,null,null,0,null,null,{"$f":"'  Fechamento Mensal       '!$A$18","v":"Pró-labore"},{"$f":"'  Fechamento Mensal       '!$B$18","v":"PL"},0]
[null,null,null,0,null,null,null,null,null,0,null,null,{"$f":"'  Fechamento Mensal       '!$A$19","v":"Outros"},{"$f":"'  Fechamento Mensal       '!B19","v":"Ou"},0]
[null,null,null,0,null,null,null,null,null,0]
[null,null,null,0,null,null,null,null,null,0]
[null,null,null,0,null,null,null,null,null,0]
[null,null,null,0,null,null,null,null,null,0]
[null,null,null,0,null,null,null,null,null,0]
[null,null,null,0,null,null,null,null,null,0]
[null,null,null,0,null,null,null,null,null,0]
[null,null,null,0,null,null,null,null,null,0]
[null,null,null,0,null,null,null,null,null,0]
[null,null,null,0,null,null,null,null,null,0]
[null,null,null,0,null,null,null,null,null,0]
[null,null,null,0,null,null,null,null,null,0]
[null,null,null,0,null,null,null,null,null,0]
[null,null,null,0,null,null,null,null,null,0]
[null,null,null,0,null,null,null,null,null,0]
[null,null,null,0,null,null,null,null,null,0]
["Total",null,{"$f":"SUM(C4:C31)","v":0},null,null,"Total",null,{"$f":"SUM(H4:H31)","v":0}]

{"sheet":"Fechamento semanal3   ","index":23,"n_rows":48,"n_cols":12,"rows_kept":48,"cut":false,"hidden":false,"merged":[[20,5,20,6],[20,9,20,10],[29,5,29,6],[29,9,29,10],[38,5,38,6],[38,9,38,11],[0,0,0,3],[0,5,0,11],[2,5,2,6],[11,5,11,6],[11,9,11,10]]}
["Balancete Da Semana, 15 a 21 Maio",null,null,null,null,"DRE Parcial Dias 15 a 21 de maio"]
["Faturamento Previsto ","Faturamento Real","Resultado","Percentual"]
[{"$f":"'15'!D1+'16'!D1+'17'!D1+'18'!D1+'19'!D1+'20'!D1+'21'!D1","v":0},{"$f":"'15'!J1+'16'!J1+'17'!J1+'18'!J1+'19'!J1+'20'!J1+'21'!J1","v":0},{"$f":"B3-A3","v":0},{"$f":"B3/A3","v":{"$error":"#DIV/0!"}},null,"FATURAMENTO",null,{"$f":"SUM(G4:G10)","v":0}]
[null,null,null,{"$f":"D3-C4","v":{"$error":"#DIV/0!"}},null,15,{"$f":"'15'!J1","v":0}]
["Pagamento Previstos","Pagamento Realizados","Resultado","Percetual",null,16,{"$f":"'16'!J1","v":0}]
[{"$f":"'15'!C32+'16'!C32+'17'!C32+'18'!C32+'19'!C32+'20'!C30+'21'!C32","v":0},{"$f":"'15'!H32+'16'!H32+'17'!H32+'18'!H32+'19'!H32+'20'!H30+'21'!H32","v":0},{"$f":"B6-A6","v":0},{"$f":"B6/A6","v":{"$error":"#DIV/0!"}},null,17,{"$f":"'17'!J1","v":0}]
[null,null,null,null,null,18,{"$f":"'18'!J1","v":0}]
["Credito/Debito  Acumulado Previsto",{"$f":"A3-A6","v":0},null,null,null,19,{"$f":"'19'!J1","v":0}]
["Credito/Debito  Acumulado Real",{"$f":"B3-B6","v":0},null,null,null,20,{"$f":"'20'!J1","v":0}]
[null,null,null,null,null,21,{"$f":"'21'!J1","v":0}]
[]
[null,null,null,null,null,{"$f":"K41","v":"Matéria-Prima"},null,{"$f":"SUM(G13:G19)","v":0},null,{"$f":"K42","v":"Operacional"},null,{"$f":"SUM(K13:K19)","v":0}]
[null,null,null,null,null,15,{"$f":"'15'!$O$9","v":0},null,null,15,{"$f":"'15'!$O$10","v":0}]
[null,null,null,null,null,16,{"$f":"'16'!$O$9","v":0},null,null,16,{"$f":"'16'!$O$10","v":0}]
[null,null,null,null,null,17,{"$f":"'17'!$O$9","v":0},null,null,17,{"$f":"'17'!$O$10","v":0}]
[null,null,null,null,null,18,{"$f":"'18'!$O$9","v":0},null,null,18,{"$f":"'18'!$O$10","v":0}]
[null,null,null,null,null,19,{"$f":"'19'!$O$9","v":0},null,null,19,{"$f":"'19'!$O$10","v":0}]
[null,null,null,null,null,20,{"$f":"'20'!$O$9","v":0},null,null,20,{"$f":"'20'!$O$10","v":0}]
[null,null,null,null,null,21,{"$f":"'21'!$O$9","v":0},null,null,21,{"$f":"'21'!$O$10","v":0}]
[]
[null,null,null,null,null,{"$f":"K43","v":"Despesas Fixas"},null,{"$f":"SUM(G22:G28)","v":0},null,{"$f":"K44","v":"Variáveis"},null,{"$f":"SUM(K22:K28)","v":0}]
[null,null,null,null,null,15,{"$f":"'15'!$O$11","v":0},null,null,15,{"$f":"'15'!$O$12","v":0}]
[null,null,null,null,null,16,{"$f":"'16'!$O$11","v":0},null,null,16,{"$f":"'16'!$O$12","v":0}]
[null,null,null,null,null,17,{"$f":"'17'!$O$11","v":0},null,null,17,{"$f":"'17'!$O$12","v":0}]
[null,null,null,null,null,18,{"$f":"'18'!$O$11","v":0},null,null,18,{"$f":"'18'!$O$12","v":0}]
[null,null,null,null,null,19,{"$f":"'19'!$O$11","v":0},null,null,19,{"$f":"'19'!$O$12","v":0}]
[null,null,null,null,null,20,{"$f":"'20'!$O$11","v":0},null,null,20,{"$f":"'20'!$O$12","v":0}]
[null,null,null,null,null,21,{"$f":"'21'!$O$11","v":0},null,null,21,{"$f":"'21'!$O$12","v":0}]
[]
[null,null,null,null,null,{"$f":"K45","v":"Financeiras (taxas e juros)"},null,{"$f":"SUM(G31:G37)","v":0},null,{"$f":"K46","v":"Pró-labore"},null,{"$f":"SUM(K31:K37)","v":0}]
[null,null,null,null,null,15,{"$f":"'15'!$O$13","v":0},null,null,15,{"$f":"'15'!$O$14","v":0}]
[null,null,null,null,null,16,{"$f":"'16'!$O$13","v":0},null,null,16,{"$f":"'16'!$O$14","v":0}]
[null,null,null,null,null,17,{"$f":"'17'!$O$13","v":0},null,null,17,{"$f":"'17'!$O$14","v":0}]
[null,null,null,null,null,18,{"$f":"'18'!$O$13","v":0},null,null,18,{"$f":"'18'!$O$14","v":0}]
[null,null,null,null,null,19,{"$f":"'19'!$O$13","v":0},null,null,19,{"$f":"'19'!$O$14","v":0}]
[null,null,null,null,null,20,{"$f":"'20'!$O$13","v":0},null,null,20,{"$f":"'20'!$O$14","v":0}]
[null,null,null,null,null,21,{"$f":"'21'!$O$13","v":0},null,null,21,{"$f":"'21'!$O$14","v":0}]
[]
[null,null,null,null,null,{"$f":"K47","v":"Outros"},null,{"$f":"SUM(G40:G46)","v":0},null,"RESUMO DA SEMANA"]
[null,null,null,null,null,15,{"$f":"'15'!$O$15","v":0},null,null,"(+)","FATURAMENTO",{"$f":"H3","v":0}]
[null,null,null,null,null,16,{"$f":"'16'!$O$15","v":0},null,null,"(-)",{"$f":"'  Fechamento Mensal       '!$A$13","v":"Matéria-Prima"},{"$f":"H12","v":0}]
[null,null,null,null,null,17,{"$f":"'17'!$O$15","v":0},null,null,"(-)",{"$f":"'  Fechamento Mensal       '!$A$14","v":"Operacional"},{"$f":"L12","v":0}]
[null,null,null,null,null,18,{"$f":"'18'!$O$15","v":0},null,null,"(-)",{"$f":"'  Fechamento Mensal       '!$A$15","v":"Despesas Fixas"},{"$f":"H21","v":0}]
[null,null,null,null,null,19,{"$f":"'19'!$O$15","v":0},null,null,"(-)",{"$f":"'  Fechamento Mensal       '!$A$16","v":"Variáveis"},{"$f":"L21","v":0}]
[null,null,null,null,null,20,{"$f":"'20'!$O$15","v":0},null,null,"(-)",{"$f":"'  Fechamento Mensal       '!$A$17","v":"Financeiras (taxas e juros)"},{"$f":"H30","v":0}]
[null,null,null,null,null,21,{"$f":"'21'!$O$15","v":0},null,null,"(-)",{"$f":"'  Fechamento Mensal       '!$A$18","v":"Pró-labore"},{"$f":"L30","v":0}]
[null,null,null,null,null,null,null,null,null,"(-)",{"$f":"'  Fechamento Mensal       '!$A$19","v":"Outros"},{"$f":"H39","v":0}]
[null,null,null,null,null,null,null,null,null,"(=)","RESULT SEMANA",{"$f":"L40-SUM(L41:L47)","v":0}]

{"sheet":"22","index":24,"n_rows":32,"n_cols":15,"rows_kept":32,"cut":false,"hidden":false,"merged":[[0,5,0,6],[0,10,31,10],[1,5,1,9],[31,0,31,1],[31,5,31,6],[1,0,1,1],[1,4,2,4]]}
["FATURAMENTO REFERENTE AO DIA","2017-05-21","Previsto",null,null,"Saldo do dia anterios",null,{"$f":"'21'!J31","v":0},"FATURAMENTO REAL",null,{"$f":"B1+1","v":"2017-05-22"},null,"Dinheiro em Conta"]
["Contas Previstas para pagamento",null,"Saldo Anterior",{"$f":"'21'!D31","v":0},"Tipo de Custo","Contas Pagas - Real",null,null,null,null,null,null,"Notas Grandes"]
["Fornecedor","Vencimento","Valor",{"$f":"SUM(D1:D2)","v":0},null,"Fornecedor","Vencimento","Valor","Forma de pagamento","-",null,null,"Dinheiro trocado"]
[null,null,null,{"$f":"D3-C4","v":0},null,null,null,null,null,{"$f":"J1-H4","v":0},null,null,"Cheques"]
[null,null,null,{"$f":"D4-C5","v":0},null,null,null,null,null,{"$f":"J4-H5","v":0},null,null,"Total",{"$f":"SUM(N1:N4)","v":0}]
[null,null,null,{"$f":"D5-C6","v":0},null,null,null,null,null,0]
[null,null,null,0,null,null,null,null,null,0]
[null,null,null,0,null,null,null,null,null,0,null,null,"Tipo de Custos","Cód","Total dia"]
[null,null,null,0,null,null,null,null,null,0,null,null,{"$f":"'  Fechamento Mensal       '!$A$13","v":"Matéria-Prima"},{"$f":"'  Fechamento Mensal       '!$B$13","v":"MP"},{"$f":"SUMIF($E$4:$E$31,N9,H4:H31)","v":0}]
[null,null,null,0,null,null,null,null,null,0,null,null,{"$f":"'  Fechamento Mensal       '!$A$14","v":"Operacional"},{"$f":"'  Fechamento Mensal       '!$B$14","v":"Op"},{"$f":"SUMIF($E$4:$E$31,N10,$H$4:$H$31)","v":0}]
[null,null,null,0,null,null,null,null,null,0,null,null,{"$f":"'  Fechamento Mensal       '!$A$15","v":"Despesas Fixas"},{"$f":"'  Fechamento Mensal       '!$B$15","v":"Fx"},{"$f":"SUMIF($E$4:$E$31,N11,$H$4:$H$31)","v":0}]
[null,null,null,0,null,null,null,null,null,0,null,null,{"$f":"'  Fechamento Mensal       '!$A$16","v":"Variáveis"},{"$f":"'  Fechamento Mensal       '!$B$16","v":"Va"},0]
[null,null,null,0,null,null,null,null,null,0,null,null,{"$f":"'  Fechamento Mensal       '!$A$17","v":"Financeiras (taxas e juros)"},{"$f":"'  Fechamento Mensal       '!$B$17","v":"Tx"},0]
[null,null,null,0,null,null,null,null,null,0,null,null,{"$f":"'  Fechamento Mensal       '!$A$18","v":"Pró-labore"},{"$f":"'  Fechamento Mensal       '!$B$18","v":"PL"},0]
[null,null,null,0,null,null,null,null,null,0,null,null,{"$f":"'  Fechamento Mensal       '!$A$19","v":"Outros"},{"$f":"'  Fechamento Mensal       '!B19","v":"Ou"},0]
[null,null,null,0,null,null,null,null,null,0]
[null,null,null,0,null,null,null,null,null,0]
[null,null,null,0,null,null,null,null,null,0]
[null,null,null,0,null,null,null,null,null,0]
[null,null,null,0,null,null,null,null,null,0]
[null,null,null,0,null,null,null,null,null,0]
[null,null,null,0,null,null,null,null,null,0]
[null,null,null,0,null,null,null,null,null,0]
[null,null,null,0,null,null,null,null,null,0]
[null,null,null,0,null,null,null,null,null,0]
[null,null,null,0,null,null,null,null,null,0]
[null,null,null,0,null,null,null,null,null,0]
[null,null,null,0,null,null,null,null,null,0]
[null,null,null,0,null,null,null,null,null,0]
[null,null,null,0,null,null,null,null,null,0]
[null,null,null,0,null,null,null,null,null,0]
["Total",null,{"$f":"SUM(C4:C31)","v":0},null,null,"Total",null,{"$f":"SUM(H4:H31)","v":0}]

{"sheet":"23","index":25,"n_rows":32,"n_cols":15,"rows_kept":32,"cut":false,"hidden":false,"merged":[[0,5,0,6],[0,10,31,10],[1,5,1,9],[31,0,31,1],[31,5,31,6],[1,0,1,1],[1,4,2,4]]}
["FATURAMENTO REFERENTE AO DIA","2017-05-22","Previsto",null,null,"Saldo do dia anterios",null,{"$f":"'22'!J31","v":0},"FATURAMENTO REAL",null,{"$f":"B1+1","v":"2017-05-23"},null,"Dinheiro em Conta"]
["Contas Previstas para pagamento",null,"Saldo Anterior",{"$f":"'22'!D31","v":0},"Tipo de Custo","Contas Pagas - Real",null,null,null,null,null,null,"Notas Grandes"]
["Fornecedor","Vencimento","Valor",{"$f":"SUM(D1:D2)","v":0},null,"Fornecedor","Vencimento","Valor","Forma de pagamento","-",null,null,"Dinheiro trocado"]
[null,null,null,{"$f":"D3-C4","v":0},null,null,null,null,null,{"$f":"J1-H4","v":0},null,null,"Cheques"]
[null,null,null,{"$f":"D4-C5","v":0},null,null,null,null,null,{"$f":"J4-H5","v":0},null,null,"Total",{"$f":"SUM(N1:N4)","v":0}]
[null,null,null,0,null,null,null,null,null,0]
[null,null,null,0,null,null,null,null,null,0]
[null,null,null,0,null,null,null,null,null,0,null,null,"Tipo de Custos","Cód","Total dia"]
[null,null,null,0,null,null,null,null,null,0,null,null,{"$f":"'  Fechamento Mensal       '!$A$13","v":"Matéria-Prima"},{"$f":"'  Fechamento Mensal       '!$B$13","v":"MP"},{"$f":"SUMIF($E$4:$E$31,N9,H4:H31)","v":0}]
[null,null,null,0,null,null,null,null,null,0,null,null,{"$f":"'  Fechamento Mensal       '!$A$14","v":"Operacional"},{"$f":"'  Fechamento Mensal       '!$B$14","v":"Op"},{"$f":"SUMIF($E$4:$E$31,N10,$H$4:$H$31)","v":0}]
[null,null,null,0,null,null,null,null,null,0,null,null,{"$f":"'  Fechamento Mensal       '!$A$15","v":"Despesas Fixas"},{"$f":"'  Fechamento Mensal       '!$B$15","v":"Fx"},{"$f":"SUMIF($E$4:$E$31,N11,$H$4:$H$31)","v":0}]
[null,null,null,0,null,null,null,null,null,0,null,null,{"$f":"'  Fechamento Mensal       '!$A$16","v":"Variáveis"},{"$f":"'  Fechamento Mensal       '!$B$16","v":"Va"},0]
[null,null,null,0,null,null,null,null,null,0,null,null,{"$f":"'  Fechamento Mensal       '!$A$17","v":"Financeiras (taxas e juros)"},{"$f":"'  Fechamento Mensal       '!$B$17","v":"Tx"},0]
[null,null,null,0,null,null,null,null,null,0,null,null,{"$f":"'  Fechamento Mensal       '!$A$18","v":"Pró-labore"},{"$f":"'  Fechamento Mensal       '!$B$18","v":"PL"},0]
[null,null,null,0,null,null,null,null,null,0,null,null,{"$f":"'  Fechamento Mensal       '!$A$19","v":"Outros"},{"$f":"'  Fechamento Mensal       '!B19","v":"Ou"},0]
[null,null,null,0,null,null,null,null,null,0]
[null,null,null,0,null,null,null,null,null,0]
[null,null,null,0,null,null,null,null,null,0]
[null,null,null,0,null,null,null,null,null,0]
[null,null,null,0,null,null,null,null,null,0]
[null,null,null,0,null,null,null,null,null,0]
[null,null,null,0,null,null,null,null,null,0]
[null,null,null,0,null,null,null,null,null,0]
[null,null,null,0,null,null,null,null,null,0]
[null,null,null,0,null,null,null,null,null,0]
[null,null,null,0,null,null,null,null,null,0]
[null,null,null,0,null,null,null,null,null,0]
[null,null,null,0,null,null,null,null,null,0]
[null,null,null,0,null,null,null,null,null,0]
[null,null,null,0,null,null,null,null,null,0]
[null,null,null,0,null,null,null,null,null,0]
["Total",null,{"$f":"SUM(C4:C31)","v":0},null,null,"Total",null,{"$f":"SUM(H4:H31)","v":0}]

{"sheet":"24","index":26,"n_rows":32,"n_cols":15,"rows_kept":32,"cut":false,"hidden":false,"merged":[[0,5,0,6],[0,10,31,10],[1,5,1,9],[31,0,31,1],[31,5,31,6],[1,0,1,1],[1,4,2,4]]}
["FATURAMENTO REFERENTE AO DIA","2017-05-23","Previsto",null,null,"Saldo do dia anterios",null,{"$f":"'23'!J31","v":0},"FATURAMENTO REAL",null,{"$f":"B1+1","v":"2017-05-24"},null,"Dinheiro em Conta"]
["Contas Previstas para pagamento",null,"Saldo Anterior",{"$f":"'23'!D31","v":0},"Tipo de Custo","Contas Pagas - Real",null,null,null,null,null,null,"Notas Grandes"]
["Fornecedor","Vencimento","Valor",{"$f":"SUM(D1:D2)","v":0},null,"Fornecedor","Vencimento","Valor","Forma de pagamento","-",null,null,"Dinheiro trocado"]
[null,null,null,{"$f":"D3-C4","v":0},null,null,null,null,null,{"$f":"J1-H4","v":0},null,null,"Cheques"]
[null,null,null,{"$f":"D4-C5","v":0},null,null,null,null,null,{"$f":"J4-H5","v":0},null,null,"Total",{"$f":"SUM(N1:N4)","v":0}]
[null,null,null,0,null,null,null,null,null,0]
[null,null,null,0,null,null,null,null,null,0]
[null,null,null,0,null,null,null,null,null,0,null,null,"Tipo de Custos","Cód","Total dia"]
[null,null,null,0,null,null,null,null,null,0,null,null,{"$f":"'  Fechamento Mensal       '!$A$13","v":"Matéria-Prima"},{"$f":"'  Fechamento Mensal       '!$B$13","v":"MP"},{"$f":"SUMIF($E$4:$E$31,N9,H4:H31)","v":0}]
[null,null,null,0,null,null,null,null,null,0,null,null,{"$f":"'  Fechamento Mensal       '!$A$14","v":"Operacional"},{"$f":"'  Fechamento Mensal       '!$B$14","v":"Op"},{"$f":"SUMIF($E$4:$E$31,N10,$H$4:$H$31)","v":0}]
[null,null,null,0,null,null,null,null,null,0,null,null,{"$f":"'  Fechamento Mensal       '!$A$15","v":"Despesas Fixas"},{"$f":"'  Fechamento Mensal       '!$B$15","v":"Fx"},{"$f":"SUMIF($E$4:$E$31,N11,$H$4:$H$31)","v":0}]
[null,null,null,0,null,null,null,null,null,0,null,null,{"$f":"'  Fechamento Mensal       '!$A$16","v":"Variáveis"},{"$f":"'  Fechamento Mensal       '!$B$16","v":"Va"},0]
[null,null,null,0,null,null,null,null,null,0,null,null,{"$f":"'  Fechamento Mensal       '!$A$17","v":"Financeiras (taxas e juros)"},{"$f":"'  Fechamento Mensal       '!$B$17","v":"Tx"},0]
[null,null,null,0,null,null,null,null,null,0,null,null,{"$f":"'  Fechamento Mensal       '!$A$18","v":"Pró-labore"},{"$f":"'  Fechamento Mensal       '!$B$18","v":"PL"},0]
[null,null,null,0,null,null,null,null,null,0,null,null,{"$f":"'  Fechamento Mensal       '!$A$19","v":"Outros"},{"$f":"'  Fechamento Mensal       '!B19","v":"Ou"},0]
[null,null,null,0,null,null,null,null,null,0]
[null,null,null,0,null,null,null,null,null,0]
[null,null,null,0,null,null,null,null,null,0]
[null,null,null,0,null,null,null,null,null,0]
[null,null,null,0,null,null,null,null,null,0]
[null,null,null,0,null,null,null,null,null,0]
[null,null,null,0,null,null,null,null,null,0]
[null,null,null,0,null,null,null,null,null,0]
[null,null,null,0,null,null,null,null,null,0]
[null,null,null,0,null,null,null,null,null,0]
[null,null,null,0,null,null,null,null,null,0]
[null,null,null,0,null,null,null,null,null,0]
[null,null,null,0,null,null,null,null,null,0]
[null,null,null,0,null,null,null,null,null,0]
[null,null,null,0,null,null,null,null,null,0]
[null,null,null,0,null,null,null,null,null,0]
["Total",null,{"$f":"SUM(C4:C31)","v":0},null,null,"Total",null,{"$f":"SUM(H4:H31)","v":0}]

{"sheet":"25","index":27,"n_rows":32,"n_cols":15,"rows_kept":32,"cut":false,"hidden":false,"merged":[[0,5,0,6],[0,10,31,10],[1,5,1,9],[31,0,31,1],[31,5,31,6],[1,0,1,1],[1,4,2,4]]}
["FATURAMENTO REFERENTE AO DIA","2017-05-24","Previsto",null,null,"Saldo do dia anterios",null,{"$f":"'24'!J31","v":0},"FATURAMENTO REAL",null,{"$f":"B1+1","v":"2017-05-25"},null,"Dinheiro em Conta"]
["Contas Previstas para pagamento",null,"Saldo Anterior",{"$f":"'24'!D31","v":0},"Tipo de Custo","Contas Pagas - Real",null,null,null,null,null,null,"Notas Grandes"]
["Fornecedor","Vencimento","Valor",{"$f":"SUM(D1:D2)","v":0},null,"Fornecedor","Vencimento","Valor","Forma de pagamento","-",null,null,"Dinheiro trocado"]
[null,null,null,{"$f":"D3-C4","v":0},null,null,null,null,null,{"$f":"J1-H4","v":0},null,null,"Cheques"]
[null,null,null,{"$f":"D4-C5","v":0},null,null,null,null,null,{"$f":"J4-H5","v":0},null,null,"Total",{"$f":"SUM(N1:N4)","v":0}]
[null,null,null,0,null,null,null,null,null,0]
[null,null,null,0,null,null,null,null,null,0]
[null,null,null,0,null,null,null,null,null,0,null,null,"Tipo de Custos","Cód","Total dia"]
[null,null,null,0,null,null,null,null,null,0,null,null,{"$f":"'  Fechamento Mensal       '!$A$13","v":"Matéria-Prima"},{"$f":"'  Fechamento Mensal       '!$B$13","v":"MP"},{"$f":"SUMIF($E$4:$E$31,N9,H4:H31)","v":0}]
[null,null,null,0,null,null,null,null,null,0,null,null,{"$f":"'  Fechamento Mensal       '!$A$14","v":"Operacional"},{"$f":"'  Fechamento Mensal       '!$B$14","v":"Op"},{"$f":"SUMIF($E$4:$E$31,N10,$H$4:$H$31)","v":0}]
[null,null,null,0,null,null,null,null,null,0,null,null,{"$f":"'  Fechamento Mensal       '!$A$15","v":"Despesas Fixas"},{"$f":"'  Fechamento Mensal       '!$B$15","v":"Fx"},{"$f":"SUMIF($E$4:$E$31,N11,$H$4:$H$31)","v":0}]
[null,null,null,0,null,null,null,null,null,0,null,null,{"$f":"'  Fechamento Mensal       '!$A$16","v":"Variáveis"},{"$f":"'  Fechamento Mensal       '!$B$16","v":"Va"},0]
[null,null,null,0,null,null,null,null,null,0,null,null,{"$f":"'  Fechamento Mensal       '!$A$17","v":"Financeiras (taxas e juros)"},{"$f":"'  Fechamento Mensal       '!$B$17","v":"Tx"},0]
[null,null,null,0,null,null,null,null,null,0,null,null,{"$f":"'  Fechamento Mensal       '!$A$18","v":"Pró-labore"},{"$f":"'  Fechamento Mensal       '!$B$18","v":"PL"},0]
[null,null,null,0,null,null,null,null,null,0,null,null,{"$f":"'  Fechamento Mensal       '!$A$19","v":"Outros"},{"$f":"'  Fechamento Mensal       '!B19","v":"Ou"},0]
[null,null,null,0,null,null,null,null,null,0]
[null,null,null,0,null,null,null,null,null,0]
[null,null,null,0,null,null,null,null,null,0]
[null,null,null,0,null,null,null,null,null,0]
[null,null,null,0,null,null,null,null,null,0]
[null,null,null,0,null,null,null,null,null,0]
[null,null,null,0,null,null,null,null,null,0]
[null,null,null,0,null,null,null,null,null,0]
[null,null,null,0,null,null,null,null,null,0]
[null,null,null,0,null,null,null,null,null,0]
[null,null,null,0,null,null,null,null,null,0]
[null,null,null,0,null,null,null,null,null,0]
[null,null,null,0,null,null,null,null,null,0]
[null,null,null,0,null,null,null,null,null,0]
[null,null,null,0,null,null,null,null,null,0]
[null,null,null,0,null,null,null,null,null,0]
["Total",null,{"$f":"SUM(C4:C31)","v":0},null,null,"Total",null,{"$f":"SUM(H4:H31)","v":0}]

{"sheet":"26","index":28,"n_rows":32,"n_cols":15,"rows_kept":32,"cut":false,"hidden":false,"merged":[[0,5,0,6],[0,10,31,10],[1,5,1,9],[31,0,31,1],[31,5,31,6],[1,0,1,1],[1,4,2,4]]}
["FATURAMENTO REFERENTE AO DIA","2017-05-25","Previsto",null,null,"Saldo do dia anterios",null,{"$f":"'25'!J31","v":0},"FATURAMENTO REAL",null,{"$f":"B1+1","v":"2017-05-26"},null,"Dinheiro em Conta"]
["Contas Previstas para pagamento",null,"Saldo Anterior",{"$f":"'25'!D31","v":0},"Tipo de Custo","Contas Pagas - Real",null,null,null,null,null,null,"Notas Grandes"]
["Fornecedor","Vencimento","Valor",{"$f":"SUM(D1:D2)","v":0},null,"Fornecedor","Vencimento","Valor","Forma de pagamento","-",null,null,"Dinheiro trocado"]
[null,null,null,{"$f":"D3-C4","v":0},null,null,null,null,null,{"$f":"J1-H4","v":0},null,null,"Cheques"]
[null,null,null,{"$f":"D4-C5","v":0},null,null,null,null,null,{"$f":"J4-H5","v":0},null,null,"Total",{"$f":"SUM(N1:N4)","v":0}]
[null,null,null,0,null,null,null,null,null,0]
[null,null,null,0,null,null,null,null,null,0]
[null,null,null,0,null,null,null,null,null,0,null,null,"Tipo de Custos","Cód","Total dia"]
[null,null,null,0,null,null,null,null,null,0,null,null,{"$f":"'  Fechamento Mensal       '!$A$13","v":"Matéria-Prima"},{"$f":"'  Fechamento Mensal       '!$B$13","v":"MP"},{"$f":"SUMIF($E$4:$E$31,N9,H4:H31)","v":0}]
[null,null,null,0,null,null,null,null,null,0,null,null,{"$f":"'  Fechamento Mensal       '!$A$14","v":"Operacional"},{"$f":"'  Fechamento Mensal       '!$B$14","v":"Op"},{"$f":"SUMIF($E$4:$E$31,N10,$H$4:$H$31)","v":0}]
[null,null,null,0,null,null,null,null,null,0,null,null,{"$f":"'  Fechamento Mensal       '!$A$15","v":"Despesas Fixas"},{"$f":"'  Fechamento Mensal       '!$B$15","v":"Fx"},{"$f":"SUMIF($E$4:$E$31,N11,$H$4:$H$31)","v":0}]
[null,null,null,0,null,null,null,null,null,0,null,null,{"$f":"'  Fechamento Mensal       '!$A$16","v":"Variáveis"},{"$f":"'  Fechamento Mensal       '!$B$16","v":"Va"},0]
[null,null,null,0,null,null,null,null,null,0,null,null,{"$f":"'  Fechamento Mensal       '!$A$17","v":"Financeiras (taxas e juros)"},{"$f":"'  Fechamento Mensal       '!$B$17","v":"Tx"},0]
[null,null,null,0,null,null,null,null,null,0,null,null,{"$f":"'  Fechamento Mensal       '!$A$18","v":"Pró-labore"},{"$f":"'  Fechamento Mensal       '!$B$18","v":"PL"},0]
[null,null,null,0,null,null,null,null,null,0,null,null,{"$f":"'  Fechamento Mensal       '!$A$19","v":"Outros"},{"$f":"'  Fechamento Mensal       '!B19","v":"Ou"},0]
[null,null,null,0,null,null,null,null,null,0]
[null,null,null,0,null,null,null,null,null,0]
[null,null,null,0,null,null,null,null,null,0]
[null,null,null,0,null,null,null,null,null,0]
[null,null,null,0,null,null,null,null,null,0]
[null,null,null,0,null,null,null,null,null,0]
[null,null,null,0,null,null,null,null,null,0]
[null,null,null,0,null,null,null,null,null,0]
[null,null,null,0,null,null,null,null,null,0]
[null,null,null,0,null,null,null,null,null,0]
[null,null,null,0,null,null,null,null,null,0]
[null,null,null,0,null,null,null,null,null,0]
[null,null,null,0,null,null,null,null,null,0]
[null,null,null,0,null,null,null,null,null,0]
[null,null,null,0,null,null,null,null,null,0]
[null,null,null,0,null,null,null,null,null,0]
["Total",null,{"$f":"SUM(C4:C31)","v":0},null,null,"Total",null,{"$f":"SUM(H4:H31)","v":0}]

{"sheet":"27","index":29,"n_rows":32,"n_cols":15,"rows_kept":32,"cut":false,"hidden":false,"merged":[[0,5,0,6],[0,10,31,10],[1,5,1,9],[31,0,31,1],[31,5,31,6],[1,0,1,1],[1,4,2,4]]}
["FATURAMENTO REFERENTE AO DIA","2017-05-26","Previsto",null,null,"Saldo do dia anterios",null,{"$f":"'26'!J31","v":0},"FATURAMENTO REAL",null,{"$f":"B1+1","v":"2017-05-27"},null,"Dinheiro em Conta"]
["Contas Previstas para pagamento",null,"Saldo Anterior",{"$f":"'26'!D31","v":0},"Tipo de Custo","Contas Pagas - Real",null,null,null,null,null,null,"Notas Grandes"]
["Fornecedor","Vencimento","Valor",{"$f":"SUM(D1:D2)","v":0},null,"Fornecedor","Vencimento","Valor","Forma de pagamento","-",null,null,"Dinheiro trocado"]
[null,null,null,{"$f":"D3-C4","v":0},null,null,null,null,null,{"$f":"J1-H4","v":0},null,null,"Cheques"]
[null,null,null,{"$f":"D4-C5","v":0},null,null,null,null,null,{"$f":"J4-H5","v":0},null,null,"Total",{"$f":"SUM(N1:N4)","v":0}]
[null,null,null,0,null,null,null,null,null,0]
[null,null,null,0,null,null,null,null,null,0]
[null,null,null,0,null,null,null,null,null,0,null,null,"Tipo de Custos","Cód","Total dia"]
[null,null,null,0,null,null,null,null,null,0,null,null,{"$f":"'  Fechamento Mensal       '!$A$13","v":"Matéria-Prima"},{"$f":"'  Fechamento Mensal       '!$B$13","v":"MP"},{"$f":"SUMIF($E$4:$E$31,N9,H4:H31)","v":0}]
[null,null,null,0,null,null,null,null,null,0,null,null,{"$f":"'  Fechamento Mensal       '!$A$14","v":"Operacional"},{"$f":"'  Fechamento Mensal       '!$B$14","v":"Op"},{"$f":"SUMIF($E$4:$E$31,N10,$H$4:$H$31)","v":0}]
[null,null,null,0,null,null,null,null,null,0,null,null,{"$f":"'  Fechamento Mensal       '!$A$15","v":"Despesas Fixas"},{"$f":"'  Fechamento Mensal       '!$B$15","v":"Fx"},{"$f":"SUMIF($E$4:$E$31,N11,$H$4:$H$31)","v":0}]
[null,null,null,0,null,null,null,null,null,0,null,null,{"$f":"'  Fechamento Mensal       '!$A$16","v":"Variáveis"},{"$f":"'  Fechamento Mensal       '!$B$16","v":"Va"},0]
[null,null,null,0,null,null,null,null,null,0,null,null,{"$f":"'  Fechamento Mensal       '!$A$17","v":"Financeiras (taxas e juros)"},{"$f":"'  Fechamento Mensal       '!$B$17","v":"Tx"},0]
[null,null,null,0,null,null,null,null,null,0,null,null,{"$f":"'  Fechamento Mensal       '!$A$18","v":"Pró-labore"},{"$f":"'  Fechamento Mensal       '!$B$18","v":"PL"},0]
[null,null,null,0,null,null,null,null,null,0,null,null,{"$f":"'  Fechamento Mensal       '!$A$19","v":"Outros"},{"$f":"'  Fechamento Mensal       '!B19","v":"Ou"},0]
[null,null,null,0,null,null,null,null,null,0]
[null,null,null,0,null,null,null,null,null,0]
[null,null,null,0,null,null,null,null,null,0]
[null,null,null,0,null,null,null,null,null,0]
[null,null,null,0,null,null,null,null,null,0]
[null,null,null,0,null,null,null,null,null,0]
[null,null,null,0,null,null,null,null,null,0]
[null,null,null,0,null,null,null,null,null,0]
[null,null,null,0,null,null,null,null,null,0]
[null,null,null,0,null,null,null,null,null,0]
[null,null,null,0,null,null,null,null,null,0]
[null,null,null,0,null,null,null,null,null,0]
[null,null,null,0,null,null,null,null,null,0]
[null,null,null,0,null,null,null,null,null,0]
[null,null,null,0,null,null,null,null,null,0]
[null,null,null,0,null,null,null,null,null,0]
["Total",null,{"$f":"SUM(C4:C31)","v":0},null,null,"Total",null,{"$f":"SUM(H4:H31)","v":0}]

{"sheet":"28","index":30,"n_rows":32,"n_cols":15,"rows_kept":32,"cut":false,"hidden":false,"merged":[[0,5,0,6],[0,10,31,10],[1,5,1,9],[31,0,31,1],[31,5,31,6],[1,0,1,1],[1,4,2,4]]}
["FATURAMENTO REFERENTE AO DIA","2017-05-27","Previsto",null,null,"Saldo do dia anterios",null,{"$f":"'27'!J31","v":0},"FATURAMENTO REAL",null,{"$f":"B1+1","v":"2017-05-28"},null,"Dinheiro em Conta"]
["Contas Previstas para pagamento",null,"Saldo Anterior",{"$f":"'27'!D31","v":0},"Tipo de Custo","Contas Pagas - Real",null,null,null,null,null,null,"Notas Grandes"]
["Fornecedor","Vencimento","Valor",{"$f":"SUM(D1:D2)","v":0},null,"Fornecedor","Vencimento","Valor","Forma de pagamento","-",null,null,"Dinheiro trocado"]
[null,null,null,{"$f":"D3-C4","v":0},"Mp","Bom peixe",null,5000,null,{"$f":"J1-H4","v":-5000},null,null,"Cheques"]
[null,null,null,{"$f":"D4-C5","v":0},null,null,null,null,null,{"$f":"J4-H5","v":-5000},null,null,"Total",{"$f":"SUM(N1:N4)","v":0}]
[null,null,null,0,null,null,null,null,null,-5000]
[null,null,null,0,null,null,null,null,null,-5000]
[null,null,null,0,null,null,null,null,null,-5000,null,null,"Tipo de Custos","Cód","Total dia"]
[null,null,null,0,null,null,null,null,null,-5000,null,null,{"$f":"'  Fechamento Mensal       '!$A$13","v":"Matéria-Prima"},{"$f":"'  Fechamento Mensal       '!$B$13","v":"MP"},{"$f":"SUMIF($E$4:$E$31,N9,H4:H31)","v":5000}]
[null,null,null,0,null,null,null,null,null,-5000,null,null,{"$f":"'  Fechamento Mensal       '!$A$14","v":"Operacional"},{"$f":"'  Fechamento Mensal       '!$B$14","v":"Op"},{"$f":"SUMIF($E$4:$E$31,N10,$H$4:$H$31)","v":0}]
[null,null,null,0,null,null,null,null,null,-5000,null,null,{"$f":"'  Fechamento Mensal       '!$A$15","v":"Despesas Fixas"},{"$f":"'  Fechamento Mensal       '!$B$15","v":"Fx"},{"$f":"SUMIF($E$4:$E$31,N11,$H$4:$H$31)","v":0}]
[null,null,null,0,null,null,null,null,null,-5000,null,null,{"$f":"'  Fechamento Mensal       '!$A$16","v":"Variáveis"},{"$f":"'  Fechamento Mensal       '!$B$16","v":"Va"},0]
[null,null,null,0,null,null,null,null,null,-5000,null,null,{"$f":"'  Fechamento Mensal       '!$A$17","v":"Financeiras (taxas e juros)"},{"$f":"'  Fechamento Mensal       '!$B$17","v":"Tx"},0]
[null,null,null,0,null,null,null,null,null,-5000,null,null,{"$f":"'  Fechamento Mensal       '!$A$18","v":"Pró-labore"},{"$f":"'  Fechamento Mensal       '!$B$18","v":"PL"},0]
[null,null,null,0,null,null,null,null,null,-5000,null,null,{"$f":"'  Fechamento Mensal       '!$A$19","v":"Outros"},{"$f":"'  Fechamento Mensal       '!B19","v":"Ou"},0]
[null,null,null,0,null,null,null,null,null,-5000]
[null,null,null,0,null,null,null,null,null,-5000]
[null,null,null,0,null,null,null,null,null,-5000]
[null,null,null,0,null,null,null,null,null,-5000]
[null,null,null,0,null,null,null,null,null,-5000]
[null,null,null,0,null,null,null,null,null,-5000]
[null,null,null,0,null,null,null,null,null,-5000]
[null,null,null,0,null,null,null,null,null,-5000]
[null,null,null,0,null,null,null,null,null,-5000]
[null,null,null,0,null,null,null,null,null,-5000]
[null,null,null,0,null,null,null,null,null,-5000]
[null,null,null,0,null,null,null,null,null,-5000]
[null,null,null,0,null,null,null,null,null,-5000]
[null,null,null,0,null,null,null,null,null,-5000]
[null,null,null,0,null,null,null,null,null,-5000]
[null,null,null,0,null,null,null,null,null,-5000]
["Total",null,{"$f":"SUM(C4:C31)","v":0},null,null,"Total",null,{"$f":"SUM(H4:H31)","v":5000}]

{"sheet":"  Fechamento semanal4   ","index":31,"n_rows":48,"n_cols":12,"rows_kept":48,"cut":false,"hidden":false,"merged":[[20,5,20,6],[20,9,20,10],[29,5,29,6],[29,9,29,10],[38,5,38,6],[38,9,38,11],[0,0,0,3],[0,5,0,11],[2,5,2,6],[11,5,11,6],[11,9,11,10]]}
["Balancete Da Semana, 22 a 28 Maio",null,null,null,null,"DRE Parcial Dias 22 a 28 de maio"]
["Faturamento Previsto ","Faturamento Real","Resultado","Percentual"]
[{"$f":"'22'!D1+'23'!D1+'24'!D1+'25'!D1+'26'!D1+'27'!D1+'28'!D1","v":0},{"$f":"'22'!J1+'23'!J1+'24'!J1+'25'!J1+'26'!J1+'27'!J1+'28'!J1","v":0},{"$f":"B3-A3","v":0},{"$f":"B3/A3","v":{"$error":"#DIV/0!"}},null,"FATURAMENTO",null,{"$f":"SUM(G4:G10)","v":0}]
[null,null,null,null,null,22,{"$f":"'22'!J1","v":0}]
["Pagamento Previstos","Pagamento Realizados","Resultado","Percetual",null,23,{"$f":"'23'!J1","v":0}]
[{"$f":"'22'!C32+'23'!C32+'24'!C32+'25'!C32+'26'!C32+'27'!C32+'28'!C32","v":0},{"$f":"'22'!H32+'23'!H32+'24'!H32+'25'!H32+'26'!H32+'27'!H32+'28'!H32","v":5000},{"$f":"B6-A6","v":5000},{"$f":"B6/A6","v":{"$error":"#DIV/0!"}},null,24,{"$f":"'24'!J1","v":0}]
[null,null,null,null,null,25,{"$f":"'25'!J1","v":0}]
["Credito/Debito  Acumulado Previsto",{"$f":"A3-A6","v":0},null,null,null,26,{"$f":"'26'!J1","v":0}]
["Credito/Debito  Acumulado Real",{"$f":"B3-B6","v":-5000},null,null,null,27,{"$f":"'27'!J1","v":0}]
[null,null,null,null,null,28,{"$f":"'28'!J1","v":0}]
[]
[null,null,null,null,null,{"$f":"K41","v":"Matéria-Prima"},null,{"$f":"SUM(G13:G19)","v":5000},null,{"$f":"K42","v":"Operacional"},null,{"$f":"SUM(K13:K19)","v":0}]
[null,null,null,null,null,22,{"$f":"'22'!$O$9","v":0},null,null,22,{"$f":"'22'!$O$10","v":0}]
[null,null,null,null,null,23,{"$f":"'23'!$O$9","v":0},null,null,23,{"$f":"'23'!$O$10","v":0}]
[null,null,null,null,null,24,{"$f":"'24'!$O$9","v":0},null,null,24,{"$f":"'24'!$O$10","v":0}]
[null,null,null,null,null,25,{"$f":"'25'!$O$9","v":0},null,null,25,{"$f":"'25'!$O$10","v":0}]
[null,null,null,null,null,26,{"$f":"'26'!$O$9","v":0},null,null,26,{"$f":"'26'!$O$10","v":0}]
[null,null,null,null,null,27,{"$f":"'27'!$O$9","v":0},null,null,27,{"$f":"'27'!$O$10","v":0}]
[null,null,null,null,null,28,{"$f":"'28'!$O$9","v":5000},null,null,28,{"$f":"'28'!$O$10","v":0}]
[]
[null,null,null,null,null,{"$f":"K43","v":"Despesas Fixas"},null,{"$f":"SUM(G22:G28)","v":0},null,{"$f":"K44","v":"Variáveis"},null,{"$f":"SUM(K22:K28)","v":0}]
[null,null,null,null,null,22,{"$f":"'22'!$O$11","v":0},null,null,22,{"$f":"'22'!$O$12","v":0}]
[null,null,null,null,null,23,{"$f":"'23'!$O$11","v":0},null,null,23,{"$f":"'23'!$O$12","v":0}]
[null,null,null,null,null,24,{"$f":"'24'!$O$11","v":0},null,null,24,{"$f":"'24'!$O$12","v":0}]
[null,null,null,null,null,25,{"$f":"'25'!$O$11","v":0},null,null,25,{"$f":"'25'!$O$12","v":0}]
[null,null,null,null,null,26,{"$f":"'26'!$O$11","v":0},null,null,26,{"$f":"'26'!$O$12","v":0}]
[null,null,null,null,null,27,{"$f":"'27'!$O$11","v":0},null,null,27,{"$f":"'27'!$O$12","v":0}]
[null,null,null,null,null,28,{"$f":"'28'!$O$11","v":0},null,null,28,{"$f":"'28'!$O$12","v":0}]
[]
[null,null,null,null,null,{"$f":"K45","v":"Financeiras (taxas e juros)"},null,{"$f":"SUM(G31:G37)","v":0},null,{"$f":"K46","v":"Pró-labore"},null,{"$f":"SUM(K31:K37)","v":0}]
[null,null,null,null,null,22,{"$f":"'22'!$O$13","v":0},null,null,22,{"$f":"'22'!$O$14","v":0}]
[null,null,null,null,null,23,{"$f":"'23'!$O$13","v":0},null,null,23,{"$f":"'23'!$O$14","v":0}]
[null,null,null,null,null,24,{"$f":"'24'!$O$13","v":0},null,null,24,{"$f":"'24'!$O$14","v":0}]
[null,null,null,null,null,25,{"$f":"'25'!$O$13","v":0},null,null,25,{"$f":"'25'!$O$14","v":0}]
[null,null,null,null,null,26,{"$f":"'26'!$O$13","v":0},null,null,26,{"$f":"'26'!$O$14","v":0}]
[null,null,null,null,null,27,{"$f":"'27'!$O$13","v":0},null,null,27,{"$f":"'27'!$O$14","v":0}]
[null,null,null,null,null,28,{"$f":"'28'!$O$13","v":0},null,null,28,{"$f":"'28'!$O$14","v":0}]
[]
[null,null,null,null,null,{"$f":"K47","v":"Outros"},null,{"$f":"SUM(G40:G46)","v":0},null,"RESUMO DA SEMANA"]
[null,null,null,null,null,22,{"$f":"'22'!$O$15","v":0},null,null,"(+)","FATURAMENTO",{"$f":"H3","v":0}]
[null,null,null,null,null,23,{"$f":"'23'!$O$15","v":0},null,null,"(-)",{"$f":"'  Fechamento Mensal       '!$A$13","v":"Matéria-Prima"},{"$f":"H12","v":5000}]
[null,null,null,null,null,24,{"$f":"'24'!$O$15","v":0},null,null,"(-)",{"$f":"'  Fechamento Mensal       '!$A$14","v":"Operacional"},{"$f":"L12","v":0}]
[null,null,null,null,null,25,{"$f":"'25'!$O$15","v":0},null,null,"(-)",{"$f":"'  Fechamento Mensal       '!$A$15","v":"Despesas Fixas"},{"$f":"H21","v":0}]
[null,null,null,null,null,26,{"$f":"'26'!$O$15","v":0},null,null,"(-)",{"$f":"'  Fechamento Mensal       '!$A$16","v":"Variáveis"},{"$f":"L21","v":0}]
[null,null,null,null,null,27,{"$f":"'27'!$O$15","v":0},null,null,"(-)",{"$f":"'  Fechamento Mensal       '!$A$17","v":"Financeiras (taxas e juros)"},{"$f":"H30","v":0}]
[null,null,null,null,null,28,{"$f":"'28'!$O$15","v":0},null,null,"(-)",{"$f":"'  Fechamento Mensal       '!$A$18","v":"Pró-labore"},{"$f":"L30","v":0}]
[null,null,null,null,null,null,null,null,null,"(-)",{"$f":"'  Fechamento Mensal       '!$A$19","v":"Outros"},{"$f":"H39","v":0}]
[null,null,null,null,null,null,null,null,null,"(=)","RESULT SEMANA",{"$f":"L40-SUM(L41:L47)","v":-5000}]

{"sheet":"29","index":32,"n_rows":32,"n_cols":15,"rows_kept":32,"cut":false,"hidden":false,"merged":[[0,5,0,6],[0,10,31,10],[1,5,1,9],[31,0,31,1],[31,5,31,6],[1,0,1,1],[1,4,2,4]]}
["FATURAMENTO REFERENTE AO DIA","2017-05-28","Previsto",null,null,"Saldo do dia anterios",null,{"$f":"'28'!J31","v":-5000},"FATURAMENTO REAL",null,{"$f":"B1+1","v":"2017-05-29"},null,"Dinheiro em Conta"]
["Contas Previstas para pagamento",null,"Saldo Anterior",{"$f":"'28'!D31","v":0},"Tipo de Custo","Contas Pagas - Real",null,null,null,null,null,null,"Notas Grandes"]
["Fornecedor","Vencimento","Valor",{"$f":"SUM(D1:D2)","v":0},null,"Fornecedor","Vencimento","Valor","Forma de pagamento","-",null,null,"Dinheiro trocado"]
[null,null,null,{"$f":"D3-C4","v":0},null,null,null,null,null,{"$f":"J1-H4","v":0},null,null,"Cheques"]
[null,null,null,{"$f":"D4-C5","v":0},null,null,null,null,null,{"$f":"J4-H5","v":0},null,null,"Total",{"$f":"SUM(N1:N4)","v":0}]
[null,null,null,0,null,null,null,null,null,0]
[null,null,null,0,null,null,null,null,null,0]
[null,null,null,0,null,null,null,null,null,0,null,null,"Tipo de Custos","Cód","Total dia"]
[null,null,null,0,null,null,null,null,null,0,null,null,{"$f":"'  Fechamento Mensal       '!$A$13","v":"Matéria-Prima"},{"$f":"'  Fechamento Mensal       '!$B$13","v":"MP"},{"$f":"SUMIF($E$4:$E$31,N9,H4:H31)","v":0}]
[null,null,null,0,null,null,null,null,null,0,null,null,{"$f":"'  Fechamento Mensal       '!$A$14","v":"Operacional"},{"$f":"'  Fechamento Mensal       '!$B$14","v":"Op"},{"$f":"SUMIF($E$4:$E$31,N10,$H$4:$H$31)","v":0}]
[null,null,null,0,null,null,null,null,null,0,null,null,{"$f":"'  Fechamento Mensal       '!$A$15","v":"Despesas Fixas"},{"$f":"'  Fechamento Mensal       '!$B$15","v":"Fx"},{"$f":"SUMIF($E$4:$E$31,N11,$H$4:$H$31)","v":0}]
[null,null,null,0,null,null,null,null,null,0,null,null,{"$f":"'  Fechamento Mensal       '!$A$16","v":"Variáveis"},{"$f":"'  Fechamento Mensal       '!$B$16","v":"Va"},0]
[null,null,null,0,null,null,null,null,null,0,null,null,{"$f":"'  Fechamento Mensal       '!$A$17","v":"Financeiras (taxas e juros)"},{"$f":"'  Fechamento Mensal       '!$B$17","v":"Tx"},0]
[null,null,null,0,null,null,null,null,null,0,null,null,{"$f":"'  Fechamento Mensal       '!$A$18","v":"Pró-labore"},{"$f":"'  Fechamento Mensal       '!$B$18","v":"PL"},0]
[null,null,null,0,null,null,null,null,null,0,null,null,{"$f":"'  Fechamento Mensal       '!$A$19","v":"Outros"},{"$f":"'  Fechamento Mensal       '!B19","v":"Ou"},0]
[null,null,null,0,null,null,null,null,null,0]
[null,null,null,0,null,null,null,null,null,0]
[null,null,null,0,null,null,null,null,null,0]
[null,null,null,0,null,null,null,null,null,0]
[null,null,null,0,null,null,null,null,null,0]
[null,null,null,0,null,null,null,null,null,0]
[null,null,null,0,null,null,null,null,null,0]
[null,null,null,0,null,null,null,null,null,0]
[null,null,null,0,null,null,null,null,null,0]
[null,null,null,0,null,null,null,null,null,0]
[null,null,null,0,null,null,null,null,null,0]
[null,null,null,0,null,null,null,null,null,0]
[null,null,null,0,null,null,null,null,null,0]
[null,null,null,0,null,null,null,null,null,0]
[null,null,null,0,null,null,null,null,null,0]
[null,null,null,0,null,null,null,null,null,0]
["Total",null,{"$f":"SUM(C4:C31)","v":0},null,null,"Total",null,{"$f":"SUM(H4:H31)","v":0}]

{"sheet":"30","index":33,"n_rows":32,"n_cols":15,"rows_kept":32,"cut":false,"hidden":false,"merged":[[0,5,0,6],[0,10,31,10],[1,5,1,9],[31,0,31,1],[31,5,31,6],[1,0,1,1],[1,4,2,4]]}
["FATURAMENTO REFERENTE AO DIA","2017-05-29","Previsto",null,null,"Saldo do dia anterios",null,{"$f":"'29'!J31","v":0},"FATURAMENTO REAL",null,{"$f":"B1+1","v":"2017-05-30"},null,"Dinheiro em Conta"]
["Contas Previstas para pagamento",null,"Saldo Anterior",{"$f":"'29'!D31","v":0},"Tipo de Custo","Contas Pagas - Real",null,null,null,null,null,null,"Notas Grandes"]
["Fornecedor","Vencimento","Valor",{"$f":"SUM(D1:D2)","v":0},null,"Fornecedor","Vencimento","Valor","Forma de pagamento","-",null,null,"Dinheiro trocado"]
[null,null,null,{"$f":"D3-C4","v":0},null,null,null,null,null,{"$f":"J1-H4","v":0},null,null,"Cheques"]
[null,null,null,{"$f":"D4-C5","v":0},null,null,null,null,null,{"$f":"J4-H5","v":0},null,null,"Total",{"$f":"SUM(N1:N4)","v":0}]
[null,null,null,0,null,null,null,null,null,0]
[null,null,null,0,null,null,null,null,null,0]
[null,null,null,0,null,null,null,null,null,0,null,null,"Tipo de Custos","Cód","Total dia"]
[null,null,null,0,null,null,null,null,null,0,null,null,{"$f":"'  Fechamento Mensal       '!$A$13","v":"Matéria-Prima"},{"$f":"'  Fechamento Mensal       '!$B$13","v":"MP"},{"$f":"SUMIF($E$4:$E$31,N9,H4:H31)","v":0}]
[null,null,null,0,null,null,null,null,null,0,null,null,{"$f":"'  Fechamento Mensal       '!$A$14","v":"Operacional"},{"$f":"'  Fechamento Mensal       '!$B$14","v":"Op"},{"$f":"SUMIF($E$4:$E$31,N10,$H$4:$H$31)","v":0}]
[null,null,null,0,null,null,null,null,null,0,null,null,{"$f":"'  Fechamento Mensal       '!$A$15","v":"Despesas Fixas"},{"$f":"'  Fechamento Mensal       '!$B$15","v":"Fx"},{"$f":"SUMIF($E$4:$E$31,N11,$H$4:$H$31)","v":0}]
[null,null,null,0,null,null,null,null,null,0,null,null,{"$f":"'  Fechamento Mensal       '!$A$16","v":"Variáveis"},{"$f":"'  Fechamento Mensal       '!$B$16","v":"Va"},0]
[null,null,null,0,null,null,null,null,null,0,null,null,{"$f":"'  Fechamento Mensal       '!$A$17","v":"Financeiras (taxas e juros)"},{"$f":"'  Fechamento Mensal       '!$B$17","v":"Tx"},0]
[null,null,null,0,null,null,null,null,null,0,null,null,{"$f":"'  Fechamento Mensal       '!$A$18","v":"Pró-labore"},{"$f":"'  Fechamento Mensal       '!$B$18","v":"PL"},0]
[null,null,null,0,null,null,null,null,null,0,null,null,{"$f":"'  Fechamento Mensal       '!$A$19","v":"Outros"},{"$f":"'  Fechamento Mensal       '!B19","v":"Ou"},0]
[null,null,null,0,null,null,null,null,null,0]
[null,null,null,0,null,null,null,null,null,0]
[null,null,null,0,null,null,null,null,null,0]
[null,null,null,0,null,null,null,null,null,0]
[null,null,null,0,null,null,null,null,null,0]
[null,null,null,0,null,null,null,null,null,0]
[null,null,null,0,null,null,null,null,null,0]
[null,null,null,0,null,null,null,null,null,0]
[null,null,null,0,null,null,null,null,null,0]
[null,null,null,0,null,null,null,null,null,0]
[null,null,null,0,null,null,null,null,null,0]
[null,null,null,0,null,null,null,null,null,0]
[null,null,null,0,null,null,null,null,null,0]
[null,null,null,0,null,null,null,null,null,0]
[null,null,null,0,null,null,null,null,null,0]
[null,null,null,0,null,null,null,null,null,0]
["Total",null,{"$f":"SUM(C4:C31)","v":0},null,null,"Total",null,{"$f":"SUM(H4:H31)","v":0}]

{"sheet":"31","index":34,"n_rows":32,"n_cols":15,"rows_kept":32,"cut":false,"hidden":false,"merged":[[0,5,0,6],[0,10,31,10],[1,5,1,9],[31,0,31,1],[31,5,31,6],[1,0,1,1],[1,4,2,4]]}
["FATURAMENTO REFERENTE AO DIA","2017-05-30","Previsto",null,null,"Saldo do dia anterios",null,{"$f":"'30'!J31","v":0},"FATURAMENTO REAL",null,{"$f":"B1+1","v":"2017-05-31"},null,"Dinheiro em Conta"]
["Contas Previstas para pagamento",null,"Saldo Anterior",{"$f":"'30'!D31","v":0},"Tipo de Custo","Contas Pagas - Real",null,null,null,null,null,null,"Notas Grandes"]
["Fornecedor","Vencimento","Valor",{"$f":"SUM(D1:D2)","v":0},null,"Fornecedor","Vencimento","Valor","Forma de pagamento","-",null,null,"Dinheiro trocado"]
[null,null,null,{"$f":"D3-C4","v":0},"MP","Fulano",null,1,null,{"$f":"J1-H4","v":-1},null,null,"Cheques"]
[null,null,null,{"$f":"D4-C5","v":0},"Op","Fulano",null,2,null,{"$f":"J4-H5","v":-3},null,null,"Total",{"$f":"SUM(N1:N4)","v":0}]
[null,null,null,0,"Fx","Fulano",null,3,null,-6]
[null,null,null,0,"Va","Fulano",null,7,null,-13]
[null,null,null,0,"Tx","Fulano",null,5,null,-18,null,null,"Tipo de Custos","Cód","Total dia"]
[null,null,null,0,"PL","Fulano",null,6,null,-24,null,null,{"$f":"'  Fechamento Mensal       '!$A$13","v":"Matéria-Prima"},{"$f":"'  Fechamento Mensal       '!$B$13","v":"MP"},{"$f":"SUMIF($E$4:$E$31,N9,H4:H31)","v":1}]
[null,null,null,0,"Ou","Fulano",null,7,null,-31,null,null,{"$f":"'  Fechamento Mensal       '!$A$14","v":"Operacional"},{"$f":"'  Fechamento Mensal       '!$B$14","v":"Op"},{"$f":"SUMIF($E$4:$E$31,N10,$H$4:$H$31)","v":2}]
[null,null,null,0,null,null,null,null,null,-31,null,null,{"$f":"'  Fechamento Mensal       '!$A$15","v":"Despesas Fixas"},{"$f":"'  Fechamento Mensal       '!$B$15","v":"Fx"},{"$f":"SUMIF($E$4:$E$31,N11,$H$4:$H$31)","v":3}]
[null,null,null,0,null,null,null,null,null,-31,null,null,{"$f":"'  Fechamento Mensal       '!$A$16","v":"Variáveis"},{"$f":"'  Fechamento Mensal       '!$B$16","v":"Va"},7]
[null,null,null,0,null,null,null,null,null,-31,null,null,{"$f":"'  Fechamento Mensal       '!$A$17","v":"Financeiras (taxas e juros)"},{"$f":"'  Fechamento Mensal       '!$B$17","v":"Tx"},5]
[null,null,null,0,null,null,null,null,null,-31,null,null,{"$f":"'  Fechamento Mensal       '!$A$18","v":"Pró-labore"},{"$f":"'  Fechamento Mensal       '!$B$18","v":"PL"},6]
[null,null,null,0,null,null,null,null,null,-31,null,null,{"$f":"'  Fechamento Mensal       '!$A$19","v":"Outros"},{"$f":"'  Fechamento Mensal       '!B19","v":"Ou"},7]
[null,null,null,0,null,null,null,null,null,-31]
[null,null,null,0,null,null,null,null,null,-31]
[null,null,null,0,null,null,null,null,null,-31]
[null,null,null,0,null,null,null,null,null,-31]
[null,null,null,0,null,null,null,null,null,-31]
[null,null,null,0,null,null,null,null,null,-31]
[null,null,null,0,null,null,null,null,null,-31]
[null,null,null,0,null,null,null,null,null,-31]
[null,null,null,0,null,null,null,null,null,-31]
[null,null,null,0,null,null,null,null,null,-31]
[null,null,null,0,null,null,null,null,null,-31]
[null,null,null,0,null,null,null,null,null,-31]
[null,null,null,0,null,null,null,null,null,-31]
[null,null,null,0,null,null,null,null,null,-31]
[null,null,null,0,null,null,null,null,null,-31]
[null,null,null,0,null,null,null,null,null,-31]
["Total",null,{"$f":"SUM(C4:C31)","v":0},null,null,"Total",null,{"$f":"SUM(H4:H31)","v":31}]

{"sheet":"Fechamento semanal5","index":35,"n_rows":48,"n_cols":12,"rows_kept":48,"cut":false,"hidden":false,"merged":[[29,5,29,6],[29,9,29,10],[38,5,38,6],[38,9,38,11],[0,0,0,3],[0,5,0,11],[2,5,2,6],[11,5,11,6],[11,9,11,10],[20,5,20,6],[20,9,20,10]]}
["Balancete Da Semana, 29 a 31 Maio",null,null,null,null,"DRE Parcial Dias 29 a 31 de maio"]
["Faturamento Previsto ","Faturamento Real","Resultado","Percentual"]
[{"$f":"'29'!D1+'30'!D1+'31'!D1","v":0},{"$f":"'29'!J1+'30'!J1+'31'!J1","v":0},{"$f":"B3-A3","v":0},{"$f":"B3/A3","v":{"$error":"#DIV/0!"}},null,"FATURAMENTO",null,{"$f":"SUM(G4:G10)","v":0}]
[null,null,null,null,null,29,{"$f":"'29'!J1","v":0}]
["Pagamento Previstos","Pagamento Realizados","Resultado","Percetual",null,30,{"$f":"'30'!J1","v":0}]
[{"$f":"'29'!C32+'30'!C32+'31'!C32","v":0},{"$f":"'29'!H32+'30'!H32+'31'!H32","v":31},{"$f":"B6-A6","v":31},{"$f":"B6/A6","v":{"$error":"#DIV/0!"}},null,31,{"$f":"'31'!J1","v":0}]
[]
["Credito/Debito  Acumulado Previsto",{"$f":"A3-A6","v":0}]
["Credito/Debito  Acumulado Real",{"$f":"B3-B6","v":-31}]
[]
[]
[null,null,null,null,null,{"$f":"K41","v":"Matéria-Prima"},null,{"$f":"SUM(G13:G19)","v":1},null,{"$f":"K42","v":"Operacional"},null,{"$f":"SUM(K13:K19)","v":2}]
[null,null,null,null,null,29,{"$f":"'29'!$O$9","v":0},null,null,29,{"$f":"'29'!$O$10","v":0}]
[null,null,null,null,null,30,{"$f":"'30'!$O$9","v":0},null,null,30,{"$f":"'30'!$O$10","v":0}]
[null,null,null,null,null,31,{"$f":"'31'!$O$9","v":1},null,null,31,{"$f":"'31'!$O$10","v":2}]
[]
[]
[]
[]
[]
[null,null,null,null,null,{"$f":"K43","v":"Despesas Fixas"},null,{"$f":"SUM(G22:G28)","v":3},null,{"$f":"K44","v":"Variáveis"},null,{"$f":"SUM(K22:K28)","v":7}]
[null,null,null,null,null,29,{"$f":"'29'!$O$11","v":0},null,null,29,{"$f":"'29'!$O$12","v":0}]
[null,null,null,null,null,30,{"$f":"'30'!$O$11","v":0},null,null,30,{"$f":"'30'!$O$12","v":0}]
[null,null,null,null,null,31,{"$f":"'31'!$O$11","v":3},null,null,31,{"$f":"'31'!$O$12","v":7}]
[]
[]
[]
[]
[]
[null,null,null,null,null,{"$f":"K45","v":"Financeiras (taxas e juros)"},null,{"$f":"SUM(G31:G37)","v":5},null,{"$f":"K46","v":"Pró-labore"},null,{"$f":"SUM(K31:K37)","v":6}]
[null,null,null,null,null,29,{"$f":"'29'!$O$13","v":0},null,null,29,{"$f":"'29'!$O$14","v":0}]
[null,null,null,null,null,30,{"$f":"'30'!$O$13","v":0},null,null,30,{"$f":"'30'!$O$14","v":0}]
[null,null,null,null,null,31,{"$f":"'31'!$O$13","v":5},null,null,31,{"$f":"'31'!$O$14","v":6}]
[]
[]
[]
[]
[]
[null,null,null,null,null,{"$f":"K47","v":"Outros"},null,{"$f":"SUM(G40:G46)","v":7},null,"RESUMO DA SEMANA"]
[null,null,null,null,null,29,{"$f":"'29'!$O$15","v":0},null,null,"(+)","FATURAMENTO",{"$f":"H3","v":0}]
[null,null,null,null,null,30,{"$f":"'30'!$O$15","v":0},null,null,"(-)",{"$f":"'  Fechamento Mensal       '!$A$13","v":"Matéria-Prima"},{"$f":"H12","v":1}]
[null,null,null,null,null,31,{"$f":"'31'!$O$15","v":7},null,null,"(-)",{"$f":"'  Fechamento Mensal       '!$A$14","v":"Operacional"},{"$f":"L12","v":2}]
[null,null,null,null,null,null,null,null,null,"(-)",{"$f":"'  Fechamento Mensal       '!$A$15","v":"Despesas Fixas"},{"$f":"H21","v":3}]
[null,null,null,null,null,null,null,null,null,"(-)",{"$f":"'  Fechamento Mensal       '!$A$16","v":"Variáveis"},{"$f":"L21","v":7}]
[null,null,null,null,null,null,null,null,null,"(-)",{"$f":"'  Fechamento Mensal       '!$A$17","v":"Financeiras (taxas e juros)"},{"$f":"H30","v":5}]
[null,null,null,null,null,null,null,null,null,"(-)",{"$f":"'  Fechamento Mensal       '!$A$18","v":"Pró-labore"},{"$f":"L30","v":6}]
[null,null,null,null,null,null,null,null,null,"(-)",{"$f":"'  Fechamento Mensal       '!$A$19","v":"Outros"},{"$f":"H39","v":7}]
[null,null,null,null,null,null,null,null,null,"(=)","RESULT SEMANA",{"$f":"L40-SUM(L41:L47)","v":-31}]

{"sheet":"  Fechamento Mensal       ","index":36,"n_rows":36,"n_cols":12,"rows_kept":36,"cut":false,"hidden":false,"merged":[[30,9,31,9],[30,10,31,11],[32,10,33,11],[0,5,0,11]]}
[null,null,null,null,null,"DRE Resumido Mensal - Maio"]
[]
[null,null,null,null,null,"(+)","FATURAMENTO",{"$f":"SUM(H4:H8)","v":0}]
[null,null,null,null,null,null,"Semana 1",{"$f":"'Fechamento semanal1'!H3","v":0}]
[null,null,null,null,null,null,"Semana 2",{"$f":"'Fechamento semanal2 '!H3","v":0}]
[null,null,null,null,null,null,"Semana 3",{"$f":"'Fechamento semanal3   '!H3","v":0}]
[null,null,null,null,null,null,"Semana 4",{"$f":"'  Fechamento semanal4   '!H3","v":0}]
[null,null,null,null,null,null,"Semana 5",{"$f":"'Fechamento semanal5'!H3","v":0}]
[]
[null,null,null,null,null,"(-)",{"$f":"A13","v":"Matéria-Prima"},{"$f":"SUM(H11:H15)","v":5001},null,"(-)",{"$f":"A14","v":"Operacional"},{"$f":"SUM(L11:L15)","v":2}]
[null,null,null,null,null,null,"Semana 1",{"$f":"'Fechamento semanal1'!H12","v":0},null,null,"Semana 1",{"$f":"'Fechamento semanal1'!L12","v":0}]
["Tipo de Custos","Cód",null,null,null,null,"Semana 2",{"$f":"'Fechamento semanal2 '!H12","v":0},null,null,"Semana 2",{"$f":"'Fechamento semanal2 '!L12","v":0}]
["Matéria-Prima","MP",null,null,null,null,"Semana 3",{"$f":"'Fechamento semanal3   '!H12","v":0},null,null,"Semana 3",{"$f":"'Fechamento semanal3   '!L12","v":0}]
["Operacional","Op",null,null,null,null,"Semana 4",{"$f":"'  Fechamento semanal4   '!H12","v":5000},null,null,"Semana 4",{"$f":"'  Fechamento semanal4   '!L12","v":0}]
["Despesas Fixas","Fx",null,null,null,null,"Semana 5",{"$f":"'Fechamento semanal5'!H12","v":1},null,null,"Semana 5",{"$f":"'Fechamento semanal5'!L12","v":2}]
["Variáveis","Va"]
["Financeiras (taxas e juros)","Tx",null,null,null,"(-)",{"$f":"A15","v":"Despesas Fixas"},{"$f":"SUM(H18:H22)","v":3},null,"(-)",{"$f":"A16","v":"Variáveis"},{"$f":"SUM(L18:L22)","v":7}]
["Pró-labore","PL",null,null,null,null,"Semana 1",{"$f":"'Fechamento semanal1'!H21","v":0},null,null,"Semana 1",{"$f":"'Fechamento semanal1'!L21","v":0}]
["Outros","Ou",null,null,null,null,"Semana 2",{"$f":"'Fechamento semanal2 '!H21","v":0},null,null,"Semana 2",{"$f":"'Fechamento semanal2 '!L21","v":0}]
[null,null,null,null,null,null,"Semana 3",{"$f":"'Fechamento semanal3   '!H21","v":0},null,null,"Semana 3",{"$f":"'Fechamento semanal3   '!L21","v":0}]
[null,null,null,null,null,null,"Semana 4",{"$f":"'  Fechamento semanal4   '!H21","v":0},null,null,"Semana 4",{"$f":"'  Fechamento semanal4   '!L21","v":0}]
[null,null,null,null,null,null,"Semana 5",{"$f":"'Fechamento semanal5'!H21","v":3},null,null,"Semana 5",{"$f":"'Fechamento semanal5'!L21","v":7}]
[]
[null,null,null,null,null,"(-)",{"$f":"A17","v":"Financeiras (taxas e juros)"},{"$f":"SUM(H25:H29)","v":5},null,"(-)",{"$f":"A18","v":"Pró-labore"},{"$f":"SUM(L25:L29)","v":6}]
[null,null,null,null,null,null,"Semana 1",{"$f":"'Fechamento semanal1'!H30","v":0},null,null,"Semana 1",{"$f":"'Fechamento semanal1'!L30","v":0}]
[null,null,null,null,null,null,"Semana 2",{"$f":"'Fechamento semanal2 '!H30","v":0},null,null,"Semana 2",{"$f":"'Fechamento semanal2 '!L30","v":0}]
[null,null,null,null,null,null,"Semana 3",{"$f":"'Fechamento semanal3   '!H30","v":0},null,null,"Semana 3",{"$f":"'Fechamento semanal3   '!L30","v":0}]
[null,null,null,null,null,null,"Semana 4",{"$f":"'  Fechamento semanal4   '!H30","v":0},null,null,"Semana 4",{"$f":"'  Fechamento semanal4   '!L30","v":0}]
[null,null,null,null,null,null,"Semana 5",{"$f":"'Fechamento semanal5'!H30","v":5},null,null,"Semana 5",{"$f":"'Fechamento semanal5'!L30","v":6}]
[]
[null,null,null,null,null,"(-)",{"$f":"A19","v":"Outros"},{"$f":"SUM(H32:H36)","v":7},null,"(=)","RESULTADO MENSAL"]
[null,null,null,null,null,null,"Semana 1",{"$f":"'Fechamento semanal1'!H39","v":0}]
[null,null,null,null,null,null,"Semana 2",{"$f":"'Fechamento semanal2 '!H39","v":0},null,null,{"$f":"H3-H10-L10-H17-L17-H24-L24-H31","v":-5031}]
[null,null,null,null,null,null,"Semana 3",{"$f":"'Fechamento semanal3   '!H39","v":0}]
[null,null,null,null,null,null,"Semana 4",{"$f":"'  Fechamento semanal4   '!H39","v":0}]
[null,null,null,null,null,null,"Semana 5",{"$f":"'Fechamento semanal5'!H39","v":7}]

{"sheet":"DRE","index":37,"n_rows":4357,"n_cols":3,"rows_kept":4357,"cut":false,"hidden":false,"merged":[[9,0,876,0],[879,0,1746,0],[1749,0,2616,0],[2619,0,3486,0],[3489,0,4356,0]]}
[]
[]
[null,"Receita"]
[]
[null,"Despesas"]
[]
[null,"Codigo","Conta"]
[null,null,"Materia Prima"]
["Codigo","Fornecedor","Valor"]
["MP",{"$f":"IFERROR(VLOOKUP(A10,'1'!$E$4:$I$4,2,FALSE),\"-\")","v":"-"},{"$f":"IFERROR(VLOOKUP(A10,'1'!$E$4:$I$4,4,FALSE),\"-\")","v":"-"}]
[null,{"$f":"IFERROR(VLOOKUP(A10,'1'!$E$5:$I$5,2,FALSE),\"-\")","v":"-"},{"$f":"IFERROR(VLOOKUP(A10,'1'!$E$5:$I$5,4,FALSE),\"-\")","v":"-"}]
[null,{"$f":"IFERROR(VLOOKUP(A10,'1'!$E$6:$I$6,2,FALSE),\"-\")","v":"-"},{"$f":"IFERROR(VLOOKUP(A10,'1'!$E$6:$I$6,4,FALSE),\"-\")","v":"-"}]
[null,{"$f":"IFERROR(VLOOKUP(A10,'1'!$E$7:$I$7,2,FALSE),\"-\")","v":"-"},{"$f":"IFERROR(VLOOKUP(A10,'1'!$E$7:$I$7,4,FALSE),\"-\")","v":"-"}]
[null,{"$f":"IFERROR(VLOOKUP(A10,'1'!$E$8:$I$8,2,FALSE),\"-\")","v":"-"},{"$f":"IFERROR(VLOOKUP(A10,'1'!$E$8:$I$8,4,FALSE),\"-\")","v":"-"}]
[null,{"$f":"IFERROR(VLOOKUP(A10,'1'!$E$9:$I$9,2,FALSE),\"-\")","v":"-"},{"$f":"IFERROR(VLOOKUP(A10,'1'!$E$9:$I$9,4,FALSE),\"-\")","v":"-"}]
[null,{"$f":"IFERROR(VLOOKUP(A10,'1'!$E$10:$I$10,2,FALSE),\"-\")","v":"-"},{"$f":"IFERROR(VLOOKUP(A10,'1'!$E$10:$I$10,4,FALSE),\"-\")","v":"-"}]
[null,{"$f":"IFERROR(VLOOKUP(A10,'1'!$E$11:$I$11,2,FALSE),\"-\")","v":"-"},{"$f":"IFERROR(VLOOKUP(A10,'1'!$E$11:$I$11,4,FALSE),\"-\")","v":"-"}]
[null,{"$f":"IFERROR(VLOOKUP(A10,'1'!$E$12:$I$12,2,FALSE),\"-\")","v":"-"},{"$f":"IFERROR(VLOOKUP(A10,'1'!$E$12:$I$12,4,FALSE),\"-\")","v":"-"}]
[null,{"$f":"IFERROR(VLOOKUP(A10,'1'!$E$13:$I$13,2,FALSE),\"-\")","v":"-"},{"$f":"IFERROR(VLOOKUP(A10,'1'!$E$13:$I$13,4,FALSE),\"-\")","v":"-"}]
[null,{"$f":"IFERROR(VLOOKUP(A10,'1'!$E$14:$I$14,2,FALSE),\"-\")","v":"-"},{"$f":"IFERROR(VLOOKUP(A10,'1'!$E$14:$I$14,4,FALSE),\"-\")","v":"-"}]
[null,{"$f":"IFERROR(VLOOKUP(A10,'1'!$E$15:$I$15,2,FALSE),\"-\")","v":"-"},{"$f":"IFERROR(VLOOKUP(A10,'1'!$E$15:$I$15,4,FALSE),\"-\")","v":"-"}]
[null,{"$f":"IFERROR(VLOOKUP(A10,'1'!$E$16:$I$16,2,FALSE),\"-\")","v":"-"},{"$f":"IFERROR(VLOOKUP(A10,'1'!$E$16:$I$16,4,FALSE),\"-\")","v":"-"}]
[null,{"$f":"IFERROR(VLOOKUP(A10,'1'!$E$17:$I$17,2,FALSE),\"-\")","v":"-"},{"$f":"IFERROR(VLOOKUP(A10,'1'!$E$17:$I$17,4,FALSE),\"-\")","v":"-"}]
[null,{"$f":"IFERROR(VLOOKUP(A10,'1'!$E$18:$I$18,2,FALSE),\"-\")","v":"-"},{"$f":"IFERROR(VLOOKUP(A10,'1'!$E$18:$I$18,4,FALSE),\"-\")","v":"-"}]
[null,{"$f":"IFERROR(VLOOKUP(A10,'1'!$E$19:$I$19,2,FALSE),\"-\")","v":"-"},{"$f":"IFERROR(VLOOKUP(A10,'1'!$E$19:$I$19,4,FALSE),\"-\")","v":"-"}]
[null,{"$f":"IFERROR(VLOOKUP(A10,'1'!$E$20:$I$20,2,FALSE),\"-\")","v":"-"},{"$f":"IFERROR(VLOOKUP(A10,'1'!$E$20:$I$20,4,FALSE),\"-\")","v":"-"}]
[null,{"$f":"IFERROR(VLOOKUP(A10,'1'!$E$21:$I$21,2,FALSE),\"-\")","v":"-"},{"$f":"IFERROR(VLOOKUP(A10,'1'!$E$21:$I$21,4,FALSE),\"-\")","v":"-"}]
[null,{"$f":"IFERROR(VLOOKUP(A10,'1'!$E$22:$I$22,2,FALSE),\"-\")","v":"-"},{"$f":"IFERROR(VLOOKUP(A10,'1'!$E$22:$I$22,4,FALSE),\"-\")","v":"-"}]
[null,{"$f":"IFERROR(VLOOKUP(A10,'1'!$E$23:$I$23,2,FALSE),\"-\")","v":"-"},{"$f":"IFERROR(VLOOKUP(A10,'1'!$E$23:$I$23,4,FALSE),\"-\")","v":"-"}]
[null,{"$f":"IFERROR(VLOOKUP(A10,'1'!$E$24:$I$24,2,FALSE),\"-\")","v":"-"},{"$f":"IFERROR(VLOOKUP(A10,'1'!$E$24:$I$24,4,FALSE),\"-\")","v":"-"}]
[null,{"$f":"IFERROR(VLOOKUP(A10,'1'!$E$25:$I$25,2,FALSE),\"-\")","v":"-"},{"$f":"IFERROR(VLOOKUP(A10,'1'!$E$25:$I$25,4,FALSE),\"-\")","v":"-"}]
[null,{"$f":"IFERROR(VLOOKUP(A10,'1'!$E$26:$I$26,2,FALSE),\"-\")","v":"-"},{"$f":"IFERROR(VLOOKUP(A10,'1'!$E$26:$I$26,4,FALSE),\"-\")","v":"-"}]
[null,{"$f":"IFERROR(VLOOKUP(A10,'1'!$E$27:$I$27,2,FALSE),\"-\")","v":"-"},{"$f":"IFERROR(VLOOKUP(A10,'1'!$E$27:$I$27,4,FALSE),\"-\")","v":"-"}]
[null,{"$f":"IFERROR(VLOOKUP(A10,'1'!$E$28:$I$28,2,FALSE),\"-\")","v":"-"},{"$f":"IFERROR(VLOOKUP(A10,'1'!$E$28:$I$28,4,FALSE),\"-\")","v":"-"}]
[null,{"$f":"IFERROR(VLOOKUP(A10,'1'!$E$29:$I$29,2,FALSE),\"-\")","v":"-"},{"$f":"IFERROR(VLOOKUP(A10,'1'!$E$29:$I$29,4,FALSE),\"-\")","v":"-"}]
[null,{"$f":"IFERROR(VLOOKUP(A10,'1'!$E$30:$I$30,2,FALSE),\"-\")","v":"-"},{"$f":"IFERROR(VLOOKUP(A10,'1'!$E$30:$I$30,4,FALSE),\"-\")","v":"-"}]
[null,{"$f":"IFERROR(VLOOKUP(A10,'1'!$E$31:$I$31,2,FALSE),\"-\")","v":"-"},{"$f":"IFERROR(VLOOKUP(A10,'1'!$E$31:$I$31,4,FALSE),\"-\")","v":"-"}]
[null,{"$f":"IFERROR(VLOOKUP(A10,'2'!$E$4:$I$4,2,FALSE),\"-\")","v":"-"},{"$f":"IFERROR(VLOOKUP(A10,'2'!$E$4:$I$4,4,FALSE),\"-\")","v":"-"}]
[null,{"$f":"IFERROR(VLOOKUP(A10,'2'!$E$5:$I$5,2,FALSE),\"-\")","v":"-"},{"$f":"IFERROR(VLOOKUP(A10,'2'!E5:I5,4,FALSE),\"-\")","v":"-"}]
[null,{"$f":"IFERROR(VLOOKUP(A10,'2'!$E$6:$I$6,2,FALSE),\"-\")","v":"-"},{"$f":"IFERROR(VLOOKUP(A10,'2'!E6:I6,4,FALSE),\"-\")","v":"-"}]
[null,{"$f":"IFERROR(VLOOKUP(A10,'2'!$E$7:$I$7,2,FALSE),\"-\")","v":"-"},{"$f":"IFERROR(VLOOKUP(A10,'2'!E7:I7,4,FALSE),\"-\")","v":"-"}]
[null,{"$f":"IFERROR(VLOOKUP(A10,'2'!$E$8:$I$8,2,FALSE),\"-\")","v":"-"},{"$f":"IFERROR(VLOOKUP(A10,'2'!E8:I8,4,FALSE),\"-\")","v":"-"}]
[null,{"$f":"IFERROR(VLOOKUP(A10,'2'!$E$9:$I$9,2,FALSE),\"-\")","v":"-"},{"$f":"IFERROR(VLOOKUP(A10,'2'!E9:I9,4,FALSE),\"-\")","v":"-"}]
[null,{"$f":"IFERROR(VLOOKUP(A10,'2'!$E$10:$I$10,2,FALSE),\"-\")","v":"-"},{"$f":"IFERROR(VLOOKUP(A10,'2'!E10:I10,4,FALSE),\"-\")","v":"-"}]
[null,{"$f":"IFERROR(VLOOKUP(A10,'2'!$E$11:$I$11,2,FALSE),\"-\")","v":"-"},{"$f":"IFERROR(VLOOKUP(A10,'2'!E11:I11,4,FALSE),\"-\")","v":"-"}]
[null,{"$f":"IFERROR(VLOOKUP(A10,'2'!$E$12:$I$12,2,FALSE),\"-\")","v":"-"},{"$f":"IFERROR(VLOOKUP(A10,'2'!E12:I12,4,FALSE),\"-\")","v":"-"}]
[null,{"$f":"IFERROR(VLOOKUP(A10,'2'!$E$13:$I$13,2,FALSE),\"-\")","v":"-"},{"$f":"IFERROR(VLOOKUP(A10,'2'!E13:I13,4,FALSE),\"-\")","v":"-"}]
[null,{"$f":"IFERROR(VLOOKUP(A10,'2'!$E$14:$I$14,2,FALSE),\"-\")","v":"-"},{"$f":"IFERROR(VLOOKUP(A10,'2'!E14:I14,4,FALSE),\"-\")","v":"-"}]
[null,{"$f":"IFERROR(VLOOKUP(A10,'2'!$E$15:$I$15,2,FALSE),\"-\")","v":"-"},{"$f":"IFERROR(VLOOKUP(A10,'2'!E15:I15,4,FALSE),\"-\")","v":"-"}]
[null,{"$f":"IFERROR(VLOOKUP(A10,'2'!$E$16:$I$16,2,FALSE),\"-\")","v":"-"},{"$f":"IFERROR(VLOOKUP(A10,'2'!E16:I16,4,FALSE),\"-\")","v":"-"}]
[null,{"$f":"IFERROR(VLOOKUP(A10,'2'!$E$17:$I$17,2,FALSE),\"-\")","v":"-"},{"$f":"IFERROR(VLOOKUP(A10,'2'!E17:I17,4,FALSE),\"-\")","v":"-"}]
[null,{"$f":"IFERROR(VLOOKUP(A10,'2'!$E$18:$I$18,2,FALSE),\"-\")","v":"-"},{"$f":"IFERROR(VLOOKUP(A10,'2'!E18:I18,4,FALSE),\"-\")","v":"-"}]
[null,{"$f":"IFERROR(VLOOKUP(A10,'2'!$E$19:$I$19,2,FALSE),\"-\")","v":"-"},{"$f":"IFERROR(VLOOKUP(A10,'2'!E19:I19,4,FALSE),\"-\")","v":"-"}]
[null,{"$f":"IFERROR(VLOOKUP(A10,'2'!$E$20:$I$20,2,FALSE),\"-\")","v":"-"},{"$f":"IFERROR(VLOOKUP(A10,'2'!E20:I20,4,FALSE),\"-\")","v":"-"}]
[null,{"$f":"IFERROR(VLOOKUP(A10,'2'!$E$21:$I$21,2,FALSE),\"-\")","v":"-"},{"$f":"IFERROR(VLOOKUP(A10,'2'!E21:I21,4,FALSE),\"-\")","v":"-"}]
[null,{"$f":"IFERROR(VLOOKUP(A10,'2'!$E$22:$I$22,2,FALSE),\"-\")","v":"-"},{"$f":"IFERROR(VLOOKUP(A10,'2'!E22:I22,4,FALSE),\"-\")","v":"-"}]
[null,{"$f":"IFERROR(VLOOKUP(A10,'2'!$E$23:$I$23,2,FALSE),\"-\")","v":"-"},{"$f":"IFERROR(VLOOKUP(A10,'2'!E23:I23,4,FALSE),\"-\")","v":"-"}]
[null,{"$f":"IFERROR(VLOOKUP(A10,'2'!$E$24:$I$24,2,FALSE),\"-\")","v":"-"},{"$f":"IFERROR(VLOOKUP(A10,'2'!E24:I24,4,FALSE),\"-\")","v":"-"}]
[null,{"$f":"IFERROR(VLOOKUP(A10,'2'!$E$25:$I$25,2,FALSE),\"-\")","v":"-"},{"$f":"IFERROR(VLOOKUP(A10,'2'!E25:I25,4,FALSE),\"-\")","v":"-"}]
[null,{"$f":"IFERROR(VLOOKUP(A10,'2'!$E$26:$I$26,2,FALSE),\"-\")","v":"-"},{"$f":"IFERROR(VLOOKUP(A10,'2'!E26:I26,4,FALSE),\"-\")","v":"-"}]
[null,{"$f":"IFERROR(VLOOKUP(A10,'2'!$E$27:$I$27,2,FALSE),\"-\")","v":"-"},{"$f":"IFERROR(VLOOKUP(A10,'2'!E27:I27,4,FALSE),\"-\")","v":"-"}]
[null,{"$f":"IFERROR(VLOOKUP(A10,'2'!$E$28:$I$28,2,FALSE),\"-\")","v":"-"},{"$f":"IFERROR(VLOOKUP(A10,'2'!E28:I28,4,FALSE),\"-\")","v":"-"}]
[null,{"$f":"IFERROR(VLOOKUP(A10,'2'!$E$29:$I$29,2,FALSE),\"-\")","v":"-"},{"$f":"IFERROR(VLOOKUP(A10,'2'!E29:I29,4,FALSE),\"-\")","v":"-"}]
[null,{"$f":"IFERROR(VLOOKUP(A10,'2'!$E$30:$I$30,2,FALSE),\"-\")","v":"-"},{"$f":"IFERROR(VLOOKUP(A10,'2'!E30:I30,4,FALSE),\"-\")","v":"-"}]
[null,{"$f":"IFERROR(VLOOKUP(A10,'2'!$E$31:$I$31,2,FALSE),\"-\")","v":"-"},{"$f":"IFERROR(VLOOKUP(A10,'2'!E31:I31,4,FALSE),\"-\")","v":"-"}]
[null,{"$f":"IFERROR(VLOOKUP(A10,'3'!$E$4:$I$4,2,FALSE),\"-\")","v":"-"},{"$f":"IFERROR(VLOOKUP(A10,'3'!E4:I4,4,FALSE),\"-\")","v":"-"}]
[null,{"$f":"IFERROR(VLOOKUP(A10,'3'!$E$5:$I$5,2,FALSE),\"-\")","v":"-"},{"$f":"IFERROR(VLOOKUP(A10,'3'!E5:I5,4,FALSE),\"-\")","v":"-"}]
[null,{"$f":"IFERROR(VLOOKUP(A10,'3'!$E$6:$I$6,2,FALSE),\"-\")","v":"-"},{"$f":"IFERROR(VLOOKUP(A10,'3'!E6:I6,4,FALSE),\"-\")","v":"-"}]
[null,{"$f":"IFERROR(VLOOKUP(A10,'3'!$E$7:$I$7,2,FALSE),\"-\")","v":"-"},{"$f":"IFERROR(VLOOKUP(A10,'3'!E7:I7,4,FALSE),\"-\")","v":"-"}]
[null,{"$f":"IFERROR(VLOOKUP(A10,'3'!$E$8:$I$8,2,FALSE),\"-\")","v":"-"},{"$f":"IFERROR(VLOOKUP(A10,'3'!E8:I8,4,FALSE),\"-\")","v":"-"}]
[null,{"$f":"IFERROR(VLOOKUP(A10,'3'!$E$9:$I$9,2,FALSE),\"-\")","v":"-"},{"$f":"IFERROR(VLOOKUP(A10,'3'!E9:I9,4,FALSE),\"-\")","v":"-"}]
[null,{"$f":"IFERROR(VLOOKUP(A10,'3'!$E$10:$I$10,2,FALSE),\"-\")","v":"-"},{"$f":"IFERROR(VLOOKUP(A10,'3'!E10:I10,4,FALSE),\"-\")","v":"-"}]
[null,{"$f":"IFERROR(VLOOKUP(A10,'3'!$E$11:$I$11,2,FALSE),\"-\")","v":"-"},{"$f":"IFERROR(VLOOKUP(A10,'3'!E11:I11,4,FALSE),\"-\")","v":"-"}]
[null,{"$f":"IFERROR(VLOOKUP(A10,'3'!$E$12:$I$12,2,FALSE),\"-\")","v":"-"},{"$f":"IFERROR(VLOOKUP(A10,'3'!E12:I12,4,FALSE),\"-\")","v":"-"}]
[null,{"$f":"IFERROR(VLOOKUP(A10,'3'!$E$13:$I$13,2,FALSE),\"-\")","v":"-"},{"$f":"IFERROR(VLOOKUP(A10,'3'!E13:I13,4,FALSE),\"-\")","v":"-"}]
[null,{"$f":"IFERROR(VLOOKUP(A10,'3'!$E$14:$I$14,2,FALSE),\"-\")","v":"-"},{"$f":"IFERROR(VLOOKUP(A10,'3'!E14:I14,4,FALSE),\"-\")","v":"-"}]
[null,{"$f":"IFERROR(VLOOKUP(A10,'3'!$E$15:$I$15,2,FALSE),\"-\")","v":"-"},{"$f":"IFERROR(VLOOKUP(A10,'3'!E15:I15,4,FALSE),\"-\")","v":"-"}]
[null,{"$f":"IFERROR(VLOOKUP(A10,'3'!$E$16:$I$16,2,FALSE),\"-\")","v":"-"},{"$f":"IFERROR(VLOOKUP(A10,'3'!E16:I16,4,FALSE),\"-\")","v":"-"}]
[null,{"$f":"IFERROR(VLOOKUP(A10,'3'!$E$17:$I$17,2,FALSE),\"-\")","v":"-"},{"$f":"IFERROR(VLOOKUP(A10,'3'!E17:I17,4,FALSE),\"-\")","v":"-"}]
[null,{"$f":"IFERROR(VLOOKUP(A10,'3'!$E$18:$I$18,2,FALSE),\"-\")","v":"-"},{"$f":"IFERROR(VLOOKUP(A10,'3'!E18:I18,4,FALSE),\"-\")","v":"-"}]
[null,{"$f":"IFERROR(VLOOKUP(A10,'3'!$E$19:$I$19,2,FALSE),\"-\")","v":"-"},{"$f":"IFERROR(VLOOKUP(A10,'3'!E19:I19,4,FALSE),\"-\")","v":"-"}]
[null,{"$f":"IFERROR(VLOOKUP(A10,'3'!$E$20:$I$20,2,FALSE),\"-\")","v":"-"},{"$f":"IFERROR(VLOOKUP(A10,'3'!E20:I20,4,FALSE),\"-\")","v":"-"}]
[null,{"$f":"IFERROR(VLOOKUP(A10,'3'!$E$21:$I$21,2,FALSE),\"-\")","v":"-"},{"$f":"IFERROR(VLOOKUP(A10,'3'!E21:I21,4,FALSE),\"-\")","v":"-"}]
[null,{"$f":"IFERROR(VLOOKUP(A10,'3'!$E$22:$I$22,2,FALSE),\"-\")","v":"-"},{"$f":"IFERROR(VLOOKUP(A10,'3'!E22:I22,4,FALSE),\"-\")","v":"-"}]
[null,{"$f":"IFERROR(VLOOKUP(A10,'3'!$E$23:$I$23,2,FALSE),\"-\")","v":"-"},{"$f":"IFERROR(VLOOKUP(A10,'3'!E23:I23,4,FALSE),\"-\")","v":"-"}]
[null,{"$f":"IFERROR(VLOOKUP(A10,'3'!$E$24:$I$24,2,FALSE),\"-\")","v":"-"},{"$f":"IFERROR(VLOOKUP(A10,'3'!E24:I24,4,FALSE),\"-\")","v":"-"}]
[null,{"$f":"IFERROR(VLOOKUP(A10,'3'!$E$25:$I$25,2,FALSE),\"-\")","v":"-"},{"$f":"IFERROR(VLOOKUP(A10,'3'!E25:I25,4,FALSE),\"-\")","v":"-"}]
[null,{"$f":"IFERROR(VLOOKUP(A10,'3'!$E$26:$I$26,2,FALSE),\"-\")","v":"-"},{"$f":"IFERROR(VLOOKUP(A10,'3'!E26:I26,4,FALSE),\"-\")","v":"-"}]
[null,{"$f":"IFERROR(VLOOKUP(A10,'3'!$E$27:$I$27,2,FALSE),\"-\")","v":"-"},{"$f":"IFERROR(VLOOKUP(A10,'3'!E27:I27,4,FALSE),\"-\")","v":"-"}]
[null,{"$f":"IFERROR(VLOOKUP(A10,'3'!$E$28:$I$28,2,FALSE),\"-\")","v":"-"},{"$f":"IFERROR(VLOOKUP(A10,'3'!E28:I28,4,FALSE),\"-\")","v":"-"}]
[null,{"$f":"IFERROR(VLOOKUP(A10,'3'!$E$29:$I$29,2,FALSE),\"-\")","v":"-"},{"$f":"IFERROR(VLOOKUP(A10,'3'!E29:I29,4,FALSE),\"-\")","v":"-"}]
[null,{"$f":"IFERROR(VLOOKUP(A10,'3'!$E$30:$I$30,2,FALSE),\"-\")","v":"-"},{"$f":"IFERROR(VLOOKUP(A10,'3'!E30:I30,4,FALSE),\"-\")","v":"-"}]
[null,{"$f":"IFERROR(VLOOKUP(A10,'3'!$E$31:$I$31,2,FALSE),\"-\")","v":"-"},{"$f":"IFERROR(VLOOKUP(A10,'3'!E31:I31,4,FALSE),\"-\")","v":"-"}]
[null,{"$f":"IFERROR(VLOOKUP(A10,'4'!$E$4:$I$4,2,FALSE),\"-\")","v":"-"},{"$f":"IFERROR(VLOOKUP(A10,'4'!E4:I4,4,FALSE),\"-\")","v":"-"}]
[null,{"$f":"IFERROR(VLOOKUP(A10,'4'!$E$5:$I$5,2,FALSE),\"-\")","v":"-"},{"$f":"IFERROR(VLOOKUP(A10,'4'!E5:I5,4,FALSE),\"-\")","v":"-"}]
[null,{"$f":"IFERROR(VLOOKUP(A10,'4'!$E$6:$I$6,2,FALSE),\"-\")","v":"-"},{"$f":"IFERROR(VLOOKUP(A10,'4'!E6:I6,4,FALSE),\"-\")","v":"-"}]
[null,{"$f":"IFERROR(VLOOKUP(A10,'4'!$E$7:$I$7,2,FALSE),\"-\")","v":"-"},{"$f":"IFERROR(VLOOKUP(A10,'4'!E7:I7,4,FALSE),\"-\")","v":"-"}]
[null,{"$f":"IFERROR(VLOOKUP(A10,'4'!$E$8:$I$8,2,FALSE),\"-\")","v":"-"},{"$f":"IFERROR(VLOOKUP(A10,'4'!E8:I8,4,FALSE),\"-\")","v":"-"}]
[null,{"$f":"IFERROR(VLOOKUP(A10,'4'!$E$9:$I$9,2,FALSE),\"-\")","v":"-"},{"$f":"IFERROR(VLOOKUP(A10,'4'!E9:I9,4,FALSE),\"-\")","v":"-"}]
[null,{"$f":"IFERROR(VLOOKUP(A10,'4'!$E$10:$I$10,2,FALSE),\"-\")","v":"-"},{"$f":"IFERROR(VLOOKUP(A10,'4'!E10:I10,4,FALSE),\"-\")","v":"-"}]
[null,{"$f":"IFERROR(VLOOKUP(A10,'4'!$E$11:$I$11,2,FALSE),\"-\")","v":"-"},{"$f":"IFERROR(VLOOKUP(A10,'4'!E11:I11,4,FALSE),\"-\")","v":"-"}]
[null,{"$f":"IFERROR(VLOOKUP(A10,'4'!$E$12:$I$12,2,FALSE),\"-\")","v":"-"},{"$f":"IFERROR(VLOOKUP(A10,'4'!E12:I12,4,FALSE),\"-\")","v":"-"}]
[null,{"$f":"IFERROR(VLOOKUP(A10,'4'!$E$13:$I$13,2,FALSE),\"-\")","v":"-"},{"$f":"IFERROR(VLOOKUP(A10,'4'!E13:I13,4,FALSE),\"-\")","v":"-"}]
[null,{"$f":"IFERROR(VLOOKUP(A10,'4'!$E$14:$I$14,2,FALSE),\"-\")","v":"-"},{"$f":"IFERROR(VLOOKUP(A10,'4'!E14:I14,4,FALSE),\"-\")","v":"-"}]
[null,{"$f":"IFERROR(VLOOKUP(A10,'4'!$E$15:$I$15,2,FALSE),\"-\")","v":"-"},{"$f":"IFERROR(VLOOKUP(A10,'4'!E15:I15,4,FALSE),\"-\")","v":"-"}]
[null,{"$f":"IFERROR(VLOOKUP(A10,'4'!$E$16:$I$16,2,FALSE),\"-\")","v":"-"},{"$f":"IFERROR(VLOOKUP(A10,'4'!E16:I16,4,FALSE),\"-\")","v":"-"}]
[null,{"$f":"IFERROR(VLOOKUP(A10,'4'!$E$17:$I$17,2,FALSE),\"-\")","v":"-"},{"$f":"IFERROR(VLOOKUP(A10,'4'!E17:I17,4,FALSE),\"-\")","v":"-"}]
[null,{"$f":"IFERROR(VLOOKUP(A10,'4'!$E$18:$I$18,2,FALSE),\"-\")","v":"-"},{"$f":"IFERROR(VLOOKUP(A10,'4'!E18:I18,4,FALSE),\"-\")","v":"-"}]
[null,{"$f":"IFERROR(VLOOKUP(A10,'4'!$E$19:$I$19,2,FALSE),\"-\")","v":"-"},{"$f":"IFERROR(VLOOKUP(A10,'4'!E19:I19,4,FALSE),\"-\")","v":"-"}]
[null,{"$f":"IFERROR(VLOOKUP(A10,'4'!$E$20:$I$20,2,FALSE),\"-\")","v":"-"},{"$f":"IFERROR(VLOOKUP(A10,'4'!E20:I20,4,FALSE),\"-\")","v":"-"}]
[null,{"$f":"IFERROR(VLOOKUP(A10,'4'!$E$21:$I$21,2,FALSE),\"-\")","v":"-"},{"$f":"IFERROR(VLOOKUP(A10,'4'!E21:I21,4,FALSE),\"-\")","v":"-"}]
[null,{"$f":"IFERROR(VLOOKUP(A10,'4'!$E$22:$I$22,2,FALSE),\"-\")","v":"-"},{"$f":"IFERROR(VLOOKUP(A10,'4'!E22:I22,4,FALSE),\"-\")","v":"-"}]
[null,{"$f":"IFERROR(VLOOKUP(A10,'4'!$E$23:$I$23,2,FALSE),\"-\")","v":"-"},{"$f":"IFERROR(VLOOKUP(A10,'4'!E23:I23,4,FALSE),\"-\")","v":"-"}]
[null,{"$f":"IFERROR(VLOOKUP(A10,'4'!$E$24:$I$24,2,FALSE),\"-\")","v":"-"},{"$f":"IFERROR(VLOOKUP(A10,'4'!E24:I24,4,FALSE),\"-\")","v":"-"}]
[null,{"$f":"IFERROR(VLOOKUP(A10,'4'!$E$25:$I$25,2,FALSE),\"-\")","v":"-"},{"$f":"IFERROR(VLOOKUP(A10,'4'!E25:I25,4,FALSE),\"-\")","v":"-"}]
[null,{"$f":"IFERROR(VLOOKUP(A10,'4'!$E$26:$I$26,2,FALSE),\"-\")","v":"-"},{"$f":"IFERROR(VLOOKUP(A10,'4'!E26:I26,4,FALSE),\"-\")","v":"-"}]
[null,{"$f":"IFERROR(VLOOKUP(A10,'4'!$E$27:$I$27,2,FALSE),\"-\")","v":"-"},{"$f":"IFERROR(VLOOKUP(A10,'4'!E27:I27,4,FALSE),\"-\")","v":"-"}]
[null,{"$f":"IFERROR(VLOOKUP(A10,'4'!$E$28:$I$28,2,FALSE),\"-\")","v":"-"},{"$f":"IFERROR(VLOOKUP(A10,'4'!E28:I28,4,FALSE),\"-\")","v":"-"}]
[null,{"$f":"IFERROR(VLOOKUP(A10,'4'!$E$29:$I$29,2,FALSE),\"-\")","v":"-"},{"$f":"IFERROR(VLOOKUP(A10,'4'!E29:I29,4,FALSE),\"-\")","v":"-"}]
[null,{"$f":"IFERROR(VLOOKUP(A10,'4'!$E$30:$I$30,2,FALSE),\"-\")","v":"-"},{"$f":"IFERROR(VLOOKUP(A10,'4'!E30:I30,4,FALSE),\"-\")","v":"-"}]
[null,{"$f":"IFERROR(VLOOKUP(A10,'4'!$E$31:$I$31,2,FALSE),\"-\")","v":"-"},{"$f":"IFERROR(VLOOKUP(A10,'4'!E31:I31,4,FALSE),\"-\")","v":"-"}]
[null,{"$f":"IFERROR(VLOOKUP(A10,'5'!$E$4:$I$4,2,FALSE),\"-\")","v":"-"},{"$f":"IFERROR(VLOOKUP(A10,'5'!E4:I4,4,FALSE),\"-\")","v":"-"}]
[null,{"$f":"IFERROR(VLOOKUP(A10,'5'!$E$5:$I$5,2,FALSE),\"-\")","v":"-"},{"$f":"IFERROR(VLOOKUP(A10,'5'!E5:I5,4,FALSE),\"-\")","v":"-"}]
[null,{"$f":"IFERROR(VLOOKUP(A10,'5'!$E$6:$I$6,2,FALSE),\"-\")","v":"-"},{"$f":"IFERROR(VLOOKUP(A10,'5'!E6:I6,4,FALSE),\"-\")","v":"-"}]
[null,{"$f":"IFERROR(VLOOKUP(A10,'5'!$E$7:$I$7,2,FALSE),\"-\")","v":"-"},{"$f":"IFERROR(VLOOKUP(A10,'5'!E7:I7,4,FALSE),\"-\")","v":"-"}]
[null,{"$f":"IFERROR(VLOOKUP(A10,'5'!$E$8:$I$8,2,FALSE),\"-\")","v":"-"},{"$f":"IFERROR(VLOOKUP(A10,'5'!E8:I8,4,FALSE),\"-\")","v":"-"}]
[null,{"$f":"IFERROR(VLOOKUP(A10,'5'!$E$9:$I$9,2,FALSE),\"-\")","v":"-"},{"$f":"IFERROR(VLOOKUP(A10,'5'!E9:I9,4,FALSE),\"-\")","v":"-"}]
[null,{"$f":"IFERROR(VLOOKUP(A10,'5'!$E$10:$I$10,2,FALSE),\"-\")","v":"-"},{"$f":"IFERROR(VLOOKUP(A10,'5'!E10:I10,4,FALSE),\"-\")","v":"-"}]
[null,{"$f":"IFERROR(VLOOKUP(A10,'5'!$E$11:$I$11,2,FALSE),\"-\")","v":"-"},{"$f":"IFERROR(VLOOKUP(A10,'5'!E11:I11,4,FALSE),\"-\")","v":"-"}]
[null,{"$f":"IFERROR(VLOOKUP(A10,'5'!$E$12:$I$12,2,FALSE),\"-\")","v":"-"},{"$f":"IFERROR(VLOOKUP(A10,'5'!E12:I12,4,FALSE),\"-\")","v":"-"}]
[null,{"$f":"IFERROR(VLOOKUP(A10,'5'!$E$13:$I$13,2,FALSE),\"-\")","v":"-"},{"$f":"IFERROR(VLOOKUP(A10,'5'!E13:I13,4,FALSE),\"-\")","v":"-"}]
[null,{"$f":"IFERROR(VLOOKUP(A10,'5'!$E$14:$I$14,2,FALSE),\"-\")","v":"-"},{"$f":"IFERROR(VLOOKUP(A10,'5'!E14:I14,4,FALSE),\"-\")","v":"-"}]
[null,{"$f":"IFERROR(VLOOKUP(A10,'5'!$E$15:$I$15,2,FALSE),\"-\")","v":"-"},{"$f":"IFERROR(VLOOKUP(A10,'5'!E15:I15,4,FALSE),\"-\")","v":"-"}]
[null,{"$f":"IFERROR(VLOOKUP(A10,'5'!$E$16:$I$16,2,FALSE),\"-\")","v":"-"},{"$f":"IFERROR(VLOOKUP(A10,'5'!E16:I16,4,FALSE),\"-\")","v":"-"}]
[null,{"$f":"IFERROR(VLOOKUP(A10,'5'!$E$17:$I$17,2,FALSE),\"-\")","v":"-"},{"$f":"IFERROR(VLOOKUP(A10,'5'!E17:I17,4,FALSE),\"-\")","v":"-"}]
[null,{"$f":"IFERROR(VLOOKUP(A10,'5'!$E$18:$I$18,2,FALSE),\"-\")","v":"-"},{"$f":"IFERROR(VLOOKUP(A10,'5'!E18:I18,4,FALSE),\"-\")","v":"-"}]
[null,{"$f":"IFERROR(VLOOKUP(A10,'5'!$E$19:$I$19,2,FALSE),\"-\")","v":"-"},{"$f":"IFERROR(VLOOKUP(A10,'5'!E19:I19,4,FALSE),\"-\")","v":"-"}]
[null,{"$f":"IFERROR(VLOOKUP(A10,'5'!$E$20:$I$20,2,FALSE),\"-\")","v":"-"},{"$f":"IFERROR(VLOOKUP(A10,'5'!E20:I20,4,FALSE),\"-\")","v":"-"}]
[null,{"$f":"IFERROR(VLOOKUP(A10,'5'!$E$21:$I$21,2,FALSE),\"-\")","v":"-"},{"$f":"IFERROR(VLOOKUP(A10,'5'!E21:I21,4,FALSE),\"-\")","v":"-"}]
[null,{"$f":"IFERROR(VLOOKUP(A10,'5'!$E$22:$I$22,2,FALSE),\"-\")","v":"-"},{"$f":"IFERROR(VLOOKUP(A10,'5'!E22:I22,4,FALSE),\"-\")","v":"-"}]
[null,{"$f":"IFERROR(VLOOKUP(A10,'5'!$E$23:$I$23,2,FALSE),\"-\")","v":"-"},{"$f":"IFERROR(VLOOKUP(A10,'5'!E23:I23,4,FALSE),\"-\")","v":"-"}]
[null,{"$f":"IFERROR(VLOOKUP(A10,'5'!$E$24:$I$24,2,FALSE),\"-\")","v":"-"},{"$f":"IFERROR(VLOOKUP(A10,'5'!E24:I24,4,FALSE),\"-\")","v":"-"}]
[null,{"$f":"IFERROR(VLOOKUP(A10,'5'!$E$25:$I$25,2,FALSE),\"-\")","v":"-"},{"$f":"IFERROR(VLOOKUP(A10,'5'!E25:I25,4,FALSE),\"-\")","v":"-"}]
[null,{"$f":"IFERROR(VLOOKUP(A10,'5'!$E$26:$I$26,2,FALSE),\"-\")","v":"-"},{"$f":"IFERROR(VLOOKUP(A10,'5'!E26:I26,4,FALSE),\"-\")","v":"-"}]
[null,{"$f":"IFERROR(VLOOKUP(A10,'5'!$E$27:$I$27,2,FALSE),\"-\")","v":"-"},{"$f":"IFERROR(VLOOKUP(A10,'5'!E27:I27,4,FALSE),\"-\")","v":"-"}]
[null,{"$f":"IFERROR(VLOOKUP(A10,'5'!$E$28:$I$28,2,FALSE),\"-\")","v":"-"},{"$f":"IFERROR(VLOOKUP(A10,'5'!E28:I28,4,FALSE),\"-\")","v":"-"}]
[null,{"$f":"IFERROR(VLOOKUP(A10,'5'!$E$29:$I$29,2,FALSE),\"-\")","v":"-"},{"$f":"IFERROR(VLOOKUP(A10,'5'!E29:I29,4,FALSE),\"-\")","v":"-"}]
[null,{"$f":"IFERROR(VLOOKUP(A10,'5'!$E$30:$I$30,2,FALSE),\"-\")","v":"-"},{"$f":"IFERROR(VLOOKUP(A10,'5'!E30:I30,4,FALSE),\"-\")","v":"-"}]
[null,{"$f":"IFERROR(VLOOKUP(A10,'5'!$E$31:$I$31,2,FALSE),\"-\")","v":"-"},{"$f":"IFERROR(VLOOKUP(A10,'5'!E31:I31,4,FALSE),\"-\")","v":"-"}]
[null,{"$f":"IFERROR(VLOOKUP(A10,'6'!$E$4:$I$4,2,FALSE),\"-\")","v":"-"},{"$f":"IFERROR(VLOOKUP(A10,'6'!E4:I4,4,FALSE),\"-\")","v":"-"}]
[null,{"$f":"IFERROR(VLOOKUP(A10,'6'!$E$5:$I$5,2,FALSE),\"-\")","v":"-"},{"$f":"IFERROR(VLOOKUP(A10,'6'!E5:I5,4,FALSE),\"-\")","v":"-"}]
[null,{"$f":"IFERROR(VLOOKUP(A10,'6'!$E$6:$I$6,2,FALSE),\"-\")","v":"-"},{"$f":"IFERROR(VLOOKUP(A10,'6'!E6:I6,4,FALSE),\"-\")","v":"-"}]
[null,{"$f":"IFERROR(VLOOKUP(A10,'6'!$E$7:$I$7,2,FALSE),\"-\")","v":"-"},{"$f":"IFERROR(VLOOKUP(A10,'6'!E7:I7,4,FALSE),\"-\")","v":"-"}]
[null,{"$f":"IFERROR(VLOOKUP(A10,'6'!$E$8:$I$8,2,FALSE),\"-\")","v":"-"},{"$f":"IFERROR(VLOOKUP(A10,'6'!E8:I8,4,FALSE),\"-\")","v":"-"}]
[null,{"$f":"IFERROR(VLOOKUP(A10,'6'!$E$9:$I$9,2,FALSE),\"-\")","v":"-"},{"$f":"IFERROR(VLOOKUP(A10,'6'!E9:I9,4,FALSE),\"-\")","v":"-"}]
[null,{"$f":"IFERROR(VLOOKUP(A10,'6'!$E$10:$I$10,2,FALSE),\"-\")","v":"-"},{"$f":"IFERROR(VLOOKUP(A10,'6'!E10:I10,4,FALSE),\"-\")","v":"-"}]
[null,{"$f":"IFERROR(VLOOKUP(A10,'6'!$E$11:$I$11,2,FALSE),\"-\")","v":"-"},{"$f":"IFERROR(VLOOKUP(A10,'6'!E11:I11,4,FALSE),\"-\")","v":"-"}]
[null,{"$f":"IFERROR(VLOOKUP(A10,'6'!$E$12:$I$12,2,FALSE),\"-\")","v":"-"},{"$f":"IFERROR(VLOOKUP(A10,'6'!E12:I12,4,FALSE),\"-\")","v":"-"}]
[null,{"$f":"IFERROR(VLOOKUP(A10,'6'!$E$13:$I$13,2,FALSE),\"-\")","v":"-"},{"$f":"IFERROR(VLOOKUP(A10,'6'!E13:I13,4,FALSE),\"-\")","v":"-"}]
[null,{"$f":"IFERROR(VLOOKUP(A10,'6'!$E$14:$I$14,2,FALSE),\"-\")","v":"-"},{"$f":"IFERROR(VLOOKUP(A10,'6'!E14:I14,4,FALSE),\"-\")","v":"-"}]
[null,{"$f":"IFERROR(VLOOKUP(A10,'6'!$E$15:$I$15,2,FALSE),\"-\")","v":"-"},{"$f":"IFERROR(VLOOKUP(A10,'6'!E15:I15,4,FALSE),\"-\")","v":"-"}]
[null,{"$f":"IFERROR(VLOOKUP(A10,'6'!$E$16:$I$16,2,FALSE),\"-\")","v":"-"},{"$f":"IFERROR(VLOOKUP(A10,'6'!E16:I16,4,FALSE),\"-\")","v":"-"}]
[null,{"$f":"IFERROR(VLOOKUP(A10,'6'!$E$17:$I$17,2,FALSE),\"-\")","v":"-"},{"$f":"IFERROR(VLOOKUP(A10,'6'!E17:I17,4,FALSE),\"-\")","v":"-"}]
[null,{"$f":"IFERROR(VLOOKUP(A10,'6'!$E$18:$I$18,2,FALSE),\"-\")","v":"-"},{"$f":"IFERROR(VLOOKUP(A10,'6'!E18:I18,4,FALSE),\"-\")","v":"-"}]
[null,{"$f":"IFERROR(VLOOKUP(A10,'6'!$E$19:$I$19,2,FALSE),\"-\")","v":"-"},{"$f":"IFERROR(VLOOKUP(A10,'6'!E19:I19,4,FALSE),\"-\")","v":"-"}]
[null,{"$f":"IFERROR(VLOOKUP(A10,'6'!$E$20:$I$20,2,FALSE),\"-\")","v":"-"},{"$f":"IFERROR(VLOOKUP(A10,'6'!E20:I20,4,FALSE),\"-\")","v":"-"}]
[null,{"$f":"IFERROR(VLOOKUP(A10,'6'!$E$21:$I$21,2,FALSE),\"-\")","v":"-"},{"$f":"IFERROR(VLOOKUP(A10,'6'!E21:I21,4,FALSE),\"-\")","v":"-"}]
[null,{"$f":"IFERROR(VLOOKUP(A10,'6'!$E$22:$I$22,2,FALSE),\"-\")","v":"-"},{"$f":"IFERROR(VLOOKUP(A10,'6'!E22:I22,4,FALSE),\"-\")","v":"-"}]
[null,{"$f":"IFERROR(VLOOKUP(A10,'6'!$E$23:$I$23,2,FALSE),\"-\")","v":"-"},{"$f":"IFERROR(VLOOKUP(A10,'6'!E23:I23,4,FALSE),\"-\")","v":"-"}]
[null,{"$f":"IFERROR(VLOOKUP(A10,'6'!$E$24:$I$24,2,FALSE),\"-\")","v":"-"},{"$f":"IFERROR(VLOOKUP(A10,'6'!E24:I24,4,FALSE),\"-\")","v":"-"}]
[null,{"$f":"IFERROR(VLOOKUP(A10,'6'!$E$25:$I$25,2,FALSE),\"-\")","v":"-"},{"$f":"IFERROR(VLOOKUP(A10,'6'!E25:I25,4,FALSE),\"-\")","v":"-"}]
[null,{"$f":"IFERROR(VLOOKUP(A10,'6'!$E$26:$I$26,2,FALSE),\"-\")","v":"-"},{"$f":"IFERROR(VLOOKUP(A10,'6'!E26:I26,4,FALSE),\"-\")","v":"-"}]
[null,{"$f":"IFERROR(VLOOKUP(A10,'6'!$E$27:$I$27,2,FALSE),\"-\")","v":"-"},{"$f":"IFERROR(VLOOKUP(A10,'6'!E27:I27,4,FALSE),\"-\")","v":"-"}]
[null,{"$f":"IFERROR(VLOOKUP(A10,'6'!$E$28:$I$28,2,FALSE),\"-\")","v":"-"},{"$f":"IFERROR(VLOOKUP(A10,'6'!E28:I28,4,FALSE),\"-\")","v":"-"}]
[null,{"$f":"IFERROR(VLOOKUP(A10,'6'!$E$29:$I$29,2,FALSE),\"-\")","v":"-"},{"$f":"IFERROR(VLOOKUP(A10,'6'!E29:I29,4,FALSE),\"-\")","v":"-"}]
[null,{"$f":"IFERROR(VLOOKUP(A10,'6'!$E$30:$I$30,2,FALSE),\"-\")","v":"-"},{"$f":"IFERROR(VLOOKUP(A10,'6'!E30:I30,4,FALSE),\"-\")","v":"-"}]
[null,{"$f":"IFERROR(VLOOKUP(A10,'6'!$E$31:$I$31,2,FALSE),\"-\")","v":"-"},{"$f":"IFERROR(VLOOKUP(A10,'6'!E31:I31,4,FALSE),\"-\")","v":"-"}]
[null,{"$f":"IFERROR(VLOOKUP(A10,'7'!$E$4:$I$4,2,FALSE),\"-\")","v":"-"},{"$f":"IFERROR(VLOOKUP(A10,'7'!E4:I4,4,FALSE),\"-\")","v":"-"}]
[null,{"$f":"IFERROR(VLOOKUP(A10,'7'!$E$5:$I$5,2,FALSE),\"-\")","v":"-"},{"$f":"IFERROR(VLOOKUP(A10,'7'!E5:I5,4,FALSE),\"-\")","v":"-"}]
[null,{"$f":"IFERROR(VLOOKUP(A10,'7'!$E$6:$I$6,2,FALSE),\"-\")","v":"-"},{"$f":"IFERROR(VLOOKUP(A10,'7'!E6:I6,4,FALSE),\"-\")","v":"-"}]
[null,{"$f":"IFERROR(VLOOKUP(A10,'7'!$E$7:$I$7,2,FALSE),\"-\")","v":"-"},{"$f":"IFERROR(VLOOKUP(A10,'7'!E7:I7,4,FALSE),\"-\")","v":"-"}]
[null,{"$f":"IFERROR(VLOOKUP(A10,'7'!$E$8:$I$8,2,FALSE),\"-\")","v":"-"},{"$f":"IFERROR(VLOOKUP(A10,'7'!E8:I8,4,FALSE),\"-\")","v":"-"}]
[null,{"$f":"IFERROR(VLOOKUP(A10,'7'!$E$9:$I$9,2,FALSE),\"-\")","v":"-"},{"$f":"IFERROR(VLOOKUP(A10,'7'!E9:I9,4,FALSE),\"-\")","v":"-"}]
[null,{"$f":"IFERROR(VLOOKUP(A10,'7'!$E$10:$I$10,2,FALSE),\"-\")","v":"-"},{"$f":"IFERROR(VLOOKUP(A10,'7'!E10:I10,4,FALSE),\"-\")","v":"-"}]
[null,{"$f":"IFERROR(VLOOKUP(A10,'7'!$E$11:$I$11,2,FALSE),\"-\")","v":"-"},{"$f":"IFERROR(VLOOKUP(A10,'7'!E11:I11,4,FALSE),\"-\")","v":"-"}]
[null,{"$f":"IFERROR(VLOOKUP(A10,'7'!$E$12:$I$12,2,FALSE),\"-\")","v":"-"},{"$f":"IFERROR(VLOOKUP(A10,'7'!E12:I12,4,FALSE),\"-\")","v":"-"}]
[null,{"$f":"IFERROR(VLOOKUP(A10,'7'!$E$13:$I$13,2,FALSE),\"-\")","v":"-"},{"$f":"IFERROR(VLOOKUP(A10,'7'!E13:I13,4,FALSE),\"-\")","v":"-"}]
[null,{"$f":"IFERROR(VLOOKUP(A10,'7'!$E$14:$I$14,2,FALSE),\"-\")","v":"-"},{"$f":"IFERROR(VLOOKUP(A10,'7'!E14:I14,4,FALSE),\"-\")","v":"-"}]
[null,{"$f":"IFERROR(VLOOKUP(A10,'7'!$E$15:$I$15,2,FALSE),\"-\")","v":"-"},{"$f":"IFERROR(VLOOKUP(A10,'7'!E15:I15,4,FALSE),\"-\")","v":"-"}]
[null,{"$f":"IFERROR(VLOOKUP(A10,'7'!$E$16:$I$16,2,FALSE),\"-\")","v":"-"},{"$f":"IFERROR(VLOOKUP(A10,'7'!E16:I16,4,FALSE),\"-\")","v":"-"}]
[null,{"$f":"IFERROR(VLOOKUP(A10,'7'!$E$17:$I$17,2,FALSE),\"-\")","v":"-"},{"$f":"IFERROR(VLOOKUP(A10,'7'!E17:I17,4,FALSE),\"-\")","v":"-"}]
[null,{"$f":"IFERROR(VLOOKUP(A10,'7'!$E$18:$I$18,2,FALSE),\"-\")","v":"-"},{"$f":"IFERROR(VLOOKUP(A10,'7'!E18:I18,4,FALSE),\"-\")","v":"-"}]
[null,{"$f":"IFERROR(VLOOKUP(A10,'7'!$E$19:$I$19,2,FALSE),\"-\")","v":"-"},{"$f":"IFERROR(VLOOKUP(A10,'7'!E19:I19,4,FALSE),\"-\")","v":"-"}]
[null,{"$f":"IFERROR(VLOOKUP(A10,'7'!$E$20:$I$20,2,FALSE),\"-\")","v":"-"},{"$f":"IFERROR(VLOOKUP(A10,'7'!E20:I20,4,FALSE),\"-\")","v":"-"}]
[null,{"$f":"IFERROR(VLOOKUP(A10,'7'!$E$21:$I$21,2,FALSE),\"-\")","v":"-"},{"$f":"IFERROR(VLOOKUP(A10,'7'!E21:I21,4,FALSE),\"-\")","v":"-"}]
[null,{"$f":"IFERROR(VLOOKUP(A10,'7'!$E$22:$I$22,2,FALSE),\"-\")","v":"-"},{"$f":"IFERROR(VLOOKUP(A10,'7'!E22:I22,4,FALSE),\"-\")","v":"-"}]
[null,{"$f":"IFERROR(VLOOKUP(A10,'7'!$E$23:$I$23,2,FALSE),\"-\")","v":"-"},{"$f":"IFERROR(VLOOKUP(A10,'7'!E23:I23,4,FALSE),\"-\")","v":"-"}]
[null,{"$f":"IFERROR(VLOOKUP(A10,'7'!$E$24:$I$24,2,FALSE),\"-\")","v":"-"},{"$f":"IFERROR(VLOOKUP(A10,'7'!E24:I24,4,FALSE),\"-\")","v":"-"}]
[null,{"$f":"IFERROR(VLOOKUP(A10,'7'!$E$25:$I$25,2,FALSE),\"-\")","v":"-"},{"$f":"IFERROR(VLOOKUP(A10,'7'!E25:I25,4,FALSE),\"-\")","v":"-"}]
[null,{"$f":"IFERROR(VLOOKUP(A10,'7'!$E$26:$I$26,2,FALSE),\"-\")","v":"-"},{"$f":"IFERROR(VLOOKUP(A10,'7'!E26:I26,4,FALSE),\"-\")","v":"-"}]
[null,{"$f":"IFERROR(VLOOKUP(A10,'7'!$E$27:$I$27,2,FALSE),\"-\")","v":"-"},{"$f":"IFERROR(VLOOKUP(A10,'7'!E27:I27,4,FALSE),\"-\")","v":"-"}]
[null,{"$f":"IFERROR(VLOOKUP(A10,'7'!$E$28:$I$28,2,FALSE),\"-\")","v":"-"},{"$f":"IFERROR(VLOOKUP(A10,'7'!E28:I28,4,FALSE),\"-\")","v":"-"}]
[null,{"$f":"IFERROR(VLOOKUP(A10,'7'!$E$29:$I$29,2,FALSE),\"-\")","v":"-"},{"$f":"IFERROR(VLOOKUP(A10,'7'!E29:I29,4,FALSE),\"-\")","v":"-"}]
[null,{"$f":"IFERROR(VLOOKUP(A10,'7'!$E$30:$I$30,2,FALSE),\"-\")","v":"-"},{"$f":"IFERROR(VLOOKUP(A10,'7'!E30:I30,4,FALSE),\"-\")","v":"-"}]
[null,{"$f":"IFERROR(VLOOKUP(A10,'7'!$E$31:$I$31,2,FALSE),\"-\")","v":"-"},{"$f":"IFERROR(VLOOKUP(A10,'7'!E31:I31,4,FALSE),\"-\")","v":"-"}]
[null,{"$f":"IFERROR(VLOOKUP(A10,'8'!$E$4:$I$4,2,FALSE),\"-\")","v":"-"},{"$f":"IFERROR(VLOOKUP(A10,'8'!E4:I4,4,FALSE),\"-\")","v":"-"}]
[null,{"$f":"IFERROR(VLOOKUP(A10,'8'!$E$5:$I$5,2,FALSE),\"-\")","v":"-"},{"$f":"IFERROR(VLOOKUP(A10,'8'!E5:I5,4,FALSE),\"-\")","v":"-"}]
[null,{"$f":"IFERROR(VLOOKUP(A10,'8'!$E$6:$I$6,2,FALSE),\"-\")","v":"-"},{"$f":"IFERROR(VLOOKUP(A10,'8'!E6:I6,4,FALSE),\"-\")","v":"-"}]
[null,{"$f":"IFERROR(VLOOKUP(A10,'8'!$E$7:$I$7,2,FALSE),\"-\")","v":"-"},{"$f":"IFERROR(VLOOKUP(A10,'8'!E7:I7,4,FALSE),\"-\")","v":"-"}]
[null,{"$f":"IFERROR(VLOOKUP(A10,'8'!$E$8:$I$8,2,FALSE),\"-\")","v":"-"},{"$f":"IFERROR(VLOOKUP(A10,'8'!E8:I8,4,FALSE),\"-\")","v":"-"}]
[null,{"$f":"IFERROR(VLOOKUP(A10,'8'!$E$9:$I$9,2,FALSE),\"-\")","v":"-"},{"$f":"IFERROR(VLOOKUP(A10,'8'!E9:I9,4,FALSE),\"-\")","v":"-"}]
[null,{"$f":"IFERROR(VLOOKUP(A10,'8'!$E$10:$I$10,2,FALSE),\"-\")","v":"-"},{"$f":"IFERROR(VLOOKUP(A10,'8'!E10:I10,4,FALSE),\"-\")","v":"-"}]
[null,{"$f":"IFERROR(VLOOKUP(A10,'8'!$E$11:$I$11,2,FALSE),\"-\")","v":"-"},{"$f":"IFERROR(VLOOKUP(A10,'8'!E11:I11,4,FALSE),\"-\")","v":"-"}]
[null,{"$f":"IFERROR(VLOOKUP(A10,'8'!$E$12:$I$12,2,FALSE),\"-\")","v":"-"},{"$f":"IFERROR(VLOOKUP(A10,'8'!E12:I12,4,FALSE),\"-\")","v":"-"}]
[null,{"$f":"IFERROR(VLOOKUP(A10,'8'!$E$13:$I$13,2,FALSE),\"-\")","v":"-"},{"$f":"IFERROR(VLOOKUP(A10,'8'!E13:I13,4,FALSE),\"-\")","v":"-"}]
[null,{"$f":"IFERROR(VLOOKUP(A10,'8'!$E$14:$I$14,2,FALSE),\"-\")","v":"-"},{"$f":"IFERROR(VLOOKUP(A10,'8'!E14:I14,4,FALSE),\"-\")","v":"-"}]
[null,{"$f":"IFERROR(VLOOKUP(A10,'8'!$E$15:$I$15,2,FALSE),\"-\")","v":"-"},{"$f":"IFERROR(VLOOKUP(A10,'8'!E15:I15,4,FALSE),\"-\")","v":"-"}]
[null,{"$f":"IFERROR(VLOOKUP(A10,'8'!$E$16:$I$16,2,FALSE),\"-\")","v":"-"},{"$f":"IFERROR(VLOOKUP(A10,'8'!E16:I16,4,FALSE),\"-\")","v":"-"}]
[null,{"$f":"IFERROR(VLOOKUP(A10,'8'!$E$17:$I$17,2,FALSE),\"-\")","v":"-"},{"$f":"IFERROR(VLOOKUP(A10,'8'!E17:I17,4,FALSE),\"-\")","v":"-"}]
[null,{"$f":"IFERROR(VLOOKUP(A10,'8'!$E$18:$I$18,2,FALSE),\"-\")","v":"-"},{"$f":"IFERROR(VLOOKUP(A10,'8'!E18:I18,4,FALSE),\"-\")","v":"-"}]
[null,{"$f":"IFERROR(VLOOKUP(A10,'8'!$E$19:$I$19,2,FALSE),\"-\")","v":"-"},{"$f":"IFERROR(VLOOKUP(A10,'8'!E19:I19,4,FALSE),\"-\")","v":"-"}]
[null,{"$f":"IFERROR(VLOOKUP(A10,'8'!$E$20:$I$20,2,FALSE),\"-\")","v":"-"},{"$f":"IFERROR(VLOOKUP(A10,'8'!E20:I20,4,FALSE),\"-\")","v":"-"}]
[null,{"$f":"IFERROR(VLOOKUP(A10,'8'!$E$21:$I$21,2,FALSE),\"-\")","v":"-"},{"$f":"IFERROR(VLOOKUP(A10,'8'!E21:I21,4,FALSE),\"-\")","v":"-"}]
[null,{"$f":"IFERROR(VLOOKUP(A10,'8'!$E$22:$I$22,2,FALSE),\"-\")","v":"-"},{"$f":"IFERROR(VLOOKUP(A10,'8'!E22:I22,4,FALSE),\"-\")","v":"-"}]
[null,{"$f":"IFERROR(VLOOKUP(A10,'8'!$E$23:$I$23,2,FALSE),\"-\")","v":"-"},{"$f":"IFERROR(VLOOKUP(A10,'8'!E23:I23,4,FALSE),\"-\")","v":"-"}]
[null,{"$f":"IFERROR(VLOOKUP(A10,'8'!$E$24:$I$24,2,FALSE),\"-\")","v":"-"},{"$f":"IFERROR(VLOOKUP(A10,'8'!E24:I24,4,FALSE),\"-\")","v":"-"}]
[null,{"$f":"IFERROR(VLOOKUP(A10,'8'!$E$25:$I$25,2,FALSE),\"-\")","v":"-"},{"$f":"IFERROR(VLOOKUP(A10,'8'!E25:I25,4,FALSE),\"-\")","v":"-"}]
[null,{"$f":"IFERROR(VLOOKUP(A10,'8'!$E$26:$I$26,2,FALSE),\"-\")","v":"-"},{"$f":"IFERROR(VLOOKUP(A10,'8'!E26:I26,4,FALSE),\"-\")","v":"-"}]
[null,{"$f":"IFERROR(VLOOKUP(A10,'8'!$E$27:$I$27,2,FALSE),\"-\")","v":"-"},{"$f":"IFERROR(VLOOKUP(A10,'8'!E27:I27,4,FALSE),\"-\")","v":"-"}]
[null,{"$f":"IFERROR(VLOOKUP(A10,'8'!$E$28:$I$28,2,FALSE),\"-\")","v":"-"},{"$f":"IFERROR(VLOOKUP(A10,'8'!E28:I28,4,FALSE),\"-\")","v":"-"}]
[null,{"$f":"IFERROR(VLOOKUP(A10,'8'!$E$29:$I$29,2,FALSE),\"-\")","v":"-"},{"$f":"IFERROR(VLOOKUP(A10,'8'!E29:I29,4,FALSE),\"-\")","v":"-"}]
[null,{"$f":"IFERROR(VLOOKUP(A10,'8'!$E$30:$I$30,2,FALSE),\"-\")","v":"-"},{"$f":"IFERROR(VLOOKUP(A10,'8'!E30:I30,4,FALSE),\"-\")","v":"-"}]
[null,{"$f":"IFERROR(VLOOKUP(A10,'8'!$E$31:$I$31,2,FALSE),\"-\")","v":"-"},{"$f":"IFERROR(VLOOKUP(A10,'8'!E31:I31,4,FALSE),\"-\")","v":"-"}]
[null,{"$f":"IFERROR(VLOOKUP(A10,'9'!$E$4:$I$4,2,FALSE),\"-\")","v":"-"},{"$f":"IFERROR(VLOOKUP(A10,'9'!E4:I4,4,FALSE),\"-\")","v":"-"}]
[null,{"$f":"IFERROR(VLOOKUP(A10,'9'!$E$5:$I$5,2,FALSE),\"-\")","v":"-"},{"$f":"IFERROR(VLOOKUP(A10,'9'!E5:I5,4,FALSE),\"-\")","v":"-"}]
[null,{"$f":"IFERROR(VLOOKUP(A10,'9'!$E$6:$I$6,2,FALSE),\"-\")","v":"-"},{"$f":"IFERROR(VLOOKUP(A10,'9'!E6:I6,4,FALSE),\"-\")","v":"-"}]
[null,{"$f":"IFERROR(VLOOKUP(A10,'9'!$E$7:$I$7,2,FALSE),\"-\")","v":"-"},{"$f":"IFERROR(VLOOKUP(A10,'9'!E7:I7,4,FALSE),\"-\")","v":"-"}]
[null,{"$f":"IFERROR(VLOOKUP(A10,'9'!$E$8:$I$8,2,FALSE),\"-\")","v":"-"},{"$f":"IFERROR(VLOOKUP(A10,'9'!E8:I8,4,FALSE),\"-\")","v":"-"}]
[null,{"$f":"IFERROR(VLOOKUP(A10,'9'!$E$9:$I$9,2,FALSE),\"-\")","v":"-"},{"$f":"IFERROR(VLOOKUP(A10,'9'!E9:I9,4,FALSE),\"-\")","v":"-"}]
[null,{"$f":"IFERROR(VLOOKUP(A10,'9'!$E$10:$I$10,2,FALSE),\"-\")","v":"-"},{"$f":"IFERROR(VLOOKUP(A10,'9'!E10:I10,4,FALSE),\"-\")","v":"-"}]
[null,{"$f":"IFERROR(VLOOKUP(A10,'9'!$E$11:$I$11,2,FALSE),\"-\")","v":"-"},{"$f":"IFERROR(VLOOKUP(A10,'9'!E11:I11,4,FALSE),\"-\")","v":"-"}]
[null,{"$f":"IFERROR(VLOOKUP(A10,'9'!$E$12:$I$12,2,FALSE),\"-\")","v":"-"},{"$f":"IFERROR(VLOOKUP(A10,'9'!E12:I12,4,FALSE),\"-\")","v":"-"}]
[null,{"$f":"IFERROR(VLOOKUP(A10,'9'!$E$13:$I$13,2,FALSE),\"-\")","v":"-"},{"$f":"IFERROR(VLOOKUP(A10,'9'!E13:I13,4,FALSE),\"-\")","v":"-"}]
[null,{"$f":"IFERROR(VLOOKUP(A10,'9'!$E$14:$I$14,2,FALSE),\"-\")","v":"-"},{"$f":"IFERROR(VLOOKUP(A10,'9'!E14:I14,4,FALSE),\"-\")","v":"-"}]
[null,{"$f":"IFERROR(VLOOKUP(A10,'9'!$E$15:$I$15,2,FALSE),\"-\")","v":"-"},{"$f":"IFERROR(VLOOKUP(A10,'9'!E15:I15,4,FALSE),\"-\")","v":"-"}]
[null,{"$f":"IFERROR(VLOOKUP(A10,'9'!$E$16:$I$16,2,FALSE),\"-\")","v":"-"},{"$f":"IFERROR(VLOOKUP(A10,'9'!E16:I16,4,FALSE),\"-\")","v":"-"}]
[null,{"$f":"IFERROR(VLOOKUP(A10,'9'!$E$17:$I$17,2,FALSE),\"-\")","v":"-"},{"$f":"IFERROR(VLOOKUP(A10,'9'!E17:I17,4,FALSE),\"-\")","v":"-"}]
[null,{"$f":"IFERROR(VLOOKUP(A10,'9'!$E$18:$I$18,2,FALSE),\"-\")","v":"-"},{"$f":"IFERROR(VLOOKUP(A10,'9'!E18:I18,4,FALSE),\"-\")","v":"-"}]
[null,{"$f":"IFERROR(VLOOKUP(A10,'9'!$E$19:$I$19,2,FALSE),\"-\")","v":"-"},{"$f":"IFERROR(VLOOKUP(A10,'9'!E19:I19,4,FALSE),\"-\")","v":"-"}]
[null,{"$f":"IFERROR(VLOOKUP(A10,'9'!$E$20:$I$20,2,FALSE),\"-\")","v":"-"},{"$f":"IFERROR(VLOOKUP(A10,'9'!E20:I20,4,FALSE),\"-\")","v":"-"}]
[null,{"$f":"IFERROR(VLOOKUP(A10,'9'!$E$21:$I$21,2,FALSE),\"-\")","v":"-"},{"$f":"IFERROR(VLOOKUP(A10,'9'!E21:I21,4,FALSE),\"-\")","v":"-"}]
[null,{"$f":"IFERROR(VLOOKUP(A10,'9'!$E$22:$I$22,2,FALSE),\"-\")","v":"-"},{"$f":"IFERROR(VLOOKUP(A10,'9'!E22:I22,4,FALSE),\"-\")","v":"-"}]
[null,{"$f":"IFERROR(VLOOKUP(A10,'9'!$E$23:$I$23,2,FALSE),\"-\")","v":"-"},{"$f":"IFERROR(VLOOKUP(A10,'9'!E23:I23,4,FALSE),\"-\")","v":"-"}]
[null,{"$f":"IFERROR(VLOOKUP(A10,'9'!$E$24:$I$24,2,FALSE),\"-\")","v":"-"},{"$f":"IFERROR(VLOOKUP(A10,'9'!E24:I24,4,FALSE),\"-\")","v":"-"}]
[null,{"$f":"IFERROR(VLOOKUP(A10,'9'!$E$25:$I$25,2,FALSE),\"-\")","v":"-"},{"$f":"IFERROR(VLOOKUP(A10,'9'!E25:I25,4,FALSE),\"-\")","v":"-"}]
[null,{"$f":"IFERROR(VLOOKUP(A10,'9'!$E$26:$I$26,2,FALSE),\"-\")","v":"-"},{"$f":"IFERROR(VLOOKUP(A10,'9'!E26:I26,4,FALSE),\"-\")","v":"-"}]
[null,{"$f":"IFERROR(VLOOKUP(A10,'9'!$E$27:$I$27,2,FALSE),\"-\")","v":"-"},{"$f":"IFERROR(VLOOKUP(A10,'9'!E27:I27,4,FALSE),\"-\")","v":"-"}]
[null,{"$f":"IFERROR(VLOOKUP(A10,'9'!$E$28:$I$28,2,FALSE),\"-\")","v":"-"},{"$f":"IFERROR(VLOOKUP(A10,'9'!E28:I28,4,FALSE),\"-\")","v":"-"}]
[null,{"$f":"IFERROR(VLOOKUP(A10,'9'!$E$29:$I$29,2,FALSE),\"-\")","v":"-"},{"$f":"IFERROR(VLOOKUP(A10,'9'!E29:I29,4,FALSE),\"-\")","v":"-"}]
[null,{"$f":"IFERROR(VLOOKUP(A10,'9'!$E$30:$I$30,2,FALSE),\"-\")","v":"-"},{"$f":"IFERROR(VLOOKUP(A10,'9'!E30:I30,4,FALSE),\"-\")","v":"-"}]
[null,{"$f":"IFERROR(VLOOKUP(A10,'9'!$E$31:$I$31,2,FALSE),\"-\")","v":"-"},{"$f":"IFERROR(VLOOKUP(A10,'9'!E31:I31,4,FALSE),\"-\")","v":"-"}]
[null,{"$f":"IFERROR(VLOOKUP(A10,'10'!$E$4:$I$4,2,FALSE),\"-\")","v":"-"},{"$f":"IFERROR(VLOOKUP(A10,'10'!E4:I4,4,FALSE),\"-\")","v":"-"}]
[null,{"$f":"IFERROR(VLOOKUP(A10,'10'!$E$5:$I$5,2,FALSE),\"-\")","v":"-"},{"$f":"IFERROR(VLOOKUP(A10,'10'!E5:I5,4,FALSE),\"-\")","v":"-"}]
[null,{"$f":"IFERROR(VLOOKUP(A10,'10'!$E$6:$I$6,2,FALSE),\"-\")","v":"-"},{"$f":"IFERROR(VLOOKUP(A10,'10'!E6:I6,4,FALSE),\"-\")","v":"-"}]
[null,{"$f":"IFERROR(VLOOKUP(A10,'10'!$E$7:$I$7,2,FALSE),\"-\")","v":"-"},{"$f":"IFERROR(VLOOKUP(A10,'10'!E7:I7,4,FALSE),\"-\")","v":"-"}]
[null,{"$f":"IFERROR(VLOOKUP(A10,'10'!$E$8:$I$8,2,FALSE),\"-\")","v":"-"},{"$f":"IFERROR(VLOOKUP(A10,'10'!E8:I8,4,FALSE),\"-\")","v":"-"}]
[null,{"$f":"IFERROR(VLOOKUP(A10,'10'!$E$9:$I$9,2,FALSE),\"-\")","v":"-"},{"$f":"IFERROR(VLOOKUP(A10,'10'!E9:I9,4,FALSE),\"-\")","v":"-"}]
[null,{"$f":"IFERROR(VLOOKUP(A10,'10'!$E$10:$I$10,2,FALSE),\"-\")","v":"-"},{"$f":"IFERROR(VLOOKUP(A10,'10'!E10:I10,4,FALSE),\"-\")","v":"-"}]
[null,{"$f":"IFERROR(VLOOKUP(A10,'10'!$E$11:$I$11,2,FALSE),\"-\")","v":"-"},{"$f":"IFERROR(VLOOKUP(A10,'10'!E11:I11,4,FALSE),\"-\")","v":"-"}]
[null,{"$f":"IFERROR(VLOOKUP(A10,'10'!$E$12:$I$12,2,FALSE),\"-\")","v":"-"},{"$f":"IFERROR(VLOOKUP(A10,'10'!E12:I12,4,FALSE),\"-\")","v":"-"}]
[null,{"$f":"IFERROR(VLOOKUP(A10,'10'!$E$13:$I$13,2,FALSE),\"-\")","v":"-"},{"$f":"IFERROR(VLOOKUP(A10,'10'!E13:I13,4,FALSE),\"-\")","v":"-"}]
[null,{"$f":"IFERROR(VLOOKUP(A10,'10'!$E$14:$I$14,2,FALSE),\"-\")","v":"-"},{"$f":"IFERROR(VLOOKUP(A10,'10'!E14:I14,4,FALSE),\"-\")","v":"-"}]
[null,{"$f":"IFERROR(VLOOKUP(A10,'10'!$E$15:$I$15,2,FALSE),\"-\")","v":"-"},{"$f":"IFERROR(VLOOKUP(A10,'10'!E15:I15,4,FALSE),\"-\")","v":"-"}]
[null,{"$f":"IFERROR(VLOOKUP(A10,'10'!$E$16:$I$16,2,FALSE),\"-\")","v":"-"},{"$f":"IFERROR(VLOOKUP(A10,'10'!E16:I16,4,FALSE),\"-\")","v":"-"}]
[null,{"$f":"IFERROR(VLOOKUP(A10,'10'!$E$17:$I$17,2,FALSE),\"-\")","v":"-"},{"$f":"IFERROR(VLOOKUP(A10,'10'!E17:I17,4,FALSE),\"-\")","v":"-"}]
[null,{"$f":"IFERROR(VLOOKUP(A10,'10'!$E$18:$I$18,2,FALSE),\"-\")","v":"-"},{"$f":"IFERROR(VLOOKUP(A10,'10'!E18:I18,4,FALSE),\"-\")","v":"-"}]
[null,{"$f":"IFERROR(VLOOKUP(A10,'10'!E19:$I$19,2,FALSE),\"-\")","v":"-"},{"$f":"IFERROR(VLOOKUP(A10,'10'!E19:I19,4,FALSE),\"-\")","v":"-"}]
[null,{"$f":"IFERROR(VLOOKUP(A10,'10'!$E$20:$I$20,2,FALSE),\"-\")","v":"-"},{"$f":"IFERROR(VLOOKUP(A10,'10'!E20:I20,4,FALSE),\"-\")","v":"-"}]
[null,{"$f":"IFERROR(VLOOKUP(A10,'10'!$E$21:$I$21,2,FALSE),\"-\")","v":"-"},{"$f":"IFERROR(VLOOKUP(A10,'10'!E21:I21,4,FALSE),\"-\")","v":"-"}]
[null,{"$f":"IFERROR(VLOOKUP(A10,'10'!$E$22:$I$22,2,FALSE),\"-\")","v":"-"},{"$f":"IFERROR(VLOOKUP(A10,'10'!E22:I22,4,FALSE),\"-\")","v":"-"}]
[null,{"$f":"IFERROR(VLOOKUP(A10,'10'!$E$23:$I$23,2,FALSE),\"-\")","v":"-"},{"$f":"IFERROR(VLOOKUP(A10,'10'!E23:I23,4,FALSE),\"-\")","v":"-"}]
[null,{"$f":"IFERROR(VLOOKUP(A10,'10'!$E$24:$I$24,2,FALSE),\"-\")","v":"-"},{"$f":"IFERROR(VLOOKUP(A10,'10'!E24:I24,4,FALSE),\"-\")","v":"-"}]
[null,{"$f":"IFERROR(VLOOKUP(A10,'10'!$E$25:$I$25,2,FALSE),\"-\")","v":"-"},{"$f":"IFERROR(VLOOKUP(A10,'10'!E25:I25,4,FALSE),\"-\")","v":"-"}]
[null,{"$f":"IFERROR(VLOOKUP(A10,'10'!$E$26:$I$26,2,FALSE),\"-\")","v":"-"},{"$f":"IFERROR(VLOOKUP(A10,'10'!E26:I26,4,FALSE),\"-\")","v":"-"}]
[null,{"$f":"IFERROR(VLOOKUP(A10,'10'!$E$27:$I$27,2,FALSE),\"-\")","v":"-"},{"$f":"IFERROR(VLOOKUP(A10,'10'!E27:I27,4,FALSE),\"-\")","v":"-"}]
[null,{"$f":"IFERROR(VLOOKUP(A10,'10'!$E$28:I28,2,FALSE),\"-\")","v":"-"},{"$f":"IFERROR(VLOOKUP(A10,'10'!E28:I28,4,FALSE),\"-\")","v":"-"}]
[null,{"$f":"IFERROR(VLOOKUP(A10,'10'!$E$29:$I$29,2,FALSE),\"-\")","v":"-"},{"$f":"IFERROR(VLOOKUP(A10,'10'!E29:I29,4,FALSE),\"-\")","v":"-"}]
[null,{"$f":"IFERROR(VLOOKUP(A10,'10'!$E$30:$I$30,2,FALSE),\"-\")","v":"-"},{"$f":"IFERROR(VLOOKUP(A10,'10'!E30:I30,4,FALSE),\"-\")","v":"-"}]
[null,{"$f":"IFERROR(VLOOKUP(A10,'10'!$E$31:$I$31,2,FALSE),\"-\")","v":"-"},{"$f":"IFERROR(VLOOKUP(A10,'10'!E31:I31,4,FALSE),\"-\")","v":"-"}]
[null,{"$f":"IFERROR(VLOOKUP(A10,'11'!$E$4:$I$4,2,FALSE),\"-\")","v":"-"},{"$f":"IFERROR(VLOOKUP(A10,'11'!E4:I4,4,FALSE),\"-\")","v":"-"}]
[null,{"$f":"IFERROR(VLOOKUP(A10,'11'!$E$5:$I$5,2,FALSE),\"-\")","v":"-"},{"$f":"IFERROR(VLOOKUP(A10,'11'!E5:I5,4,FALSE),\"-\")","v":"-"}]
[null,{"$f":"IFERROR(VLOOKUP(A10,'11'!$E$6:$I$6,2,FALSE),\"-\")","v":"-"},{"$f":"IFERROR(VLOOKUP(A10,'11'!E6:I6,4,FALSE),\"-\")","v":"-"}]
[null,{"$f":"IFERROR(VLOOKUP(A10,'11'!$E$7:$I$7,2,FALSE),\"-\")","v":"-"},{"$f":"IFERROR(VLOOKUP(A10,'11'!E7:I7,4,FALSE),\"-\")","v":"-"}]
[null,{"$f":"IFERROR(VLOOKUP(A10,'11'!$E$8:$I$8,2,FALSE),\"-\")","v":"-"},{"$f":"IFERROR(VLOOKUP(A10,'11'!E8:I8,4,FALSE),\"-\")","v":"-"}]
[null,{"$f":"IFERROR(VLOOKUP(A10,'11'!$E$9:$I$9,2,FALSE),\"-\")","v":"-"},{"$f":"IFERROR(VLOOKUP(A10,'11'!E9:I9,4,FALSE),\"-\")","v":"-"}]
[null,{"$f":"IFERROR(VLOOKUP(A10,'11'!$E$10:$I$10,2,FALSE),\"-\")","v":"-"},{"$f":"IFERROR(VLOOKUP(A10,'11'!E10:I10,4,FALSE),\"-\")","v":"-"}]
[null,{"$f":"IFERROR(VLOOKUP(A10,'11'!$E$11:$I$11,2,FALSE),\"-\")","v":"-"},{"$f":"IFERROR(VLOOKUP(A10,'11'!E11:I11,4,FALSE),\"-\")","v":"-"}]
[null,{"$f":"IFERROR(VLOOKUP(A10,'11'!$E$12:$I$12,2,FALSE),\"-\")","v":"-"},{"$f":"IFERROR(VLOOKUP(A10,'11'!E12:I12,4,FALSE),\"-\")","v":"-"}]
[null,{"$f":"IFERROR(VLOOKUP(A10,'11'!$E$13:$I$13,2,FALSE),\"-\")","v":"-"},{"$f":"IFERROR(VLOOKUP(A10,'11'!E13:I13,4,FALSE),\"-\")","v":"-"}]
[null,{"$f":"IFERROR(VLOOKUP(A10,'11'!$E$14:$I$14,2,FALSE),\"-\")","v":"-"},{"$f":"IFERROR(VLOOKUP(A10,'11'!E14:I14,4,FALSE),\"-\")","v":"-"}]
[null,{"$f":"IFERROR(VLOOKUP(A10,'11'!$E$15:$I$15,2,FALSE),\"-\")","v":"-"},{"$f":"IFERROR(VLOOKUP(A10,'11'!E15:I15,4,FALSE),\"-\")","v":"-"}]
[null,{"$f":"IFERROR(VLOOKUP(A10,'11'!$E$16:$I$16,2,FALSE),\"-\")","v":"-"},{"$f":"IFERROR(VLOOKUP(A10,'11'!E16:I16,4,FALSE),\"-\")","v":"-"}]
[null,{"$f":"IFERROR(VLOOKUP(A10,'11'!$E$17:$I$17,2,FALSE),\"-\")","v":"-"},{"$f":"IFERROR(VLOOKUP(A10,'11'!E17:I17,4,FALSE),\"-\")","v":"-"}]
[null,{"$f":"IFERROR(VLOOKUP(A10,'11'!$E$18:$I$18,2,FALSE),\"-\")","v":"-"},{"$f":"IFERROR(VLOOKUP(A10,'11'!E18:I18,4,FALSE),\"-\")","v":"-"}]
[null,{"$f":"IFERROR(VLOOKUP(A10,'11'!$E$19:$I$19,2,FALSE),\"-\")","v":"-"},{"$f":"IFERROR(VLOOKUP(A10,'11'!E19:I19,4,FALSE),\"-\")","v":"-"}]
[null,{"$f":"IFERROR(VLOOKUP(A10,'11'!$E$20:$I$20,2,FALSE),\"-\")","v":"-"},{"$f":"IFERROR(VLOOKUP(A10,'11'!E20:I20,4,FALSE),\"-\")","v":"-"}]
[null,{"$f":"IFERROR(VLOOKUP(A10,'11'!$E$21:$I$21,2,FALSE),\"-\")","v":"-"},{"$f":"IFERROR(VLOOKUP(A10,'11'!E21:I21,4,FALSE),\"-\")","v":"-"}]
[null,{"$f":"IFERROR(VLOOKUP(A10,'11'!$E$22:$I$22,2,FALSE),\"-\")","v":"-"},{"$f":"IFERROR(VLOOKUP(A10,'11'!E22:I22,4,FALSE),\"-\")","v":"-"}]
[null,{"$f":"IFERROR(VLOOKUP(A10,'11'!$E$23:$I$23,2,FALSE),\"-\")","v":"-"},{"$f":"IFERROR(VLOOKUP(A10,'11'!E23:I23,4,FALSE),\"-\")","v":"-"}]
[null,{"$f":"IFERROR(VLOOKUP(A10,'11'!$E$24:$I$24,2,FALSE),\"-\")","v":"-"},{"$f":"IFERROR(VLOOKUP(A10,'11'!E24:I24,4,FALSE),\"-\")","v":"-"}]
[null,{"$f":"IFERROR(VLOOKUP(A10,'11'!$E$25:$I$25,2,FALSE),\"-\")","v":"-"},{"$f":"IFERROR(VLOOKUP(A10,'11'!E25:I25,4,FALSE),\"-\")","v":"-"}]
[null,{"$f":"IFERROR(VLOOKUP(A10,'11'!$E$26:$I$26,2,FALSE),\"-\")","v":"-"},{"$f":"IFERROR(VLOOKUP(A10,'11'!E26:I26,4,FALSE),\"-\")","v":"-"}]
[null,{"$f":"IFERROR(VLOOKUP(A10,'11'!$E$27:$I$27,2,FALSE),\"-\")","v":"-"},{"$f":"IFERROR(VLOOKUP(A10,'11'!E27:I27,4,FALSE),\"-\")","v":"-"}]
[null,{"$f":"IFERROR(VLOOKUP(A10,'11'!$E$28:$I$28,2,FALSE),\"-\")","v":"-"},{"$f":"IFERROR(VLOOKUP(A10,'11'!E28:I28,4,FALSE),\"-\")","v":"-"}]
[null,{"$f":"IFERROR(VLOOKUP(A10,'11'!$E$29:$I$29,2,FALSE),\"-\")","v":"-"},{"$f":"IFERROR(VLOOKUP(A10,'11'!E29:I29,4,FALSE),\"-\")","v":"-"}]
[null,{"$f":"IFERROR(VLOOKUP(A10,'11'!$E$30:$I$30,2,FALSE),\"-\")","v":"-"},{"$f":"IFERROR(VLOOKUP(A10,'11'!E30:I30,4,FALSE),\"-\")","v":"-"}]
[null,{"$f":"IFERROR(VLOOKUP(A10,'11'!$E$31:$I$31,2,FALSE),\"-\")","v":"-"},{"$f":"IFERROR(VLOOKUP(A10,'11'!E31:I31,4,FALSE),\"-\")","v":"-"}]
[null,{"$f":"IFERROR(VLOOKUP(A10,'12'!$E$4:$I$4,2,FALSE),\"-\")","v":"-"},{"$f":"IFERROR(VLOOKUP(A10,'12'!E4:I4,4,FALSE),\"-\")","v":"-"}]
[null,{"$f":"IFERROR(VLOOKUP(A10,'12'!$E$5:$I$5,2,FALSE),\"-\")","v":"-"},{"$f":"IFERROR(VLOOKUP(A10,'12'!E5:I5,4,FALSE),\"-\")","v":"-"}]
[null,{"$f":"IFERROR(VLOOKUP(A10,'12'!$E$6:$I$6,2,FALSE),\"-\")","v":"-"},{"$f":"IFERROR(VLOOKUP(A10,'12'!E6:I6,4,FALSE),\"-\")","v":"-"}]
[null,{"$f":"IFERROR(VLOOKUP(A10,'12'!$E$7:$I$7,2,FALSE),\"-\")","v":"-"},{"$f":"IFERROR(VLOOKUP(A10,'12'!E7:I7,4,FALSE),\"-\")","v":"-"}]
[null,{"$f":"IFERROR(VLOOKUP(A10,'12'!$E$8:$I$8,2,FALSE),\"-\")","v":"-"},{"$f":"IFERROR(VLOOKUP(A10,'12'!E8:I8,4,FALSE),\"-\")","v":"-"}]
[null,{"$f":"IFERROR(VLOOKUP(A10,'12'!$E$9:$I$9,2,FALSE),\"-\")","v":"-"},{"$f":"IFERROR(VLOOKUP(A10,'12'!E9:I9,4,FALSE),\"-\")","v":"-"}]
[null,{"$f":"IFERROR(VLOOKUP(A10,'12'!$E$10:$I$10,2,FALSE),\"-\")","v":"-"},{"$f":"IFERROR(VLOOKUP(A10,'12'!E10:I10,4,FALSE),\"-\")","v":"-"}]
[null,{"$f":"IFERROR(VLOOKUP(A10,'12'!$E$11:$I$11,2,FALSE),\"-\")","v":"-"},{"$f":"IFERROR(VLOOKUP(A10,'12'!E11:I11,4,FALSE),\"-\")","v":"-"}]
[null,{"$f":"IFERROR(VLOOKUP(A10,'12'!$E$12:$I$12,2,FALSE),\"-\")","v":"-"},{"$f":"IFERROR(VLOOKUP(A10,'12'!E12:I12,4,FALSE),\"-\")","v":"-"}]
[null,{"$f":"IFERROR(VLOOKUP(A10,'12'!$E$13:$I$13,2,FALSE),\"-\")","v":"-"},{"$f":"IFERROR(VLOOKUP(A10,'12'!E13:I13,4,FALSE),\"-\")","v":"-"}]
[null,{"$f":"IFERROR(VLOOKUP(A10,'12'!$E$14:$I$14,2,FALSE),\"-\")","v":"-"},{"$f":"IFERROR(VLOOKUP(A10,'12'!E14:I14,4,FALSE),\"-\")","v":"-"}]
[null,{"$f":"IFERROR(VLOOKUP(A10,'12'!$E$15:$I$15,2,FALSE),\"-\")","v":"-"},{"$f":"IFERROR(VLOOKUP(A10,'12'!E15:I15,4,FALSE),\"-\")","v":"-"}]
[null,{"$f":"IFERROR(VLOOKUP(A10,'12'!$E$16:$I$16,2,FALSE),\"-\")","v":"-"},{"$f":"IFERROR(VLOOKUP(A10,'12'!E16:I16,4,FALSE),\"-\")","v":"-"}]
[null,{"$f":"IFERROR(VLOOKUP(A10,'12'!$E$17:$I$17,2,FALSE),\"-\")","v":"-"},{"$f":"IFERROR(VLOOKUP(A10,'12'!E17:I17,4,FALSE),\"-\")","v":"-"}]
[null,{"$f":"IFERROR(VLOOKUP(A10,'12'!$E$18:$I$18,2,FALSE),\"-\")","v":"-"},{"$f":"IFERROR(VLOOKUP(A10,'12'!E18:I18,4,FALSE),\"-\")","v":"-"}]
[null,{"$f":"IFERROR(VLOOKUP(A10,'12'!$E$19:$I$19,2,FALSE),\"-\")","v":"-"},{"$f":"IFERROR(VLOOKUP(A10,'12'!E19:I19,4,FALSE),\"-\")","v":"-"}]
[null,{"$f":"IFERROR(VLOOKUP(A10,'12'!$E$20:$I$20,2,FALSE),\"-\")","v":"-"},{"$f":"IFERROR(VLOOKUP(A10,'12'!E20:I20,4,FALSE),\"-\")","v":"-"}]
[null,{"$f":"IFERROR(VLOOKUP(A10,'12'!$E$21:$I$21,2,FALSE),\"-\")","v":"-"},{"$f":"IFERROR(VLOOKUP(A10,'12'!E21:I21,4,FALSE),\"-\")","v":"-"}]
[null,{"$f":"IFERROR(VLOOKUP(A10,'12'!$E$22:$I$22,2,FALSE),\"-\")","v":"-"},{"$f":"IFERROR(VLOOKUP(A10,'12'!E22:I22,4,FALSE),\"-\")","v":"-"}]
[null,{"$f":"IFERROR(VLOOKUP(A10,'12'!$E$23:$I$23,2,FALSE),\"-\")","v":"-"},{"$f":"IFERROR(VLOOKUP(A10,'12'!E23:I23,4,FALSE),\"-\")","v":"-"}]
[null,{"$f":"IFERROR(VLOOKUP(A10,'12'!$E$24:$I$24,2,FALSE),\"-\")","v":"-"},{"$f":"IFERROR(VLOOKUP(A10,'12'!E24:I24,4,FALSE),\"-\")","v":"-"}]
[null,{"$f":"IFERROR(VLOOKUP(A10,'12'!$E$25:$I$25,2,FALSE),\"-\")","v":"-"},{"$f":"IFERROR(VLOOKUP(A10,'12'!E25:I25,4,FALSE),\"-\")","v":"-"}]
[null,{"$f":"IFERROR(VLOOKUP(A10,'12'!$E$26:$I$26,2,FALSE),\"-\")","v":"-"},{"$f":"IFERROR(VLOOKUP(A10,'12'!E26:I26,4,FALSE),\"-\")","v":"-"}]
[null,{"$f":"IFERROR(VLOOKUP(A10,'12'!$E$27:$I$27,2,FALSE),\"-\")","v":"-"},{"$f":"IFERROR(VLOOKUP(A10,'12'!E27:I27,4,FALSE),\"-\")","v":"-"}]
[null,{"$f":"IFERROR(VLOOKUP(A10,'12'!$E$28:$I$28,2,FALSE),\"-\")","v":"-"},{"$f":"IFERROR(VLOOKUP(A10,'12'!E28:I28,4,FALSE),\"-\")","v":"-"}]
[null,{"$f":"IFERROR(VLOOKUP(A10,'12'!$E$29:$I$29,2,FALSE),\"-\")","v":"-"},{"$f":"IFERROR(VLOOKUP(A10,'12'!E29:I29,4,FALSE),\"-\")","v":"-"}]
[null,{"$f":"IFERROR(VLOOKUP(A10,'12'!$E$30:$I$30,2,FALSE),\"-\")","v":"-"},{"$f":"IFERROR(VLOOKUP(A10,'12'!E30:I30,4,FALSE),\"-\")","v":"-"}]
[null,{"$f":"IFERROR(VLOOKUP(A10,'12'!$E$31:$I$31,2,FALSE),\"-\")","v":"-"},{"$f":"IFERROR(VLOOKUP(A10,'12'!E31:I31,4,FALSE),\"-\")","v":"-"}]
[null,{"$f":"IFERROR(VLOOKUP(A10,'13'!$E$4:$I$4,2,FALSE),\"-\")","v":"-"},{"$f":"IFERROR(VLOOKUP(A10,'13'!E4:I4,4,FALSE),\"-\")","v":"-"}]
[null,{"$f":"IFERROR(VLOOKUP(A10,'13'!$E$5:$I$5,2,FALSE),\"-\")","v":"-"},{"$f":"IFERROR(VLOOKUP(A10,'13'!E5:I5,4,FALSE),\"-\")","v":"-"}]
[null,{"$f":"IFERROR(VLOOKUP(A10,'13'!$E$6:$I$6,2,FALSE),\"-\")","v":"-"},{"$f":"IFERROR(VLOOKUP(A10,'13'!E6:I6,4,FALSE),\"-\")","v":"-"}]
[null,{"$f":"IFERROR(VLOOKUP(A10,'13'!$E$7:$I$7,2,FALSE),\"-\")","v":"-"},{"$f":"IFERROR(VLOOKUP(A10,'13'!E7:I7,4,FALSE),\"-\")","v":"-"}]
[null,{"$f":"IFERROR(VLOOKUP(A10,'13'!$E$8:$I$8,2,FALSE),\"-\")","v":"-"},{"$f":"IFERROR(VLOOKUP(A10,'13'!E8:I8,4,FALSE),\"-\")","v":"-"}]
[null,{"$f":"IFERROR(VLOOKUP(A10,'13'!$E$9:$I$9,2,FALSE),\"-\")","v":"-"},{"$f":"IFERROR(VLOOKUP(A10,'13'!E9:I9,4,FALSE),\"-\")","v":"-"}]
[null,{"$f":"IFERROR(VLOOKUP(A10,'13'!$E$10:$I$10,2,FALSE),\"-\")","v":"-"},{"$f":"IFERROR(VLOOKUP(A10,'13'!E10:I10,4,FALSE),\"-\")","v":"-"}]
[null,{"$f":"IFERROR(VLOOKUP(A10,'13'!$E$11:$I$11,2,FALSE),\"-\")","v":"-"},{"$f":"IFERROR(VLOOKUP(A10,'13'!E11:I11,4,FALSE),\"-\")","v":"-"}]
[null,{"$f":"IFERROR(VLOOKUP(A10,'13'!$E$12:$I$12,2,FALSE),\"-\")","v":"-"},{"$f":"IFERROR(VLOOKUP(A10,'13'!E12:I12,4,FALSE),\"-\")","v":"-"}]
[null,{"$f":"IFERROR(VLOOKUP(A10,'13'!$E$13:$I$13,2,FALSE),\"-\")","v":"-"},{"$f":"IFERROR(VLOOKUP(A10,'13'!E13:I13,4,FALSE),\"-\")","v":"-"}]
[null,{"$f":"IFERROR(VLOOKUP(A10,'13'!$E$14:$I$14,2,FALSE),\"-\")","v":"-"},{"$f":"IFERROR(VLOOKUP(A10,'13'!E14:I14,4,FALSE),\"-\")","v":"-"}]
[null,{"$f":"IFERROR(VLOOKUP(A10,'13'!$E$15:$I$15,2,FALSE),\"-\")","v":"-"},{"$f":"IFERROR(VLOOKUP(A10,'13'!E15:I15,4,FALSE),\"-\")","v":"-"}]
[null,{"$f":"IFERROR(VLOOKUP(A10,'13'!$E$16:$I$16,2,FALSE),\"-\")","v":"-"},{"$f":"IFERROR(VLOOKUP(A10,'13'!E16:I16,4,FALSE),\"-\")","v":"-"}]
[null,{"$f":"IFERROR(VLOOKUP(A10,'13'!$E$17:$I$17,2,FALSE),\"-\")","v":"-"},{"$f":"IFERROR(VLOOKUP(A10,'13'!E17:I17,4,FALSE),\"-\")","v":"-"}]
[null,{"$f":"IFERROR(VLOOKUP(A10,'13'!$E$18:$I$18,2,FALSE),\"-\")","v":"-"},{"$f":"IFERROR(VLOOKUP(A10,'13'!E18:I18,4,FALSE),\"-\")","v":"-"}]
[null,{"$f":"IFERROR(VLOOKUP(A10,'13'!$E$19:$I$19,2,FALSE),\"-\")","v":"-"},{"$f":"IFERROR(VLOOKUP(A10,'13'!E19:I19,4,FALSE),\"-\")","v":"-"}]
[null,{"$f":"IFERROR(VLOOKUP(A10,'13'!$E$20:$I$20,2,FALSE),\"-\")","v":"-"},{"$f":"IFERROR(VLOOKUP(A10,'13'!E20:I20,4,FALSE),\"-\")","v":"-"}]
[null,{"$f":"IFERROR(VLOOKUP(A10,'13'!$E$21:$I$21,2,FALSE),\"-\")","v":"-"},{"$f":"IFERROR(VLOOKUP(A10,'13'!E21:I21,4,FALSE),\"-\")","v":"-"}]
[null,{"$f":"IFERROR(VLOOKUP(A10,'13'!$E$22:$I$22,2,FALSE),\"-\")","v":"-"},{"$f":"IFERROR(VLOOKUP(A10,'13'!E22:I22,4,FALSE),\"-\")","v":"-"}]
[null,{"$f":"IFERROR(VLOOKUP(A10,'13'!$E$23:$I$23,2,FALSE),\"-\")","v":"-"},{"$f":"IFERROR(VLOOKUP(A10,'13'!E23:I23,4,FALSE),\"-\")","v":"-"}]
[null,{"$f":"IFERROR(VLOOKUP(A10,'13'!$E$24:$I$24,2,FALSE),\"-\")","v":"-"},{"$f":"IFERROR(VLOOKUP(A10,'13'!E24:I24,4,FALSE),\"-\")","v":"-"}]
[null,{"$f":"IFERROR(VLOOKUP(A10,'13'!$E$25:$I$25,2,FALSE),\"-\")","v":"-"},{"$f":"IFERROR(VLOOKUP(A10,'13'!E25:I25,4,FALSE),\"-\")","v":"-"}]
[null,{"$f":"IFERROR(VLOOKUP(A10,'13'!$E$26:$I$26,2,FALSE),\"-\")","v":"-"},{"$f":"IFERROR(VLOOKUP(A10,'13'!E26:I26,4,FALSE),\"-\")","v":"-"}]
[null,{"$f":"IFERROR(VLOOKUP(A10,'13'!$E$27:$I$27,2,FALSE),\"-\")","v":"-"},{"$f":"IFERROR(VLOOKUP(A10,'13'!E27:I27,4,FALSE),\"-\")","v":"-"}]
[null,{"$f":"IFERROR(VLOOKUP(A10,'13'!$E$28:$I$28,2,FALSE),\"-\")","v":"-"},{"$f":"IFERROR(VLOOKUP(A10,'13'!E28:I28,4,FALSE),\"-\")","v":"-"}]
[null,{"$f":"IFERROR(VLOOKUP(A10,'13'!$E$29:$I$29,2,FALSE),\"-\")","v":"-"},{"$f":"IFERROR(VLOOKUP(A10,'13'!E29:I29,4,FALSE),\"-\")","v":"-"}]
[null,{"$f":"IFERROR(VLOOKUP(A10,'13'!$E$30:$I$30,2,FALSE),\"-\")","v":"-"},{"$f":"IFERROR(VLOOKUP(A10,'13'!E30:I30,4,FALSE),\"-\")","v":"-"}]
[null,{"$f":"IFERROR(VLOOKUP(A10,'13'!$E$31:$I$31,2,FALSE),\"-\")","v":"-"},{"$f":"IFERROR(VLOOKUP(A10,'13'!E31:I31,4,FALSE),\"-\")","v":"-"}]
[null,{"$f":"IFERROR(VLOOKUP(A10,'14'!$E$4:$I$4,2,FALSE),\"-\")","v":"-"},{"$f":"IFERROR(VLOOKUP(A10,'14'!E4:I4,4,FALSE),\"-\")","v":"-"}]
[null,{"$f":"IFERROR(VLOOKUP(A10,'14'!$E$5:$I$5,2,FALSE),\"-\")","v":"-"},{"$f":"IFERROR(VLOOKUP(A10,'14'!E5:I5,4,FALSE),\"-\")","v":"-"}]
[null,{"$f":"IFERROR(VLOOKUP(A10,'14'!$E$6:$I$6,2,FALSE),\"-\")","v":"-"},{"$f":"IFERROR(VLOOKUP(A10,'14'!E6:I6,4,FALSE),\"-\")","v":"-"}]
[null,{"$f":"IFERROR(VLOOKUP(A10,'14'!$E$7:$I$7,2,FALSE),\"-\")","v":"-"},{"$f":"IFERROR(VLOOKUP(A10,'14'!E7:I7,4,FALSE),\"-\")","v":"-"}]
[null,{"$f":"IFERROR(VLOOKUP(A10,'14'!$E$8:$I$8,2,FALSE),\"-\")","v":"-"},{"$f":"IFERROR(VLOOKUP(A10,'14'!E8:I8,4,FALSE),\"-\")","v":"-"}]
[null,{"$f":"IFERROR(VLOOKUP(A10,'14'!$E$9:$I$9,2,FALSE),\"-\")","v":"-"},{"$f":"IFERROR(VLOOKUP(A10,'14'!E9:I9,4,FALSE),\"-\")","v":"-"}]
[null,{"$f":"IFERROR(VLOOKUP(A10,'14'!$E$10:$I$10,2,FALSE),\"-\")","v":"-"},{"$f":"IFERROR(VLOOKUP(A10,'14'!E10:I10,4,FALSE),\"-\")","v":"-"}]
[null,{"$f":"IFERROR(VLOOKUP(A10,'14'!$E$11:$I$11,2,FALSE),\"-\")","v":"-"},{"$f":"IFERROR(VLOOKUP(A10,'14'!E11:I11,4,FALSE),\"-\")","v":"-"}]
[null,{"$f":"IFERROR(VLOOKUP(A10,'14'!$E$12:$I$12,2,FALSE),\"-\")","v":"-"},{"$f":"IFERROR(VLOOKUP(A10,'14'!E12:I12,4,FALSE),\"-\")","v":"-"}]
[null,{"$f":"IFERROR(VLOOKUP(A10,'14'!$E$13:$I$13,2,FALSE),\"-\")","v":"-"},{"$f":"IFERROR(VLOOKUP(A10,'14'!E13:I13,4,FALSE),\"-\")","v":"-"}]
[null,{"$f":"IFERROR(VLOOKUP(A10,'14'!$E$14:$I$14,2,FALSE),\"-\")","v":"-"},{"$f":"IFERROR(VLOOKUP(A10,'14'!E14:I14,4,FALSE),\"-\")","v":"-"}]
[null,{"$f":"IFERROR(VLOOKUP(A10,'14'!$E$15:$I$15,2,FALSE),\"-\")","v":"-"},{"$f":"IFERROR(VLOOKUP(A10,'14'!E15:I15,4,FALSE),\"-\")","v":"-"}]
[null,{"$f":"IFERROR(VLOOKUP(A10,'14'!$E$16:$I$16,2,FALSE),\"-\")","v":"-"},{"$f":"IFERROR(VLOOKUP(A10,'14'!E16:I16,4,FALSE),\"-\")","v":"-"}]
[null,{"$f":"IFERROR(VLOOKUP(A10,'14'!$E$17:$I$17,2,FALSE),\"-\")","v":"-"},{"$f":"IFERROR(VLOOKUP(A10,'14'!E17:I17,4,FALSE),\"-\")","v":"-"}]
[null,{"$f":"IFERROR(VLOOKUP(A10,'14'!$E$18:$I$18,2,FALSE),\"-\")","v":"-"},{"$f":"IFERROR(VLOOKUP(A10,'14'!E18:I18,4,FALSE),\"-\")","v":"-"}]
[null,{"$f":"IFERROR(VLOOKUP(A10,'14'!$E$19:$I$19,2,FALSE),\"-\")","v":"-"},{"$f":"IFERROR(VLOOKUP(A10,'14'!E19:I19,4,FALSE),\"-\")","v":"-"}]
[null,{"$f":"IFERROR(VLOOKUP(A10,'14'!$E$20:$I$20,2,FALSE),\"-\")","v":"-"},{"$f":"IFERROR(VLOOKUP(A10,'14'!E20:I20,4,FALSE),\"-\")","v":"-"}]
[null,{"$f":"IFERROR(VLOOKUP(A10,'14'!$E$21:$I$21,2,FALSE),\"-\")","v":"-"},{"$f":"IFERROR(VLOOKUP(A10,'14'!E21:I21,4,FALSE),\"-\")","v":"-"}]
[null,{"$f":"IFERROR(VLOOKUP(A10,'14'!$E$22:$I$22,2,FALSE),\"-\")","v":"-"},{"$f":"IFERROR(VLOOKUP(A10,'14'!E22:I22,4,FALSE),\"-\")","v":"-"}]
[null,{"$f":"IFERROR(VLOOKUP(A10,'14'!$E$23:$I$23,2,FALSE),\"-\")","v":"-"},{"$f":"IFERROR(VLOOKUP(A10,'14'!E23:I23,4,FALSE),\"-\")","v":"-"}]
[null,{"$f":"IFERROR(VLOOKUP(A10,'14'!$E$24:$I$24,2,FALSE),\"-\")","v":"-"},{"$f":"IFERROR(VLOOKUP(A10,'14'!E24:I24,4,FALSE),\"-\")","v":"-"}]
[null,{"$f":"IFERROR(VLOOKUP(A10,'14'!$E$25:I25,2,FALSE),\"-\")","v":"-"},{"$f":"IFERROR(VLOOKUP(A10,'14'!E25:I25,4,FALSE),\"-\")","v":"-"}]
[null,{"$f":"IFERROR(VLOOKUP(A10,'14'!$E$26:$I$26,2,FALSE),\"-\")","v":"-"},{"$f":"IFERROR(VLOOKUP(A10,'14'!E26:I26,4,FALSE),\"-\")","v":"-"}]
[null,{"$f":"IFERROR(VLOOKUP(A10,'14'!$E$27:$I$27,2,FALSE),\"-\")","v":"-"},{"$f":"IFERROR(VLOOKUP(A10,'14'!E27:I27,4,FALSE),\"-\")","v":"-"}]
[null,{"$f":"IFERROR(VLOOKUP(A10,'14'!$E$28:$I$28,2,FALSE),\"-\")","v":"-"},{"$f":"IFERROR(VLOOKUP(A10,'14'!E28:I28,4,FALSE),\"-\")","v":"-"}]
[null,{"$f":"IFERROR(VLOOKUP(A10,'14'!$E$29:$I$29,2,FALSE),\"-\")","v":"-"},{"$f":"IFERROR(VLOOKUP(A10,'14'!E29:I29,4,FALSE),\"-\")","v":"-"}]
[null,{"$f":"IFERROR(VLOOKUP(A10,'14'!$E$30:$I$30,2,FALSE),\"-\")","v":"-"},{"$f":"IFERROR(VLOOKUP(A10,'14'!E30:I30,4,FALSE),\"-\")","v":"-"}]
[null,{"$f":"IFERROR(VLOOKUP(A10,'14'!$E$31:$I$31,2,FALSE),\"-\")","v":"-"},{"$f":"IFERROR(VLOOKUP(A10,'14'!E31:I31,4,FALSE),\"-\")","v":"-"}]
[null,{"$f":"IFERROR(VLOOKUP(A10,'15'!$E$4:$I$4,2,FALSE),\"-\")","v":"-"},{"$f":"IFERROR(VLOOKUP(A10,'15'!E4:I4,4,FALSE),\"-\")","v":"-"}]
[null,{"$f":"IFERROR(VLOOKUP(A10,'15'!$E$5:$I$5,2,FALSE),\"-\")","v":"-"},{"$f":"IFERROR(VLOOKUP(A10,'15'!E5:I5,4,FALSE),\"-\")","v":"-"}]
[null,{"$f":"IFERROR(VLOOKUP(A10,'15'!$E$6:$I$6,2,FALSE),\"-\")","v":"-"},{"$f":"IFERROR(VLOOKUP(A10,'15'!E6:I6,4,FALSE),\"-\")","v":"-"}]
[null,{"$f":"IFERROR(VLOOKUP(A10,'15'!$E$7:$I$7,2,FALSE),\"-\")","v":"-"},{"$f":"IFERROR(VLOOKUP(A10,'15'!E7:I7,4,FALSE),\"-\")","v":"-"}]
[null,{"$f":"IFERROR(VLOOKUP(A10,'15'!$E$8:$I$8,2,FALSE),\"-\")","v":"-"},{"$f":"IFERROR(VLOOKUP(A10,'15'!E8:I8,4,FALSE),\"-\")","v":"-"}]
[null,{"$f":"IFERROR(VLOOKUP(A10,'15'!$E$9:$I$9,2,FALSE),\"-\")","v":"-"},{"$f":"IFERROR(VLOOKUP(A10,'15'!E9:I9,4,FALSE),\"-\")","v":"-"}]
[null,{"$f":"IFERROR(VLOOKUP(A10,'15'!$E$10:$I$10,2,FALSE),\"-\")","v":"-"},{"$f":"IFERROR(VLOOKUP(A10,'15'!E10:I10,4,FALSE),\"-\")","v":"-"}]
[null,{"$f":"IFERROR(VLOOKUP(A10,'15'!$E$11:$I$11,2,FALSE),\"-\")","v":"-"},{"$f":"IFERROR(VLOOKUP(A10,'15'!E11:I11,4,FALSE),\"-\")","v":"-"}]
[null,{"$f":"IFERROR(VLOOKUP(A10,'15'!$E$12:$I$12,2,FALSE),\"-\")","v":"-"},{"$f":"IFERROR(VLOOKUP(A10,'15'!E12:I12,4,FALSE),\"-\")","v":"-"}]
[null,{"$f":"IFERROR(VLOOKUP(A10,'15'!$E$13:$I$13,2,FALSE),\"-\")","v":"-"},{"$f":"IFERROR(VLOOKUP(A10,'15'!E13:I13,4,FALSE),\"-\")","v":"-"}]
[null,{"$f":"IFERROR(VLOOKUP(A10,'15'!$E$14:$I$14,2,FALSE),\"-\")","v":"-"},{"$f":"IFERROR(VLOOKUP(A10,'15'!E14:I14,4,FALSE),\"-\")","v":"-"}]
[null,{"$f":"IFERROR(VLOOKUP(A10,'15'!$E$15:$I$15,2,FALSE),\"-\")","v":"-"},{"$f":"IFERROR(VLOOKUP(A10,'15'!E15:I15,4,FALSE),\"-\")","v":"-"}]
[null,{"$f":"IFERROR(VLOOKUP(A10,'15'!$E$16:$I$16,2,FALSE),\"-\")","v":"-"},{"$f":"IFERROR(VLOOKUP(A10,'15'!E16:I16,4,FALSE),\"-\")","v":"-"}]
[null,{"$f":"IFERROR(VLOOKUP(A10,'15'!$E$17:$I$17,2,FALSE),\"-\")","v":"-"},{"$f":"IFERROR(VLOOKUP(A10,'15'!E17:I17,4,FALSE),\"-\")","v":"-"}]
[null,{"$f":"IFERROR(VLOOKUP(A10,'15'!$E$18:$I$18,2,FALSE),\"-\")","v":"-"},{"$f":"IFERROR(VLOOKUP(A10,'15'!E18:I18,4,FALSE),\"-\")","v":"-"}]
[null,{"$f":"IFERROR(VLOOKUP(A10,'15'!$E$19:$I$19,2,FALSE),\"-\")","v":"-"},{"$f":"IFERROR(VLOOKUP(A10,'15'!E19:I19,4,FALSE),\"-\")","v":"-"}]
[null,{"$f":"IFERROR(VLOOKUP(A10,'15'!$E$20:$I$20,2,FALSE),\"-\")","v":"-"},{"$f":"IFERROR(VLOOKUP(A10,'15'!E20:I20,4,FALSE),\"-\")","v":"-"}]
[null,{"$f":"IFERROR(VLOOKUP(A10,'15'!$E$21:$I$21,2,FALSE),\"-\")","v":"-"},{"$f":"IFERROR(VLOOKUP(A10,'15'!E21:I21,4,FALSE),\"-\")","v":"-"}]
[null,{"$f":"IFERROR(VLOOKUP(A10,'15'!$E$22:$I$22,2,FALSE),\"-\")","v":"-"},{"$f":"IFERROR(VLOOKUP(A10,'15'!E22:I22,4,FALSE),\"-\")","v":"-"}]
[null,{"$f":"IFERROR(VLOOKUP(A10,'15'!$E$23:$I$23,2,FALSE),\"-\")","v":"-"},{"$f":"IFERROR(VLOOKUP(A10,'15'!E23:I23,4,FALSE),\"-\")","v":"-"}]
[null,{"$f":"IFERROR(VLOOKUP(A10,'15'!$E$24:$I$24,2,FALSE),\"-\")","v":"-"},{"$f":"IFERROR(VLOOKUP(A10,'15'!E24:I24,4,FALSE),\"-\")","v":"-"}]
[null,{"$f":"IFERROR(VLOOKUP(A10,'15'!$E$25:$I$25,2,FALSE),\"-\")","v":"-"},{"$f":"IFERROR(VLOOKUP(A10,'15'!E25:I25,4,FALSE),\"-\")","v":"-"}]
[null,{"$f":"IFERROR(VLOOKUP(A10,'15'!$E$26:$I$26,2,FALSE),\"-\")","v":"-"},{"$f":"IFERROR(VLOOKUP(A10,'15'!E26:I26,4,FALSE),\"-\")","v":"-"}]
[null,{"$f":"IFERROR(VLOOKUP(A10,'15'!$E$27:$I$27,2,FALSE),\"-\")","v":"-"},{"$f":"IFERROR(VLOOKUP(A10,'15'!E27:I27,4,FALSE),\"-\")","v":"-"}]
[null,{"$f":"IFERROR(VLOOKUP(A10,'15'!$E$28:$I$28,2,FALSE),\"-\")","v":"-"},{"$f":"IFERROR(VLOOKUP(A10,'15'!E28:I28,4,FALSE),\"-\")","v":"-"}]
[null,{"$f":"IFERROR(VLOOKUP(A10,'15'!$E$29:$I$29,2,FALSE),\"-\")","v":"-"},{"$f":"IFERROR(VLOOKUP(A10,'15'!E29:I29,4,FALSE),\"-\")","v":"-"}]
[null,{"$f":"IFERROR(VLOOKUP(A10,'15'!$E$30:$I$30,2,FALSE),\"-\")","v":"-"},{"$f":"IFERROR(VLOOKUP(A10,'15'!E30:I30,4,FALSE),\"-\")","v":"-"}]
[null,{"$f":"IFERROR(VLOOKUP(A10,'15'!$E$31:$I$31,2,FALSE),\"-\")","v":"-"},{"$f":"IFERROR(VLOOKUP(A10,'15'!E31:I31,4,FALSE),\"-\")","v":"-"}]
[null,{"$f":"IFERROR(VLOOKUP(A10,'16'!$E$4:$I$4,2,FALSE),\"-\")","v":"-"},{"$f":"IFERROR(VLOOKUP(A10,'16'!E4:I4,4,FALSE),\"-\")","v":"-"}]
[null,{"$f":"IFERROR(VLOOKUP(A10,'16'!$E$5:$I$5,2,FALSE),\"-\")","v":"-"},{"$f":"IFERROR(VLOOKUP(A10,'16'!E5:I5,4,FALSE),\"-\")","v":"-"}]
[null,{"$f":"IFERROR(VLOOKUP(A10,'16'!$E$6:$I$6,2,FALSE),\"-\")","v":"-"},{"$f":"IFERROR(VLOOKUP(A10,'16'!E6:I6,4,FALSE),\"-\")","v":"-"}]
[null,{"$f":"IFERROR(VLOOKUP(A10,'16'!$E$7:$I$7,2,FALSE),\"-\")","v":"-"},{"$f":"IFERROR(VLOOKUP(A10,'16'!E7:I7,4,FALSE),\"-\")","v":"-"}]
[null,{"$f":"IFERROR(VLOOKUP(A10,'16'!$E$8:$I$8,2,FALSE),\"-\")","v":"-"},{"$f":"IFERROR(VLOOKUP(A10,'16'!E8:I8,4,FALSE),\"-\")","v":"-"}]
[null,{"$f":"IFERROR(VLOOKUP(A10,'16'!$E$9:$I$9,2,FALSE),\"-\")","v":"-"},{"$f":"IFERROR(VLOOKUP(A10,'16'!E9:I9,4,FALSE),\"-\")","v":"-"}]
[null,{"$f":"IFERROR(VLOOKUP(A10,'16'!$E$10:$I$10,2,FALSE),\"-\")","v":"-"},{"$f":"IFERROR(VLOOKUP(A10,'16'!E10:I10,4,FALSE),\"-\")","v":"-"}]
[null,{"$f":"IFERROR(VLOOKUP(A10,'16'!$E$11:$I$11,2,FALSE),\"-\")","v":"-"},{"$f":"IFERROR(VLOOKUP(A10,'16'!E11:I11,4,FALSE),\"-\")","v":"-"}]
[null,{"$f":"IFERROR(VLOOKUP(A10,'16'!$E$12:$I$12,2,FALSE),\"-\")","v":"-"},{"$f":"IFERROR(VLOOKUP(A10,'16'!E12:I12,4,FALSE),\"-\")","v":"-"}]
[null,{"$f":"IFERROR(VLOOKUP(A10,'16'!$E$13:$I$13,2,FALSE),\"-\")","v":"-"},{"$f":"IFERROR(VLOOKUP(A10,'16'!E13:I13,4,FALSE),\"-\")","v":"-"}]
[null,{"$f":"IFERROR(VLOOKUP(A10,'16'!$E$14:$I$14,2,FALSE),\"-\")","v":"-"},{"$f":"IFERROR(VLOOKUP(A10,'16'!E14:I14,4,FALSE),\"-\")","v":"-"}]
[null,{"$f":"IFERROR(VLOOKUP(A10,'16'!$E$15:$I$15,2,FALSE),\"-\")","v":"-"},{"$f":"IFERROR(VLOOKUP(A10,'16'!E15:I15,4,FALSE),\"-\")","v":"-"}]
[null,{"$f":"IFERROR(VLOOKUP(A10,'16'!$E$16:$I$16,2,FALSE),\"-\")","v":"-"},{"$f":"IFERROR(VLOOKUP(A10,'16'!E16:I16,4,FALSE),\"-\")","v":"-"}]
[null,{"$f":"IFERROR(VLOOKUP(A10,'16'!$E$17:$I$17,2,FALSE),\"-\")","v":"-"},{"$f":"IFERROR(VLOOKUP(A10,'16'!E17:I17,4,FALSE),\"-\")","v":"-"}]
[null,{"$f":"IFERROR(VLOOKUP(A10,'16'!$E$18:$I$18,2,FALSE),\"-\")","v":"-"},{"$f":"IFERROR(VLOOKUP(A10,'16'!E18:I18,4,FALSE),\"-\")","v":"-"}]
[null,{"$f":"IFERROR(VLOOKUP(A10,'16'!$E$19:$I$19,2,FALSE),\"-\")","v":"-"},{"$f":"IFERROR(VLOOKUP(A10,'16'!E19:I19,4,FALSE),\"-\")","v":"-"}]
[null,{"$f":"IFERROR(VLOOKUP(A10,'16'!$E$20:$I$20,2,FALSE),\"-\")","v":"-"},{"$f":"IFERROR(VLOOKUP(A10,'16'!E20:I20,4,FALSE),\"-\")","v":"-"}]
[null,{"$f":"IFERROR(VLOOKUP(A10,'16'!$E$21:$I$21,2,FALSE),\"-\")","v":"-"},{"$f":"IFERROR(VLOOKUP(A10,'16'!E21:I21,4,FALSE),\"-\")","v":"-"}]
[null,{"$f":"IFERROR(VLOOKUP(A10,'16'!$E$22:$I$22,2,FALSE),\"-\")","v":"-"},{"$f":"IFERROR(VLOOKUP(A10,'16'!E22:I22,4,FALSE),\"-\")","v":"-"}]
[null,{"$f":"IFERROR(VLOOKUP(A10,'16'!$E$23:$I$23,2,FALSE),\"-\")","v":"-"},{"$f":"IFERROR(VLOOKUP(A10,'16'!E23:I23,4,FALSE),\"-\")","v":"-"}]
[null,{"$f":"IFERROR(VLOOKUP(A10,'16'!$E$24:$I$24,2,FALSE),\"-\")","v":"-"},{"$f":"IFERROR(VLOOKUP(A10,'16'!E24:I24,4,FALSE),\"-\")","v":"-"}]
[null,{"$f":"IFERROR(VLOOKUP(A10,'16'!$E$25:$I$25,2,FALSE),\"-\")","v":"-"},{"$f":"IFERROR(VLOOKUP(A10,'16'!E25:I25,4,FALSE),\"-\")","v":"-"}]
[null,{"$f":"IFERROR(VLOOKUP(A10,'16'!$E$26:$I$26,2,FALSE),\"-\")","v":"-"},{"$f":"IFERROR(VLOOKUP(A10,'16'!E26:I26,4,FALSE),\"-\")","v":"-"}]
[null,{"$f":"IFERROR(VLOOKUP(A10,'16'!$E$27:$I$27,2,FALSE),\"-\")","v":"-"},{"$f":"IFERROR(VLOOKUP(A10,'16'!E27:I27,4,FALSE),\"-\")","v":"-"}]
[null,{"$f":"IFERROR(VLOOKUP(A10,'16'!$E$28:$I$28,2,FALSE),\"-\")","v":"-"},{"$f":"IFERROR(VLOOKUP(A10,'16'!E28:I28,4,FALSE),\"-\")","v":"-"}]
[null,{"$f":"IFERROR(VLOOKUP(A10,'16'!$E$29:$I$29,2,FALSE),\"-\")","v":"-"},{"$f":"IFERROR(VLOOKUP(A10,'16'!E29:I29,4,FALSE),\"-\")","v":"-"}]
[null,{"$f":"IFERROR(VLOOKUP(A10,'16'!$E$30:$I$30,2,FALSE),\"-\")","v":"-"},{"$f":"IFERROR(VLOOKUP(A10,'16'!E30:I30,4,FALSE),\"-\")","v":"-"}]
[null,{"$f":"IFERROR(VLOOKUP(A10,'16'!$E$31:$I$31,2,FALSE),\"-\")","v":"-"},{"$f":"IFERROR(VLOOKUP(A10,'16'!E31:I31,4,FALSE),\"-\")","v":"-"}]
[null,{"$f":"IFERROR(VLOOKUP(A10,'17'!$E$4:$I$4,2,FALSE),\"-\")","v":"-"},{"$f":"IFERROR(VLOOKUP(A10,'17'!E4:I4,4,FALSE),\"-\")","v":"-"}]
[null,{"$f":"IFERROR(VLOOKUP(A10,'17'!$E$5:$I$5,2,FALSE),\"-\")","v":"-"},{"$f":"IFERROR(VLOOKUP(A10,'17'!E5:I5,4,FALSE),\"-\")","v":"-"}]
[null,{"$f":"IFERROR(VLOOKUP(A10,'17'!$E$6:$I$6,2,FALSE),\"-\")","v":"-"},{"$f":"IFERROR(VLOOKUP(A10,'17'!E6:I6,4,FALSE),\"-\")","v":"-"}]
[null,{"$f":"IFERROR(VLOOKUP(A10,'17'!$E$7:$I$7,2,FALSE),\"-\")","v":"-"},{"$f":"IFERROR(VLOOKUP(A10,'17'!E7:I7,4,FALSE),\"-\")","v":"-"}]
[null,{"$f":"IFERROR(VLOOKUP(A10,'17'!$E$8:$I$8,2,FALSE),\"-\")","v":"-"},{"$f":"IFERROR(VLOOKUP(A10,'17'!E8:I8,4,FALSE),\"-\")","v":"-"}]
[null,{"$f":"IFERROR(VLOOKUP(A10,'17'!$E$9:$I$9,2,FALSE),\"-\")","v":"-"},{"$f":"IFERROR(VLOOKUP(A10,'17'!E9:I9,4,FALSE),\"-\")","v":"-"}]
[null,{"$f":"IFERROR(VLOOKUP(A10,'17'!$E$10:$I$10,2,FALSE),\"-\")","v":"-"},{"$f":"IFERROR(VLOOKUP(A10,'17'!E10:I10,4,FALSE),\"-\")","v":"-"}]
[null,{"$f":"IFERROR(VLOOKUP(A10,'17'!$E$11:$I$11,2,FALSE),\"-\")","v":"-"},{"$f":"IFERROR(VLOOKUP(A10,'17'!E11:I11,4,FALSE),\"-\")","v":"-"}]
[null,{"$f":"IFERROR(VLOOKUP(A10,'17'!$E$12:$I$12,2,FALSE),\"-\")","v":"-"},{"$f":"IFERROR(VLOOKUP(A10,'17'!E12:I12,4,FALSE),\"-\")","v":"-"}]
[null,{"$f":"IFERROR(VLOOKUP(A10,'17'!$E$13:$I$13,2,FALSE),\"-\")","v":"-"},{"$f":"IFERROR(VLOOKUP(A10,'17'!E13:I13,4,FALSE),\"-\")","v":"-"}]
[null,{"$f":"IFERROR(VLOOKUP(A10,'17'!$E$14:$I$14,2,FALSE),\"-\")","v":"-"},{"$f":"IFERROR(VLOOKUP(A10,'17'!E14:I14,4,FALSE),\"-\")","v":"-"}]
[null,{"$f":"IFERROR(VLOOKUP(A10,'17'!$E$15:$I$15,2,FALSE),\"-\")","v":"-"},{"$f":"IFERROR(VLOOKUP(A10,'17'!E15:I15,4,FALSE),\"-\")","v":"-"}]
[null,{"$f":"IFERROR(VLOOKUP(A10,'17'!$E$16:$I$16,2,FALSE),\"-\")","v":"-"},{"$f":"IFERROR(VLOOKUP(A10,'17'!E16:I16,4,FALSE),\"-\")","v":"-"}]
[null,{"$f":"IFERROR(VLOOKUP(A10,'17'!$E$17:$I$17,2,FALSE),\"-\")","v":"-"},{"$f":"IFERROR(VLOOKUP(A10,'17'!E17:I17,4,FALSE),\"-\")","v":"-"}]
[null,{"$f":"IFERROR(VLOOKUP(A10,'17'!$E$18:$I$18,2,FALSE),\"-\")","v":"-"},{"$f":"IFERROR(VLOOKUP(A10,'17'!E18:I18,4,FALSE),\"-\")","v":"-"}]
[null,{"$f":"IFERROR(VLOOKUP(A10,'17'!$E$19:$I$19,2,FALSE),\"-\")","v":"-"},{"$f":"IFERROR(VLOOKUP(A10,'17'!E19:I19,4,FALSE),\"-\")","v":"-"}]
[null,{"$f":"IFERROR(VLOOKUP(A10,'17'!$E$20:$I$20,2,FALSE),\"-\")","v":"-"},{"$f":"IFERROR(VLOOKUP(A10,'17'!E20:I20,4,FALSE),\"-\")","v":"-"}]
[null,{"$f":"IFERROR(VLOOKUP(A10,'17'!E21:$I$21,2,FALSE),\"-\")","v":"-"},{"$f":"IFERROR(VLOOKUP(A10,'17'!E21:I21,4,FALSE),\"-\")","v":"-"}]
[null,{"$f":"IFERROR(VLOOKUP(A10,'17'!$E$22:$I$22,2,FALSE),\"-\")","v":"-"},{"$f":"IFERROR(VLOOKUP(A10,'17'!E22:I22,4,FALSE),\"-\")","v":"-"}]
[null,{"$f":"IFERROR(VLOOKUP(A10,'17'!$E$23:$I$23,2,FALSE),\"-\")","v":"-"},{"$f":"IFERROR(VLOOKUP(A10,'17'!E23:I23,4,FALSE),\"-\")","v":"-"}]
[null,{"$f":"IFERROR(VLOOKUP(A10,'17'!$E$24:$I$24,2,FALSE),\"-\")","v":"-"},{"$f":"IFERROR(VLOOKUP(A10,'17'!E24:I24,4,FALSE),\"-\")","v":"-"}]
[null,{"$f":"IFERROR(VLOOKUP(A10,'17'!$E$25:$I$25,2,FALSE),\"-\")","v":"-"},{"$f":"IFERROR(VLOOKUP(A10,'17'!E25:I25,4,FALSE),\"-\")","v":"-"}]
[null,{"$f":"IFERROR(VLOOKUP(A10,'17'!$E$26:$I$26,2,FALSE),\"-\")","v":"-"},{"$f":"IFERROR(VLOOKUP(A10,'17'!E26:I26,4,FALSE),\"-\")","v":"-"}]
[null,{"$f":"IFERROR(VLOOKUP(A10,'17'!$E$27:$I$27,2,FALSE),\"-\")","v":"-"},{"$f":"IFERROR(VLOOKUP(A10,'17'!E27:I27,4,FALSE),\"-\")","v":"-"}]
[null,{"$f":"IFERROR(VLOOKUP(A10,'17'!$E$28:$I$28,2,FALSE),\"-\")","v":"-"},{"$f":"IFERROR(VLOOKUP(A10,'17'!E28:I28,4,FALSE),\"-\")","v":"-"}]
[null,{"$f":"IFERROR(VLOOKUP(A10,'17'!$E$29:$I$29,2,FALSE),\"-\")","v":"-"},{"$f":"IFERROR(VLOOKUP(A10,'17'!E29:I29,4,FALSE),\"-\")","v":"-"}]
[null,{"$f":"IFERROR(VLOOKUP(A10,'17'!$E$30:$I$30,2,FALSE),\"-\")","v":"-"},{"$f":"IFERROR(VLOOKUP(A10,'17'!E30:I30,4,FALSE),\"-\")","v":"-"}]
[null,{"$f":"IFERROR(VLOOKUP(A10,'17'!$E$31:$I$31,2,FALSE),\"-\")","v":"-"},{"$f":"IFERROR(VLOOKUP(A10,'17'!E31:I31,4,FALSE),\"-\")","v":"-"}]
[null,{"$f":"IFERROR(VLOOKUP(A10,'18'!$E$4:$I$4,2,FALSE),\"-\")","v":"-"},{"$f":"IFERROR(VLOOKUP(A10,'18'!E4:I4,4,FALSE),\"-\")","v":"-"}]
[null,{"$f":"IFERROR(VLOOKUP(A10,'18'!$E$5:$I$5,2,FALSE),\"-\")","v":"-"},{"$f":"IFERROR(VLOOKUP(A10,'18'!E5:I5,4,FALSE),\"-\")","v":"-"}]
[null,{"$f":"IFERROR(VLOOKUP(A10,'18'!$E$6:$I$6,2,FALSE),\"-\")","v":"-"},{"$f":"IFERROR(VLOOKUP(A10,'18'!E6:I6,4,FALSE),\"-\")","v":"-"}]
[null,{"$f":"IFERROR(VLOOKUP(A10,'18'!$E$7:$I$7,2,FALSE),\"-\")","v":"-"},{"$f":"IFERROR(VLOOKUP(A10,'18'!E7:I7,4,FALSE),\"-\")","v":"-"}]
[null,{"$f":"IFERROR(VLOOKUP(A10,'18'!$E$8:$I$8,2,FALSE),\"-\")","v":"-"},{"$f":"IFERROR(VLOOKUP(A10,'18'!E8:I8,4,FALSE),\"-\")","v":"-"}]
[null,{"$f":"IFERROR(VLOOKUP(A10,'18'!$E$9:$I$9,2,FALSE),\"-\")","v":"-"},{"$f":"IFERROR(VLOOKUP(A10,'18'!E9:I9,4,FALSE),\"-\")","v":"-"}]
[null,{"$f":"IFERROR(VLOOKUP(A10,'18'!$E$10:$I$10,2,FALSE),\"-\")","v":"-"},{"$f":"IFERROR(VLOOKUP(A10,'18'!E10:I10,4,FALSE),\"-\")","v":"-"}]
[null,{"$f":"IFERROR(VLOOKUP(A10,'18'!$E$11:$I$11,2,FALSE),\"-\")","v":"-"},{"$f":"IFERROR(VLOOKUP(A10,'18'!E11:I11,4,FALSE),\"-\")","v":"-"}]
[null,{"$f":"IFERROR(VLOOKUP(A10,'18'!$E$12:$I$12,2,FALSE),\"-\")","v":"-"},{"$f":"IFERROR(VLOOKUP(A10,'18'!E12:I12,4,FALSE),\"-\")","v":"-"}]
[null,{"$f":"IFERROR(VLOOKUP(A10,'18'!$E$13:$I$13,2,FALSE),\"-\")","v":"-"},{"$f":"IFERROR(VLOOKUP(A10,'18'!E13:I13,4,FALSE),\"-\")","v":"-"}]
[null,{"$f":"IFERROR(VLOOKUP(A10,'18'!$E$14:$I$14,2,FALSE),\"-\")","v":"-"},{"$f":"IFERROR(VLOOKUP(A10,'18'!E14:I14,4,FALSE),\"-\")","v":"-"}]
[null,{"$f":"IFERROR(VLOOKUP(A10,'18'!$E$15:$I$15,2,FALSE),\"-\")","v":"-"},{"$f":"IFERROR(VLOOKUP(A10,'18'!E15:I15,4,FALSE),\"-\")","v":"-"}]
[null,{"$f":"IFERROR(VLOOKUP(A10,'18'!$E$16:$I$16,2,FALSE),\"-\")","v":"-"},{"$f":"IFERROR(VLOOKUP(A10,'18'!E16:I16,4,FALSE),\"-\")","v":"-"}]
[null,{"$f":"IFERROR(VLOOKUP(A10,'18'!$E$17:$I$17,2,FALSE),\"-\")","v":"-"},{"$f":"IFERROR(VLOOKUP(A10,'18'!E17:I17,4,FALSE),\"-\")","v":"-"}]
[null,{"$f":"IFERROR(VLOOKUP(A10,'18'!$E$18:$I$18,2,FALSE),\"-\")","v":"-"},{"$f":"IFERROR(VLOOKUP(A10,'18'!E18:I18,4,FALSE),\"-\")","v":"-"}]
[null,{"$f":"IFERROR(VLOOKUP(A10,'18'!$E$19:$I$19,2,FALSE),\"-\")","v":"-"},{"$f":"IFERROR(VLOOKUP(A10,'18'!E19:I19,4,FALSE),\"-\")","v":"-"}]
[null,{"$f":"IFERROR(VLOOKUP(A10,'18'!$E$20:$I$20,2,FALSE),\"-\")","v":"-"},{"$f":"IFERROR(VLOOKUP(A10,'18'!E20:I20,4,FALSE),\"-\")","v":"-"}]
[null,{"$f":"IFERROR(VLOOKUP(A10,'18'!$E$21:$I$21,2,FALSE),\"-\")","v":"-"},{"$f":"IFERROR(VLOOKUP(A10,'18'!E21:I21,4,FALSE),\"-\")","v":"-"}]
[null,{"$f":"IFERROR(VLOOKUP(A10,'18'!$E$22:$I$22,2,FALSE),\"-\")","v":"-"},{"$f":"IFERROR(VLOOKUP(A10,'18'!E22:I22,4,FALSE),\"-\")","v":"-"}]
[null,{"$f":"IFERROR(VLOOKUP(A10,'18'!$E$23:$I$23,2,FALSE),\"-\")","v":"-"},{"$f":"IFERROR(VLOOKUP(A10,'18'!E23:I23,4,FALSE),\"-\")","v":"-"}]
[null,{"$f":"IFERROR(VLOOKUP(A10,'18'!$E$24:$I$24,2,FALSE),\"-\")","v":"-"},{"$f":"IFERROR(VLOOKUP(A10,'18'!E24:I24,4,FALSE),\"-\")","v":"-"}]
[null,{"$f":"IFERROR(VLOOKUP(A10,'18'!$E$25:$I$25,2,FALSE),\"-\")","v":"-"},{"$f":"IFERROR(VLOOKUP(A10,'18'!E25:I25,4,FALSE),\"-\")","v":"-"}]
[null,{"$f":"IFERROR(VLOOKUP(A10,'18'!$E$26:$I$26,2,FALSE),\"-\")","v":"-"},{"$f":"IFERROR(VLOOKUP(A10,'18'!E26:I26,4,FALSE),\"-\")","v":"-"}]
[null,{"$f":"IFERROR(VLOOKUP(A10,'18'!$E$27:$I$27,2,FALSE),\"-\")","v":"-"},{"$f":"IFERROR(VLOOKUP(A10,'18'!E27:I27,4,FALSE),\"-\")","v":"-"}]
[null,{"$f":"IFERROR(VLOOKUP(A10,'18'!$E$28:$I$28,2,FALSE),\"-\")","v":"-"},{"$f":"IFERROR(VLOOKUP(A10,'18'!E28:I28,4,FALSE),\"-\")","v":"-"}]
[null,{"$f":"IFERROR(VLOOKUP(A10,'18'!$E$29:$I$29,2,FALSE),\"-\")","v":"-"},{"$f":"IFERROR(VLOOKUP(A10,'18'!E29:I29,4,FALSE),\"-\")","v":"-"}]
[null,{"$f":"IFERROR(VLOOKUP(A10,'18'!$E$30:$I$30,2,FALSE),\"-\")","v":"-"},{"$f":"IFERROR(VLOOKUP(A10,'18'!E30:I30,4,FALSE),\"-\")","v":"-"}]
[null,{"$f":"IFERROR(VLOOKUP(A10,'18'!$E$31:$I$31,2,FALSE),\"-\")","v":"-"},{"$f":"IFERROR(VLOOKUP(A10,'18'!E31:I31,4,FALSE),\"-\")","v":"-"}]
[null,{"$f":"IFERROR(VLOOKUP(A10,'19'!$E$4:$I$4,2,FALSE),\"-\")","v":"-"},{"$f":"IFERROR(VLOOKUP(A10,'19'!E4:I4,4,FALSE),\"-\")","v":"-"}]
[null,{"$f":"IFERROR(VLOOKUP(A10,'19'!$E$5:$I$5,2,FALSE),\"-\")","v":"-"},{"$f":"IFERROR(VLOOKUP(A10,'19'!E5:I5,4,FALSE),\"-\")","v":"-"}]
[null,{"$f":"IFERROR(VLOOKUP(A10,'19'!$E$6:$I$6,2,FALSE),\"-\")","v":"-"},{"$f":"IFERROR(VLOOKUP(A10,'19'!E6:I6,4,FALSE),\"-\")","v":"-"}]
[null,{"$f":"IFERROR(VLOOKUP(A10,'19'!$E$7:$I$7,2,FALSE),\"-\")","v":"-"},{"$f":"IFERROR(VLOOKUP(A10,'19'!E7:I7,4,FALSE),\"-\")","v":"-"}]
[null,{"$f":"IFERROR(VLOOKUP(A10,'19'!$E$8:$I$8,2,FALSE),\"-\")","v":"-"},{"$f":"IFERROR(VLOOKUP(A10,'19'!E8:I8,4,FALSE),\"-\")","v":"-"}]
[null,{"$f":"IFERROR(VLOOKUP(A10,'19'!$E$9:$I$9,2,FALSE),\"-\")","v":"-"},{"$f":"IFERROR(VLOOKUP(A10,'19'!E9:I9,4,FALSE),\"-\")","v":"-"}]
[null,{"$f":"IFERROR(VLOOKUP(A10,'19'!$E$10:$I$10,2,FALSE),\"-\")","v":"-"},{"$f":"IFERROR(VLOOKUP(A10,'19'!E10:I10,4,FALSE),\"-\")","v":"-"}]
[null,{"$f":"IFERROR(VLOOKUP(A10,'19'!$E$11:$I$11,2,FALSE),\"-\")","v":"-"},{"$f":"IFERROR(VLOOKUP(A10,'19'!E11:I11,4,FALSE),\"-\")","v":"-"}]
[null,{"$f":"IFERROR(VLOOKUP(A10,'19'!$E$12:$I$12,2,FALSE),\"-\")","v":"-"},{"$f":"IFERROR(VLOOKUP(A10,'19'!E12:I12,4,FALSE),\"-\")","v":"-"}]
[null,{"$f":"IFERROR(VLOOKUP(A10,'19'!$E$13:$I$13,2,FALSE),\"-\")","v":"-"},{"$f":"IFERROR(VLOOKUP(A10,'19'!E13:I13,4,FALSE),\"-\")","v":"-"}]
[null,{"$f":"IFERROR(VLOOKUP(A10,'19'!$E$14:$I$14,2,FALSE),\"-\")","v":"-"},{"$f":"IFERROR(VLOOKUP(A10,'19'!E14:I14,4,FALSE),\"-\")","v":"-"}]
[null,{"$f":"IFERROR(VLOOKUP(A10,'19'!$E$15:$I$15,2,FALSE),\"-\")","v":"-"},{"$f":"IFERROR(VLOOKUP(A10,'19'!E15:I15,4,FALSE),\"-\")","v":"-"}]
[null,{"$f":"IFERROR(VLOOKUP(A10,'19'!$E$16:$I$16,2,FALSE),\"-\")","v":"-"},{"$f":"IFERROR(VLOOKUP(A10,'19'!E16:I16,4,FALSE),\"-\")","v":"-"}]
[null,{"$f":"IFERROR(VLOOKUP(A10,'19'!$E$17:$I$17,2,FALSE),\"-\")","v":"-"},{"$f":"IFERROR(VLOOKUP(A10,'19'!E17:I17,4,FALSE),\"-\")","v":"-"}]
[null,{"$f":"IFERROR(VLOOKUP(A10,'19'!$E$18:$I$18,2,FALSE),\"-\")","v":"-"},{"$f":"IFERROR(VLOOKUP(A10,'19'!E18:I18,4,FALSE),\"-\")","v":"-"}]
[null,{"$f":"IFERROR(VLOOKUP(A10,'19'!$E$19:$I$19,2,FALSE),\"-\")","v":"-"},{"$f":"IFERROR(VLOOKUP(A10,'19'!E19:I19,4,FALSE),\"-\")","v":"-"}]
[null,{"$f":"IFERROR(VLOOKUP(A10,'19'!$E$20:$I$20,2,FALSE),\"-\")","v":"-"},{"$f":"IFERROR(VLOOKUP(A10,'19'!E20:I20,4,FALSE),\"-\")","v":"-"}]
[null,{"$f":"IFERROR(VLOOKUP(A10,'19'!$E$21:$I$21,2,FALSE),\"-\")","v":"-"},{"$f":"IFERROR(VLOOKUP(A10,'19'!E21:I21,4,FALSE),\"-\")","v":"-"}]
[null,{"$f":"IFERROR(VLOOKUP(A10,'19'!$E$22:$I$22,2,FALSE),\"-\")","v":"-"},{"$f":"IFERROR(VLOOKUP(A10,'19'!E22:I22,4,FALSE),\"-\")","v":"-"}]
[null,{"$f":"IFERROR(VLOOKUP(A10,'19'!$E$23:$I$23,2,FALSE),\"-\")","v":"-"},{"$f":"IFERROR(VLOOKUP(A10,'19'!E23:I23,4,FALSE),\"-\")","v":"-"}]
[null,{"$f":"IFERROR(VLOOKUP(A10,'19'!$E$24:$I$24,2,FALSE),\"-\")","v":"-"},{"$f":"IFERROR(VLOOKUP(A10,'19'!E24:I24,4,FALSE),\"-\")","v":"-"}]
[null,{"$f":"IFERROR(VLOOKUP(A10,'19'!$E$25:$I$25,2,FALSE),\"-\")","v":"-"},{"$f":"IFERROR(VLOOKUP(A10,'19'!E25:I25,4,FALSE),\"-\")","v":"-"}]
[null,{"$f":"IFERROR(VLOOKUP(A10,'19'!$E$26:$I$26,2,FALSE),\"-\")","v":"-"},{"$f":"IFERROR(VLOOKUP(A10,'19'!E26:I26,4,FALSE),\"-\")","v":"-"}]
[null,{"$f":"IFERROR(VLOOKUP(A10,'19'!$E$27:$I$27,2,FALSE),\"-\")","v":"-"},{"$f":"IFERROR(VLOOKUP(A10,'19'!E27:I27,4,FALSE),\"-\")","v":"-"}]
[null,{"$f":"IFERROR(VLOOKUP(A10,'19'!$E$28:$I$28,2,FALSE),\"-\")","v":"-"},{"$f":"IFERROR(VLOOKUP(A10,'19'!E28:I28,4,FALSE),\"-\")","v":"-"}]
[null,{"$f":"IFERROR(VLOOKUP(A10,'19'!$E$29:$I$29,2,FALSE),\"-\")","v":"-"},{"$f":"IFERROR(VLOOKUP(A10,'19'!E29:I29,4,FALSE),\"-\")","v":"-"}]
[null,{"$f":"IFERROR(VLOOKUP(A10,'19'!$E$30:$I$30,2,FALSE),\"-\")","v":"-"},{"$f":"IFERROR(VLOOKUP(A10,'19'!E30:I30,4,FALSE),\"-\")","v":"-"}]
[null,{"$f":"IFERROR(VLOOKUP(A10,'19'!$E$31:$I$31,2,FALSE),\"-\")","v":"-"},{"$f":"IFERROR(VLOOKUP(A10,'19'!E31:I31,4,FALSE),\"-\")","v":"-"}]
[null,{"$f":"IFERROR(VLOOKUP(A10,'20'!$E$4:$I$4,2,FALSE),\"-\")","v":"-"},{"$f":"IFERROR(VLOOKUP(A10,'20'!E4:I4,4,FALSE),\"-\")","v":"-"}]
[null,{"$f":"IFERROR(VLOOKUP(A10,'20'!$E$5:$I$5,2,FALSE),\"-\")","v":"-"},{"$f":"IFERROR(VLOOKUP(A10,'20'!E5:I5,4,FALSE),\"-\")","v":"-"}]
[null,{"$f":"IFERROR(VLOOKUP(A10,'20'!$E$6:$I$6,2,FALSE),\"-\")","v":"-"},{"$f":"IFERROR(VLOOKUP(A10,'20'!E6:I6,4,FALSE),\"-\")","v":"-"}]
[null,{"$f":"IFERROR(VLOOKUP(A10,'20'!$E$7:$I$7,2,FALSE),\"-\")","v":"-"},{"$f":"IFERROR(VLOOKUP(A10,'20'!E7:I7,4,FALSE),\"-\")","v":"-"}]
[null,{"$f":"IFERROR(VLOOKUP(A10,'20'!$E$8:I8,2,FALSE),\"-\")","v":"-"},{"$f":"IFERROR(VLOOKUP(A10,'20'!E8:I8,4,FALSE),\"-\")","v":"-"}]
[null,{"$f":"IFERROR(VLOOKUP(A10,'20'!$E$9:$I$9,2,FALSE),\"-\")","v":"-"},{"$f":"IFERROR(VLOOKUP(A10,'20'!E9:I9,4,FALSE),\"-\")","v":"-"}]
[null,{"$f":"IFERROR(VLOOKUP(A10,'20'!$E$10:$I$10,2,FALSE),\"-\")","v":"-"},{"$f":"IFERROR(VLOOKUP(A10,'20'!E10:I10,4,FALSE),\"-\")","v":"-"}]
[null,{"$f":"IFERROR(VLOOKUP(A10,'20'!$E$11:$I$11,2,FALSE),\"-\")","v":"-"},{"$f":"IFERROR(VLOOKUP(A10,'20'!E11:I11,4,FALSE),\"-\")","v":"-"}]
[null,{"$f":"IFERROR(VLOOKUP(A10,'20'!$E$12:$I$12,2,FALSE),\"-\")","v":"-"},{"$f":"IFERROR(VLOOKUP(A10,'20'!E12:I12,4,FALSE),\"-\")","v":"-"}]
[null,{"$f":"IFERROR(VLOOKUP(A10,'20'!$E$13:$I$13,2,FALSE),\"-\")","v":"-"},{"$f":"IFERROR(VLOOKUP(A10,'20'!E13:I13,4,FALSE),\"-\")","v":"-"}]
[null,{"$f":"IFERROR(VLOOKUP(A10,'20'!$E$14:$I$14,2,FALSE),\"-\")","v":"-"},{"$f":"IFERROR(VLOOKUP(A10,'20'!E14:I14,4,FALSE),\"-\")","v":"-"}]
[null,{"$f":"IFERROR(VLOOKUP(A10,'20'!$E$15:$I$15,2,FALSE),\"-\")","v":"-"},{"$f":"IFERROR(VLOOKUP(A10,'20'!E15:I15,4,FALSE),\"-\")","v":"-"}]
[null,{"$f":"IFERROR(VLOOKUP(A10,'20'!$E$16:$I$16,2,FALSE),\"-\")","v":"-"},{"$f":"IFERROR(VLOOKUP(A10,'20'!E16:I16,4,FALSE),\"-\")","v":"-"}]
[null,{"$f":"IFERROR(VLOOKUP(A10,'20'!$E$17:$I$17,2,FALSE),\"-\")","v":"-"},{"$f":"IFERROR(VLOOKUP(A10,'20'!E17:I17,4,FALSE),\"-\")","v":"-"}]
[null,{"$f":"IFERROR(VLOOKUP(A10,'20'!$E$18:$I$18,2,FALSE),\"-\")","v":"-"},{"$f":"IFERROR(VLOOKUP(A10,'20'!E18:I18,4,FALSE),\"-\")","v":"-"}]
[null,{"$f":"IFERROR(VLOOKUP(A10,'20'!$E$19:$I$19,2,FALSE),\"-\")","v":"-"},{"$f":"IFERROR(VLOOKUP(A10,'20'!E19:I19,4,FALSE),\"-\")","v":"-"}]
[null,{"$f":"IFERROR(VLOOKUP(A10,'20'!$E$20:$I$20,2,FALSE),\"-\")","v":"-"},{"$f":"IFERROR(VLOOKUP(A10,'20'!E20:I20,4,FALSE),\"-\")","v":"-"}]
[null,{"$f":"IFERROR(VLOOKUP(A10,'20'!$E$21:$I$21,2,FALSE),\"-\")","v":"-"},{"$f":"IFERROR(VLOOKUP(A10,'20'!E21:I21,4,FALSE),\"-\")","v":"-"}]
[null,{"$f":"IFERROR(VLOOKUP(A10,'20'!$E$22:$I$22,2,FALSE),\"-\")","v":"-"},{"$f":"IFERROR(VLOOKUP(A10,'20'!E22:I22,4,FALSE),\"-\")","v":"-"}]
[null,{"$f":"IFERROR(VLOOKUP(A10,'20'!$E$23:$I$23,2,FALSE),\"-\")","v":"-"},{"$f":"IFERROR(VLOOKUP(A10,'20'!E23:I23,4,FALSE),\"-\")","v":"-"}]
[null,{"$f":"IFERROR(VLOOKUP(A10,'20'!$E$24:$I$24,2,FALSE),\"-\")","v":"-"},{"$f":"IFERROR(VLOOKUP(A10,'20'!E24:I24,4,FALSE),\"-\")","v":"-"}]
[null,{"$f":"IFERROR(VLOOKUP(A10,'20'!$E$25:$I$25,2,FALSE),\"-\")","v":"-"},{"$f":"IFERROR(VLOOKUP(A10,'20'!E25:I25,4,FALSE),\"-\")","v":"-"}]
[null,{"$f":"IFERROR(VLOOKUP(A10,'20'!$E$26:$I$26,2,FALSE),\"-\")","v":"-"},{"$f":"IFERROR(VLOOKUP(A10,'20'!E26:I26,4,FALSE),\"-\")","v":"-"}]
[null,{"$f":"IFERROR(VLOOKUP(A10,'20'!$E$27:$I$27,2,FALSE),\"-\")","v":"-"},{"$f":"IFERROR(VLOOKUP(A10,'20'!E27:I27,4,FALSE),\"-\")","v":"-"}]
[null,{"$f":"IFERROR(VLOOKUP(A10,'20'!$E$28:$I$28,2,FALSE),\"-\")","v":"-"},{"$f":"IFERROR(VLOOKUP(A10,'20'!E28:I28,4,FALSE),\"-\")","v":"-"}]
[null,{"$f":"IFERROR(VLOOKUP(A10,'20'!$E$29:$I$29,2,FALSE),\"-\")","v":"-"},{"$f":"IFERROR(VLOOKUP(A10,'20'!E29:I29,4,FALSE),\"-\")","v":"-"}]
[null,{"$f":"IFERROR(VLOOKUP(A10,'20'!$E$30:$I$30,2,FALSE),\"-\")","v":"-"},{"$f":"IFERROR(VLOOKUP(A10,'20'!E30:I30,4,FALSE),\"-\")","v":"-"}]
[null,{"$f":"IFERROR(VLOOKUP(A10,'20'!$E$31:$I$31,2,FALSE),\"-\")","v":"-"},{"$f":"IFERROR(VLOOKUP(A10,'20'!E31:I31,4,FALSE),\"-\")","v":"-"}]
[null,{"$f":"IFERROR(VLOOKUP(A10,'21'!$E$4:$I$4,2,FALSE),\"-\")","v":"-"},{"$f":"IFERROR(VLOOKUP(A10,'21'!E4:I4,4,FALSE),\"-\")","v":"-"}]
[null,{"$f":"IFERROR(VLOOKUP(A10,'21'!$E$5:$I$5,2,FALSE),\"-\")","v":"-"},{"$f":"IFERROR(VLOOKUP(A10,'21'!E5:I5,4,FALSE),\"-\")","v":"-"}]
[null,{"$f":"IFERROR(VLOOKUP(A10,'21'!$E$6:$I$6,2,FALSE),\"-\")","v":"-"},{"$f":"IFERROR(VLOOKUP(A10,'21'!E6:I6,4,FALSE),\"-\")","v":"-"}]
[null,{"$f":"IFERROR(VLOOKUP(A10,'21'!$E$7:$I$7,2,FALSE),\"-\")","v":"-"},{"$f":"IFERROR(VLOOKUP(A10,'21'!E7:I7,4,FALSE),\"-\")","v":"-"}]
[null,{"$f":"IFERROR(VLOOKUP(A10,'21'!$E$8:$I$8,2,FALSE),\"-\")","v":"-"},{"$f":"IFERROR(VLOOKUP(A10,'21'!E8:I8,4,FALSE),\"-\")","v":"-"}]
[null,{"$f":"IFERROR(VLOOKUP(A10,'21'!$E$9:$I$9,2,FALSE),\"-\")","v":"-"},{"$f":"IFERROR(VLOOKUP(A10,'21'!E9:I9,4,FALSE),\"-\")","v":"-"}]
[null,{"$f":"IFERROR(VLOOKUP(A10,'21'!$E$10:$I$10,2,FALSE),\"-\")","v":"-"},{"$f":"IFERROR(VLOOKUP(A10,'21'!E10:I10,4,FALSE),\"-\")","v":"-"}]
[null,{"$f":"IFERROR(VLOOKUP(A10,'21'!$E$11:$I$11,2,FALSE),\"-\")","v":"-"},{"$f":"IFERROR(VLOOKUP(A10,'21'!E11:I11,4,FALSE),\"-\")","v":"-"}]
[null,{"$f":"IFERROR(VLOOKUP(A10,'21'!$E$12:$I$12,2,FALSE),\"-\")","v":"-"},{"$f":"IFERROR(VLOOKUP(A10,'21'!E12:I12,4,FALSE),\"-\")","v":"-"}]
[null,{"$f":"IFERROR(VLOOKUP(A10,'21'!$E$13:$I$13,2,FALSE),\"-\")","v":"-"},{"$f":"IFERROR(VLOOKUP(A10,'21'!E13:I13,4,FALSE),\"-\")","v":"-"}]
[null,{"$f":"IFERROR(VLOOKUP(A10,'21'!$E$14:$I$14,2,FALSE),\"-\")","v":"-"},{"$f":"IFERROR(VLOOKUP(A10,'21'!E14:I14,4,FALSE),\"-\")","v":"-"}]
[null,{"$f":"IFERROR(VLOOKUP(A10,'21'!$E$15:$I$15,2,FALSE),\"-\")","v":"-"},{"$f":"IFERROR(VLOOKUP(A10,'21'!E15:I15,4,FALSE),\"-\")","v":"-"}]
[null,{"$f":"IFERROR(VLOOKUP(A10,'21'!$E$16:$I$16,2,FALSE),\"-\")","v":"-"},{"$f":"IFERROR(VLOOKUP(A10,'21'!E16:I16,4,FALSE),\"-\")","v":"-"}]
[null,{"$f":"IFERROR(VLOOKUP(A10,'21'!$E$17:$I$17,2,FALSE),\"-\")","v":"-"},{"$f":"IFERROR(VLOOKUP(A10,'21'!E17:I17,4,FALSE),\"-\")","v":"-"}]
[null,{"$f":"IFERROR(VLOOKUP(A10,'21'!$E$18:$I$18,2,FALSE),\"-\")","v":"-"},{"$f":"IFERROR(VLOOKUP(A10,'21'!E18:I18,4,FALSE),\"-\")","v":"-"}]
[null,{"$f":"IFERROR(VLOOKUP(A10,'21'!$E$19:$I$19,2,FALSE),\"-\")","v":"-"},{"$f":"IFERROR(VLOOKUP(A10,'21'!E19:I19,4,FALSE),\"-\")","v":"-"}]
[null,{"$f":"IFERROR(VLOOKUP(A10,'21'!$E$20:$I$20,2,FALSE),\"-\")","v":"-"},{"$f":"IFERROR(VLOOKUP(A10,'21'!E20:I20,4,FALSE),\"-\")","v":"-"}]
[null,{"$f":"IFERROR(VLOOKUP(A10,'21'!$E$21:$I$21,2,FALSE),\"-\")","v":"-"},{"$f":"IFERROR(VLOOKUP(A10,'21'!E21:I21,4,FALSE),\"-\")","v":"-"}]
[null,{"$f":"IFERROR(VLOOKUP(A10,'21'!$E$22:$I$22,2,FALSE),\"-\")","v":"-"},{"$f":"IFERROR(VLOOKUP(A10,'21'!E22:I22,4,FALSE),\"-\")","v":"-"}]
[null,{"$f":"IFERROR(VLOOKUP(A10,'21'!$E$23:$I$23,2,FALSE),\"-\")","v":"-"},{"$f":"IFERROR(VLOOKUP(A10,'21'!E23:I23,4,FALSE),\"-\")","v":"-"}]
[null,{"$f":"IFERROR(VLOOKUP(A10,'21'!$E$24:$I$24,2,FALSE),\"-\")","v":"-"},{"$f":"IFERROR(VLOOKUP(A10,'21'!E24:I24,4,FALSE),\"-\")","v":"-"}]
[null,{"$f":"IFERROR(VLOOKUP(A10,'21'!$E$25:$I$25,2,FALSE),\"-\")","v":"-"},{"$f":"IFERROR(VLOOKUP(A10,'21'!E25:I25,4,FALSE),\"-\")","v":"-"}]
[null,{"$f":"IFERROR(VLOOKUP(A10,'21'!$E$26:$I$26,2,FALSE),\"-\")","v":"-"},{"$f":"IFERROR(VLOOKUP(A10,'21'!E26:I26,4,FALSE),\"-\")","v":"-"}]
[null,{"$f":"IFERROR(VLOOKUP(A10,'21'!$E$27:$I$27,2,FALSE),\"-\")","v":"-"},{"$f":"IFERROR(VLOOKUP(A10,'21'!E27:I27,4,FALSE),\"-\")","v":"-"}]
[null,{"$f":"IFERROR(VLOOKUP(A10,'21'!$E$28:$I$28,2,FALSE),\"-\")","v":"-"},{"$f":"IFERROR(VLOOKUP(A10,'21'!E28:I28,4,FALSE),\"-\")","v":"-"}]
[null,{"$f":"IFERROR(VLOOKUP(A10,'21'!$E$29:$I$29,2,FALSE),\"-\")","v":"-"},{"$f":"IFERROR(VLOOKUP(A10,'21'!E29:I29,4,FALSE),\"-\")","v":"-"}]
[null,{"$f":"IFERROR(VLOOKUP(A10,'21'!$E$30:$I$30,2,FALSE),\"-\")","v":"-"},{"$f":"IFERROR(VLOOKUP(A10,'21'!E30:I30,4,FALSE),\"-\")","v":"-"}]
[null,{"$f":"IFERROR(VLOOKUP(A10,'21'!$E$31:$I$31,2,FALSE),\"-\")","v":"-"},{"$f":"IFERROR(VLOOKUP(A10,'21'!E31:I31,4,FALSE),\"-\")","v":"-"}]
[null,{"$f":"IFERROR(VLOOKUP(A10,'22'!$E$4:$I$4,2,FALSE),\"-\")","v":"-"},{"$f":"IFERROR(VLOOKUP(A10,'22'!E4:I4,4,FALSE),\"-\")","v":"-"}]
[null,{"$f":"IFERROR(VLOOKUP(A10,'22'!$E$5:$I$5,2,FALSE),\"-\")","v":"-"},{"$f":"IFERROR(VLOOKUP(A10,'22'!E5:I5,4,FALSE),\"-\")","v":"-"}]
[null,{"$f":"IFERROR(VLOOKUP(A10,'22'!$E$6:$I$6,2,FALSE),\"-\")","v":"-"},{"$f":"IFERROR(VLOOKUP(A10,'22'!E6:I6,4,FALSE),\"-\")","v":"-"}]
[null,{"$f":"IFERROR(VLOOKUP(A10,'22'!$E$7:$I$7,2,FALSE),\"-\")","v":"-"},{"$f":"IFERROR(VLOOKUP(A10,'22'!E7:I7,4,FALSE),\"-\")","v":"-"}]
[null,{"$f":"IFERROR(VLOOKUP(A10,'22'!$E$8:$I$8,2,FALSE),\"-\")","v":"-"},{"$f":"IFERROR(VLOOKUP(A10,'22'!E8:I8,4,FALSE),\"-\")","v":"-"}]
[null,{"$f":"IFERROR(VLOOKUP(A10,'22'!$E$9:$I$9,2,FALSE),\"-\")","v":"-"},{"$f":"IFERROR(VLOOKUP(A10,'22'!E9:I9,4,FALSE),\"-\")","v":"-"}]
[null,{"$f":"IFERROR(VLOOKUP(A10,'22'!$E$10:$I$10,2,FALSE),\"-\")","v":"-"},{"$f":"IFERROR(VLOOKUP(A10,'22'!E10:I10,4,FALSE),\"-\")","v":"-"}]
[null,{"$f":"IFERROR(VLOOKUP(A10,'22'!$E$11:$I$11,2,FALSE),\"-\")","v":"-"},{"$f":"IFERROR(VLOOKUP(A10,'22'!E11:I11,4,FALSE),\"-\")","v":"-"}]
[null,{"$f":"IFERROR(VLOOKUP(A10,'22'!$E$12:$I$12,2,FALSE),\"-\")","v":"-"},{"$f":"IFERROR(VLOOKUP(A10,'22'!E12:I12,4,FALSE),\"-\")","v":"-"}]
[null,{"$f":"IFERROR(VLOOKUP(A10,'22'!$E$13:$I$13,2,FALSE),\"-\")","v":"-"},{"$f":"IFERROR(VLOOKUP(A10,'22'!E13:I13,4,FALSE),\"-\")","v":"-"}]
[null,{"$f":"IFERROR(VLOOKUP(A10,'22'!$E$14:$I$14,2,FALSE),\"-\")","v":"-"},{"$f":"IFERROR(VLOOKUP(A10,'22'!E14:I14,4,FALSE),\"-\")","v":"-"}]
[null,{"$f":"IFERROR(VLOOKUP(A10,'22'!$E$15:$I$15,2,FALSE),\"-\")","v":"-"},{"$f":"IFERROR(VLOOKUP(A10,'22'!E15:I15,4,FALSE),\"-\")","v":"-"}]
[null,{"$f":"IFERROR(VLOOKUP(A10,'22'!$E$16:$I$16,2,FALSE),\"-\")","v":"-"},{"$f":"IFERROR(VLOOKUP(A10,'22'!E16:I16,4,FALSE),\"-\")","v":"-"}]
[null,{"$f":"IFERROR(VLOOKUP(A10,'22'!$E$17:$I$17,2,FALSE),\"-\")","v":"-"},{"$f":"IFERROR(VLOOKUP(A10,'22'!E17:I17,4,FALSE),\"-\")","v":"-"}]
[null,{"$f":"IFERROR(VLOOKUP(A10,'22'!$E$18:$I$18,2,FALSE),\"-\")","v":"-"},{"$f":"IFERROR(VLOOKUP(A10,'22'!E18:I18,4,FALSE),\"-\")","v":"-"}]
[null,{"$f":"IFERROR(VLOOKUP(A10,'22'!$E$19:$I$19,2,FALSE),\"-\")","v":"-"},{"$f":"IFERROR(VLOOKUP(A10,'22'!E19:I19,4,FALSE),\"-\")","v":"-"}]
[null,{"$f":"IFERROR(VLOOKUP(A10,'22'!$E$20:$I$20,2,FALSE),\"-\")","v":"-"},{"$f":"IFERROR(VLOOKUP(A10,'22'!E20:I20,4,FALSE),\"-\")","v":"-"}]
[null,{"$f":"IFERROR(VLOOKUP(A10,'22'!$E$21:$I$21,2,FALSE),\"-\")","v":"-"},{"$f":"IFERROR(VLOOKUP(A10,'22'!E21:I21,4,FALSE),\"-\")","v":"-"}]
[null,{"$f":"IFERROR(VLOOKUP(A10,'22'!$E$22:$I$22,2,FALSE),\"-\")","v":"-"},{"$f":"IFERROR(VLOOKUP(A10,'22'!E22:I22,4,FALSE),\"-\")","v":"-"}]
[null,{"$f":"IFERROR(VLOOKUP(A10,'22'!$E$23:$I$23,2,FALSE),\"-\")","v":"-"},{"$f":"IFERROR(VLOOKUP(A10,'22'!E23:I23,4,FALSE),\"-\")","v":"-"}]
[null,{"$f":"IFERROR(VLOOKUP(A10,'22'!$E$24:$I$24,2,FALSE),\"-\")","v":"-"},{"$f":"IFERROR(VLOOKUP(A10,'22'!E24:I24,4,FALSE),\"-\")","v":"-"}]
[null,{"$f":"IFERROR(VLOOKUP(A10,'22'!$E$25:$I$25,2,FALSE),\"-\")","v":"-"},{"$f":"IFERROR(VLOOKUP(A10,'22'!E25:I25,4,FALSE),\"-\")","v":"-"}]
[null,{"$f":"IFERROR(VLOOKUP(A10,'22'!$E$26:$I$26,2,FALSE),\"-\")","v":"-"},{"$f":"IFERROR(VLOOKUP(A10,'22'!E26:I26,4,FALSE),\"-\")","v":"-"}]
[null,{"$f":"IFERROR(VLOOKUP(A10,'22'!$E$27:$I$27,2,FALSE),\"-\")","v":"-"},{"$f":"IFERROR(VLOOKUP(A10,'22'!E27:I27,4,FALSE),\"-\")","v":"-"}]
[null,{"$f":"IFERROR(VLOOKUP(A10,'22'!$E$28:$I$28,2,FALSE),\"-\")","v":"-"},{"$f":"IFERROR(VLOOKUP(A10,'22'!E28:I28,4,FALSE),\"-\")","v":"-"}]
[null,{"$f":"IFERROR(VLOOKUP(A10,'22'!$E$29:$I$29,2,FALSE),\"-\")","v":"-"},{"$f":"IFERROR(VLOOKUP(A10,'22'!E29:I29,4,FALSE),\"-\")","v":"-"}]
[null,{"$f":"IFERROR(VLOOKUP(A10,'22'!$E$30:$I$30,2,FALSE),\"-\")","v":"-"},{"$f":"IFERROR(VLOOKUP(A10,'22'!E30:I30,4,FALSE),\"-\")","v":"-"}]
[null,{"$f":"IFERROR(VLOOKUP(A10,'22'!$E$31:$I$31,2,FALSE),\"-\")","v":"-"},{"$f":"IFERROR(VLOOKUP(A10,'22'!E31:I31,4,FALSE),\"-\")","v":"-"}]
[null,{"$f":"IFERROR(VLOOKUP(A10,'23'!$E$4:$I$4,2,FALSE),\"-\")","v":"-"},{"$f":"IFERROR(VLOOKUP(A10,'23'!E4:I4,4,FALSE),\"-\")","v":"-"}]
[null,{"$f":"IFERROR(VLOOKUP(A10,'23'!$E$5:$I$5,2,FALSE),\"-\")","v":"-"},{"$f":"IFERROR(VLOOKUP(A10,'23'!E5:I5,4,FALSE),\"-\")","v":"-"}]
[null,{"$f":"IFERROR(VLOOKUP(A10,'23'!$E$6:$I$6,2,FALSE),\"-\")","v":"-"},{"$f":"IFERROR(VLOOKUP(A10,'23'!E6:I6,4,FALSE),\"-\")","v":"-"}]
[null,{"$f":"IFERROR(VLOOKUP(A10,'23'!$E$7:$I$7,2,FALSE),\"-\")","v":"-"},{"$f":"IFERROR(VLOOKUP(A10,'23'!E7:I7,4,FALSE),\"-\")","v":"-"}]
[null,{"$f":"IFERROR(VLOOKUP(A10,'23'!$E$8:$I$8,2,FALSE),\"-\")","v":"-"},{"$f":"IFERROR(VLOOKUP(A10,'23'!E8:I8,4,FALSE),\"-\")","v":"-"}]
[null,{"$f":"IFERROR(VLOOKUP(A10,'23'!$E$9:$I$9,2,FALSE),\"-\")","v":"-"},{"$f":"IFERROR(VLOOKUP(A10,'23'!E9:I9,4,FALSE),\"-\")","v":"-"}]
[null,{"$f":"IFERROR(VLOOKUP(A10,'23'!$E$10:$I$10,2,FALSE),\"-\")","v":"-"},{"$f":"IFERROR(VLOOKUP(A10,'23'!E10:I10,4,FALSE),\"-\")","v":"-"}]
[null,{"$f":"IFERROR(VLOOKUP(A10,'23'!$E$11:$I$11,2,FALSE),\"-\")","v":"-"},{"$f":"IFERROR(VLOOKUP(A10,'23'!E11:I11,4,FALSE),\"-\")","v":"-"}]
[null,{"$f":"IFERROR(VLOOKUP(A10,'23'!$E$12:$I$12,2,FALSE),\"-\")","v":"-"},{"$f":"IFERROR(VLOOKUP(A10,'23'!E12:I12,4,FALSE),\"-\")","v":"-"}]
[null,{"$f":"IFERROR(VLOOKUP(A10,'23'!$E$13:$I$13,2,FALSE),\"-\")","v":"-"},{"$f":"IFERROR(VLOOKUP(A10,'23'!E13:I13,4,FALSE),\"-\")","v":"-"}]
[null,{"$f":"IFERROR(VLOOKUP(A10,'23'!$E$14:$I$14,2,FALSE),\"-\")","v":"-"},{"$f":"IFERROR(VLOOKUP(A10,'23'!E14:I14,4,FALSE),\"-\")","v":"-"}]
[null,{"$f":"IFERROR(VLOOKUP(A10,'23'!$E$15:$I$15,2,FALSE),\"-\")","v":"-"},{"$f":"IFERROR(VLOOKUP(A10,'23'!E15:I15,4,FALSE),\"-\")","v":"-"}]
[null,{"$f":"IFERROR(VLOOKUP(A10,'23'!$E$16:$I$16,2,FALSE),\"-\")","v":"-"},{"$f":"IFERROR(VLOOKUP(A10,'23'!E16:I16,4,FALSE),\"-\")","v":"-"}]
[null,{"$f":"IFERROR(VLOOKUP(A10,'23'!$E$17:$I$17,2,FALSE),\"-\")","v":"-"},{"$f":"IFERROR(VLOOKUP(A10,'23'!E17:I17,4,FALSE),\"-\")","v":"-"}]
[null,{"$f":"IFERROR(VLOOKUP(A10,'23'!$E$18:$I$18,2,FALSE),\"-\")","v":"-"},{"$f":"IFERROR(VLOOKUP(A10,'23'!E18:I18,4,FALSE),\"-\")","v":"-"}]
[null,{"$f":"IFERROR(VLOOKUP(A10,'23'!$E$19:$I$19,2,FALSE),\"-\")","v":"-"},{"$f":"IFERROR(VLOOKUP(A10,'23'!E19:I19,4,FALSE),\"-\")","v":"-"}]
[null,{"$f":"IFERROR(VLOOKUP(A10,'23'!$E$20:$I$20,2,FALSE),\"-\")","v":"-"},{"$f":"IFERROR(VLOOKUP(A10,'23'!E20:I20,4,FALSE),\"-\")","v":"-"}]
[null,{"$f":"IFERROR(VLOOKUP(A10,'23'!$E$21:$I$21,2,FALSE),\"-\")","v":"-"},{"$f":"IFERROR(VLOOKUP(A10,'23'!E21:I21,4,FALSE),\"-\")","v":"-"}]
[null,{"$f":"IFERROR(VLOOKUP(A10,'23'!$E$22:$I$22,2,FALSE),\"-\")","v":"-"},{"$f":"IFERROR(VLOOKUP(A10,'23'!E22:I22,4,FALSE),\"-\")","v":"-"}]
[null,{"$f":"IFERROR(VLOOKUP(A10,'23'!$E$23:$I$23,2,FALSE),\"-\")","v":"-"},{"$f":"IFERROR(VLOOKUP(A10,'23'!E23:I23,4,FALSE),\"-\")","v":"-"}]
[null,{"$f":"IFERROR(VLOOKUP(A10,'23'!$E$24:$I$24,2,FALSE),\"-\")","v":"-"},{"$f":"IFERROR(VLOOKUP(A10,'23'!E24:I24,4,FALSE),\"-\")","v":"-"}]
[null,{"$f":"IFERROR(VLOOKUP(A10,'23'!$E$25:$I$25,2,FALSE),\"-\")","v":"-"},{"$f":"IFERROR(VLOOKUP(A10,'23'!E25:I25,4,FALSE),\"-\")","v":"-"}]
[null,{"$f":"IFERROR(VLOOKUP(A10,'23'!$E$26:$I$26,2,FALSE),\"-\")","v":"-"},{"$f":"IFERROR(VLOOKUP(A10,'23'!E26:I26,4,FALSE),\"-\")","v":"-"}]
[null,{"$f":"IFERROR(VLOOKUP(A10,'23'!$E$27:$I$27,2,FALSE),\"-\")","v":"-"},{"$f":"IFERROR(VLOOKUP(A10,'23'!E27:I27,4,FALSE),\"-\")","v":"-"}]
[null,{"$f":"IFERROR(VLOOKUP(A10,'23'!$E$28:$I$28,2,FALSE),\"-\")","v":"-"},{"$f":"IFERROR(VLOOKUP(A10,'23'!E28:I28,4,FALSE),\"-\")","v":"-"}]
[null,{"$f":"IFERROR(VLOOKUP(A10,'23'!$E$29:$I$29,2,FALSE),\"-\")","v":"-"},{"$f":"IFERROR(VLOOKUP(A10,'23'!E29:I29,4,FALSE),\"-\")","v":"-"}]
[null,{"$f":"IFERROR(VLOOKUP(A10,'23'!$E$30:$I$30,2,FALSE),\"-\")","v":"-"},{"$f":"IFERROR(VLOOKUP(A10,'23'!E30:I30,4,FALSE),\"-\")","v":"-"}]
[null,{"$f":"IFERROR(VLOOKUP(A10,'23'!$E$31:$I$31,2,FALSE),\"-\")","v":"-"},{"$f":"IFERROR(VLOOKUP(A10,'23'!E31:I31,4,FALSE),\"-\")","v":"-"}]
[null,{"$f":"IFERROR(VLOOKUP(A10,'24'!$E$4:$I$4,2,FALSE),\"-\")","v":"-"},{"$f":"IFERROR(VLOOKUP(A10,'24'!E4:I4,4,FALSE),\"-\")","v":"-"}]
[null,{"$f":"IFERROR(VLOOKUP(A10,'24'!$E$5:$I$5,2,FALSE),\"-\")","v":"-"},{"$f":"IFERROR(VLOOKUP(A10,'24'!E5:I5,4,FALSE),\"-\")","v":"-"}]
[null,{"$f":"IFERROR(VLOOKUP(A10,'24'!$E$6:$I$6,2,FALSE),\"-\")","v":"-"},{"$f":"IFERROR(VLOOKUP(A10,'24'!E6:I6,4,FALSE),\"-\")","v":"-"}]
[null,{"$f":"IFERROR(VLOOKUP(A10,'24'!$E$7:$I$7,2,FALSE),\"-\")","v":"-"},{"$f":"IFERROR(VLOOKUP(A10,'24'!E7:I7,4,FALSE),\"-\")","v":"-"}]
[null,{"$f":"IFERROR(VLOOKUP(A10,'24'!$E$8:$I$8,2,FALSE),\"-\")","v":"-"},{"$f":"IFERROR(VLOOKUP(A10,'24'!E8:I8,4,FALSE),\"-\")","v":"-"}]
[null,{"$f":"IFERROR(VLOOKUP(A10,'24'!$E$9:$I$9,2,FALSE),\"-\")","v":"-"},{"$f":"IFERROR(VLOOKUP(A10,'24'!E9:I9,4,FALSE),\"-\")","v":"-"}]
[null,{"$f":"IFERROR(VLOOKUP(A10,'24'!$E$10:$I$10,2,FALSE),\"-\")","v":"-"},{"$f":"IFERROR(VLOOKUP(A10,'24'!E10:I10,4,FALSE),\"-\")","v":"-"}]
[null,{"$f":"IFERROR(VLOOKUP(A10,'24'!$E$11:$I$11,2,FALSE),\"-\")","v":"-"},{"$f":"IFERROR(VLOOKUP(A10,'24'!E11:I11,4,FALSE),\"-\")","v":"-"}]
[null,{"$f":"IFERROR(VLOOKUP(A10,'24'!$E$12:$I$12,2,FALSE),\"-\")","v":"-"},{"$f":"IFERROR(VLOOKUP(A10,'24'!E12:I12,4,FALSE),\"-\")","v":"-"}]
[null,{"$f":"IFERROR(VLOOKUP(A10,'24'!$E$13:$I$13,2,FALSE),\"-\")","v":"-"},{"$f":"IFERROR(VLOOKUP(A10,'24'!E13:I13,4,FALSE),\"-\")","v":"-"}]
[null,{"$f":"IFERROR(VLOOKUP(A10,'24'!$E$14:$I$14,2,FALSE),\"-\")","v":"-"},{"$f":"IFERROR(VLOOKUP(A10,'24'!E14:I14,4,FALSE),\"-\")","v":"-"}]
[null,{"$f":"IFERROR(VLOOKUP(A10,'24'!$E$15:$I$15,2,FALSE),\"-\")","v":"-"},{"$f":"IFERROR(VLOOKUP(A10,'24'!E15:I15,4,FALSE),\"-\")","v":"-"}]
[null,{"$f":"IFERROR(VLOOKUP(A10,'24'!$E$16:$I$16,2,FALSE),\"-\")","v":"-"},{"$f":"IFERROR(VLOOKUP(A10,'24'!E16:I16,4,FALSE),\"-\")","v":"-"}]
[null,{"$f":"IFERROR(VLOOKUP(A10,'24'!$E$17:$I$17,2,FALSE),\"-\")","v":"-"},{"$f":"IFERROR(VLOOKUP(A10,'24'!E17:I17,4,FALSE),\"-\")","v":"-"}]
[null,{"$f":"IFERROR(VLOOKUP(A10,'24'!$E$18:$I$18,2,FALSE),\"-\")","v":"-"},{"$f":"IFERROR(VLOOKUP(A10,'24'!E18:I18,4,FALSE),\"-\")","v":"-"}]
[null,{"$f":"IFERROR(VLOOKUP(A10,'24'!$E$19:$I$19,2,FALSE),\"-\")","v":"-"},{"$f":"IFERROR(VLOOKUP(A10,'24'!E19:I19,4,FALSE),\"-\")","v":"-"}]
[null,{"$f":"IFERROR(VLOOKUP(A10,'24'!$E$20:$I$20,2,FALSE),\"-\")","v":"-"},{"$f":"IFERROR(VLOOKUP(A10,'24'!E20:I20,4,FALSE),\"-\")","v":"-"}]
[null,{"$f":"IFERROR(VLOOKUP(A10,'24'!$E$21:$I$21,2,FALSE),\"-\")","v":"-"},{"$f":"IFERROR(VLOOKUP(A10,'24'!E21:I21,4,FALSE),\"-\")","v":"-"}]
[null,{"$f":"IFERROR(VLOOKUP(A10,'24'!$E$22:$I$22,2,FALSE),\"-\")","v":"-"},{"$f":"IFERROR(VLOOKUP(A10,'24'!E22:I22,4,FALSE),\"-\")","v":"-"}]
[null,{"$f":"IFERROR(VLOOKUP(A10,'24'!$E$23:$I$23,2,FALSE),\"-\")","v":"-"},{"$f":"IFERROR(VLOOKUP(A10,'24'!E23:I23,4,FALSE),\"-\")","v":"-"}]
[null,{"$f":"IFERROR(VLOOKUP(A10,'24'!$E$24:$I$24,2,FALSE),\"-\")","v":"-"},{"$f":"IFERROR(VLOOKUP(A10,'24'!E24:I24,4,FALSE),\"-\")","v":"-"}]
[null,{"$f":"IFERROR(VLOOKUP(A10,'24'!$E$25:$I$25,2,FALSE),\"-\")","v":"-"},{"$f":"IFERROR(VLOOKUP(A10,'24'!E25:I25,4,FALSE),\"-\")","v":"-"}]
[null,{"$f":"IFERROR(VLOOKUP(A10,'24'!$E$26:$I$26,2,FALSE),\"-\")","v":"-"},{"$f":"IFERROR(VLOOKUP(A10,'24'!E26:I26,4,FALSE),\"-\")","v":"-"}]
[null,{"$f":"IFERROR(VLOOKUP(A10,'24'!$E$27:$I$27,2,FALSE),\"-\")","v":"-"},{"$f":"IFERROR(VLOOKUP(A10,'24'!E27:I27,4,FALSE),\"-\")","v":"-"}]
[null,{"$f":"IFERROR(VLOOKUP(A10,'24'!$E$28:$I$28,2,FALSE),\"-\")","v":"-"},{"$f":"IFERROR(VLOOKUP(A10,'24'!E28:I28,4,FALSE),\"-\")","v":"-"}]
[null,{"$f":"IFERROR(VLOOKUP(A10,'24'!$E$29:$I$29,2,FALSE),\"-\")","v":"-"},{"$f":"IFERROR(VLOOKUP(A10,'24'!E29:I29,4,FALSE),\"-\")","v":"-"}]
[null,{"$f":"IFERROR(VLOOKUP(A10,'24'!$E$30:$I$30,2,FALSE),\"-\")","v":"-"},{"$f":"IFERROR(VLOOKUP(A10,'24'!E30:I30,4,FALSE),\"-\")","v":"-"}]
[null,{"$f":"IFERROR(VLOOKUP(A10,'24'!$E$31:$I$31,2,FALSE),\"-\")","v":"-"},{"$f":"IFERROR(VLOOKUP(A10,'24'!E31:I31,4,FALSE),\"-\")","v":"-"}]
[null,{"$f":"IFERROR(VLOOKUP(A10,'25'!$E$4:$I$4,2,FALSE),\"-\")","v":"-"},{"$f":"IFERROR(VLOOKUP(A10,'25'!E4:I4,4,FALSE),\"-\")","v":"-"}]
[null,{"$f":"IFERROR(VLOOKUP(A10,'25'!$E$5:$I$5,2,FALSE),\"-\")","v":"-"},{"$f":"IFERROR(VLOOKUP(A10,'25'!E5:I5,4,FALSE),\"-\")","v":"-"}]
[null,{"$f":"IFERROR(VLOOKUP(A10,'25'!$E$6:$I$6,2,FALSE),\"-\")","v":"-"},{"$f":"IFERROR(VLOOKUP(A10,'25'!E6:I6,4,FALSE),\"-\")","v":"-"}]
[null,{"$f":"IFERROR(VLOOKUP(A10,'25'!$E$7:$I$7,2,FALSE),\"-\")","v":"-"},{"$f":"IFERROR(VLOOKUP(A10,'25'!E7:I7,4,FALSE),\"-\")","v":"-"}]
[null,{"$f":"IFERROR(VLOOKUP(A10,'25'!$E$8:$I$8,2,FALSE),\"-\")","v":"-"},{"$f":"IFERROR(VLOOKUP(A10,'25'!E8:I8,4,FALSE),\"-\")","v":"-"}]
[null,{"$f":"IFERROR(VLOOKUP(A10,'25'!$E$9:$I$9,2,FALSE),\"-\")","v":"-"},{"$f":"IFERROR(VLOOKUP(A10,'25'!E9:I9,4,FALSE),\"-\")","v":"-"}]
[null,{"$f":"IFERROR(VLOOKUP(A10,'25'!$E$10:$I$10,2,FALSE),\"-\")","v":"-"},{"$f":"IFERROR(VLOOKUP(A10,'25'!E10:I10,4,FALSE),\"-\")","v":"-"}]
[null,{"$f":"IFERROR(VLOOKUP(A10,'25'!$E$11:$I$11,2,FALSE),\"-\")","v":"-"},{"$f":"IFERROR(VLOOKUP(A10,'25'!E11:I11,4,FALSE),\"-\")","v":"-"}]
[null,{"$f":"IFERROR(VLOOKUP(A10,'25'!$E$12:$I$12,2,FALSE),\"-\")","v":"-"},{"$f":"IFERROR(VLOOKUP(A10,'25'!E12:I12,4,FALSE),\"-\")","v":"-"}]
[null,{"$f":"IFERROR(VLOOKUP(A10,'25'!$E$13:$I$13,2,FALSE),\"-\")","v":"-"},{"$f":"IFERROR(VLOOKUP(A10,'25'!E13:I13,4,FALSE),\"-\")","v":"-"}]
[null,{"$f":"IFERROR(VLOOKUP(A10,'25'!$E$14:$I$14,2,FALSE),\"-\")","v":"-"},{"$f":"IFERROR(VLOOKUP(A10,'25'!E14:I14,4,FALSE),\"-\")","v":"-"}]
[null,{"$f":"IFERROR(VLOOKUP(A10,'25'!$E$15:I15,2,FALSE),\"-\")","v":"-"},{"$f":"IFERROR(VLOOKUP(A10,'25'!E15:I15,4,FALSE),\"-\")","v":"-"}]
[null,{"$f":"IFERROR(VLOOKUP(A10,'25'!$E$16:$I$16,2,FALSE),\"-\")","v":"-"},{"$f":"IFERROR(VLOOKUP(A10,'25'!E16:I16,4,FALSE),\"-\")","v":"-"}]
[null,{"$f":"IFERROR(VLOOKUP(A10,'25'!$E$17:$I$17,2,FALSE),\"-\")","v":"-"},{"$f":"IFERROR(VLOOKUP(A10,'25'!E17:I17,4,FALSE),\"-\")","v":"-"}]
[null,{"$f":"IFERROR(VLOOKUP(A10,'25'!$E$18:$I$18,2,FALSE),\"-\")","v":"-"},{"$f":"IFERROR(VLOOKUP(A10,'25'!E18:I18,4,FALSE),\"-\")","v":"-"}]
[null,{"$f":"IFERROR(VLOOKUP(A10,'25'!$E$19:$I$19,2,FALSE),\"-\")","v":"-"},{"$f":"IFERROR(VLOOKUP(A10,'25'!E19:I19,4,FALSE),\"-\")","v":"-"}]
[null,{"$f":"IFERROR(VLOOKUP(A10,'25'!$E$20:$I$20,2,FALSE),\"-\")","v":"-"},{"$f":"IFERROR(VLOOKUP(A10,'25'!E20:I20,4,FALSE),\"-\")","v":"-"}]
[null,{"$f":"IFERROR(VLOOKUP(A10,'25'!$E$21:$I$21,2,FALSE),\"-\")","v":"-"},{"$f":"IFERROR(VLOOKUP(A10,'25'!E21:I21,4,FALSE),\"-\")","v":"-"}]
[null,{"$f":"IFERROR(VLOOKUP(A10,'25'!$E$22:$I$22,2,FALSE),\"-\")","v":"-"},{"$f":"IFERROR(VLOOKUP(A10,'25'!E22:I22,4,FALSE),\"-\")","v":"-"}]
[null,{"$f":"IFERROR(VLOOKUP(A10,'25'!$E$23:$I$23,2,FALSE),\"-\")","v":"-"},{"$f":"IFERROR(VLOOKUP(A10,'25'!E23:I23,4,FALSE),\"-\")","v":"-"}]
[null,{"$f":"IFERROR(VLOOKUP(A10,'25'!$E$24:$I$24,2,FALSE),\"-\")","v":"-"},{"$f":"IFERROR(VLOOKUP(A10,'25'!E24:I24,4,FALSE),\"-\")","v":"-"}]
[null,{"$f":"IFERROR(VLOOKUP(A10,'25'!$E$25:$I$25,2,FALSE),\"-\")","v":"-"},{"$f":"IFERROR(VLOOKUP(A10,'25'!E25:I25,4,FALSE),\"-\")","v":"-"}]
[null,{"$f":"IFERROR(VLOOKUP(A10,'25'!$E$26:$I$26,2,FALSE),\"-\")","v":"-"},{"$f":"IFERROR(VLOOKUP(A10,'25'!E26:I26,4,FALSE),\"-\")","v":"-"}]
[null,{"$f":"IFERROR(VLOOKUP(A10,'25'!$E$27:$I$27,2,FALSE),\"-\")","v":"-"},{"$f":"IFERROR(VLOOKUP(A10,'25'!E27:I27,4,FALSE),\"-\")","v":"-"}]
[null,{"$f":"IFERROR(VLOOKUP(A10,'25'!$E$28:$I$28,2,FALSE),\"-\")","v":"-"},{"$f":"IFERROR(VLOOKUP(A10,'25'!E28:I28,4,FALSE),\"-\")","v":"-"}]
[null,{"$f":"IFERROR(VLOOKUP(A10,'25'!$E$29:$I$29,2,FALSE),\"-\")","v":"-"},{"$f":"IFERROR(VLOOKUP(A10,'25'!E29:I29,4,FALSE),\"-\")","v":"-"}]
[null,{"$f":"IFERROR(VLOOKUP(A10,'25'!$E$30:$I$30,2,FALSE),\"-\")","v":"-"},{"$f":"IFERROR(VLOOKUP(A10,'25'!E30:I30,4,FALSE),\"-\")","v":"-"}]
[null,{"$f":"IFERROR(VLOOKUP(A10,'25'!$E$31:$I$31,2,FALSE),\"-\")","v":"-"},{"$f":"IFERROR(VLOOKUP(A10,'25'!E31:I31,4,FALSE),\"-\")","v":"-"}]
[null,{"$f":"IFERROR(VLOOKUP(A10,'26'!$E$4:$I$4,2,FALSE),\"-\")","v":"-"},{"$f":"IFERROR(VLOOKUP(A10,'26'!E4:I4,4,FALSE),\"-\")","v":"-"}]
[null,{"$f":"IFERROR(VLOOKUP(A10,'26'!$E$5:$I$5,2,FALSE),\"-\")","v":"-"},{"$f":"IFERROR(VLOOKUP(A10,'26'!E5:I5,4,FALSE),\"-\")","v":"-"}]
[null,{"$f":"IFERROR(VLOOKUP(A10,'26'!$E$6:$I$6,2,FALSE),\"-\")","v":"-"},{"$f":"IFERROR(VLOOKUP(A10,'26'!E6:I6,4,FALSE),\"-\")","v":"-"}]
[null,{"$f":"IFERROR(VLOOKUP(A10,'26'!$E$7:$I$7,2,FALSE),\"-\")","v":"-"},{"$f":"IFERROR(VLOOKUP(A10,'26'!E7:I7,4,FALSE),\"-\")","v":"-"}]
[null,{"$f":"IFERROR(VLOOKUP(A10,'26'!$E$8:$I$8,2,FALSE),\"-\")","v":"-"},{"$f":"IFERROR(VLOOKUP(A10,'26'!E8:I8,4,FALSE),\"-\")","v":"-"}]
[null,{"$f":"IFERROR(VLOOKUP(A10,'26'!$E$9:$I$9,2,FALSE),\"-\")","v":"-"},{"$f":"IFERROR(VLOOKUP(A10,'26'!E9:I9,4,FALSE),\"-\")","v":"-"}]
[null,{"$f":"IFERROR(VLOOKUP(A10,'26'!$E$10:$I$10,2,FALSE),\"-\")","v":"-"},{"$f":"IFERROR(VLOOKUP(A10,'26'!E10:I10,4,FALSE),\"-\")","v":"-"}]
[null,{"$f":"IFERROR(VLOOKUP(A10,'26'!$E$11:$I$11,2,FALSE),\"-\")","v":"-"},{"$f":"IFERROR(VLOOKUP(A10,'26'!E11:I11,4,FALSE),\"-\")","v":"-"}]
[null,{"$f":"IFERROR(VLOOKUP(A10,'26'!$E$12:$I$12,2,FALSE),\"-\")","v":"-"},{"$f":"IFERROR(VLOOKUP(A10,'26'!E12:I12,4,FALSE),\"-\")","v":"-"}]
[null,{"$f":"IFERROR(VLOOKUP(A10,'26'!$E$13:$I$13,2,FALSE),\"-\")","v":"-"},{"$f":"IFERROR(VLOOKUP(A10,'26'!E13:I13,4,FALSE),\"-\")","v":"-"}]
[null,{"$f":"IFERROR(VLOOKUP(A10,'26'!$E$14:$I$14,2,FALSE),\"-\")","v":"-"},{"$f":"IFERROR(VLOOKUP(A10,'26'!E14:I14,4,FALSE),\"-\")","v":"-"}]
[null,{"$f":"IFERROR(VLOOKUP(A10,'26'!$E$15:$I$15,2,FALSE),\"-\")","v":"-"},{"$f":"IFERROR(VLOOKUP(A10,'26'!E15:I15,4,FALSE),\"-\")","v":"-"}]
[null,{"$f":"IFERROR(VLOOKUP(A10,'26'!$E$16:$I$16,2,FALSE),\"-\")","v":"-"},{"$f":"IFERROR(VLOOKUP(A10,'26'!E16:I16,4,FALSE),\"-\")","v":"-"}]
[null,{"$f":"IFERROR(VLOOKUP(A10,'26'!$E$17:$I$17,2,FALSE),\"-\")","v":"-"},{"$f":"IFERROR(VLOOKUP(A10,'26'!E17:I17,4,FALSE),\"-\")","v":"-"}]
[null,{"$f":"IFERROR(VLOOKUP(A10,'26'!$E$18:$I$18,2,FALSE),\"-\")","v":"-"},{"$f":"IFERROR(VLOOKUP(A10,'26'!E18:I18,4,FALSE),\"-\")","v":"-"}]
[null,{"$f":"IFERROR(VLOOKUP(A10,'26'!$E$19:$I$19,2,FALSE),\"-\")","v":"-"},{"$f":"IFERROR(VLOOKUP(A10,'26'!E19:I19,4,FALSE),\"-\")","v":"-"}]
[null,{"$f":"IFERROR(VLOOKUP(A10,'26'!$E$20:$I$20,2,FALSE),\"-\")","v":"-"},{"$f":"IFERROR(VLOOKUP(A10,'26'!E20:I20,4,FALSE),\"-\")","v":"-"}]
[null,{"$f":"IFERROR(VLOOKUP(A10,'26'!$E$21:$I$21,2,FALSE),\"-\")","v":"-"},{"$f":"IFERROR(VLOOKUP(A10,'26'!E21:I21,4,FALSE),\"-\")","v":"-"}]
[null,{"$f":"IFERROR(VLOOKUP(A10,'26'!$E$22:$I$22,2,FALSE),\"-\")","v":"-"},{"$f":"IFERROR(VLOOKUP(A10,'26'!E22:I22,4,FALSE),\"-\")","v":"-"}]
[null,{"$f":"IFERROR(VLOOKUP(A10,'26'!$E$23:$I$23,2,FALSE),\"-\")","v":"-"},{"$f":"IFERROR(VLOOKUP(A10,'26'!E23:I23,4,FALSE),\"-\")","v":"-"}]
[null,{"$f":"IFERROR(VLOOKUP(A10,'26'!$E$24:$I$24,2,FALSE),\"-\")","v":"-"},{"$f":"IFERROR(VLOOKUP(A10,'26'!E24:I24,4,FALSE),\"-\")","v":"-"}]
[null,{"$f":"IFERROR(VLOOKUP(A10,'26'!$E$25:$I$25,2,FALSE),\"-\")","v":"-"},{"$f":"IFERROR(VLOOKUP(A10,'26'!E25:I25,4,FALSE),\"-\")","v":"-"}]
[null,{"$f":"IFERROR(VLOOKUP(A10,'26'!$E$26:$I$26,2,FALSE),\"-\")","v":"-"},{"$f":"IFERROR(VLOOKUP(A10,'26'!E26:I26,4,FALSE),\"-\")","v":"-"}]
[null,{"$f":"IFERROR(VLOOKUP(A10,'26'!$E$27:$I$27,2,FALSE),\"-\")","v":"-"},{"$f":"IFERROR(VLOOKUP(A10,'26'!E27:I27,4,FALSE),\"-\")","v":"-"}]
[null,{"$f":"IFERROR(VLOOKUP(A10,'26'!$E$28:$I$28,2,FALSE),\"-\")","v":"-"},{"$f":"IFERROR(VLOOKUP(A10,'26'!E28:I28,4,FALSE),\"-\")","v":"-"}]
[null,{"$f":"IFERROR(VLOOKUP(A10,'26'!E29:$I$29,2,FALSE),\"-\")","v":"-"},{"$f":"IFERROR(VLOOKUP(A10,'26'!E29:I29,4,FALSE),\"-\")","v":"-"}]
[null,{"$f":"IFERROR(VLOOKUP(A10,'26'!$E$30:$I$30,2,FALSE),\"-\")","v":"-"},{"$f":"IFERROR(VLOOKUP(A10,'26'!E30:I30,4,FALSE),\"-\")","v":"-"}]
[null,{"$f":"IFERROR(VLOOKUP(A10,'26'!$E$31:$I$31,2,FALSE),\"-\")","v":"-"},{"$f":"IFERROR(VLOOKUP(A10,'26'!E31:I31,4,FALSE),\"-\")","v":"-"}]
[null,{"$f":"IFERROR(VLOOKUP(A10,'27'!$E$4:$I$4,2,FALSE),\"-\")","v":"-"},{"$f":"IFERROR(VLOOKUP(A10,'27'!E4:I4,4,FALSE),\"-\")","v":"-"}]
[null,{"$f":"IFERROR(VLOOKUP(A10,'27'!$E$5:$I$5,2,FALSE),\"-\")","v":"-"},{"$f":"IFERROR(VLOOKUP(A10,'27'!E5:I5,4,FALSE),\"-\")","v":"-"}]
[null,{"$f":"IFERROR(VLOOKUP(A10,'27'!$E$6:$I$6,2,FALSE),\"-\")","v":"-"},{"$f":"IFERROR(VLOOKUP(A10,'27'!E6:I6,4,FALSE),\"-\")","v":"-"}]
[null,{"$f":"IFERROR(VLOOKUP(A10,'27'!$E$7:$I$7,2,FALSE),\"-\")","v":"-"},{"$f":"IFERROR(VLOOKUP(A10,'27'!E7:I7,4,FALSE),\"-\")","v":"-"}]
[null,{"$f":"IFERROR(VLOOKUP(A10,'27'!$E$8:$I$8,2,FALSE),\"-\")","v":"-"},{"$f":"IFERROR(VLOOKUP(A10,'27'!E8:I8,4,FALSE),\"-\")","v":"-"}]
[null,{"$f":"IFERROR(VLOOKUP(A10,'27'!$E$9:$I$9,2,FALSE),\"-\")","v":"-"},{"$f":"IFERROR(VLOOKUP(A10,'27'!E9:I9,4,FALSE),\"-\")","v":"-"}]
[null,{"$f":"IFERROR(VLOOKUP(A10,'27'!$E$10:$I$10,2,FALSE),\"-\")","v":"-"},{"$f":"IFERROR(VLOOKUP(A10,'27'!E10:I10,4,FALSE),\"-\")","v":"-"}]
[null,{"$f":"IFERROR(VLOOKUP(A10,'27'!$E$11:$I$11,2,FALSE),\"-\")","v":"-"},{"$f":"IFERROR(VLOOKUP(A10,'27'!E11:I11,4,FALSE),\"-\")","v":"-"}]
[null,{"$f":"IFERROR(VLOOKUP(A10,'27'!$E$12:$I$12,2,FALSE),\"-\")","v":"-"},{"$f":"IFERROR(VLOOKUP(A10,'27'!E12:I12,4,FALSE),\"-\")","v":"-"}]
[null,{"$f":"IFERROR(VLOOKUP(A10,'27'!$E$13:$I$13,2,FALSE),\"-\")","v":"-"},{"$f":"IFERROR(VLOOKUP(A10,'27'!E13:I13,4,FALSE),\"-\")","v":"-"}]
[null,{"$f":"IFERROR(VLOOKUP(A10,'27'!$E$14:$I$14,2,FALSE),\"-\")","v":"-"},{"$f":"IFERROR(VLOOKUP(A10,'27'!E14:I14,4,FALSE),\"-\")","v":"-"}]
[null,{"$f":"IFERROR(VLOOKUP(A10,'27'!$E$15:$I$15,2,FALSE),\"-\")","v":"-"},{"$f":"IFERROR(VLOOKUP(A10,'27'!E15:I15,4,FALSE),\"-\")","v":"-"}]
[null,{"$f":"IFERROR(VLOOKUP(A10,'27'!$E$16:$I$16,2,FALSE),\"-\")","v":"-"},{"$f":"IFERROR(VLOOKUP(A10,'27'!E16:I16,4,FALSE),\"-\")","v":"-"}]
[null,{"$f":"IFERROR(VLOOKUP(A10,'27'!$E$17:$I$17,2,FALSE),\"-\")","v":"-"},{"$f":"IFERROR(VLOOKUP(A10,'27'!E17:I17,4,FALSE),\"-\")","v":"-"}]
[null,{"$f":"IFERROR(VLOOKUP(A10,'27'!$E$18:$I$18,2,FALSE),\"-\")","v":"-"},{"$f":"IFERROR(VLOOKUP(A10,'27'!E18:I18,4,FALSE),\"-\")","v":"-"}]
[null,{"$f":"IFERROR(VLOOKUP(A10,'27'!$E$19:$I$19,2,FALSE),\"-\")","v":"-"},{"$f":"IFERROR(VLOOKUP(A10,'27'!E19:I19,4,FALSE),\"-\")","v":"-"}]
[null,{"$f":"IFERROR(VLOOKUP(A10,'27'!$E$20:$I$20,2,FALSE),\"-\")","v":"-"},{"$f":"IFERROR(VLOOKUP(A10,'27'!E20:I20,4,FALSE),\"-\")","v":"-"}]
[null,{"$f":"IFERROR(VLOOKUP(A10,'27'!$E$21:$I$21,2,FALSE),\"-\")","v":"-"},{"$f":"IFERROR(VLOOKUP(A10,'27'!E21:I21,4,FALSE),\"-\")","v":"-"}]
[null,{"$f":"IFERROR(VLOOKUP(A10,'27'!$E$22:$I$22,2,FALSE),\"-\")","v":"-"},{"$f":"IFERROR(VLOOKUP(A10,'27'!E22:I22,4,FALSE),\"-\")","v":"-"}]
[null,{"$f":"IFERROR(VLOOKUP(A10,'27'!$E$23:$I$23,2,FALSE),\"-\")","v":"-"},{"$f":"IFERROR(VLOOKUP(A10,'27'!E23:I23,4,FALSE),\"-\")","v":"-"}]
[null,{"$f":"IFERROR(VLOOKUP(A10,'27'!$E$24:$I$24,2,FALSE),\"-\")","v":"-"},{"$f":"IFERROR(VLOOKUP(A10,'27'!E24:I24,4,FALSE),\"-\")","v":"-"}]
[null,{"$f":"IFERROR(VLOOKUP(A10,'27'!$E$25:$I$25,2,FALSE),\"-\")","v":"-"},{"$f":"IFERROR(VLOOKUP(A10,'27'!E25:I25,4,FALSE),\"-\")","v":"-"}]
[null,{"$f":"IFERROR(VLOOKUP(A10,'27'!$E$26:$I$26,2,FALSE),\"-\")","v":"-"},{"$f":"IFERROR(VLOOKUP(A10,'27'!E26:I26,4,FALSE),\"-\")","v":"-"}]
[null,{"$f":"IFERROR(VLOOKUP(A10,'27'!$E$27:$I$27,2,FALSE),\"-\")","v":"-"},{"$f":"IFERROR(VLOOKUP(A10,'27'!E27:I27,4,FALSE),\"-\")","v":"-"}]
[null,{"$f":"IFERROR(VLOOKUP(A10,'27'!$E$28:$I$28,2,FALSE),\"-\")","v":"-"},{"$f":"IFERROR(VLOOKUP(A10,'27'!E28:I28,4,FALSE),\"-\")","v":"-"}]
[null,{"$f":"IFERROR(VLOOKUP(A10,'27'!$E$29:$I$29,2,FALSE),\"-\")","v":"-"},{"$f":"IFERROR(VLOOKUP(A10,'27'!E29:I29,4,FALSE),\"-\")","v":"-"}]
[null,{"$f":"IFERROR(VLOOKUP(A10,'27'!$E$30:$I$30,2,FALSE),\"-\")","v":"-"},{"$f":"IFERROR(VLOOKUP(A10,'27'!E30:I30,4,FALSE),\"-\")","v":"-"}]
[null,{"$f":"IFERROR(VLOOKUP(A10,'27'!$E$31:$I$31,2,FALSE),\"-\")","v":"-"},{"$f":"IFERROR(VLOOKUP(A10,'27'!E31:I31,4,FALSE),\"-\")","v":"-"}]
[null,{"$f":"IFERROR(VLOOKUP(A10,'28'!$E$4:$I$4,2,FALSE),\"-\")","v":"Bom peixe"},{"$f":"IFERROR(VLOOKUP(A10,'28'!E4:I4,4,FALSE),\"-\")","v":5000}]
[null,{"$f":"IFERROR(VLOOKUP(A10,'28'!$E$5:$I$5,2,FALSE),\"-\")","v":"-"},{"$f":"IFERROR(VLOOKUP(A10,'28'!E5:I5,4,FALSE),\"-\")","v":"-"}]
[null,{"$f":"IFERROR(VLOOKUP(A10,'28'!$E$6:$I$6,2,FALSE),\"-\")","v":"-"},{"$f":"IFERROR(VLOOKUP(A10,'28'!E6:I6,4,FALSE),\"-\")","v":"-"}]
[null,{"$f":"IFERROR(VLOOKUP(A10,'28'!$E$7:$I$7,2,FALSE),\"-\")","v":"-"},{"$f":"IFERROR(VLOOKUP(A10,'28'!E7:I7,4,FALSE),\"-\")","v":"-"}]
[null,{"$f":"IFERROR(VLOOKUP(A10,'28'!$E$8:$I$8,2,FALSE),\"-\")","v":"-"},{"$f":"IFERROR(VLOOKUP(A10,'28'!E8:I8,4,FALSE),\"-\")","v":"-"}]
[null,{"$f":"IFERROR(VLOOKUP(A10,'28'!$E$9:$I$9,2,FALSE),\"-\")","v":"-"},{"$f":"IFERROR(VLOOKUP(A10,'28'!E9:I9,4,FALSE),\"-\")","v":"-"}]
[null,{"$f":"IFERROR(VLOOKUP(A10,'28'!$E$10:$I$10,2,FALSE),\"-\")","v":"-"},{"$f":"IFERROR(VLOOKUP(A10,'28'!E10:I10,4,FALSE),\"-\")","v":"-"}]
[null,{"$f":"IFERROR(VLOOKUP(A10,'28'!$E$11:$I$11,2,FALSE),\"-\")","v":"-"},{"$f":"IFERROR(VLOOKUP(A10,'28'!E11:I11,4,FALSE),\"-\")","v":"-"}]
[null,{"$f":"IFERROR(VLOOKUP(A10,'28'!$E$12:$I$12,2,FALSE),\"-\")","v":"-"},{"$f":"IFERROR(VLOOKUP(A10,'28'!E12:I12,4,FALSE),\"-\")","v":"-"}]
[null,{"$f":"IFERROR(VLOOKUP(A10,'28'!$E$13:$I$13,2,FALSE),\"-\")","v":"-"},{"$f":"IFERROR(VLOOKUP(A10,'28'!E13:I13,4,FALSE),\"-\")","v":"-"}]
[null,{"$f":"IFERROR(VLOOKUP(A10,'28'!$E$14:$I$14,2,FALSE),\"-\")","v":"-"},{"$f":"IFERROR(VLOOKUP(A10,'28'!E14:I14,4,FALSE),\"-\")","v":"-"}]
[null,{"$f":"IFERROR(VLOOKUP(A10,'28'!$E$15:$I$15,2,FALSE),\"-\")","v":"-"},{"$f":"IFERROR(VLOOKUP(A10,'28'!E15:I15,4,FALSE),\"-\")","v":"-"}]
[null,{"$f":"IFERROR(VLOOKUP(A10,'28'!$E$16:$I$16,2,FALSE),\"-\")","v":"-"},{"$f":"IFERROR(VLOOKUP(A10,'28'!E16:I16,4,FALSE),\"-\")","v":"-"}]
[null,{"$f":"IFERROR(VLOOKUP(A10,'28'!$E$17:$I$17,2,FALSE),\"-\")","v":"-"},{"$f":"IFERROR(VLOOKUP(A10,'28'!E17:I17,4,FALSE),\"-\")","v":"-"}]
[null,{"$f":"IFERROR(VLOOKUP(A10,'28'!$E$18:$I$18,2,FALSE),\"-\")","v":"-"},{"$f":"IFERROR(VLOOKUP(A10,'28'!E18:I18,4,FALSE),\"-\")","v":"-"}]
[null,{"$f":"IFERROR(VLOOKUP(A10,'28'!$E$19:$I$19,2,FALSE),\"-\")","v":"-"},{"$f":"IFERROR(VLOOKUP(A10,'28'!E19:I19,4,FALSE),\"-\")","v":"-"}]
[null,{"$f":"IFERROR(VLOOKUP(A10,'28'!$E$20:$I$20,2,FALSE),\"-\")","v":"-"},{"$f":"IFERROR(VLOOKUP(A10,'28'!E20:I20,4,FALSE),\"-\")","v":"-"}]
[null,{"$f":"IFERROR(VLOOKUP(A10,'28'!$E$21:$I$21,2,FALSE),\"-\")","v":"-"},{"$f":"IFERROR(VLOOKUP(A10,'28'!E21:I21,4,FALSE),\"-\")","v":"-"}]
[null,{"$f":"IFERROR(VLOOKUP(A10,'28'!$E$22:$I$22,2,FALSE),\"-\")","v":"-"},{"$f":"IFERROR(VLOOKUP(A10,'28'!E22:I22,4,FALSE),\"-\")","v":"-"}]
[null,{"$f":"IFERROR(VLOOKUP(A10,'28'!$E$23:$I$23,2,FALSE),\"-\")","v":"-"},{"$f":"IFERROR(VLOOKUP(A10,'28'!E23:I23,4,FALSE),\"-\")","v":"-"}]
[null,{"$f":"IFERROR(VLOOKUP(A10,'28'!$E$24:$I$24,2,FALSE),\"-\")","v":"-"},{"$f":"IFERROR(VLOOKUP(A10,'28'!E24:I24,4,FALSE),\"-\")","v":"-"}]
[null,{"$f":"IFERROR(VLOOKUP(A10,'28'!$E$25:$I$25,2,FALSE),\"-\")","v":"-"},{"$f":"IFERROR(VLOOKUP(A10,'28'!E25:I25,4,FALSE),\"-\")","v":"-"}]
[null,{"$f":"IFERROR(VLOOKUP(A10,'28'!$E$26:$I$26,2,FALSE),\"-\")","v":"-"},{"$f":"IFERROR(VLOOKUP(A10,'28'!E26:I26,4,FALSE),\"-\")","v":"-"}]
[null,{"$f":"IFERROR(VLOOKUP(A10,'28'!$E$27:$I$27,2,FALSE),\"-\")","v":"-"},{"$f":"IFERROR(VLOOKUP(A10,'28'!E27:I27,4,FALSE),\"-\")","v":"-"}]
[null,{"$f":"IFERROR(VLOOKUP(A10,'28'!$E$28:$I$28,2,FALSE),\"-\")","v":"-"},{"$f":"IFERROR(VLOOKUP(A10,'28'!E28:I28,4,FALSE),\"-\")","v":"-"}]
[null,{"$f":"IFERROR(VLOOKUP(A10,'28'!$E$29:$I$29,2,FALSE),\"-\")","v":"-"},{"$f":"IFERROR(VLOOKUP(A10,'28'!E29:I29,4,FALSE),\"-\")","v":"-"}]
[null,{"$f":"IFERROR(VLOOKUP(A10,'28'!$E$30:$I$30,2,FALSE),\"-\")","v":"-"},{"$f":"IFERROR(VLOOKUP(A10,'28'!E30:I30,4,FALSE),\"-\")","v":"-"}]
[null,{"$f":"IFERROR(VLOOKUP(A10,'28'!$E$31:$I$31,2,FALSE),\"-\")","v":"-"},{"$f":"IFERROR(VLOOKUP(A10,'28'!E31:I31,4,FALSE),\"-\")","v":"-"}]
[null,{"$f":"IFERROR(VLOOKUP(A10,'29'!$E$4:$I$4,2,FALSE),\"-\")","v":"-"},{"$f":"IFERROR(VLOOKUP(A10,'29'!E4:I4,4,FALSE),\"-\")","v":"-"}]
[null,{"$f":"IFERROR(VLOOKUP(A10,'29'!$E$5:$I$5,2,FALSE),\"-\")","v":"-"},{"$f":"IFERROR(VLOOKUP(A10,'29'!E5:I5,4,FALSE),\"-\")","v":"-"}]
[null,{"$f":"IFERROR(VLOOKUP(A10,'29'!$E$6:$I$6,2,FALSE),\"-\")","v":"-"},{"$f":"IFERROR(VLOOKUP(A10,'29'!E6:I6,4,FALSE),\"-\")","v":"-"}]
[null,{"$f":"IFERROR(VLOOKUP(A10,'29'!$E$7:$I$7,2,FALSE),\"-\")","v":"-"},{"$f":"IFERROR(VLOOKUP(A10,'29'!E7:I7,4,FALSE),\"-\")","v":"-"}]
[null,{"$f":"IFERROR(VLOOKUP(A10,'29'!$E$8:$I$8,2,FALSE),\"-\")","v":"-"},{"$f":"IFERROR(VLOOKUP(A10,'29'!E8:I8,4,FALSE),\"-\")","v":"-"}]
[null,{"$f":"IFERROR(VLOOKUP(A10,'29'!$E$9:$I$9,2,FALSE),\"-\")","v":"-"},{"$f":"IFERROR(VLOOKUP(A10,'29'!E9:I9,4,FALSE),\"-\")","v":"-"}]
[null,{"$f":"IFERROR(VLOOKUP(A10,'29'!$E$10:$I$10,2,FALSE),\"-\")","v":"-"},{"$f":"IFERROR(VLOOKUP(A10,'29'!E10:I10,4,FALSE),\"-\")","v":"-"}]
[null,{"$f":"IFERROR(VLOOKUP(A10,'29'!$E$11:$I$11,2,FALSE),\"-\")","v":"-"},{"$f":"IFERROR(VLOOKUP(A10,'29'!E11:I11,4,FALSE),\"-\")","v":"-"}]
[null,{"$f":"IFERROR(VLOOKUP(A10,'29'!$E$12:$I$12,2,FALSE),\"-\")","v":"-"},{"$f":"IFERROR(VLOOKUP(A10,'29'!E12:I12,4,FALSE),\"-\")","v":"-"}]
[null,{"$f":"IFERROR(VLOOKUP(A10,'29'!$E$13:$I$13,2,FALSE),\"-\")","v":"-"},{"$f":"IFERROR(VLOOKUP(A10,'29'!E13:I13,4,FALSE),\"-\")","v":"-"}]
[null,{"$f":"IFERROR(VLOOKUP(A10,'29'!$E$14:$I$14,2,FALSE),\"-\")","v":"-"},{"$f":"IFERROR(VLOOKUP(A10,'29'!E14:I14,4,FALSE),\"-\")","v":"-"}]
[null,{"$f":"IFERROR(VLOOKUP(A10,'29'!$E$15:$I$15,2,FALSE),\"-\")","v":"-"},{"$f":"IFERROR(VLOOKUP(A10,'29'!E15:I15,4,FALSE),\"-\")","v":"-"}]
[null,{"$f":"IFERROR(VLOOKUP(A10,'29'!$E$16:$I$16,2,FALSE),\"-\")","v":"-"},{"$f":"IFERROR(VLOOKUP(A10,'29'!E16:I16,4,FALSE),\"-\")","v":"-"}]
[null,{"$f":"IFERROR(VLOOKUP(A10,'29'!$E$17:$I$17,2,FALSE),\"-\")","v":"-"},{"$f":"IFERROR(VLOOKUP(A10,'29'!E17:I17,4,FALSE),\"-\")","v":"-"}]
[null,{"$f":"IFERROR(VLOOKUP(A10,'29'!$E$18:$I$18,2,FALSE),\"-\")","v":"-"},{"$f":"IFERROR(VLOOKUP(A10,'29'!E18:I18,4,FALSE),\"-\")","v":"-"}]
[null,{"$f":"IFERROR(VLOOKUP(A10,'29'!$E$19:$I$19,2,FALSE),\"-\")","v":"-"},{"$f":"IFERROR(VLOOKUP(A10,'29'!E19:I19,4,FALSE),\"-\")","v":"-"}]
[null,{"$f":"IFERROR(VLOOKUP(A10,'29'!$E$20:$I$20,2,FALSE),\"-\")","v":"-"},{"$f":"IFERROR(VLOOKUP(A10,'29'!E20:I20,4,FALSE),\"-\")","v":"-"}]
[null,{"$f":"IFERROR(VLOOKUP(A10,'29'!$E$21:$I$21,2,FALSE),\"-\")","v":"-"},{"$f":"IFERROR(VLOOKUP(A10,'29'!E21:I21,4,FALSE),\"-\")","v":"-"}]
[null,{"$f":"IFERROR(VLOOKUP(A10,'29'!$E$22:$I$22,2,FALSE),\"-\")","v":"-"},{"$f":"IFERROR(VLOOKUP(A10,'29'!E22:I22,4,FALSE),\"-\")","v":"-"}]
[null,{"$f":"IFERROR(VLOOKUP(A10,'29'!$E$23:$I$23,2,FALSE),\"-\")","v":"-"},{"$f":"IFERROR(VLOOKUP(A10,'29'!E23:I23,4,FALSE),\"-\")","v":"-"}]
[null,{"$f":"IFERROR(VLOOKUP(A10,'29'!$E$24:$I$24,2,FALSE),\"-\")","v":"-"},{"$f":"IFERROR(VLOOKUP(A10,'29'!E24:I24,4,FALSE),\"-\")","v":"-"}]
[null,{"$f":"IFERROR(VLOOKUP(A10,'29'!$E$25:$I$25,2,FALSE),\"-\")","v":"-"},{"$f":"IFERROR(VLOOKUP(A10,'29'!E25:I25,4,FALSE),\"-\")","v":"-"}]
[null,{"$f":"IFERROR(VLOOKUP(A10,'29'!$E$26:$I$26,2,FALSE),\"-\")","v":"-"},{"$f":"IFERROR(VLOOKUP(A10,'29'!E26:I26,4,FALSE),\"-\")","v":"-"}]
[null,{"$f":"IFERROR(VLOOKUP(A10,'29'!$E$27:$I$27,2,FALSE),\"-\")","v":"-"},{"$f":"IFERROR(VLOOKUP(A10,'29'!E27:I27,4,FALSE),\"-\")","v":"-"}]
[null,{"$f":"IFERROR(VLOOKUP(A10,'29'!$E$28:$I$28,2,FALSE),\"-\")","v":"-"},{"$f":"IFERROR(VLOOKUP(A10,'29'!E28:I28,4,FALSE),\"-\")","v":"-"}]
[null,{"$f":"IFERROR(VLOOKUP(A10,'29'!$E$29:$I$29,2,FALSE),\"-\")","v":"-"},{"$f":"IFERROR(VLOOKUP(A10,'29'!E29:I29,4,FALSE),\"-\")","v":"-"}]
[null,{"$f":"IFERROR(VLOOKUP(A10,'29'!$E$30:$I$30,2,FALSE),\"-\")","v":"-"},{"$f":"IFERROR(VLOOKUP(A10,'29'!E30:I30,4,FALSE),\"-\")","v":"-"}]
[null,{"$f":"IFERROR(VLOOKUP(A10,'29'!$E$31:$I$31,2,FALSE),\"-\")","v":"-"},{"$f":"IFERROR(VLOOKUP(A10,'29'!E31:I31,4,FALSE),\"-\")","v":"-"}]
[null,{"$f":"IFERROR(VLOOKUP(A10,'30'!$E$4:$I$4,2,FALSE),\"-\")","v":"-"},{"$f":"IFERROR(VLOOKUP(A10,'30'!E4:I4,4,FALSE),\"-\")","v":"-"}]
[null,{"$f":"IFERROR(VLOOKUP(A10,'30'!$E$5:$I$5,2,FALSE),\"-\")","v":"-"},{"$f":"IFERROR(VLOOKUP(A10,'30'!E5:I5,4,FALSE),\"-\")","v":"-"}]
[null,{"$f":"IFERROR(VLOOKUP(A10,'30'!$E$6:$I$6,2,FALSE),\"-\")","v":"-"},{"$f":"IFERROR(VLOOKUP(A10,'30'!E6:I6,4,FALSE),\"-\")","v":"-"}]
[null,{"$f":"IFERROR(VLOOKUP(A10,'30'!$E$7:$I$7,2,FALSE),\"-\")","v":"-"},{"$f":"IFERROR(VLOOKUP(A10,'30'!E7:I7,4,FALSE),\"-\")","v":"-"}]
[null,{"$f":"IFERROR(VLOOKUP(A10,'30'!$E$8:$I$8,2,FALSE),\"-\")","v":"-"},{"$f":"IFERROR(VLOOKUP(A10,'30'!E8:I8,4,FALSE),\"-\")","v":"-"}]
[null,{"$f":"IFERROR(VLOOKUP(A10,'30'!$E$9:$I$9,2,FALSE),\"-\")","v":"-"},{"$f":"IFERROR(VLOOKUP(A10,'30'!E9:I9,4,FALSE),\"-\")","v":"-"}]
[null,{"$f":"IFERROR(VLOOKUP(A10,'30'!$E$10:$I$10,2,FALSE),\"-\")","v":"-"},{"$f":"IFERROR(VLOOKUP(A10,'30'!E10:I10,4,FALSE),\"-\")","v":"-"}]
[null,{"$f":"IFERROR(VLOOKUP(A10,'30'!$E$11:$I$11,2,FALSE),\"-\")","v":"-"},{"$f":"IFERROR(VLOOKUP(A10,'30'!E11:I11,4,FALSE),\"-\")","v":"-"}]
[null,{"$f":"IFERROR(VLOOKUP(A10,'30'!$E$12:$I$12,2,FALSE),\"-\")","v":"-"},{"$f":"IFERROR(VLOOKUP(A10,'30'!E12:I12,4,FALSE),\"-\")","v":"-"}]
[null,{"$f":"IFERROR(VLOOKUP(A10,'30'!$E$13:$I$13,2,FALSE),\"-\")","v":"-"},{"$f":"IFERROR(VLOOKUP(A10,'30'!E13:I13,4,FALSE),\"-\")","v":"-"}]
[null,{"$f":"IFERROR(VLOOKUP(A10,'30'!$E$14:$I$14,2,FALSE),\"-\")","v":"-"},{"$f":"IFERROR(VLOOKUP(A10,'30'!E14:I14,4,FALSE),\"-\")","v":"-"}]
[null,{"$f":"IFERROR(VLOOKUP(A10,'30'!$E$15:$I$15,2,FALSE),\"-\")","v":"-"},{"$f":"IFERROR(VLOOKUP(A10,'30'!E15:I15,4,FALSE),\"-\")","v":"-"}]
[null,{"$f":"IFERROR(VLOOKUP(A10,'30'!$E$16:$I$16,2,FALSE),\"-\")","v":"-"},{"$f":"IFERROR(VLOOKUP(A10,'30'!E16:I16,4,FALSE),\"-\")","v":"-"}]
[null,{"$f":"IFERROR(VLOOKUP(A10,'30'!$E$17:$I$17,2,FALSE),\"-\")","v":"-"},{"$f":"IFERROR(VLOOKUP(A10,'30'!E17:I17,4,FALSE),\"-\")","v":"-"}]
[null,{"$f":"IFERROR(VLOOKUP(A10,'30'!$E$18:$I$18,2,FALSE),\"-\")","v":"-"},{"$f":"IFERROR(VLOOKUP(A10,'30'!E18:I18,4,FALSE),\"-\")","v":"-"}]
[null,{"$f":"IFERROR(VLOOKUP(A10,'30'!$E$19:$I$19,2,FALSE),\"-\")","v":"-"},{"$f":"IFERROR(VLOOKUP(A10,'30'!E19:I19,4,FALSE),\"-\")","v":"-"}]
[null,{"$f":"IFERROR(VLOOKUP(A10,'30'!$E$20:$I$20,2,FALSE),\"-\")","v":"-"},{"$f":"IFERROR(VLOOKUP(A10,'30'!E20:I20,4,FALSE),\"-\")","v":"-"}]
[null,{"$f":"IFERROR(VLOOKUP(A10,'30'!$E$21:$I$21,2,FALSE),\"-\")","v":"-"},{"$f":"IFERROR(VLOOKUP(A10,'30'!E21:I21,4,FALSE),\"-\")","v":"-"}]
[null,{"$f":"IFERROR(VLOOKUP(A10,'30'!$E$22:$I$22,2,FALSE),\"-\")","v":"-"},{"$f":"IFERROR(VLOOKUP(A10,'30'!E22:I22,4,FALSE),\"-\")","v":"-"}]
[null,{"$f":"IFERROR(VLOOKUP(A10,'30'!$E$23:$I$23,2,FALSE),\"-\")","v":"-"},{"$f":"IFERROR(VLOOKUP(A10,'30'!E23:I23,4,FALSE),\"-\")","v":"-"}]
[null,{"$f":"IFERROR(VLOOKUP(A10,'30'!$E$24:$I$24,2,FALSE),\"-\")","v":"-"},{"$f":"IFERROR(VLOOKUP(A10,'30'!E24:I24,4,FALSE),\"-\")","v":"-"}]
[null,{"$f":"IFERROR(VLOOKUP(A10,'30'!$E$25:$I$25,2,FALSE),\"-\")","v":"-"},{"$f":"IFERROR(VLOOKUP(A10,'30'!E25:I25,4,FALSE),\"-\")","v":"-"}]
[null,{"$f":"IFERROR(VLOOKUP(A10,'30'!$E$26:$I$26,2,FALSE),\"-\")","v":"-"},{"$f":"IFERROR(VLOOKUP(A10,'30'!E26:I26,4,FALSE),\"-\")","v":"-"}]
[null,{"$f":"IFERROR(VLOOKUP(A10,'30'!$E$27:$I$27,2,FALSE),\"-\")","v":"-"},{"$f":"IFERROR(VLOOKUP(A10,'30'!E27:I27,4,FALSE),\"-\")","v":"-"}]
[null,{"$f":"IFERROR(VLOOKUP(A10,'30'!$E$28:$I$28,2,FALSE),\"-\")","v":"-"},{"$f":"IFERROR(VLOOKUP(A10,'30'!E28:I28,4,FALSE),\"-\")","v":"-"}]
[null,{"$f":"IFERROR(VLOOKUP(A10,'30'!$E$29:$I$29,2,FALSE),\"-\")","v":"-"},{"$f":"IFERROR(VLOOKUP(A10,'30'!E29:I29,4,FALSE),\"-\")","v":"-"}]
[null,{"$f":"IFERROR(VLOOKUP(A10,'30'!$E$30:$I$30,2,FALSE),\"-\")","v":"-"},{"$f":"IFERROR(VLOOKUP(A10,'30'!E30:I30,4,FALSE),\"-\")","v":"-"}]
[null,{"$f":"IFERROR(VLOOKUP(A10,'30'!$E$31:$I$31,2,FALSE),\"-\")","v":"-"},{"$f":"IFERROR(VLOOKUP(A10,'30'!E31:I31,4,FALSE),\"-\")","v":"-"}]
[null,{"$f":"IFERROR(VLOOKUP(A10,'31'!$E$4:$I$4,2,FALSE),\"-\")","v":"Fulano"},{"$f":"IFERROR(VLOOKUP(A10,'31'!E4:I4,4,FALSE),\"-\")","v":1}]
[null,{"$f":"IFERROR(VLOOKUP(A10,'31'!$E$5:$I$5,2,FALSE),\"-\")","v":"-"},{"$f":"IFERROR(VLOOKUP(A10,'31'!E5:I5,4,FALSE),\"-\")","v":"-"}]
[null,{"$f":"IFERROR(VLOOKUP(A10,'31'!$E$6:$I$6,2,FALSE),\"-\")","v":"-"},{"$f":"IFERROR(VLOOKUP(A10,'31'!E6:I6,4,FALSE),\"-\")","v":"-"}]
[null,{"$f":"IFERROR(VLOOKUP(A10,'31'!$E$7:$I$7,2,FALSE),\"-\")","v":"-"},{"$f":"IFERROR(VLOOKUP(A10,'31'!E7:I7,4,FALSE),\"-\")","v":"-"}]
[null,{"$f":"IFERROR(VLOOKUP(A10,'31'!$E$8:$I$8,2,FALSE),\"-\")","v":"-"},{"$f":"IFERROR(VLOOKUP(A10,'31'!E8:I8,4,FALSE),\"-\")","v":"-"}]
[null,{"$f":"IFERROR(VLOOKUP(A10,'31'!$E$9:$I$9,2,FALSE),\"-\")","v":"-"},{"$f":"IFERROR(VLOOKUP(A10,'31'!E9:I9,4,FALSE),\"-\")","v":"-"}]
[null,{"$f":"IFERROR(VLOOKUP(A10,'31'!$E$10:$I$10,2,FALSE),\"-\")","v":"-"},{"$f":"IFERROR(VLOOKUP(A10,'31'!E10:I10,4,FALSE),\"-\")","v":"-"}]
[null,{"$f":"IFERROR(VLOOKUP(A10,'31'!$E$11:$I$11,2,FALSE),\"-\")","v":"-"},{"$f":"IFERROR(VLOOKUP(A10,'31'!E11:I11,4,FALSE),\"-\")","v":"-"}]
[null,{"$f":"IFERROR(VLOOKUP(A10,'31'!$E$12:$I$12,2,FALSE),\"-\")","v":"-"},{"$f":"IFERROR(VLOOKUP(A10,'31'!E12:I12,4,FALSE),\"-\")","v":"-"}]
[null,{"$f":"IFERROR(VLOOKUP(A10,'31'!$E$13:$I$13,2,FALSE),\"-\")","v":"-"},{"$f":"IFERROR(VLOOKUP(A10,'31'!E13:I13,4,FALSE),\"-\")","v":"-"}]
[null,{"$f":"IFERROR(VLOOKUP(A10,'31'!$E$14:$I$14,2,FALSE),\"-\")","v":"-"},{"$f":"IFERROR(VLOOKUP(A10,'31'!E14:I14,4,FALSE),\"-\")","v":"-"}]
[null,{"$f":"IFERROR(VLOOKUP(A10,'31'!$E$15:$I$15,2,FALSE),\"-\")","v":"-"},{"$f":"IFERROR(VLOOKUP(A10,'31'!E15:I15,4,FALSE),\"-\")","v":"-"}]
[null,{"$f":"IFERROR(VLOOKUP(A10,'31'!$E$16:$I$16,2,FALSE),\"-\")","v":"-"},{"$f":"IFERROR(VLOOKUP(A10,'31'!E16:I16,4,FALSE),\"-\")","v":"-"}]
[null,{"$f":"IFERROR(VLOOKUP(A10,'31'!$E$17:$I$17,2,FALSE),\"-\")","v":"-"},{"$f":"IFERROR(VLOOKUP(A10,'31'!E17:I17,4,FALSE),\"-\")","v":"-"}]
[null,{"$f":"IFERROR(VLOOKUP(A10,'31'!$E$18:$I$18,2,FALSE),\"-\")","v":"-"},{"$f":"IFERROR(VLOOKUP(A10,'31'!E18:I18,4,FALSE),\"-\")","v":"-"}]
[null,{"$f":"IFERROR(VLOOKUP(A10,'31'!$E$19:$I$19,2,FALSE),\"-\")","v":"-"},{"$f":"IFERROR(VLOOKUP(A10,'31'!E19:I19,4,FALSE),\"-\")","v":"-"}]
[null,{"$f":"IFERROR(VLOOKUP(A10,'31'!$E$20:$I$20,2,FALSE),\"-\")","v":"-"},{"$f":"IFERROR(VLOOKUP(A10,'31'!E20:I20,4,FALSE),\"-\")","v":"-"}]
[null,{"$f":"IFERROR(VLOOKUP(A10,'31'!$E$21:$I$21,2,FALSE),\"-\")","v":"-"},{"$f":"IFERROR(VLOOKUP(A10,'31'!E21:I21,4,FALSE),\"-\")","v":"-"}]
[null,{"$f":"IFERROR(VLOOKUP(A10,'31'!$E$22:$I$22,2,FALSE),\"-\")","v":"-"},{"$f":"IFERROR(VLOOKUP(A10,'31'!E22:I22,4,FALSE),\"-\")","v":"-"}]
[null,{"$f":"IFERROR(VLOOKUP(A10,'31'!$E$23:$I$23,2,FALSE),\"-\")","v":"-"},{"$f":"IFERROR(VLOOKUP(A10,'31'!E23:I23,4,FALSE),\"-\")","v":"-"}]
[null,{"$f":"IFERROR(VLOOKUP(A10,'31'!$E$24:$I$24,2,FALSE),\"-\")","v":"-"},{"$f":"IFERROR(VLOOKUP(A10,'31'!E24:I24,4,FALSE),\"-\")","v":"-"}]
[null,{"$f":"IFERROR(VLOOKUP(A10,'31'!$E$25:$I$25,2,FALSE),\"-\")","v":"-"},{"$f":"IFERROR(VLOOKUP(A10,'31'!E25:I25,4,FALSE),\"-\")","v":"-"}]
[null,{"$f":"IFERROR(VLOOKUP(A10,'31'!$E$26:$I$26,2,FALSE),\"-\")","v":"-"},{"$f":"IFERROR(VLOOKUP(A10,'31'!E26:I26,4,FALSE),\"-\")","v":"-"}]
[null,{"$f":"IFERROR(VLOOKUP(A10,'31'!$E$27:$I$27,2,FALSE),\"-\")","v":"-"},{"$f":"IFERROR(VLOOKUP(A10,'31'!E27:I27,4,FALSE),\"-\")","v":"-"}]
[null,{"$f":"IFERROR(VLOOKUP(A10,'31'!$E$28:$I$28,2,FALSE),\"-\")","v":"-"},{"$f":"IFERROR(VLOOKUP(A10,'31'!E28:I28,4,FALSE),\"-\")","v":"-"}]
[null,{"$f":"IFERROR(VLOOKUP(A10,'31'!$E$29:$I$29,2,FALSE),\"-\")","v":"-"},{"$f":"IFERROR(VLOOKUP(A10,'31'!E29:I29,4,FALSE),\"-\")","v":"-"}]
[null,{"$f":"IFERROR(VLOOKUP(A10,'31'!$E$30:$I$30,2,FALSE),\"-\")","v":"-"},{"$f":"IFERROR(VLOOKUP(A10,'31'!E30:I30,4,FALSE),\"-\")","v":"-"}]
[null,{"$f":"IFERROR(VLOOKUP(A10,'31'!$E$31:$I$31,2,FALSE),\"-\")","v":"-"},{"$f":"IFERROR(VLOOKUP(A10,'31'!E31:I31,4,FALSE),\"-\")","v":"-"}]
[]
["Codigo","Fornecedor","Valor"]
["Op",{"$f":"IFERROR(VLOOKUP(A880,'1'!$E$4:$I$4,2,FALSE),\"-\")","v":"-"},{"$f":"IFERROR(VLOOKUP(A880,'1'!$E$4:$I$4,4,FALSE),\"-\")","v":"-"}]
[null,{"$f":"IFERROR(VLOOKUP(A880,'1'!$E$5:$I$5,2,FALSE),\"-\")","v":"-"},{"$f":"IFERROR(VLOOKUP(A880,'1'!$E$5:$I$5,4,FALSE),\"-\")","v":"-"}]
[null,{"$f":"IFERROR(VLOOKUP(A880,'1'!$E$6:$I$6,2,FALSE),\"-\")","v":"-"},{"$f":"IFERROR(VLOOKUP(A880,'1'!$E$6:$I$6,4,FALSE),\"-\")","v":"-"}]
[null,{"$f":"IFERROR(VLOOKUP(A880,'1'!$E$7:$I$7,2,FALSE),\"-\")","v":"-"},{"$f":"IFERROR(VLOOKUP(A880,'1'!$E$7:$I$7,4,FALSE),\"-\")","v":"-"}]
[null,{"$f":"IFERROR(VLOOKUP(A880,'1'!$E$8:$I$8,2,FALSE),\"-\")","v":"-"},{"$f":"IFERROR(VLOOKUP(A880,'1'!$E$8:$I$8,4,FALSE),\"-\")","v":"-"}]
[null,{"$f":"IFERROR(VLOOKUP(A880,'1'!$E$9:$I$9,2,FALSE),\"-\")","v":"-"},{"$f":"IFERROR(VLOOKUP(A880,'1'!$E$9:$I$9,4,FALSE),\"-\")","v":"-"}]
[null,{"$f":"IFERROR(VLOOKUP(A880,'1'!$E$10:$I$10,2,FALSE),\"-\")","v":"-"},{"$f":"IFERROR(VLOOKUP(A880,'1'!$E$10:$I$10,4,FALSE),\"-\")","v":"-"}]
[null,{"$f":"IFERROR(VLOOKUP(A880,'1'!$E$11:$I$11,2,FALSE),\"-\")","v":"-"},{"$f":"IFERROR(VLOOKUP(A880,'1'!$E$11:$I$11,4,FALSE),\"-\")","v":"-"}]
[null,{"$f":"IFERROR(VLOOKUP(A880,'1'!$E$12:$I$12,2,FALSE),\"-\")","v":"-"},{"$f":"IFERROR(VLOOKUP(A880,'1'!$E$12:$I$12,4,FALSE),\"-\")","v":"-"}]
[null,{"$f":"IFERROR(VLOOKUP(A880,'1'!$E$13:$I$13,2,FALSE),\"-\")","v":"-"},{"$f":"IFERROR(VLOOKUP(A880,'1'!$E$13:$I$13,4,FALSE),\"-\")","v":"-"}]
[null,{"$f":"IFERROR(VLOOKUP(A880,'1'!$E$14:$I$14,2,FALSE),\"-\")","v":"-"},{"$f":"IFERROR(VLOOKUP(A880,'1'!$E$14:$I$14,4,FALSE),\"-\")","v":"-"}]
[null,{"$f":"IFERROR(VLOOKUP(A880,'1'!$E$15:$I$15,2,FALSE),\"-\")","v":"-"},{"$f":"IFERROR(VLOOKUP(A880,'1'!$E$15:$I$15,4,FALSE),\"-\")","v":"-"}]
[null,{"$f":"IFERROR(VLOOKUP(A880,'1'!$E$16:$I$16,2,FALSE),\"-\")","v":"-"},{"$f":"IFERROR(VLOOKUP(A880,'1'!$E$16:$I$16,4,FALSE),\"-\")","v":"-"}]
[null,{"$f":"IFERROR(VLOOKUP(A880,'1'!$E$17:$I$17,2,FALSE),\"-\")","v":"-"},{"$f":"IFERROR(VLOOKUP(A880,'1'!$E$17:$I$17,4,FALSE),\"-\")","v":"-"}]
[null,{"$f":"IFERROR(VLOOKUP(A880,'1'!$E$18:$I$18,2,FALSE),\"-\")","v":"-"},{"$f":"IFERROR(VLOOKUP(A880,'1'!$E$18:$I$18,4,FALSE),\"-\")","v":"-"}]
[null,{"$f":"IFERROR(VLOOKUP(A880,'1'!$E$19:$I$19,2,FALSE),\"-\")","v":"-"},{"$f":"IFERROR(VLOOKUP(A880,'1'!$E$19:$I$19,4,FALSE),\"-\")","v":"-"}]
[null,{"$f":"IFERROR(VLOOKUP(A880,'1'!$E$20:$I$20,2,FALSE),\"-\")","v":"-"},{"$f":"IFERROR(VLOOKUP(A880,'1'!$E$20:$I$20,4,FALSE),\"-\")","v":"-"}]
[null,{"$f":"IFERROR(VLOOKUP(A880,'1'!$E$21:$I$21,2,FALSE),\"-\")","v":"-"},{"$f":"IFERROR(VLOOKUP(A880,'1'!$E$21:$I$21,4,FALSE),\"-\")","v":"-"}]
[null,{"$f":"IFERROR(VLOOKUP(A880,'1'!$E$22:$I$22,2,FALSE),\"-\")","v":"-"},{"$f":"IFERROR(VLOOKUP(A880,'1'!$E$22:$I$22,4,FALSE),\"-\")","v":"-"}]
[null,{"$f":"IFERROR(VLOOKUP(A880,'1'!$E$23:$I$23,2,FALSE),\"-\")","v":"-"},{"$f":"IFERROR(VLOOKUP(A880,'1'!$E$23:$I$23,4,FALSE),\"-\")","v":"-"}]
[null,{"$f":"IFERROR(VLOOKUP(A880,'1'!$E$24:$I$24,2,FALSE),\"-\")","v":"-"},{"$f":"IFERROR(VLOOKUP(A880,'1'!$E$24:$I$24,4,FALSE),\"-\")","v":"-"}]
[null,{"$f":"IFERROR(VLOOKUP(A880,'1'!$E$25:$I$25,2,FALSE),\"-\")","v":"-"},{"$f":"IFERROR(VLOOKUP(A880,'1'!$E$25:$I$25,4,FALSE),\"-\")","v":"-"}]
[null,{"$f":"IFERROR(VLOOKUP(A880,'1'!$E$26:$I$26,2,FALSE),\"-\")","v":"-"},{"$f":"IFERROR(VLOOKUP(A880,'1'!$E$26:$I$26,4,FALSE),\"-\")","v":"-"}]
[null,{"$f":"IFERROR(VLOOKUP(A880,'1'!$E$27:$I$27,2,FALSE),\"-\")","v":"-"},{"$f":"IFERROR(VLOOKUP(A880,'1'!$E$27:$I$27,4,FALSE),\"-\")","v":"-"}]
[null,{"$f":"IFERROR(VLOOKUP(A880,'1'!$E$28:$I$28,2,FALSE),\"-\")","v":"-"},{"$f":"IFERROR(VLOOKUP(A880,'1'!$E$28:$I$28,4,FALSE),\"-\")","v":"-"}]
[null,{"$f":"IFERROR(VLOOKUP(A880,'1'!$E$29:$I$29,2,FALSE),\"-\")","v":"-"},{"$f":"IFERROR(VLOOKUP(A880,'1'!$E$29:$I$29,4,FALSE),\"-\")","v":"-"}]
[null,{"$f":"IFERROR(VLOOKUP(A880,'1'!$E$30:$I$30,2,FALSE),\"-\")","v":"-"},{"$f":"IFERROR(VLOOKUP(A880,'1'!$E$30:$I$30,4,FALSE),\"-\")","v":"-"}]
[null,{"$f":"IFERROR(VLOOKUP(A880,'1'!$E$31:$I$31,2,FALSE),\"-\")","v":"-"},{"$f":"IFERROR(VLOOKUP(A880,'1'!$E$31:$I$31,4,FALSE),\"-\")","v":"-"}]
[null,{"$f":"IFERROR(VLOOKUP(A880,'2'!$E$4:$I$4,2,FALSE),\"-\")","v":"-"},{"$f":"IFERROR(VLOOKUP(A880,'2'!$E$4:$I$4,4,FALSE),\"-\")","v":"-"}]
[null,{"$f":"IFERROR(VLOOKUP(A880,'2'!$E$5:$I$5,2,FALSE),\"-\")","v":"-"},{"$f":"IFERROR(VLOOKUP(A880,'2'!E875:I875,4,FALSE),\"-\")","v":"-"}]
[null,{"$f":"IFERROR(VLOOKUP(A880,'2'!$E$6:$I$6,2,FALSE),\"-\")","v":"-"},{"$f":"IFERROR(VLOOKUP(A880,'2'!E876:I876,4,FALSE),\"-\")","v":"-"}]
[null,{"$f":"IFERROR(VLOOKUP(A880,'2'!$E$7:$I$7,2,FALSE),\"-\")","v":"-"},{"$f":"IFERROR(VLOOKUP(A880,'2'!E877:I877,4,FALSE),\"-\")","v":"-"}]
[null,{"$f":"IFERROR(VLOOKUP(A880,'2'!$E$8:$I$8,2,FALSE),\"-\")","v":"-"},{"$f":"IFERROR(VLOOKUP(A880,'2'!E878:I878,4,FALSE),\"-\")","v":"-"}]
[null,{"$f":"IFERROR(VLOOKUP(A880,'2'!$E$9:$I$9,2,FALSE),\"-\")","v":"-"},{"$f":"IFERROR(VLOOKUP(A880,'2'!E879:I879,4,FALSE),\"-\")","v":"-"}]
[null,{"$f":"IFERROR(VLOOKUP(A880,'2'!$E$10:$I$10,2,FALSE),\"-\")","v":"-"},{"$f":"IFERROR(VLOOKUP(A880,'2'!E880:I880,4,FALSE),\"-\")","v":"-"}]
[null,{"$f":"IFERROR(VLOOKUP(A880,'2'!$E$11:$I$11,2,FALSE),\"-\")","v":"-"},{"$f":"IFERROR(VLOOKUP(A880,'2'!E881:I881,4,FALSE),\"-\")","v":"-"}]
[null,{"$f":"IFERROR(VLOOKUP(A880,'2'!$E$12:$I$12,2,FALSE),\"-\")","v":"-"},{"$f":"IFERROR(VLOOKUP(A880,'2'!E882:I882,4,FALSE),\"-\")","v":"-"}]
[null,{"$f":"IFERROR(VLOOKUP(A880,'2'!$E$13:$I$13,2,FALSE),\"-\")","v":"-"},{"$f":"IFERROR(VLOOKUP(A880,'2'!E883:I883,4,FALSE),\"-\")","v":"-"}]
[null,{"$f":"IFERROR(VLOOKUP(A880,'2'!$E$14:$I$14,2,FALSE),\"-\")","v":"-"},{"$f":"IFERROR(VLOOKUP(A880,'2'!E884:I884,4,FALSE),\"-\")","v":"-"}]
[null,{"$f":"IFERROR(VLOOKUP(A880,'2'!$E$15:$I$15,2,FALSE),\"-\")","v":"-"},{"$f":"IFERROR(VLOOKUP(A880,'2'!E885:I885,4,FALSE),\"-\")","v":"-"}]
[null,{"$f":"IFERROR(VLOOKUP(A880,'2'!$E$16:$I$16,2,FALSE),\"-\")","v":"-"},{"$f":"IFERROR(VLOOKUP(A880,'2'!E886:I886,4,FALSE),\"-\")","v":"-"}]
[null,{"$f":"IFERROR(VLOOKUP(A880,'2'!$E$17:$I$17,2,FALSE),\"-\")","v":"-"},{"$f":"IFERROR(VLOOKUP(A880,'2'!E887:I887,4,FALSE),\"-\")","v":"-"}]
[null,{"$f":"IFERROR(VLOOKUP(A880,'2'!$E$18:$I$18,2,FALSE),\"-\")","v":"-"},{"$f":"IFERROR(VLOOKUP(A880,'2'!E888:I888,4,FALSE),\"-\")","v":"-"}]
[null,{"$f":"IFERROR(VLOOKUP(A880,'2'!$E$19:$I$19,2,FALSE),\"-\")","v":"-"},{"$f":"IFERROR(VLOOKUP(A880,'2'!E889:I889,4,FALSE),\"-\")","v":"-"}]
[null,{"$f":"IFERROR(VLOOKUP(A880,'2'!$E$20:$I$20,2,FALSE),\"-\")","v":"-"},{"$f":"IFERROR(VLOOKUP(A880,'2'!E890:I890,4,FALSE),\"-\")","v":"-"}]
[null,{"$f":"IFERROR(VLOOKUP(A880,'2'!$E$21:$I$21,2,FALSE),\"-\")","v":"-"},{"$f":"IFERROR(VLOOKUP(A880,'2'!E891:I891,4,FALSE),\"-\")","v":"-"}]
[null,{"$f":"IFERROR(VLOOKUP(A880,'2'!$E$22:$I$22,2,FALSE),\"-\")","v":"-"},{"$f":"IFERROR(VLOOKUP(A880,'2'!E892:I892,4,FALSE),\"-\")","v":"-"}]
[null,{"$f":"IFERROR(VLOOKUP(A880,'2'!$E$23:$I$23,2,FALSE),\"-\")","v":"-"},{"$f":"IFERROR(VLOOKUP(A880,'2'!E893:I893,4,FALSE),\"-\")","v":"-"}]
[null,{"$f":"IFERROR(VLOOKUP(A880,'2'!$E$24:$I$24,2,FALSE),\"-\")","v":"-"},{"$f":"IFERROR(VLOOKUP(A880,'2'!E894:I894,4,FALSE),\"-\")","v":"-"}]
[null,{"$f":"IFERROR(VLOOKUP(A880,'2'!$E$25:$I$25,2,FALSE),\"-\")","v":"-"},{"$f":"IFERROR(VLOOKUP(A880,'2'!E895:I895,4,FALSE),\"-\")","v":"-"}]
[null,{"$f":"IFERROR(VLOOKUP(A880,'2'!$E$26:$I$26,2,FALSE),\"-\")","v":"-"},{"$f":"IFERROR(VLOOKUP(A880,'2'!E896:I896,4,FALSE),\"-\")","v":"-"}]
[null,{"$f":"IFERROR(VLOOKUP(A880,'2'!$E$27:$I$27,2,FALSE),\"-\")","v":"-"},{"$f":"IFERROR(VLOOKUP(A880,'2'!E897:I897,4,FALSE),\"-\")","v":"-"}]
[null,{"$f":"IFERROR(VLOOKUP(A880,'2'!$E$28:$I$28,2,FALSE),\"-\")","v":"-"},{"$f":"IFERROR(VLOOKUP(A880,'2'!E898:I898,4,FALSE),\"-\")","v":"-"}]
[null,{"$f":"IFERROR(VLOOKUP(A880,'2'!$E$29:$I$29,2,FALSE),\"-\")","v":"-"},{"$f":"IFERROR(VLOOKUP(A880,'2'!E899:I899,4,FALSE),\"-\")","v":"-"}]
[null,{"$f":"IFERROR(VLOOKUP(A880,'2'!$E$30:$I$30,2,FALSE),\"-\")","v":"-"},{"$f":"IFERROR(VLOOKUP(A880,'2'!E900:I900,4,FALSE),\"-\")","v":"-"}]
[null,{"$f":"IFERROR(VLOOKUP(A880,'2'!$E$31:$I$31,2,FALSE),\"-\")","v":"-"},{"$f":"IFERROR(VLOOKUP(A880,'2'!E901:I901,4,FALSE),\"-\")","v":"-"}]
[null,{"$f":"IFERROR(VLOOKUP(A880,'3'!$E$4:$I$4,2,FALSE),\"-\")","v":"-"},{"$f":"IFERROR(VLOOKUP(A880,'3'!E874:I874,4,FALSE),\"-\")","v":"-"}]
[null,{"$f":"IFERROR(VLOOKUP(A880,'3'!$E$5:$I$5,2,FALSE),\"-\")","v":"-"},{"$f":"IFERROR(VLOOKUP(A880,'3'!E875:I875,4,FALSE),\"-\")","v":"-"}]
[null,{"$f":"IFERROR(VLOOKUP(A880,'3'!$E$6:$I$6,2,FALSE),\"-\")","v":"-"},{"$f":"IFERROR(VLOOKUP(A880,'3'!E876:I876,4,FALSE),\"-\")","v":"-"}]
[null,{"$f":"IFERROR(VLOOKUP(A880,'3'!$E$7:$I$7,2,FALSE),\"-\")","v":"-"},{"$f":"IFERROR(VLOOKUP(A880,'3'!E877:I877,4,FALSE),\"-\")","v":"-"}]
[null,{"$f":"IFERROR(VLOOKUP(A880,'3'!$E$8:$I$8,2,FALSE),\"-\")","v":"-"},{"$f":"IFERROR(VLOOKUP(A880,'3'!E878:I878,4,FALSE),\"-\")","v":"-"}]
[null,{"$f":"IFERROR(VLOOKUP(A880,'3'!$E$9:$I$9,2,FALSE),\"-\")","v":"-"},{"$f":"IFERROR(VLOOKUP(A880,'3'!E879:I879,4,FALSE),\"-\")","v":"-"}]
[null,{"$f":"IFERROR(VLOOKUP(A880,'3'!$E$10:$I$10,2,FALSE),\"-\")","v":"-"},{"$f":"IFERROR(VLOOKUP(A880,'3'!E880:I880,4,FALSE),\"-\")","v":"-"}]
[null,{"$f":"IFERROR(VLOOKUP(A880,'3'!$E$11:$I$11,2,FALSE),\"-\")","v":"-"},{"$f":"IFERROR(VLOOKUP(A880,'3'!E881:I881,4,FALSE),\"-\")","v":"-"}]
[null,{"$f":"IFERROR(VLOOKUP(A880,'3'!$E$12:$I$12,2,FALSE),\"-\")","v":"-"},{"$f":"IFERROR(VLOOKUP(A880,'3'!E882:I882,4,FALSE),\"-\")","v":"-"}]
[null,{"$f":"IFERROR(VLOOKUP(A880,'3'!$E$13:$I$13,2,FALSE),\"-\")","v":"-"},{"$f":"IFERROR(VLOOKUP(A880,'3'!E883:I883,4,FALSE),\"-\")","v":"-"}]
[null,{"$f":"IFERROR(VLOOKUP(A880,'3'!$E$14:$I$14,2,FALSE),\"-\")","v":"-"},{"$f":"IFERROR(VLOOKUP(A880,'3'!E884:I884,4,FALSE),\"-\")","v":"-"}]
[null,{"$f":"IFERROR(VLOOKUP(A880,'3'!$E$15:$I$15,2,FALSE),\"-\")","v":"-"},{"$f":"IFERROR(VLOOKUP(A880,'3'!E885:I885,4,FALSE),\"-\")","v":"-"}]
[null,{"$f":"IFERROR(VLOOKUP(A880,'3'!$E$16:$I$16,2,FALSE),\"-\")","v":"-"},{"$f":"IFERROR(VLOOKUP(A880,'3'!E886:I886,4,FALSE),\"-\")","v":"-"}]
[null,{"$f":"IFERROR(VLOOKUP(A880,'3'!$E$17:$I$17,2,FALSE),\"-\")","v":"-"},{"$f":"IFERROR(VLOOKUP(A880,'3'!E887:I887,4,FALSE),\"-\")","v":"-"}]
[null,{"$f":"IFERROR(VLOOKUP(A880,'3'!$E$18:$I$18,2,FALSE),\"-\")","v":"-"},{"$f":"IFERROR(VLOOKUP(A880,'3'!E888:I888,4,FALSE),\"-\")","v":"-"}]
[null,{"$f":"IFERROR(VLOOKUP(A880,'3'!$E$19:$I$19,2,FALSE),\"-\")","v":"-"},{"$f":"IFERROR(VLOOKUP(A880,'3'!E889:I889,4,FALSE),\"-\")","v":"-"}]
[null,{"$f":"IFERROR(VLOOKUP(A880,'3'!$E$20:$I$20,2,FALSE),\"-\")","v":"-"},{"$f":"IFERROR(VLOOKUP(A880,'3'!E890:I890,4,FALSE),\"-\")","v":"-"}]
[null,{"$f":"IFERROR(VLOOKUP(A880,'3'!$E$21:$I$21,2,FALSE),\"-\")","v":"-"},{"$f":"IFERROR(VLOOKUP(A880,'3'!E891:I891,4,FALSE),\"-\")","v":"-"}]
[null,{"$f":"IFERROR(VLOOKUP(A880,'3'!$E$22:$I$22,2,FALSE),\"-\")","v":"-"},{"$f":"IFERROR(VLOOKUP(A880,'3'!E892:I892,4,FALSE),\"-\")","v":"-"}]
[null,{"$f":"IFERROR(VLOOKUP(A880,'3'!$E$23:$I$23,2,FALSE),\"-\")","v":"-"},{"$f":"IFERROR(VLOOKUP(A880,'3'!E893:I893,4,FALSE),\"-\")","v":"-"}]
[null,{"$f":"IFERROR(VLOOKUP(A880,'3'!$E$24:$I$24,2,FALSE),\"-\")","v":"-"},{"$f":"IFERROR(VLOOKUP(A880,'3'!E894:I894,4,FALSE),\"-\")","v":"-"}]
[null,{"$f":"IFERROR(VLOOKUP(A880,'3'!$E$25:$I$25,2,FALSE),\"-\")","v":"-"},{"$f":"IFERROR(VLOOKUP(A880,'3'!E895:I895,4,FALSE),\"-\")","v":"-"}]
[null,{"$f":"IFERROR(VLOOKUP(A880,'3'!$E$26:$I$26,2,FALSE),\"-\")","v":"-"},{"$f":"IFERROR(VLOOKUP(A880,'3'!E896:I896,4,FALSE),\"-\")","v":"-"}]
[null,{"$f":"IFERROR(VLOOKUP(A880,'3'!$E$27:$I$27,2,FALSE),\"-\")","v":"-"},{"$f":"IFERROR(VLOOKUP(A880,'3'!E897:I897,4,FALSE),\"-\")","v":"-"}]
[null,{"$f":"IFERROR(VLOOKUP(A880,'3'!$E$28:$I$28,2,FALSE),\"-\")","v":"-"},{"$f":"IFERROR(VLOOKUP(A880,'3'!E898:I898,4,FALSE),\"-\")","v":"-"}]
[null,{"$f":"IFERROR(VLOOKUP(A880,'3'!$E$29:$I$29,2,FALSE),\"-\")","v":"-"},{"$f":"IFERROR(VLOOKUP(A880,'3'!E899:I899,4,FALSE),\"-\")","v":"-"}]
[null,{"$f":"IFERROR(VLOOKUP(A880,'3'!$E$30:$I$30,2,FALSE),\"-\")","v":"-"},{"$f":"IFERROR(VLOOKUP(A880,'3'!E900:I900,4,FALSE),\"-\")","v":"-"}]
[null,{"$f":"IFERROR(VLOOKUP(A880,'3'!$E$31:$I$31,2,FALSE),\"-\")","v":"-"},{"$f":"IFERROR(VLOOKUP(A880,'3'!E901:I901,4,FALSE),\"-\")","v":"-"}]
[null,{"$f":"IFERROR(VLOOKUP(A880,'4'!$E$4:$I$4,2,FALSE),\"-\")","v":"-"},{"$f":"IFERROR(VLOOKUP(A880,'4'!E874:I874,4,FALSE),\"-\")","v":"-"}]
[null,{"$f":"IFERROR(VLOOKUP(A880,'4'!$E$5:$I$5,2,FALSE),\"-\")","v":"-"},{"$f":"IFERROR(VLOOKUP(A880,'4'!E875:I875,4,FALSE),\"-\")","v":"-"}]
[null,{"$f":"IFERROR(VLOOKUP(A880,'4'!$E$6:$I$6,2,FALSE),\"-\")","v":"-"},{"$f":"IFERROR(VLOOKUP(A880,'4'!E876:I876,4,FALSE),\"-\")","v":"-"}]
[null,{"$f":"IFERROR(VLOOKUP(A880,'4'!$E$7:$I$7,2,FALSE),\"-\")","v":"-"},{"$f":"IFERROR(VLOOKUP(A880,'4'!E877:I877,4,FALSE),\"-\")","v":"-"}]
[null,{"$f":"IFERROR(VLOOKUP(A880,'4'!$E$8:$I$8,2,FALSE),\"-\")","v":"-"},{"$f":"IFERROR(VLOOKUP(A880,'4'!E878:I878,4,FALSE),\"-\")","v":"-"}]
[null,{"$f":"IFERROR(VLOOKUP(A880,'4'!$E$9:$I$9,2,FALSE),\"-\")","v":"-"},{"$f":"IFERROR(VLOOKUP(A880,'4'!E879:I879,4,FALSE),\"-\")","v":"-"}]
[null,{"$f":"IFERROR(VLOOKUP(A880,'4'!$E$10:$I$10,2,FALSE),\"-\")","v":"-"},{"$f":"IFERROR(VLOOKUP(A880,'4'!E880:I880,4,FALSE),\"-\")","v":"-"}]
[null,{"$f":"IFERROR(VLOOKUP(A880,'4'!$E$11:$I$11,2,FALSE),\"-\")","v":"-"},{"$f":"IFERROR(VLOOKUP(A880,'4'!E881:I881,4,FALSE),\"-\")","v":"-"}]
[null,{"$f":"IFERROR(VLOOKUP(A880,'4'!$E$12:$I$12,2,FALSE),\"-\")","v":"-"},{"$f":"IFERROR(VLOOKUP(A880,'4'!E882:I882,4,FALSE),\"-\")","v":"-"}]
[null,{"$f":"IFERROR(VLOOKUP(A880,'4'!$E$13:$I$13,2,FALSE),\"-\")","v":"-"},{"$f":"IFERROR(VLOOKUP(A880,'4'!E883:I883,4,FALSE),\"-\")","v":"-"}]
[null,{"$f":"IFERROR(VLOOKUP(A880,'4'!$E$14:$I$14,2,FALSE),\"-\")","v":"-"},{"$f":"IFERROR(VLOOKUP(A880,'4'!E884:I884,4,FALSE),\"-\")","v":"-"}]
[null,{"$f":"IFERROR(VLOOKUP(A880,'4'!$E$15:$I$15,2,FALSE),\"-\")","v":"-"},{"$f":"IFERROR(VLOOKUP(A880,'4'!E885:I885,4,FALSE),\"-\")","v":"-"}]
[null,{"$f":"IFERROR(VLOOKUP(A880,'4'!$E$16:$I$16,2,FALSE),\"-\")","v":"-"},{"$f":"IFERROR(VLOOKUP(A880,'4'!E886:I886,4,FALSE),\"-\")","v":"-"}]
[null,{"$f":"IFERROR(VLOOKUP(A880,'4'!$E$17:$I$17,2,FALSE),\"-\")","v":"-"},{"$f":"IFERROR(VLOOKUP(A880,'4'!E887:I887,4,FALSE),\"-\")","v":"-"}]
[null,{"$f":"IFERROR(VLOOKUP(A880,'4'!$E$18:$I$18,2,FALSE),\"-\")","v":"-"},{"$f":"IFERROR(VLOOKUP(A880,'4'!E888:I888,4,FALSE),\"-\")","v":"-"}]
[null,{"$f":"IFERROR(VLOOKUP(A880,'4'!$E$19:$I$19,2,FALSE),\"-\")","v":"-"},{"$f":"IFERROR(VLOOKUP(A880,'4'!E889:I889,4,FALSE),\"-\")","v":"-"}]
[null,{"$f":"IFERROR(VLOOKUP(A880,'4'!$E$20:$I$20,2,FALSE),\"-\")","v":"-"},{"$f":"IFERROR(VLOOKUP(A880,'4'!E890:I890,4,FALSE),\"-\")","v":"-"}]
[null,{"$f":"IFERROR(VLOOKUP(A880,'4'!$E$21:$I$21,2,FALSE),\"-\")","v":"-"},{"$f":"IFERROR(VLOOKUP(A880,'4'!E891:I891,4,FALSE),\"-\")","v":"-"}]
[null,{"$f":"IFERROR(VLOOKUP(A880,'4'!$E$22:$I$22,2,FALSE),\"-\")","v":"-"},{"$f":"IFERROR(VLOOKUP(A880,'4'!E892:I892,4,FALSE),\"-\")","v":"-"}]
[null,{"$f":"IFERROR(VLOOKUP(A880,'4'!$E$23:$I$23,2,FALSE),\"-\")","v":"-"},{"$f":"IFERROR(VLOOKUP(A880,'4'!E893:I893,4,FALSE),\"-\")","v":"-"}]
[null,{"$f":"IFERROR(VLOOKUP(A880,'4'!$E$24:$I$24,2,FALSE),\"-\")","v":"-"},{"$f":"IFERROR(VLOOKUP(A880,'4'!E894:I894,4,FALSE),\"-\")","v":"-"}]
[null,{"$f":"IFERROR(VLOOKUP(A880,'4'!$E$25:$I$25,2,FALSE),\"-\")","v":"-"},{"$f":"IFERROR(VLOOKUP(A880,'4'!E895:I895,4,FALSE),\"-\")","v":"-"}]
[null,{"$f":"IFERROR(VLOOKUP(A880,'4'!$E$26:$I$26,2,FALSE),\"-\")","v":"-"},{"$f":"IFERROR(VLOOKUP(A880,'4'!E896:I896,4,FALSE),\"-\")","v":"-"}]
[null,{"$f":"IFERROR(VLOOKUP(A880,'4'!$E$27:$I$27,2,FALSE),\"-\")","v":"-"},{"$f":"IFERROR(VLOOKUP(A880,'4'!E897:I897,4,FALSE),\"-\")","v":"-"}]
[null,{"$f":"IFERROR(VLOOKUP(A880,'4'!$E$28:$I$28,2,FALSE),\"-\")","v":"-"},{"$f":"IFERROR(VLOOKUP(A880,'4'!E898:I898,4,FALSE),\"-\")","v":"-"}]
[null,{"$f":"IFERROR(VLOOKUP(A880,'4'!$E$29:$I$29,2,FALSE),\"-\")","v":"-"},{"$f":"IFERROR(VLOOKUP(A880,'4'!E899:I899,4,FALSE),\"-\")","v":"-"}]
[null,{"$f":"IFERROR(VLOOKUP(A880,'4'!$E$30:$I$30,2,FALSE),\"-\")","v":"-"},{"$f":"IFERROR(VLOOKUP(A880,'4'!E900:I900,4,FALSE),\"-\")","v":"-"}]
[null,{"$f":"IFERROR(VLOOKUP(A880,'4'!$E$31:$I$31,2,FALSE),\"-\")","v":"-"},{"$f":"IFERROR(VLOOKUP(A880,'4'!E901:I901,4,FALSE),\"-\")","v":"-"}]
[null,{"$f":"IFERROR(VLOOKUP(A880,'5'!$E$4:$I$4,2,FALSE),\"-\")","v":"-"},{"$f":"IFERROR(VLOOKUP(A880,'5'!E874:I874,4,FALSE),\"-\")","v":"-"}]
[null,{"$f":"IFERROR(VLOOKUP(A880,'5'!$E$5:$I$5,2,FALSE),\"-\")","v":"-"},{"$f":"IFERROR(VLOOKUP(A880,'5'!E875:I875,4,FALSE),\"-\")","v":"-"}]
[null,{"$f":"IFERROR(VLOOKUP(A880,'5'!$E$6:$I$6,2,FALSE),\"-\")","v":"-"},{"$f":"IFERROR(VLOOKUP(A880,'5'!E876:I876,4,FALSE),\"-\")","v":"-"}]
[null,{"$f":"IFERROR(VLOOKUP(A880,'5'!$E$7:$I$7,2,FALSE),\"-\")","v":"-"},{"$f":"IFERROR(VLOOKUP(A880,'5'!E877:I877,4,FALSE),\"-\")","v":"-"}]
[null,{"$f":"IFERROR(VLOOKUP(A880,'5'!$E$8:$I$8,2,FALSE),\"-\")","v":"-"},{"$f":"IFERROR(VLOOKUP(A880,'5'!E878:I878,4,FALSE),\"-\")","v":"-"}]
[null,{"$f":"IFERROR(VLOOKUP(A880,'5'!$E$9:$I$9,2,FALSE),\"-\")","v":"-"},{"$f":"IFERROR(VLOOKUP(A880,'5'!E879:I879,4,FALSE),\"-\")","v":"-"}]
[null,{"$f":"IFERROR(VLOOKUP(A880,'5'!$E$10:$I$10,2,FALSE),\"-\")","v":"-"},{"$f":"IFERROR(VLOOKUP(A880,'5'!E880:I880,4,FALSE),\"-\")","v":"-"}]
[null,{"$f":"IFERROR(VLOOKUP(A880,'5'!$E$11:$I$11,2,FALSE),\"-\")","v":"-"},{"$f":"IFERROR(VLOOKUP(A880,'5'!E881:I881,4,FALSE),\"-\")","v":"-"}]
[null,{"$f":"IFERROR(VLOOKUP(A880,'5'!$E$12:$I$12,2,FALSE),\"-\")","v":"-"},{"$f":"IFERROR(VLOOKUP(A880,'5'!E882:I882,4,FALSE),\"-\")","v":"-"}]
[null,{"$f":"IFERROR(VLOOKUP(A880,'5'!$E$13:$I$13,2,FALSE),\"-\")","v":"-"},{"$f":"IFERROR(VLOOKUP(A880,'5'!E883:I883,4,FALSE),\"-\")","v":"-"}]
[null,{"$f":"IFERROR(VLOOKUP(A880,'5'!$E$14:$I$14,2,FALSE),\"-\")","v":"-"},{"$f":"IFERROR(VLOOKUP(A880,'5'!E884:I884,4,FALSE),\"-\")","v":"-"}]
[null,{"$f":"IFERROR(VLOOKUP(A880,'5'!$E$15:$I$15,2,FALSE),\"-\")","v":"-"},{"$f":"IFERROR(VLOOKUP(A880,'5'!E885:I885,4,FALSE),\"-\")","v":"-"}]
[null,{"$f":"IFERROR(VLOOKUP(A880,'5'!$E$16:$I$16,2,FALSE),\"-\")","v":"-"},{"$f":"IFERROR(VLOOKUP(A880,'5'!E886:I886,4,FALSE),\"-\")","v":"-"}]
[null,{"$f":"IFERROR(VLOOKUP(A880,'5'!$E$17:$I$17,2,FALSE),\"-\")","v":"-"},{"$f":"IFERROR(VLOOKUP(A880,'5'!E887:I887,4,FALSE),\"-\")","v":"-"}]
[null,{"$f":"IFERROR(VLOOKUP(A880,'5'!$E$18:$I$18,2,FALSE),\"-\")","v":"-"},{"$f":"IFERROR(VLOOKUP(A880,'5'!E888:I888,4,FALSE),\"-\")","v":"-"}]
[null,{"$f":"IFERROR(VLOOKUP(A880,'5'!$E$19:$I$19,2,FALSE),\"-\")","v":"-"},{"$f":"IFERROR(VLOOKUP(A880,'5'!E889:I889,4,FALSE),\"-\")","v":"-"}]
[null,{"$f":"IFERROR(VLOOKUP(A880,'5'!$E$20:$I$20,2,FALSE),\"-\")","v":"-"},{"$f":"IFERROR(VLOOKUP(A880,'5'!E890:I890,4,FALSE),\"-\")","v":"-"}]
[null,{"$f":"IFERROR(VLOOKUP(A880,'5'!$E$21:$I$21,2,FALSE),\"-\")","v":"-"},{"$f":"IFERROR(VLOOKUP(A880,'5'!E891:I891,4,FALSE),\"-\")","v":"-"}]
[null,{"$f":"IFERROR(VLOOKUP(A880,'5'!$E$22:$I$22,2,FALSE),\"-\")","v":"-"},{"$f":"IFERROR(VLOOKUP(A880,'5'!E892:I892,4,FALSE),\"-\")","v":"-"}]
[null,{"$f":"IFERROR(VLOOKUP(A880,'5'!$E$23:$I$23,2,FALSE),\"-\")","v":"-"},{"$f":"IFERROR(VLOOKUP(A880,'5'!E893:I893,4,FALSE),\"-\")","v":"-"}]
[null,{"$f":"IFERROR(VLOOKUP(A880,'5'!$E$24:$I$24,2,FALSE),\"-\")","v":"-"},{"$f":"IFERROR(VLOOKUP(A880,'5'!E894:I894,4,FALSE),\"-\")","v":"-"}]
[null,{"$f":"IFERROR(VLOOKUP(A880,'5'!$E$25:$I$25,2,FALSE),\"-\")","v":"-"},{"$f":"IFERROR(VLOOKUP(A880,'5'!E895:I895,4,FALSE),\"-\")","v":"-"}]
[null,{"$f":"IFERROR(VLOOKUP(A880,'5'!$E$26:$I$26,2,FALSE),\"-\")","v":"-"},{"$f":"IFERROR(VLOOKUP(A880,'5'!E896:I896,4,FALSE),\"-\")","v":"-"}]
[null,{"$f":"IFERROR(VLOOKUP(A880,'5'!$E$27:$I$27,2,FALSE),\"-\")","v":"-"},{"$f":"IFERROR(VLOOKUP(A880,'5'!E897:I897,4,FALSE),\"-\")","v":"-"}]
[null,{"$f":"IFERROR(VLOOKUP(A880,'5'!$E$28:$I$28,2,FALSE),\"-\")","v":"-"},{"$f":"IFERROR(VLOOKUP(A880,'5'!E898:I898,4,FALSE),\"-\")","v":"-"}]
[null,{"$f":"IFERROR(VLOOKUP(A880,'5'!$E$29:$I$29,2,FALSE),\"-\")","v":"-"},{"$f":"IFERROR(VLOOKUP(A880,'5'!E899:I899,4,FALSE),\"-\")","v":"-"}]
[null,{"$f":"IFERROR(VLOOKUP(A880,'5'!$E$30:$I$30,2,FALSE),\"-\")","v":"-"},{"$f":"IFERROR(VLOOKUP(A880,'5'!E900:I900,4,FALSE),\"-\")","v":"-"}]
[null,{"$f":"IFERROR(VLOOKUP(A880,'5'!$E$31:$I$31,2,FALSE),\"-\")","v":"-"},{"$f":"IFERROR(VLOOKUP(A880,'5'!E901:I901,4,FALSE),\"-\")","v":"-"}]
[null,{"$f":"IFERROR(VLOOKUP(A880,'6'!$E$4:$I$4,2,FALSE),\"-\")","v":"-"},{"$f":"IFERROR(VLOOKUP(A880,'6'!E874:I874,4,FALSE),\"-\")","v":"-"}]
[null,{"$f":"IFERROR(VLOOKUP(A880,'6'!$E$5:$I$5,2,FALSE),\"-\")","v":"-"},{"$f":"IFERROR(VLOOKUP(A880,'6'!E875:I875,4,FALSE),\"-\")","v":"-"}]
[null,{"$f":"IFERROR(VLOOKUP(A880,'6'!$E$6:$I$6,2,FALSE),\"-\")","v":"-"},{"$f":"IFERROR(VLOOKUP(A880,'6'!E876:I876,4,FALSE),\"-\")","v":"-"}]
[null,{"$f":"IFERROR(VLOOKUP(A880,'6'!$E$7:$I$7,2,FALSE),\"-\")","v":"-"},{"$f":"IFERROR(VLOOKUP(A880,'6'!E877:I877,4,FALSE),\"-\")","v":"-"}]
[null,{"$f":"IFERROR(VLOOKUP(A880,'6'!$E$8:$I$8,2,FALSE),\"-\")","v":"-"},{"$f":"IFERROR(VLOOKUP(A880,'6'!E878:I878,4,FALSE),\"-\")","v":"-"}]
[null,{"$f":"IFERROR(VLOOKUP(A880,'6'!$E$9:$I$9,2,FALSE),\"-\")","v":"-"},{"$f":"IFERROR(VLOOKUP(A880,'6'!E879:I879,4,FALSE),\"-\")","v":"-"}]
[null,{"$f":"IFERROR(VLOOKUP(A880,'6'!$E$10:$I$10,2,FALSE),\"-\")","v":"-"},{"$f":"IFERROR(VLOOKUP(A880,'6'!E880:I880,4,FALSE),\"-\")","v":"-"}]
[null,{"$f":"IFERROR(VLOOKUP(A880,'6'!$E$11:$I$11,2,FALSE),\"-\")","v":"-"},{"$f":"IFERROR(VLOOKUP(A880,'6'!E881:I881,4,FALSE),\"-\")","v":"-"}]
[null,{"$f":"IFERROR(VLOOKUP(A880,'6'!$E$12:$I$12,2,FALSE),\"-\")","v":"-"},{"$f":"IFERROR(VLOOKUP(A880,'6'!E882:I882,4,FALSE),\"-\")","v":"-"}]
[null,{"$f":"IFERROR(VLOOKUP(A880,'6'!$E$13:$I$13,2,FALSE),\"-\")","v":"-"},{"$f":"IFERROR(VLOOKUP(A880,'6'!E883:I883,4,FALSE),\"-\")","v":"-"}]
[null,{"$f":"IFERROR(VLOOKUP(A880,'6'!$E$14:$I$14,2,FALSE),\"-\")","v":"-"},{"$f":"IFERROR(VLOOKUP(A880,'6'!E884:I884,4,FALSE),\"-\")","v":"-"}]
[null,{"$f":"IFERROR(VLOOKUP(A880,'6'!$E$15:$I$15,2,FALSE),\"-\")","v":"-"},{"$f":"IFERROR(VLOOKUP(A880,'6'!E885:I885,4,FALSE),\"-\")","v":"-"}]
[null,{"$f":"IFERROR(VLOOKUP(A880,'6'!$E$16:$I$16,2,FALSE),\"-\")","v":"-"},{"$f":"IFERROR(VLOOKUP(A880,'6'!E886:I886,4,FALSE),\"-\")","v":"-"}]
[null,{"$f":"IFERROR(VLOOKUP(A880,'6'!$E$17:$I$17,2,FALSE),\"-\")","v":"-"},{"$f":"IFERROR(VLOOKUP(A880,'6'!E887:I887,4,FALSE),\"-\")","v":"-"}]
[null,{"$f":"IFERROR(VLOOKUP(A880,'6'!$E$18:$I$18,2,FALSE),\"-\")","v":"-"},{"$f":"IFERROR(VLOOKUP(A880,'6'!E888:I888,4,FALSE),\"-\")","v":"-"}]
[null,{"$f":"IFERROR(VLOOKUP(A880,'6'!$E$19:$I$19,2,FALSE),\"-\")","v":"-"},{"$f":"IFERROR(VLOOKUP(A880,'6'!E889:I889,4,FALSE),\"-\")","v":"-"}]
[null,{"$f":"IFERROR(VLOOKUP(A880,'6'!$E$20:$I$20,2,FALSE),\"-\")","v":"-"},{"$f":"IFERROR(VLOOKUP(A880,'6'!E890:I890,4,FALSE),\"-\")","v":"-"}]
[null,{"$f":"IFERROR(VLOOKUP(A880,'6'!$E$21:$I$21,2,FALSE),\"-\")","v":"-"},{"$f":"IFERROR(VLOOKUP(A880,'6'!E891:I891,4,FALSE),\"-\")","v":"-"}]
[null,{"$f":"IFERROR(VLOOKUP(A880,'6'!$E$22:$I$22,2,FALSE),\"-\")","v":"-"},{"$f":"IFERROR(VLOOKUP(A880,'6'!E892:I892,4,FALSE),\"-\")","v":"-"}]
[null,{"$f":"IFERROR(VLOOKUP(A880,'6'!$E$23:$I$23,2,FALSE),\"-\")","v":"-"},{"$f":"IFERROR(VLOOKUP(A880,'6'!E893:I893,4,FALSE),\"-\")","v":"-"}]
[null,{"$f":"IFERROR(VLOOKUP(A880,'6'!$E$24:$I$24,2,FALSE),\"-\")","v":"-"},{"$f":"IFERROR(VLOOKUP(A880,'6'!E894:I894,4,FALSE),\"-\")","v":"-"}]
[null,{"$f":"IFERROR(VLOOKUP(A880,'6'!$E$25:$I$25,2,FALSE),\"-\")","v":"-"},{"$f":"IFERROR(VLOOKUP(A880,'6'!E895:I895,4,FALSE),\"-\")","v":"-"}]
[null,{"$f":"IFERROR(VLOOKUP(A880,'6'!$E$26:$I$26,2,FALSE),\"-\")","v":"-"},{"$f":"IFERROR(VLOOKUP(A880,'6'!E896:I896,4,FALSE),\"-\")","v":"-"}]
[null,{"$f":"IFERROR(VLOOKUP(A880,'6'!$E$27:$I$27,2,FALSE),\"-\")","v":"-"},{"$f":"IFERROR(VLOOKUP(A880,'6'!E897:I897,4,FALSE),\"-\")","v":"-"}]
[null,{"$f":"IFERROR(VLOOKUP(A880,'6'!$E$28:$I$28,2,FALSE),\"-\")","v":"-"},{"$f":"IFERROR(VLOOKUP(A880,'6'!E898:I898,4,FALSE),\"-\")","v":"-"}]
[null,{"$f":"IFERROR(VLOOKUP(A880,'6'!$E$29:$I$29,2,FALSE),\"-\")","v":"-"},{"$f":"IFERROR(VLOOKUP(A880,'6'!E899:I899,4,FALSE),\"-\")","v":"-"}]
[null,{"$f":"IFERROR(VLOOKUP(A880,'6'!$E$30:$I$30,2,FALSE),\"-\")","v":"-"},{"$f":"IFERROR(VLOOKUP(A880,'6'!E900:I900,4,FALSE),\"-\")","v":"-"}]
[null,{"$f":"IFERROR(VLOOKUP(A880,'6'!$E$31:$I$31,2,FALSE),\"-\")","v":"-"},{"$f":"IFERROR(VLOOKUP(A880,'6'!E901:I901,4,FALSE),\"-\")","v":"-"}]
[null,{"$f":"IFERROR(VLOOKUP(A880,'7'!$E$4:$I$4,2,FALSE),\"-\")","v":"-"},{"$f":"IFERROR(VLOOKUP(A880,'7'!E874:I874,4,FALSE),\"-\")","v":"-"}]
[null,{"$f":"IFERROR(VLOOKUP(A880,'7'!$E$5:$I$5,2,FALSE),\"-\")","v":"-"},{"$f":"IFERROR(VLOOKUP(A880,'7'!E875:I875,4,FALSE),\"-\")","v":"-"}]
[null,{"$f":"IFERROR(VLOOKUP(A880,'7'!$E$6:$I$6,2,FALSE),\"-\")","v":"-"},{"$f":"IFERROR(VLOOKUP(A880,'7'!E876:I876,4,FALSE),\"-\")","v":"-"}]
[null,{"$f":"IFERROR(VLOOKUP(A880,'7'!$E$7:$I$7,2,FALSE),\"-\")","v":"-"},{"$f":"IFERROR(VLOOKUP(A880,'7'!E877:I877,4,FALSE),\"-\")","v":"-"}]
[null,{"$f":"IFERROR(VLOOKUP(A880,'7'!$E$8:$I$8,2,FALSE),\"-\")","v":"-"},{"$f":"IFERROR(VLOOKUP(A880,'7'!E878:I878,4,FALSE),\"-\")","v":"-"}]
[null,{"$f":"IFERROR(VLOOKUP(A880,'7'!$E$9:$I$9,2,FALSE),\"-\")","v":"-"},{"$f":"IFERROR(VLOOKUP(A880,'7'!E879:I879,4,FALSE),\"-\")","v":"-"}]
[null,{"$f":"IFERROR(VLOOKUP(A880,'7'!$E$10:$I$10,2,FALSE),\"-\")","v":"-"},{"$f":"IFERROR(VLOOKUP(A880,'7'!E880:I880,4,FALSE),\"-\")","v":"-"}]
[null,{"$f":"IFERROR(VLOOKUP(A880,'7'!$E$11:$I$11,2,FALSE),\"-\")","v":"-"},{"$f":"IFERROR(VLOOKUP(A880,'7'!E881:I881,4,FALSE),\"-\")","v":"-"}]
[null,{"$f":"IFERROR(VLOOKUP(A880,'7'!$E$12:$I$12,2,FALSE),\"-\")","v":"-"},{"$f":"IFERROR(VLOOKUP(A880,'7'!E882:I882,4,FALSE),\"-\")","v":"-"}]
[null,{"$f":"IFERROR(VLOOKUP(A880,'7'!$E$13:$I$13,2,FALSE),\"-\")","v":"-"},{"$f":"IFERROR(VLOOKUP(A880,'7'!E883:I883,4,FALSE),\"-\")","v":"-"}]
[null,{"$f":"IFERROR(VLOOKUP(A880,'7'!$E$14:$I$14,2,FALSE),\"-\")","v":"-"},{"$f":"IFERROR(VLOOKUP(A880,'7'!E884:I884,4,FALSE),\"-\")","v":"-"}]
[null,{"$f":"IFERROR(VLOOKUP(A880,'7'!$E$15:$I$15,2,FALSE),\"-\")","v":"-"},{"$f":"IFERROR(VLOOKUP(A880,'7'!E885:I885,4,FALSE),\"-\")","v":"-"}]
[null,{"$f":"IFERROR(VLOOKUP(A880,'7'!$E$16:$I$16,2,FALSE),\"-\")","v":"-"},{"$f":"IFERROR(VLOOKUP(A880,'7'!E886:I886,4,FALSE),\"-\")","v":"-"}]
[null,{"$f":"IFERROR(VLOOKUP(A880,'7'!$E$17:$I$17,2,FALSE),\"-\")","v":"-"},{"$f":"IFERROR(VLOOKUP(A880,'7'!E887:I887,4,FALSE),\"-\")","v":"-"}]
[null,{"$f":"IFERROR(VLOOKUP(A880,'7'!$E$18:$I$18,2,FALSE),\"-\")","v":"-"},{"$f":"IFERROR(VLOOKUP(A880,'7'!E888:I888,4,FALSE),\"-\")","v":"-"}]
[null,{"$f":"IFERROR(VLOOKUP(A880,'7'!$E$19:$I$19,2,FALSE),\"-\")","v":"-"},{"$f":"IFERROR(VLOOKUP(A880,'7'!E889:I889,4,FALSE),\"-\")","v":"-"}]
[null,{"$f":"IFERROR(VLOOKUP(A880,'7'!$E$20:$I$20,2,FALSE),\"-\")","v":"-"},{"$f":"IFERROR(VLOOKUP(A880,'7'!E890:I890,4,FALSE),\"-\")","v":"-"}]
[null,{"$f":"IFERROR(VLOOKUP(A880,'7'!$E$21:$I$21,2,FALSE),\"-\")","v":"-"},{"$f":"IFERROR(VLOOKUP(A880,'7'!E891:I891,4,FALSE),\"-\")","v":"-"}]
[null,{"$f":"IFERROR(VLOOKUP(A880,'7'!$E$22:$I$22,2,FALSE),\"-\")","v":"-"},{"$f":"IFERROR(VLOOKUP(A880,'7'!E892:I892,4,FALSE),\"-\")","v":"-"}]
[null,{"$f":"IFERROR(VLOOKUP(A880,'7'!$E$23:$I$23,2,FALSE),\"-\")","v":"-"},{"$f":"IFERROR(VLOOKUP(A880,'7'!E893:I893,4,FALSE),\"-\")","v":"-"}]
[null,{"$f":"IFERROR(VLOOKUP(A880,'7'!$E$24:$I$24,2,FALSE),\"-\")","v":"-"},{"$f":"IFERROR(VLOOKUP(A880,'7'!E894:I894,4,FALSE),\"-\")","v":"-"}]
[null,{"$f":"IFERROR(VLOOKUP(A880,'7'!$E$25:$I$25,2,FALSE),\"-\")","v":"-"},{"$f":"IFERROR(VLOOKUP(A880,'7'!E895:I895,4,FALSE),\"-\")","v":"-"}]
[null,{"$f":"IFERROR(VLOOKUP(A880,'7'!$E$26:$I$26,2,FALSE),\"-\")","v":"-"},{"$f":"IFERROR(VLOOKUP(A880,'7'!E896:I896,4,FALSE),\"-\")","v":"-"}]
[null,{"$f":"IFERROR(VLOOKUP(A880,'7'!$E$27:$I$27,2,FALSE),\"-\")","v":"-"},{"$f":"IFERROR(VLOOKUP(A880,'7'!E897:I897,4,FALSE),\"-\")","v":"-"}]
[null,{"$f":"IFERROR(VLOOKUP(A880,'7'!$E$28:$I$28,2,FALSE),\"-\")","v":"-"},{"$f":"IFERROR(VLOOKUP(A880,'7'!E898:I898,4,FALSE),\"-\")","v":"-"}]
[null,{"$f":"IFERROR(VLOOKUP(A880,'7'!$E$29:$I$29,2,FALSE),\"-\")","v":"-"},{"$f":"IFERROR(VLOOKUP(A880,'7'!E899:I899,4,FALSE),\"-\")","v":"-"}]
[null,{"$f":"IFERROR(VLOOKUP(A880,'7'!$E$30:$I$30,2,FALSE),\"-\")","v":"-"},{"$f":"IFERROR(VLOOKUP(A880,'7'!E900:I900,4,FALSE),\"-\")","v":"-"}]
[null,{"$f":"IFERROR(VLOOKUP(A880,'7'!$E$31:$I$31,2,FALSE),\"-\")","v":"-"},{"$f":"IFERROR(VLOOKUP(A880,'7'!E901:I901,4,FALSE),\"-\")","v":"-"}]
[null,{"$f":"IFERROR(VLOOKUP(A880,'8'!$E$4:$I$4,2,FALSE),\"-\")","v":"-"},{"$f":"IFERROR(VLOOKUP(A880,'8'!E874:I874,4,FALSE),\"-\")","v":"-"}]
[null,{"$f":"IFERROR(VLOOKUP(A880,'8'!$E$5:$I$5,2,FALSE),\"-\")","v":"-"},{"$f":"IFERROR(VLOOKUP(A880,'8'!E875:I875,4,FALSE),\"-\")","v":"-"}]
[null,{"$f":"IFERROR(VLOOKUP(A880,'8'!$E$6:$I$6,2,FALSE),\"-\")","v":"-"},{"$f":"IFERROR(VLOOKUP(A880,'8'!E876:I876,4,FALSE),\"-\")","v":"-"}]
[null,{"$f":"IFERROR(VLOOKUP(A880,'8'!$E$7:$I$7,2,FALSE),\"-\")","v":"-"},{"$f":"IFERROR(VLOOKUP(A880,'8'!E877:I877,4,FALSE),\"-\")","v":"-"}]
[null,{"$f":"IFERROR(VLOOKUP(A880,'8'!$E$8:$I$8,2,FALSE),\"-\")","v":"-"},{"$f":"IFERROR(VLOOKUP(A880,'8'!E878:I878,4,FALSE),\"-\")","v":"-"}]
[null,{"$f":"IFERROR(VLOOKUP(A880,'8'!$E$9:$I$9,2,FALSE),\"-\")","v":"-"},{"$f":"IFERROR(VLOOKUP(A880,'8'!E879:I879,4,FALSE),\"-\")","v":"-"}]
[null,{"$f":"IFERROR(VLOOKUP(A880,'8'!$E$10:$I$10,2,FALSE),\"-\")","v":"-"},{"$f":"IFERROR(VLOOKUP(A880,'8'!E880:I880,4,FALSE),\"-\")","v":"-"}]
[null,{"$f":"IFERROR(VLOOKUP(A880,'8'!$E$11:$I$11,2,FALSE),\"-\")","v":"-"},{"$f":"IFERROR(VLOOKUP(A880,'8'!E881:I881,4,FALSE),\"-\")","v":"-"}]
[null,{"$f":"IFERROR(VLOOKUP(A880,'8'!$E$12:$I$12,2,FALSE),\"-\")","v":"-"},{"$f":"IFERROR(VLOOKUP(A880,'8'!E882:I882,4,FALSE),\"-\")","v":"-"}]
[null,{"$f":"IFERROR(VLOOKUP(A880,'8'!$E$13:$I$13,2,FALSE),\"-\")","v":"-"},{"$f":"IFERROR(VLOOKUP(A880,'8'!E883:I883,4,FALSE),\"-\")","v":"-"}]
[null,{"$f":"IFERROR(VLOOKUP(A880,'8'!$E$14:$I$14,2,FALSE),\"-\")","v":"-"},{"$f":"IFERROR(VLOOKUP(A880,'8'!E884:I884,4,FALSE),\"-\")","v":"-"}]
[null,{"$f":"IFERROR(VLOOKUP(A880,'8'!$E$15:$I$15,2,FALSE),\"-\")","v":"-"},{"$f":"IFERROR(VLOOKUP(A880,'8'!E885:I885,4,FALSE),\"-\")","v":"-"}]
[null,{"$f":"IFERROR(VLOOKUP(A880,'8'!$E$16:$I$16,2,FALSE),\"-\")","v":"-"},{"$f":"IFERROR(VLOOKUP(A880,'8'!E886:I886,4,FALSE),\"-\")","v":"-"}]
[null,{"$f":"IFERROR(VLOOKUP(A880,'8'!$E$17:$I$17,2,FALSE),\"-\")","v":"-"},{"$f":"IFERROR(VLOOKUP(A880,'8'!E887:I887,4,FALSE),\"-\")","v":"-"}]
[null,{"$f":"IFERROR(VLOOKUP(A880,'8'!$E$18:$I$18,2,FALSE),\"-\")","v":"-"},{"$f":"IFERROR(VLOOKUP(A880,'8'!E888:I888,4,FALSE),\"-\")","v":"-"}]
[null,{"$f":"IFERROR(VLOOKUP(A880,'8'!$E$19:$I$19,2,FALSE),\"-\")","v":"-"},{"$f":"IFERROR(VLOOKUP(A880,'8'!E889:I889,4,FALSE),\"-\")","v":"-"}]
[null,{"$f":"IFERROR(VLOOKUP(A880,'8'!$E$20:$I$20,2,FALSE),\"-\")","v":"-"},{"$f":"IFERROR(VLOOKUP(A880,'8'!E890:I890,4,FALSE),\"-\")","v":"-"}]
[null,{"$f":"IFERROR(VLOOKUP(A880,'8'!$E$21:$I$21,2,FALSE),\"-\")","v":"-"},{"$f":"IFERROR(VLOOKUP(A880,'8'!E891:I891,4,FALSE),\"-\")","v":"-"}]
[null,{"$f":"IFERROR(VLOOKUP(A880,'8'!$E$22:$I$22,2,FALSE),\"-\")","v":"-"},{"$f":"IFERROR(VLOOKUP(A880,'8'!E892:I892,4,FALSE),\"-\")","v":"-"}]
[null,{"$f":"IFERROR(VLOOKUP(A880,'8'!$E$23:$I$23,2,FALSE),\"-\")","v":"-"},{"$f":"IFERROR(VLOOKUP(A880,'8'!E893:I893,4,FALSE),\"-\")","v":"-"}]
[null,{"$f":"IFERROR(VLOOKUP(A880,'8'!$E$24:$I$24,2,FALSE),\"-\")","v":"-"},{"$f":"IFERROR(VLOOKUP(A880,'8'!E894:I894,4,FALSE),\"-\")","v":"-"}]
[null,{"$f":"IFERROR(VLOOKUP(A880,'8'!$E$25:$I$25,2,FALSE),\"-\")","v":"-"},{"$f":"IFERROR(VLOOKUP(A880,'8'!E895:I895,4,FALSE),\"-\")","v":"-"}]
[null,{"$f":"IFERROR(VLOOKUP(A880,'8'!$E$26:$I$26,2,FALSE),\"-\")","v":"-"},{"$f":"IFERROR(VLOOKUP(A880,'8'!E896:I896,4,FALSE),\"-\")","v":"-"}]
[null,{"$f":"IFERROR(VLOOKUP(A880,'8'!$E$27:$I$27,2,FALSE),\"-\")","v":"-"},{"$f":"IFERROR(VLOOKUP(A880,'8'!E897:I897,4,FALSE),\"-\")","v":"-"}]
[null,{"$f":"IFERROR(VLOOKUP(A880,'8'!$E$28:$I$28,2,FALSE),\"-\")","v":"-"},{"$f":"IFERROR(VLOOKUP(A880,'8'!E898:I898,4,FALSE),\"-\")","v":"-"}]
[null,{"$f":"IFERROR(VLOOKUP(A880,'8'!$E$29:$I$29,2,FALSE),\"-\")","v":"-"},{"$f":"IFERROR(VLOOKUP(A880,'8'!E899:I899,4,FALSE),\"-\")","v":"-"}]
[null,{"$f":"IFERROR(VLOOKUP(A880,'8'!$E$30:$I$30,2,FALSE),\"-\")","v":"-"},{"$f":"IFERROR(VLOOKUP(A880,'8'!E900:I900,4,FALSE),\"-\")","v":"-"}]
[null,{"$f":"IFERROR(VLOOKUP(A880,'8'!$E$31:$I$31,2,FALSE),\"-\")","v":"-"},{"$f":"IFERROR(VLOOKUP(A880,'8'!E901:I901,4,FALSE),\"-\")","v":"-"}]
[null,{"$f":"IFERROR(VLOOKUP(A880,'9'!$E$4:$I$4,2,FALSE),\"-\")","v":"-"},{"$f":"IFERROR(VLOOKUP(A880,'9'!E874:I874,4,FALSE),\"-\")","v":"-"}]
[null,{"$f":"IFERROR(VLOOKUP(A880,'9'!$E$5:$I$5,2,FALSE),\"-\")","v":"-"},{"$f":"IFERROR(VLOOKUP(A880,'9'!E875:I875,4,FALSE),\"-\")","v":"-"}]
[null,{"$f":"IFERROR(VLOOKUP(A880,'9'!$E$6:$I$6,2,FALSE),\"-\")","v":"-"},{"$f":"IFERROR(VLOOKUP(A880,'9'!E876:I876,4,FALSE),\"-\")","v":"-"}]
[null,{"$f":"IFERROR(VLOOKUP(A880,'9'!$E$7:$I$7,2,FALSE),\"-\")","v":"-"},{"$f":"IFERROR(VLOOKUP(A880,'9'!E877:I877,4,FALSE),\"-\")","v":"-"}]
[null,{"$f":"IFERROR(VLOOKUP(A880,'9'!$E$8:$I$8,2,FALSE),\"-\")","v":"-"},{"$f":"IFERROR(VLOOKUP(A880,'9'!E878:I878,4,FALSE),\"-\")","v":"-"}]
[null,{"$f":"IFERROR(VLOOKUP(A880,'9'!$E$9:$I$9,2,FALSE),\"-\")","v":"-"},{"$f":"IFERROR(VLOOKUP(A880,'9'!E879:I879,4,FALSE),\"-\")","v":"-"}]
[null,{"$f":"IFERROR(VLOOKUP(A880,'9'!$E$10:$I$10,2,FALSE),\"-\")","v":"-"},{"$f":"IFERROR(VLOOKUP(A880,'9'!E880:I880,4,FALSE),\"-\")","v":"-"}]
[null,{"$f":"IFERROR(VLOOKUP(A880,'9'!$E$11:$I$11,2,FALSE),\"-\")","v":"-"},{"$f":"IFERROR(VLOOKUP(A880,'9'!E881:I881,4,FALSE),\"-\")","v":"-"}]
[null,{"$f":"IFERROR(VLOOKUP(A880,'9'!$E$12:$I$12,2,FALSE),\"-\")","v":"-"},{"$f":"IFERROR(VLOOKUP(A880,'9'!E882:I882,4,FALSE),\"-\")","v":"-"}]
[null,{"$f":"IFERROR(VLOOKUP(A880,'9'!$E$13:$I$13,2,FALSE),\"-\")","v":"-"},{"$f":"IFERROR(VLOOKUP(A880,'9'!E883:I883,4,FALSE),\"-\")","v":"-"}]
[null,{"$f":"IFERROR(VLOOKUP(A880,'9'!$E$14:$I$14,2,FALSE),\"-\")","v":"-"},{"$f":"IFERROR(VLOOKUP(A880,'9'!E884:I884,4,FALSE),\"-\")","v":"-"}]
[null,{"$f":"IFERROR(VLOOKUP(A880,'9'!$E$15:$I$15,2,FALSE),\"-\")","v":"-"},{"$f":"IFERROR(VLOOKUP(A880,'9'!E885:I885,4,FALSE),\"-\")","v":"-"}]
[null,{"$f":"IFERROR(VLOOKUP(A880,'9'!$E$16:$I$16,2,FALSE),\"-\")","v":"-"},{"$f":"IFERROR(VLOOKUP(A880,'9'!E886:I886,4,FALSE),\"-\")","v":"-"}]
[null,{"$f":"IFERROR(VLOOKUP(A880,'9'!$E$17:$I$17,2,FALSE),\"-\")","v":"-"},{"$f":"IFERROR(VLOOKUP(A880,'9'!E887:I887,4,FALSE),\"-\")","v":"-"}]
[null,{"$f":"IFERROR(VLOOKUP(A880,'9'!$E$18:$I$18,2,FALSE),\"-\")","v":"-"},{"$f":"IFERROR(VLOOKUP(A880,'9'!E888:I888,4,FALSE),\"-\")","v":"-"}]
[null,{"$f":"IFERROR(VLOOKUP(A880,'9'!$E$19:$I$19,2,FALSE),\"-\")","v":"-"},{"$f":"IFERROR(VLOOKUP(A880,'9'!E889:I889,4,FALSE),\"-\")","v":"-"}]
[null,{"$f":"IFERROR(VLOOKUP(A880,'9'!$E$20:$I$20,2,FALSE),\"-\")","v":"-"},{"$f":"IFERROR(VLOOKUP(A880,'9'!E890:I890,4,FALSE),\"-\")","v":"-"}]
[null,{"$f":"IFERROR(VLOOKUP(A880,'9'!$E$21:$I$21,2,FALSE),\"-\")","v":"-"},{"$f":"IFERROR(VLOOKUP(A880,'9'!E891:I891,4,FALSE),\"-\")","v":"-"}]
[null,{"$f":"IFERROR(VLOOKUP(A880,'9'!$E$22:$I$22,2,FALSE),\"-\")","v":"-"},{"$f":"IFERROR(VLOOKUP(A880,'9'!E892:I892,4,FALSE),\"-\")","v":"-"}]
[null,{"$f":"IFERROR(VLOOKUP(A880,'9'!$E$23:$I$23,2,FALSE),\"-\")","v":"-"},{"$f":"IFERROR(VLOOKUP(A880,'9'!E893:I893,4,FALSE),\"-\")","v":"-"}]
[null,{"$f":"IFERROR(VLOOKUP(A880,'9'!$E$24:$I$24,2,FALSE),\"-\")","v":"-"},{"$f":"IFERROR(VLOOKUP(A880,'9'!E894:I894,4,FALSE),\"-\")","v":"-"}]
[null,{"$f":"IFERROR(VLOOKUP(A880,'9'!$E$25:$I$25,2,FALSE),\"-\")","v":"-"},{"$f":"IFERROR(VLOOKUP(A880,'9'!E895:I895,4,FALSE),\"-\")","v":"-"}]
[null,{"$f":"IFERROR(VLOOKUP(A880,'9'!$E$26:$I$26,2,FALSE),\"-\")","v":"-"},{"$f":"IFERROR(VLOOKUP(A880,'9'!E896:I896,4,FALSE),\"-\")","v":"-"}]
[null,{"$f":"IFERROR(VLOOKUP(A880,'9'!$E$27:$I$27,2,FALSE),\"-\")","v":"-"},{"$f":"IFERROR(VLOOKUP(A880,'9'!E897:I897,4,FALSE),\"-\")","v":"-"}]
[null,{"$f":"IFERROR(VLOOKUP(A880,'9'!$E$28:$I$28,2,FALSE),\"-\")","v":"-"},{"$f":"IFERROR(VLOOKUP(A880,'9'!E898:I898,4,FALSE),\"-\")","v":"-"}]
[null,{"$f":"IFERROR(VLOOKUP(A880,'9'!$E$29:$I$29,2,FALSE),\"-\")","v":"-"},{"$f":"IFERROR(VLOOKUP(A880,'9'!E899:I899,4,FALSE),\"-\")","v":"-"}]
[null,{"$f":"IFERROR(VLOOKUP(A880,'9'!$E$30:$I$30,2,FALSE),\"-\")","v":"-"},{"$f":"IFERROR(VLOOKUP(A880,'9'!E900:I900,4,FALSE),\"-\")","v":"-"}]
[null,{"$f":"IFERROR(VLOOKUP(A880,'9'!$E$31:$I$31,2,FALSE),\"-\")","v":"-"},{"$f":"IFERROR(VLOOKUP(A880,'9'!E901:I901,4,FALSE),\"-\")","v":"-"}]
[null,{"$f":"IFERROR(VLOOKUP(A880,'10'!$E$4:$I$4,2,FALSE),\"-\")","v":"-"},{"$f":"IFERROR(VLOOKUP(A880,'10'!E874:I874,4,FALSE),\"-\")","v":"-"}]
[null,{"$f":"IFERROR(VLOOKUP(A880,'10'!$E$5:$I$5,2,FALSE),\"-\")","v":"-"},{"$f":"IFERROR(VLOOKUP(A880,'10'!E875:I875,4,FALSE),\"-\")","v":"-"}]
[null,{"$f":"IFERROR(VLOOKUP(A880,'10'!$E$6:$I$6,2,FALSE),\"-\")","v":"-"},{"$f":"IFERROR(VLOOKUP(A880,'10'!E876:I876,4,FALSE),\"-\")","v":"-"}]
[null,{"$f":"IFERROR(VLOOKUP(A880,'10'!$E$7:$I$7,2,FALSE),\"-\")","v":"-"},{"$f":"IFERROR(VLOOKUP(A880,'10'!E877:I877,4,FALSE),\"-\")","v":"-"}]
[null,{"$f":"IFERROR(VLOOKUP(A880,'10'!$E$8:$I$8,2,FALSE),\"-\")","v":"-"},{"$f":"IFERROR(VLOOKUP(A880,'10'!E878:I878,4,FALSE),\"-\")","v":"-"}]
[null,{"$f":"IFERROR(VLOOKUP(A880,'10'!$E$9:$I$9,2,FALSE),\"-\")","v":"-"},{"$f":"IFERROR(VLOOKUP(A880,'10'!E879:I879,4,FALSE),\"-\")","v":"-"}]
[null,{"$f":"IFERROR(VLOOKUP(A880,'10'!$E$10:$I$10,2,FALSE),\"-\")","v":"-"},{"$f":"IFERROR(VLOOKUP(A880,'10'!E880:I880,4,FALSE),\"-\")","v":"-"}]
[null,{"$f":"IFERROR(VLOOKUP(A880,'10'!$E$11:$I$11,2,FALSE),\"-\")","v":"-"},{"$f":"IFERROR(VLOOKUP(A880,'10'!E881:I881,4,FALSE),\"-\")","v":"-"}]
[null,{"$f":"IFERROR(VLOOKUP(A880,'10'!$E$12:$I$12,2,FALSE),\"-\")","v":"-"},{"$f":"IFERROR(VLOOKUP(A880,'10'!E882:I882,4,FALSE),\"-\")","v":"-"}]
[null,{"$f":"IFERROR(VLOOKUP(A880,'10'!$E$13:$I$13,2,FALSE),\"-\")","v":"-"},{"$f":"IFERROR(VLOOKUP(A880,'10'!E883:I883,4,FALSE),\"-\")","v":"-"}]
[null,{"$f":"IFERROR(VLOOKUP(A880,'10'!$E$14:$I$14,2,FALSE),\"-\")","v":"-"},{"$f":"IFERROR(VLOOKUP(A880,'10'!E884:I884,4,FALSE),\"-\")","v":"-"}]
[null,{"$f":"IFERROR(VLOOKUP(A880,'10'!$E$15:$I$15,2,FALSE),\"-\")","v":"-"},{"$f":"IFERROR(VLOOKUP(A880,'10'!E885:I885,4,FALSE),\"-\")","v":"-"}]
[null,{"$f":"IFERROR(VLOOKUP(A880,'10'!$E$16:$I$16,2,FALSE),\"-\")","v":"-"},{"$f":"IFERROR(VLOOKUP(A880,'10'!E886:I886,4,FALSE),\"-\")","v":"-"}]
[null,{"$f":"IFERROR(VLOOKUP(A880,'10'!$E$17:$I$17,2,FALSE),\"-\")","v":"-"},{"$f":"IFERROR(VLOOKUP(A880,'10'!E887:I887,4,FALSE),\"-\")","v":"-"}]
[null,{"$f":"IFERROR(VLOOKUP(A880,'10'!$E$18:$I$18,2,FALSE),\"-\")","v":"-"},{"$f":"IFERROR(VLOOKUP(A880,'10'!E888:I888,4,FALSE),\"-\")","v":"-"}]
[null,{"$f":"IFERROR(VLOOKUP(A880,'10'!E$19:$I889,2,FALSE),\"-\")","v":"-"},{"$f":"IFERROR(VLOOKUP(A880,'10'!E889:I889,4,FALSE),\"-\")","v":"-"}]
[null,{"$f":"IFERROR(VLOOKUP(A880,'10'!$E$20:$I$20,2,FALSE),\"-\")","v":"-"},{"$f":"IFERROR(VLOOKUP(A880,'10'!E890:I890,4,FALSE),\"-\")","v":"-"}]
[null,{"$f":"IFERROR(VLOOKUP(A880,'10'!$E$21:$I$21,2,FALSE),\"-\")","v":"-"},{"$f":"IFERROR(VLOOKUP(A880,'10'!E891:I891,4,FALSE),\"-\")","v":"-"}]
[null,{"$f":"IFERROR(VLOOKUP(A880,'10'!$E$22:$I$22,2,FALSE),\"-\")","v":"-"},{"$f":"IFERROR(VLOOKUP(A880,'10'!E892:I892,4,FALSE),\"-\")","v":"-"}]
[null,{"$f":"IFERROR(VLOOKUP(A880,'10'!$E$23:$I$23,2,FALSE),\"-\")","v":"-"},{"$f":"IFERROR(VLOOKUP(A880,'10'!E893:I893,4,FALSE),\"-\")","v":"-"}]
[null,{"$f":"IFERROR(VLOOKUP(A880,'10'!$E$24:$I$24,2,FALSE),\"-\")","v":"-"},{"$f":"IFERROR(VLOOKUP(A880,'10'!E894:I894,4,FALSE),\"-\")","v":"-"}]
[null,{"$f":"IFERROR(VLOOKUP(A880,'10'!$E$25:$I$25,2,FALSE),\"-\")","v":"-"},{"$f":"IFERROR(VLOOKUP(A880,'10'!E895:I895,4,FALSE),\"-\")","v":"-"}]
[null,{"$f":"IFERROR(VLOOKUP(A880,'10'!$E$26:$I$26,2,FALSE),\"-\")","v":"-"},{"$f":"IFERROR(VLOOKUP(A880,'10'!E896:I896,4,FALSE),\"-\")","v":"-"}]
[null,{"$f":"IFERROR(VLOOKUP(A880,'10'!$E$27:$I$27,2,FALSE),\"-\")","v":"-"},{"$f":"IFERROR(VLOOKUP(A880,'10'!E897:I897,4,FALSE),\"-\")","v":"-"}]
[null,{"$f":"IFERROR(VLOOKUP(A880,'10'!$E$28:I898,2,FALSE),\"-\")","v":"-"},{"$f":"IFERROR(VLOOKUP(A880,'10'!E898:I898,4,FALSE),\"-\")","v":"-"}]
[null,{"$f":"IFERROR(VLOOKUP(A880,'10'!$E$29:$I$29,2,FALSE),\"-\")","v":"-"},{"$f":"IFERROR(VLOOKUP(A880,'10'!E899:I899,4,FALSE),\"-\")","v":"-"}]
[null,{"$f":"IFERROR(VLOOKUP(A880,'10'!$E$30:$I$30,2,FALSE),\"-\")","v":"-"},{"$f":"IFERROR(VLOOKUP(A880,'10'!E900:I900,4,FALSE),\"-\")","v":"-"}]
[null,{"$f":"IFERROR(VLOOKUP(A880,'10'!$E$31:$I$31,2,FALSE),\"-\")","v":"-"},{"$f":"IFERROR(VLOOKUP(A880,'10'!E901:I901,4,FALSE),\"-\")","v":"-"}]
[null,{"$f":"IFERROR(VLOOKUP(A880,'11'!$E$4:$I$4,2,FALSE),\"-\")","v":"-"},{"$f":"IFERROR(VLOOKUP(A880,'11'!E874:I874,4,FALSE),\"-\")","v":"-"}]
[null,{"$f":"IFERROR(VLOOKUP(A880,'11'!$E$5:$I$5,2,FALSE),\"-\")","v":"-"},{"$f":"IFERROR(VLOOKUP(A880,'11'!E875:I875,4,FALSE),\"-\")","v":"-"}]
[null,{"$f":"IFERROR(VLOOKUP(A880,'11'!$E$6:$I$6,2,FALSE),\"-\")","v":"-"},{"$f":"IFERROR(VLOOKUP(A880,'11'!E876:I876,4,FALSE),\"-\")","v":"-"}]
[null,{"$f":"IFERROR(VLOOKUP(A880,'11'!$E$7:$I$7,2,FALSE),\"-\")","v":"-"},{"$f":"IFERROR(VLOOKUP(A880,'11'!E877:I877,4,FALSE),\"-\")","v":"-"}]
[null,{"$f":"IFERROR(VLOOKUP(A880,'11'!$E$8:$I$8,2,FALSE),\"-\")","v":"-"},{"$f":"IFERROR(VLOOKUP(A880,'11'!E878:I878,4,FALSE),\"-\")","v":"-"}]
[null,{"$f":"IFERROR(VLOOKUP(A880,'11'!$E$9:$I$9,2,FALSE),\"-\")","v":"-"},{"$f":"IFERROR(VLOOKUP(A880,'11'!E879:I879,4,FALSE),\"-\")","v":"-"}]
[null,{"$f":"IFERROR(VLOOKUP(A880,'11'!$E$10:$I$10,2,FALSE),\"-\")","v":"-"},{"$f":"IFERROR(VLOOKUP(A880,'11'!E880:I880,4,FALSE),\"-\")","v":"-"}]
[null,{"$f":"IFERROR(VLOOKUP(A880,'11'!$E$11:$I$11,2,FALSE),\"-\")","v":"-"},{"$f":"IFERROR(VLOOKUP(A880,'11'!E881:I881,4,FALSE),\"-\")","v":"-"}]
[null,{"$f":"IFERROR(VLOOKUP(A880,'11'!$E$12:$I$12,2,FALSE),\"-\")","v":"-"},{"$f":"IFERROR(VLOOKUP(A880,'11'!E882:I882,4,FALSE),\"-\")","v":"-"}]
[null,{"$f":"IFERROR(VLOOKUP(A880,'11'!$E$13:$I$13,2,FALSE),\"-\")","v":"-"},{"$f":"IFERROR(VLOOKUP(A880,'11'!E883:I883,4,FALSE),\"-\")","v":"-"}]
[null,{"$f":"IFERROR(VLOOKUP(A880,'11'!$E$14:$I$14,2,FALSE),\"-\")","v":"-"},{"$f":"IFERROR(VLOOKUP(A880,'11'!E884:I884,4,FALSE),\"-\")","v":"-"}]
[null,{"$f":"IFERROR(VLOOKUP(A880,'11'!$E$15:$I$15,2,FALSE),\"-\")","v":"-"},{"$f":"IFERROR(VLOOKUP(A880,'11'!E885:I885,4,FALSE),\"-\")","v":"-"}]
[null,{"$f":"IFERROR(VLOOKUP(A880,'11'!$E$16:$I$16,2,FALSE),\"-\")","v":"-"},{"$f":"IFERROR(VLOOKUP(A880,'11'!E886:I886,4,FALSE),\"-\")","v":"-"}]
[null,{"$f":"IFERROR(VLOOKUP(A880,'11'!$E$17:$I$17,2,FALSE),\"-\")","v":"-"},{"$f":"IFERROR(VLOOKUP(A880,'11'!E887:I887,4,FALSE),\"-\")","v":"-"}]
[null,{"$f":"IFERROR(VLOOKUP(A880,'11'!$E$18:$I$18,2,FALSE),\"-\")","v":"-"},{"$f":"IFERROR(VLOOKUP(A880,'11'!E888:I888,4,FALSE),\"-\")","v":"-"}]
[null,{"$f":"IFERROR(VLOOKUP(A880,'11'!$E$19:$I$19,2,FALSE),\"-\")","v":"-"},{"$f":"IFERROR(VLOOKUP(A880,'11'!E889:I889,4,FALSE),\"-\")","v":"-"}]
[null,{"$f":"IFERROR(VLOOKUP(A880,'11'!$E$20:$I$20,2,FALSE),\"-\")","v":"-"},{"$f":"IFERROR(VLOOKUP(A880,'11'!E890:I890,4,FALSE),\"-\")","v":"-"}]
[null,{"$f":"IFERROR(VLOOKUP(A880,'11'!$E$21:$I$21,2,FALSE),\"-\")","v":"-"},{"$f":"IFERROR(VLOOKUP(A880,'11'!E891:I891,4,FALSE),\"-\")","v":"-"}]
[null,{"$f":"IFERROR(VLOOKUP(A880,'11'!$E$22:$I$22,2,FALSE),\"-\")","v":"-"},{"$f":"IFERROR(VLOOKUP(A880,'11'!E892:I892,4,FALSE),\"-\")","v":"-"}]
[null,{"$f":"IFERROR(VLOOKUP(A880,'11'!$E$23:$I$23,2,FALSE),\"-\")","v":"-"},{"$f":"IFERROR(VLOOKUP(A880,'11'!E893:I893,4,FALSE),\"-\")","v":"-"}]
[null,{"$f":"IFERROR(VLOOKUP(A880,'11'!$E$24:$I$24,2,FALSE),\"-\")","v":"-"},{"$f":"IFERROR(VLOOKUP(A880,'11'!E894:I894,4,FALSE),\"-\")","v":"-"}]
[null,{"$f":"IFERROR(VLOOKUP(A880,'11'!$E$25:$I$25,2,FALSE),\"-\")","v":"-"},{"$f":"IFERROR(VLOOKUP(A880,'11'!E895:I895,4,FALSE),\"-\")","v":"-"}]
[null,{"$f":"IFERROR(VLOOKUP(A880,'11'!$E$26:$I$26,2,FALSE),\"-\")","v":"-"},{"$f":"IFERROR(VLOOKUP(A880,'11'!E896:I896,4,FALSE),\"-\")","v":"-"}]
[null,{"$f":"IFERROR(VLOOKUP(A880,'11'!$E$27:$I$27,2,FALSE),\"-\")","v":"-"},{"$f":"IFERROR(VLOOKUP(A880,'11'!E897:I897,4,FALSE),\"-\")","v":"-"}]
[null,{"$f":"IFERROR(VLOOKUP(A880,'11'!$E$28:$I$28,2,FALSE),\"-\")","v":"-"},{"$f":"IFERROR(VLOOKUP(A880,'11'!E898:I898,4,FALSE),\"-\")","v":"-"}]
[null,{"$f":"IFERROR(VLOOKUP(A880,'11'!$E$29:$I$29,2,FALSE),\"-\")","v":"-"},{"$f":"IFERROR(VLOOKUP(A880,'11'!E899:I899,4,FALSE),\"-\")","v":"-"}]
[null,{"$f":"IFERROR(VLOOKUP(A880,'11'!$E$30:$I$30,2,FALSE),\"-\")","v":"-"},{"$f":"IFERROR(VLOOKUP(A880,'11'!E900:I900,4,FALSE),\"-\")","v":"-"}]
[null,{"$f":"IFERROR(VLOOKUP(A880,'11'!$E$31:$I$31,2,FALSE),\"-\")","v":"-"},{"$f":"IFERROR(VLOOKUP(A880,'11'!E901:I901,4,FALSE),\"-\")","v":"-"}]
[null,{"$f":"IFERROR(VLOOKUP(A880,'12'!$E$4:$I$4,2,FALSE),\"-\")","v":"-"},{"$f":"IFERROR(VLOOKUP(A880,'12'!E874:I874,4,FALSE),\"-\")","v":"-"}]
[null,{"$f":"IFERROR(VLOOKUP(A880,'12'!$E$5:$I$5,2,FALSE),\"-\")","v":"-"},{"$f":"IFERROR(VLOOKUP(A880,'12'!E875:I875,4,FALSE),\"-\")","v":"-"}]
[null,{"$f":"IFERROR(VLOOKUP(A880,'12'!$E$6:$I$6,2,FALSE),\"-\")","v":"-"},{"$f":"IFERROR(VLOOKUP(A880,'12'!E876:I876,4,FALSE),\"-\")","v":"-"}]
[null,{"$f":"IFERROR(VLOOKUP(A880,'12'!$E$7:$I$7,2,FALSE),\"-\")","v":"-"},{"$f":"IFERROR(VLOOKUP(A880,'12'!E877:I877,4,FALSE),\"-\")","v":"-"}]
[null,{"$f":"IFERROR(VLOOKUP(A880,'12'!$E$8:$I$8,2,FALSE),\"-\")","v":"-"},{"$f":"IFERROR(VLOOKUP(A880,'12'!E878:I878,4,FALSE),\"-\")","v":"-"}]
[null,{"$f":"IFERROR(VLOOKUP(A880,'12'!$E$9:$I$9,2,FALSE),\"-\")","v":"-"},{"$f":"IFERROR(VLOOKUP(A880,'12'!E879:I879,4,FALSE),\"-\")","v":"-"}]
[null,{"$f":"IFERROR(VLOOKUP(A880,'12'!$E$10:$I$10,2,FALSE),\"-\")","v":"-"},{"$f":"IFERROR(VLOOKUP(A880,'12'!E880:I880,4,FALSE),\"-\")","v":"-"}]
[null,{"$f":"IFERROR(VLOOKUP(A880,'12'!$E$11:$I$11,2,FALSE),\"-\")","v":"-"},{"$f":"IFERROR(VLOOKUP(A880,'12'!E881:I881,4,FALSE),\"-\")","v":"-"}]
[null,{"$f":"IFERROR(VLOOKUP(A880,'12'!$E$12:$I$12,2,FALSE),\"-\")","v":"-"},{"$f":"IFERROR(VLOOKUP(A880,'12'!E882:I882,4,FALSE),\"-\")","v":"-"}]
[null,{"$f":"IFERROR(VLOOKUP(A880,'12'!$E$13:$I$13,2,FALSE),\"-\")","v":"-"},{"$f":"IFERROR(VLOOKUP(A880,'12'!E883:I883,4,FALSE),\"-\")","v":"-"}]
[null,{"$f":"IFERROR(VLOOKUP(A880,'12'!$E$14:$I$14,2,FALSE),\"-\")","v":"-"},{"$f":"IFERROR(VLOOKUP(A880,'12'!E884:I884,4,FALSE),\"-\")","v":"-"}]
[null,{"$f":"IFERROR(VLOOKUP(A880,'12'!$E$15:$I$15,2,FALSE),\"-\")","v":"-"},{"$f":"IFERROR(VLOOKUP(A880,'12'!E885:I885,4,FALSE),\"-\")","v":"-"}]
[null,{"$f":"IFERROR(VLOOKUP(A880,'12'!$E$16:$I$16,2,FALSE),\"-\")","v":"-"},{"$f":"IFERROR(VLOOKUP(A880,'12'!E886:I886,4,FALSE),\"-\")","v":"-"}]
[null,{"$f":"IFERROR(VLOOKUP(A880,'12'!$E$17:$I$17,2,FALSE),\"-\")","v":"-"},{"$f":"IFERROR(VLOOKUP(A880,'12'!E887:I887,4,FALSE),\"-\")","v":"-"}]
[null,{"$f":"IFERROR(VLOOKUP(A880,'12'!$E$18:$I$18,2,FALSE),\"-\")","v":"-"},{"$f":"IFERROR(VLOOKUP(A880,'12'!E888:I888,4,FALSE),\"-\")","v":"-"}]
[null,{"$f":"IFERROR(VLOOKUP(A880,'12'!$E$19:$I$19,2,FALSE),\"-\")","v":"-"},{"$f":"IFERROR(VLOOKUP(A880,'12'!E889:I889,4,FALSE),\"-\")","v":"-"}]
[null,{"$f":"IFERROR(VLOOKUP(A880,'12'!$E$20:$I$20,2,FALSE),\"-\")","v":"-"},{"$f":"IFERROR(VLOOKUP(A880,'12'!E890:I890,4,FALSE),\"-\")","v":"-"}]
[null,{"$f":"IFERROR(VLOOKUP(A880,'12'!$E$21:$I$21,2,FALSE),\"-\")","v":"-"},{"$f":"IFERROR(VLOOKUP(A880,'12'!E891:I891,4,FALSE),\"-\")","v":"-"}]
[null,{"$f":"IFERROR(VLOOKUP(A880,'12'!$E$22:$I$22,2,FALSE),\"-\")","v":"-"},{"$f":"IFERROR(VLOOKUP(A880,'12'!E892:I892,4,FALSE),\"-\")","v":"-"}]
[null,{"$f":"IFERROR(VLOOKUP(A880,'12'!$E$23:$I$23,2,FALSE),\"-\")","v":"-"},{"$f":"IFERROR(VLOOKUP(A880,'12'!E893:I893,4,FALSE),\"-\")","v":"-"}]
[null,{"$f":"IFERROR(VLOOKUP(A880,'12'!$E$24:$I$24,2,FALSE),\"-\")","v":"-"},{"$f":"IFERROR(VLOOKUP(A880,'12'!E894:I894,4,FALSE),\"-\")","v":"-"}]
[null,{"$f":"IFERROR(VLOOKUP(A880,'12'!$E$25:$I$25,2,FALSE),\"-\")","v":"-"},{"$f":"IFERROR(VLOOKUP(A880,'12'!E895:I895,4,FALSE),\"-\")","v":"-"}]
[null,{"$f":"IFERROR(VLOOKUP(A880,'12'!$E$26:$I$26,2,FALSE),\"-\")","v":"-"},{"$f":"IFERROR(VLOOKUP(A880,'12'!E896:I896,4,FALSE),\"-\")","v":"-"}]
[null,{"$f":"IFERROR(VLOOKUP(A880,'12'!$E$27:$I$27,2,FALSE),\"-\")","v":"-"},{"$f":"IFERROR(VLOOKUP(A880,'12'!E897:I897,4,FALSE),\"-\")","v":"-"}]
[null,{"$f":"IFERROR(VLOOKUP(A880,'12'!$E$28:$I$28,2,FALSE),\"-\")","v":"-"},{"$f":"IFERROR(VLOOKUP(A880,'12'!E898:I898,4,FALSE),\"-\")","v":"-"}]
[null,{"$f":"IFERROR(VLOOKUP(A880,'12'!$E$29:$I$29,2,FALSE),\"-\")","v":"-"},{"$f":"IFERROR(VLOOKUP(A880,'12'!E899:I899,4,FALSE),\"-\")","v":"-"}]
[null,{"$f":"IFERROR(VLOOKUP(A880,'12'!$E$30:$I$30,2,FALSE),\"-\")","v":"-"},{"$f":"IFERROR(VLOOKUP(A880,'12'!E900:I900,4,FALSE),\"-\")","v":"-"}]
[null,{"$f":"IFERROR(VLOOKUP(A880,'12'!$E$31:$I$31,2,FALSE),\"-\")","v":"-"},{"$f":"IFERROR(VLOOKUP(A880,'12'!E901:I901,4,FALSE),\"-\")","v":"-"}]
[null,{"$f":"IFERROR(VLOOKUP(A880,'13'!$E$4:$I$4,2,FALSE),\"-\")","v":"-"},{"$f":"IFERROR(VLOOKUP(A880,'13'!E874:I874,4,FALSE),\"-\")","v":"-"}]
[null,{"$f":"IFERROR(VLOOKUP(A880,'13'!$E$5:$I$5,2,FALSE),\"-\")","v":"-"},{"$f":"IFERROR(VLOOKUP(A880,'13'!E875:I875,4,FALSE),\"-\")","v":"-"}]
[null,{"$f":"IFERROR(VLOOKUP(A880,'13'!$E$6:$I$6,2,FALSE),\"-\")","v":"-"},{"$f":"IFERROR(VLOOKUP(A880,'13'!E876:I876,4,FALSE),\"-\")","v":"-"}]
[null,{"$f":"IFERROR(VLOOKUP(A880,'13'!$E$7:$I$7,2,FALSE),\"-\")","v":"-"},{"$f":"IFERROR(VLOOKUP(A880,'13'!E877:I877,4,FALSE),\"-\")","v":"-"}]
[null,{"$f":"IFERROR(VLOOKUP(A880,'13'!$E$8:$I$8,2,FALSE),\"-\")","v":"-"},{"$f":"IFERROR(VLOOKUP(A880,'13'!E878:I878,4,FALSE),\"-\")","v":"-"}]
[null,{"$f":"IFERROR(VLOOKUP(A880,'13'!$E$9:$I$9,2,FALSE),\"-\")","v":"-"},{"$f":"IFERROR(VLOOKUP(A880,'13'!E879:I879,4,FALSE),\"-\")","v":"-"}]
[null,{"$f":"IFERROR(VLOOKUP(A880,'13'!$E$10:$I$10,2,FALSE),\"-\")","v":"-"},{"$f":"IFERROR(VLOOKUP(A880,'13'!E880:I880,4,FALSE),\"-\")","v":"-"}]
[null,{"$f":"IFERROR(VLOOKUP(A880,'13'!$E$11:$I$11,2,FALSE),\"-\")","v":"-"},{"$f":"IFERROR(VLOOKUP(A880,'13'!E881:I881,4,FALSE),\"-\")","v":"-"}]
[null,{"$f":"IFERROR(VLOOKUP(A880,'13'!$E$12:$I$12,2,FALSE),\"-\")","v":"-"},{"$f":"IFERROR(VLOOKUP(A880,'13'!E882:I882,4,FALSE),\"-\")","v":"-"}]
[null,{"$f":"IFERROR(VLOOKUP(A880,'13'!$E$13:$I$13,2,FALSE),\"-\")","v":"-"},{"$f":"IFERROR(VLOOKUP(A880,'13'!E883:I883,4,FALSE),\"-\")","v":"-"}]
[null,{"$f":"IFERROR(VLOOKUP(A880,'13'!$E$14:$I$14,2,FALSE),\"-\")","v":"-"},{"$f":"IFERROR(VLOOKUP(A880,'13'!E884:I884,4,FALSE),\"-\")","v":"-"}]
[null,{"$f":"IFERROR(VLOOKUP(A880,'13'!$E$15:$I$15,2,FALSE),\"-\")","v":"-"},{"$f":"IFERROR(VLOOKUP(A880,'13'!E885:I885,4,FALSE),\"-\")","v":"-"}]
[null,{"$f":"IFERROR(VLOOKUP(A880,'13'!$E$16:$I$16,2,FALSE),\"-\")","v":"-"},{"$f":"IFERROR(VLOOKUP(A880,'13'!E886:I886,4,FALSE),\"-\")","v":"-"}]
[null,{"$f":"IFERROR(VLOOKUP(A880,'13'!$E$17:$I$17,2,FALSE),\"-\")","v":"-"},{"$f":"IFERROR(VLOOKUP(A880,'13'!E887:I887,4,FALSE),\"-\")","v":"-"}]
[null,{"$f":"IFERROR(VLOOKUP(A880,'13'!$E$18:$I$18,2,FALSE),\"-\")","v":"-"},{"$f":"IFERROR(VLOOKUP(A880,'13'!E888:I888,4,FALSE),\"-\")","v":"-"}]
[null,{"$f":"IFERROR(VLOOKUP(A880,'13'!$E$19:$I$19,2,FALSE),\"-\")","v":"-"},{"$f":"IFERROR(VLOOKUP(A880,'13'!E889:I889,4,FALSE),\"-\")","v":"-"}]
[null,{"$f":"IFERROR(VLOOKUP(A880,'13'!$E$20:$I$20,2,FALSE),\"-\")","v":"-"},{"$f":"IFERROR(VLOOKUP(A880,'13'!E890:I890,4,FALSE),\"-\")","v":"-"}]
[null,{"$f":"IFERROR(VLOOKUP(A880,'13'!$E$21:$I$21,2,FALSE),\"-\")","v":"-"},{"$f":"IFERROR(VLOOKUP(A880,'13'!E891:I891,4,FALSE),\"-\")","v":"-"}]
[null,{"$f":"IFERROR(VLOOKUP(A880,'13'!$E$22:$I$22,2,FALSE),\"-\")","v":"-"},{"$f":"IFERROR(VLOOKUP(A880,'13'!E892:I892,4,FALSE),\"-\")","v":"-"}]
[null,{"$f":"IFERROR(VLOOKUP(A880,'13'!$E$23:$I$23,2,FALSE),\"-\")","v":"-"},{"$f":"IFERROR(VLOOKUP(A880,'13'!E893:I893,4,FALSE),\"-\")","v":"-"}]
[null,{"$f":"IFERROR(VLOOKUP(A880,'13'!$E$24:$I$24,2,FALSE),\"-\")","v":"-"},{"$f":"IFERROR(VLOOKUP(A880,'13'!E894:I894,4,FALSE),\"-\")","v":"-"}]
[null,{"$f":"IFERROR(VLOOKUP(A880,'13'!$E$25:$I$25,2,FALSE),\"-\")","v":"-"},{"$f":"IFERROR(VLOOKUP(A880,'13'!E895:I895,4,FALSE),\"-\")","v":"-"}]
[null,{"$f":"IFERROR(VLOOKUP(A880,'13'!$E$26:$I$26,2,FALSE),\"-\")","v":"-"},{"$f":"IFERROR(VLOOKUP(A880,'13'!E896:I896,4,FALSE),\"-\")","v":"-"}]
[null,{"$f":"IFERROR(VLOOKUP(A880,'13'!$E$27:$I$27,2,FALSE),\"-\")","v":"-"},{"$f":"IFERROR(VLOOKUP(A880,'13'!E897:I897,4,FALSE),\"-\")","v":"-"}]
[null,{"$f":"IFERROR(VLOOKUP(A880,'13'!$E$28:$I$28,2,FALSE),\"-\")","v":"-"},{"$f":"IFERROR(VLOOKUP(A880,'13'!E898:I898,4,FALSE),\"-\")","v":"-"}]
[null,{"$f":"IFERROR(VLOOKUP(A880,'13'!$E$29:$I$29,2,FALSE),\"-\")","v":"-"},{"$f":"IFERROR(VLOOKUP(A880,'13'!E899:I899,4,FALSE),\"-\")","v":"-"}]
[null,{"$f":"IFERROR(VLOOKUP(A880,'13'!$E$30:$I$30,2,FALSE),\"-\")","v":"-"},{"$f":"IFERROR(VLOOKUP(A880,'13'!E900:I900,4,FALSE),\"-\")","v":"-"}]
[null,{"$f":"IFERROR(VLOOKUP(A880,'13'!$E$31:$I$31,2,FALSE),\"-\")","v":"-"},{"$f":"IFERROR(VLOOKUP(A880,'13'!E901:I901,4,FALSE),\"-\")","v":"-"}]
[null,{"$f":"IFERROR(VLOOKUP(A880,'14'!$E$4:$I$4,2,FALSE),\"-\")","v":"-"},{"$f":"IFERROR(VLOOKUP(A880,'14'!E874:I874,4,FALSE),\"-\")","v":"-"}]
[null,{"$f":"IFERROR(VLOOKUP(A880,'14'!$E$5:$I$5,2,FALSE),\"-\")","v":"-"},{"$f":"IFERROR(VLOOKUP(A880,'14'!E875:I875,4,FALSE),\"-\")","v":"-"}]
[null,{"$f":"IFERROR(VLOOKUP(A880,'14'!$E$6:$I$6,2,FALSE),\"-\")","v":"-"},{"$f":"IFERROR(VLOOKUP(A880,'14'!E876:I876,4,FALSE),\"-\")","v":"-"}]
[null,{"$f":"IFERROR(VLOOKUP(A880,'14'!$E$7:$I$7,2,FALSE),\"-\")","v":"-"},{"$f":"IFERROR(VLOOKUP(A880,'14'!E877:I877,4,FALSE),\"-\")","v":"-"}]
[null,{"$f":"IFERROR(VLOOKUP(A880,'14'!$E$8:$I$8,2,FALSE),\"-\")","v":"-"},{"$f":"IFERROR(VLOOKUP(A880,'14'!E878:I878,4,FALSE),\"-\")","v":"-"}]
[null,{"$f":"IFERROR(VLOOKUP(A880,'14'!$E$9:$I$9,2,FALSE),\"-\")","v":"-"},{"$f":"IFERROR(VLOOKUP(A880,'14'!E879:I879,4,FALSE),\"-\")","v":"-"}]
[null,{"$f":"IFERROR(VLOOKUP(A880,'14'!$E$10:$I$10,2,FALSE),\"-\")","v":"-"},{"$f":"IFERROR(VLOOKUP(A880,'14'!E880:I880,4,FALSE),\"-\")","v":"-"}]
[null,{"$f":"IFERROR(VLOOKUP(A880,'14'!$E$11:$I$11,2,FALSE),\"-\")","v":"-"},{"$f":"IFERROR(VLOOKUP(A880,'14'!E881:I881,4,FALSE),\"-\")","v":"-"}]
[null,{"$f":"IFERROR(VLOOKUP(A880,'14'!$E$12:$I$12,2,FALSE),\"-\")","v":"-"},{"$f":"IFERROR(VLOOKUP(A880,'14'!E882:I882,4,FALSE),\"-\")","v":"-"}]
[null,{"$f":"IFERROR(VLOOKUP(A880,'14'!$E$13:$I$13,2,FALSE),\"-\")","v":"-"},{"$f":"IFERROR(VLOOKUP(A880,'14'!E883:I883,4,FALSE),\"-\")","v":"-"}]
[null,{"$f":"IFERROR(VLOOKUP(A880,'14'!$E$14:$I$14,2,FALSE),\"-\")","v":"-"},{"$f":"IFERROR(VLOOKUP(A880,'14'!E884:I884,4,FALSE),\"-\")","v":"-"}]
[null,{"$f":"IFERROR(VLOOKUP(A880,'14'!$E$15:$I$15,2,FALSE),\"-\")","v":"-"},{"$f":"IFERROR(VLOOKUP(A880,'14'!E885:I885,4,FALSE),\"-\")","v":"-"}]
[null,{"$f":"IFERROR(VLOOKUP(A880,'14'!$E$16:$I$16,2,FALSE),\"-\")","v":"-"},{"$f":"IFERROR(VLOOKUP(A880,'14'!E886:I886,4,FALSE),\"-\")","v":"-"}]
[null,{"$f":"IFERROR(VLOOKUP(A880,'14'!$E$17:$I$17,2,FALSE),\"-\")","v":"-"},{"$f":"IFERROR(VLOOKUP(A880,'14'!E887:I887,4,FALSE),\"-\")","v":"-"}]
[null,{"$f":"IFERROR(VLOOKUP(A880,'14'!$E$18:$I$18,2,FALSE),\"-\")","v":"-"},{"$f":"IFERROR(VLOOKUP(A880,'14'!E888:I888,4,FALSE),\"-\")","v":"-"}]
[null,{"$f":"IFERROR(VLOOKUP(A880,'14'!$E$19:$I$19,2,FALSE),\"-\")","v":"-"},{"$f":"IFERROR(VLOOKUP(A880,'14'!E889:I889,4,FALSE),\"-\")","v":"-"}]
[null,{"$f":"IFERROR(VLOOKUP(A880,'14'!$E$20:$I$20,2,FALSE),\"-\")","v":"-"},{"$f":"IFERROR(VLOOKUP(A880,'14'!E890:I890,4,FALSE),\"-\")","v":"-"}]
[null,{"$f":"IFERROR(VLOOKUP(A880,'14'!$E$21:$I$21,2,FALSE),\"-\")","v":"-"},{"$f":"IFERROR(VLOOKUP(A880,'14'!E891:I891,4,FALSE),\"-\")","v":"-"}]
[null,{"$f":"IFERROR(VLOOKUP(A880,'14'!$E$22:$I$22,2,FALSE),\"-\")","v":"-"},{"$f":"IFERROR(VLOOKUP(A880,'14'!E892:I892,4,FALSE),\"-\")","v":"-"}]
[null,{"$f":"IFERROR(VLOOKUP(A880,'14'!$E$23:$I$23,2,FALSE),\"-\")","v":"-"},{"$f":"IFERROR(VLOOKUP(A880,'14'!E893:I893,4,FALSE),\"-\")","v":"-"}]
[null,{"$f":"IFERROR(VLOOKUP(A880,'14'!$E$24:$I$24,2,FALSE),\"-\")","v":"-"},{"$f":"IFERROR(VLOOKUP(A880,'14'!E894:I894,4,FALSE),\"-\")","v":"-"}]
[null,{"$f":"IFERROR(VLOOKUP(A880,'14'!$E$25:I895,2,FALSE),\"-\")","v":"-"},{"$f":"IFERROR(VLOOKUP(A880,'14'!E895:I895,4,FALSE),\"-\")","v":"-"}]
[null,{"$f":"IFERROR(VLOOKUP(A880,'14'!$E$26:$I$26,2,FALSE),\"-\")","v":"-"},{"$f":"IFERROR(VLOOKUP(A880,'14'!E896:I896,4,FALSE),\"-\")","v":"-"}]
[null,{"$f":"IFERROR(VLOOKUP(A880,'14'!$E$27:$I$27,2,FALSE),\"-\")","v":"-"},{"$f":"IFERROR(VLOOKUP(A880,'14'!E897:I897,4,FALSE),\"-\")","v":"-"}]
[null,{"$f":"IFERROR(VLOOKUP(A880,'14'!$E$28:$I$28,2,FALSE),\"-\")","v":"-"},{"$f":"IFERROR(VLOOKUP(A880,'14'!E898:I898,4,FALSE),\"-\")","v":"-"}]
[null,{"$f":"IFERROR(VLOOKUP(A880,'14'!$E$29:$I$29,2,FALSE),\"-\")","v":"-"},{"$f":"IFERROR(VLOOKUP(A880,'14'!E899:I899,4,FALSE),\"-\")","v":"-"}]
[null,{"$f":"IFERROR(VLOOKUP(A880,'14'!$E$30:$I$30,2,FALSE),\"-\")","v":"-"},{"$f":"IFERROR(VLOOKUP(A880,'14'!E900:I900,4,FALSE),\"-\")","v":"-"}]
[null,{"$f":"IFERROR(VLOOKUP(A880,'14'!$E$31:$I$31,2,FALSE),\"-\")","v":"-"},{"$f":"IFERROR(VLOOKUP(A880,'14'!E901:I901,4,FALSE),\"-\")","v":"-"}]
[null,{"$f":"IFERROR(VLOOKUP(A880,'15'!$E$4:$I$4,2,FALSE),\"-\")","v":"-"},{"$f":"IFERROR(VLOOKUP(A880,'15'!E874:I874,4,FALSE),\"-\")","v":"-"}]
[null,{"$f":"IFERROR(VLOOKUP(A880,'15'!$E$5:$I$5,2,FALSE),\"-\")","v":"-"},{"$f":"IFERROR(VLOOKUP(A880,'15'!E875:I875,4,FALSE),\"-\")","v":"-"}]
[null,{"$f":"IFERROR(VLOOKUP(A880,'15'!$E$6:$I$6,2,FALSE),\"-\")","v":"-"},{"$f":"IFERROR(VLOOKUP(A880,'15'!E876:I876,4,FALSE),\"-\")","v":"-"}]
[null,{"$f":"IFERROR(VLOOKUP(A880,'15'!$E$7:$I$7,2,FALSE),\"-\")","v":"-"},{"$f":"IFERROR(VLOOKUP(A880,'15'!E877:I877,4,FALSE),\"-\")","v":"-"}]
[null,{"$f":"IFERROR(VLOOKUP(A880,'15'!$E$8:$I$8,2,FALSE),\"-\")","v":"-"},{"$f":"IFERROR(VLOOKUP(A880,'15'!E878:I878,4,FALSE),\"-\")","v":"-"}]
[null,{"$f":"IFERROR(VLOOKUP(A880,'15'!$E$9:$I$9,2,FALSE),\"-\")","v":"-"},{"$f":"IFERROR(VLOOKUP(A880,'15'!E879:I879,4,FALSE),\"-\")","v":"-"}]
[null,{"$f":"IFERROR(VLOOKUP(A880,'15'!$E$10:$I$10,2,FALSE),\"-\")","v":"-"},{"$f":"IFERROR(VLOOKUP(A880,'15'!E880:I880,4,FALSE),\"-\")","v":"-"}]
[null,{"$f":"IFERROR(VLOOKUP(A880,'15'!$E$11:$I$11,2,FALSE),\"-\")","v":"-"},{"$f":"IFERROR(VLOOKUP(A880,'15'!E881:I881,4,FALSE),\"-\")","v":"-"}]
[null,{"$f":"IFERROR(VLOOKUP(A880,'15'!$E$12:$I$12,2,FALSE),\"-\")","v":"-"},{"$f":"IFERROR(VLOOKUP(A880,'15'!E882:I882,4,FALSE),\"-\")","v":"-"}]
[null,{"$f":"IFERROR(VLOOKUP(A880,'15'!$E$13:$I$13,2,FALSE),\"-\")","v":"-"},{"$f":"IFERROR(VLOOKUP(A880,'15'!E883:I883,4,FALSE),\"-\")","v":"-"}]
[null,{"$f":"IFERROR(VLOOKUP(A880,'15'!$E$14:$I$14,2,FALSE),\"-\")","v":"-"},{"$f":"IFERROR(VLOOKUP(A880,'15'!E884:I884,4,FALSE),\"-\")","v":"-"}]
[null,{"$f":"IFERROR(VLOOKUP(A880,'15'!$E$15:$I$15,2,FALSE),\"-\")","v":"-"},{"$f":"IFERROR(VLOOKUP(A880,'15'!E885:I885,4,FALSE),\"-\")","v":"-"}]
[null,{"$f":"IFERROR(VLOOKUP(A880,'15'!$E$16:$I$16,2,FALSE),\"-\")","v":"-"},{"$f":"IFERROR(VLOOKUP(A880,'15'!E886:I886,4,FALSE),\"-\")","v":"-"}]
[null,{"$f":"IFERROR(VLOOKUP(A880,'15'!$E$17:$I$17,2,FALSE),\"-\")","v":"-"},{"$f":"IFERROR(VLOOKUP(A880,'15'!E887:I887,4,FALSE),\"-\")","v":"-"}]
[null,{"$f":"IFERROR(VLOOKUP(A880,'15'!$E$18:$I$18,2,FALSE),\"-\")","v":"-"},{"$f":"IFERROR(VLOOKUP(A880,'15'!E888:I888,4,FALSE),\"-\")","v":"-"}]
[null,{"$f":"IFERROR(VLOOKUP(A880,'15'!$E$19:$I$19,2,FALSE),\"-\")","v":"-"},{"$f":"IFERROR(VLOOKUP(A880,'15'!E889:I889,4,FALSE),\"-\")","v":"-"}]
[null,{"$f":"IFERROR(VLOOKUP(A880,'15'!$E$20:$I$20,2,FALSE),\"-\")","v":"-"},{"$f":"IFERROR(VLOOKUP(A880,'15'!E890:I890,4,FALSE),\"-\")","v":"-"}]
[null,{"$f":"IFERROR(VLOOKUP(A880,'15'!$E$21:$I$21,2,FALSE),\"-\")","v":"-"},{"$f":"IFERROR(VLOOKUP(A880,'15'!E891:I891,4,FALSE),\"-\")","v":"-"}]
[null,{"$f":"IFERROR(VLOOKUP(A880,'15'!$E$22:$I$22,2,FALSE),\"-\")","v":"-"},{"$f":"IFERROR(VLOOKUP(A880,'15'!E892:I892,4,FALSE),\"-\")","v":"-"}]
[null,{"$f":"IFERROR(VLOOKUP(A880,'15'!$E$23:$I$23,2,FALSE),\"-\")","v":"-"},{"$f":"IFERROR(VLOOKUP(A880,'15'!E893:I893,4,FALSE),\"-\")","v":"-"}]
[null,{"$f":"IFERROR(VLOOKUP(A880,'15'!$E$24:$I$24,2,FALSE),\"-\")","v":"-"},{"$f":"IFERROR(VLOOKUP(A880,'15'!E894:I894,4,FALSE),\"-\")","v":"-"}]
[null,{"$f":"IFERROR(VLOOKUP(A880,'15'!$E$25:$I$25,2,FALSE),\"-\")","v":"-"},{"$f":"IFERROR(VLOOKUP(A880,'15'!E895:I895,4,FALSE),\"-\")","v":"-"}]
[null,{"$f":"IFERROR(VLOOKUP(A880,'15'!$E$26:$I$26,2,FALSE),\"-\")","v":"-"},{"$f":"IFERROR(VLOOKUP(A880,'15'!E896:I896,4,FALSE),\"-\")","v":"-"}]
[null,{"$f":"IFERROR(VLOOKUP(A880,'15'!$E$27:$I$27,2,FALSE),\"-\")","v":"-"},{"$f":"IFERROR(VLOOKUP(A880,'15'!E897:I897,4,FALSE),\"-\")","v":"-"}]
[null,{"$f":"IFERROR(VLOOKUP(A880,'15'!$E$28:$I$28,2,FALSE),\"-\")","v":"-"},{"$f":"IFERROR(VLOOKUP(A880,'15'!E898:I898,4,FALSE),\"-\")","v":"-"}]
[null,{"$f":"IFERROR(VLOOKUP(A880,'15'!$E$29:$I$29,2,FALSE),\"-\")","v":"-"},{"$f":"IFERROR(VLOOKUP(A880,'15'!E899:I899,4,FALSE),\"-\")","v":"-"}]
[null,{"$f":"IFERROR(VLOOKUP(A880,'15'!$E$30:$I$30,2,FALSE),\"-\")","v":"-"},{"$f":"IFERROR(VLOOKUP(A880,'15'!E900:I900,4,FALSE),\"-\")","v":"-"}]
[null,{"$f":"IFERROR(VLOOKUP(A880,'15'!$E$31:$I$31,2,FALSE),\"-\")","v":"-"},{"$f":"IFERROR(VLOOKUP(A880,'15'!E901:I901,4,FALSE),\"-\")","v":"-"}]
[null,{"$f":"IFERROR(VLOOKUP(A880,'16'!$E$4:$I$4,2,FALSE),\"-\")","v":"-"},{"$f":"IFERROR(VLOOKUP(A880,'16'!E874:I874,4,FALSE),\"-\")","v":"-"}]
[null,{"$f":"IFERROR(VLOOKUP(A880,'16'!$E$5:$I$5,2,FALSE),\"-\")","v":"-"},{"$f":"IFERROR(VLOOKUP(A880,'16'!E875:I875,4,FALSE),\"-\")","v":"-"}]
[null,{"$f":"IFERROR(VLOOKUP(A880,'16'!$E$6:$I$6,2,FALSE),\"-\")","v":"-"},{"$f":"IFERROR(VLOOKUP(A880,'16'!E876:I876,4,FALSE),\"-\")","v":"-"}]
[null,{"$f":"IFERROR(VLOOKUP(A880,'16'!$E$7:$I$7,2,FALSE),\"-\")","v":"-"},{"$f":"IFERROR(VLOOKUP(A880,'16'!E877:I877,4,FALSE),\"-\")","v":"-"}]
[null,{"$f":"IFERROR(VLOOKUP(A880,'16'!$E$8:$I$8,2,FALSE),\"-\")","v":"-"},{"$f":"IFERROR(VLOOKUP(A880,'16'!E878:I878,4,FALSE),\"-\")","v":"-"}]
[null,{"$f":"IFERROR(VLOOKUP(A880,'16'!$E$9:$I$9,2,FALSE),\"-\")","v":"-"},{"$f":"IFERROR(VLOOKUP(A880,'16'!E879:I879,4,FALSE),\"-\")","v":"-"}]
[null,{"$f":"IFERROR(VLOOKUP(A880,'16'!$E$10:$I$10,2,FALSE),\"-\")","v":"-"},{"$f":"IFERROR(VLOOKUP(A880,'16'!E880:I880,4,FALSE),\"-\")","v":"-"}]
[null,{"$f":"IFERROR(VLOOKUP(A880,'16'!$E$11:$I$11,2,FALSE),\"-\")","v":"-"},{"$f":"IFERROR(VLOOKUP(A880,'16'!E881:I881,4,FALSE),\"-\")","v":"-"}]
[null,{"$f":"IFERROR(VLOOKUP(A880,'16'!$E$12:$I$12,2,FALSE),\"-\")","v":"-"},{"$f":"IFERROR(VLOOKUP(A880,'16'!E882:I882,4,FALSE),\"-\")","v":"-"}]
[null,{"$f":"IFERROR(VLOOKUP(A880,'16'!$E$13:$I$13,2,FALSE),\"-\")","v":"-"},{"$f":"IFERROR(VLOOKUP(A880,'16'!E883:I883,4,FALSE),\"-\")","v":"-"}]
[null,{"$f":"IFERROR(VLOOKUP(A880,'16'!$E$14:$I$14,2,FALSE),\"-\")","v":"-"},{"$f":"IFERROR(VLOOKUP(A880,'16'!E884:I884,4,FALSE),\"-\")","v":"-"}]
[null,{"$f":"IFERROR(VLOOKUP(A880,'16'!$E$15:$I$15,2,FALSE),\"-\")","v":"-"},{"$f":"IFERROR(VLOOKUP(A880,'16'!E885:I885,4,FALSE),\"-\")","v":"-"}]
[null,{"$f":"IFERROR(VLOOKUP(A880,'16'!$E$16:$I$16,2,FALSE),\"-\")","v":"-"},{"$f":"IFERROR(VLOOKUP(A880,'16'!E886:I886,4,FALSE),\"-\")","v":"-"}]
[null,{"$f":"IFERROR(VLOOKUP(A880,'16'!$E$17:$I$17,2,FALSE),\"-\")","v":"-"},{"$f":"IFERROR(VLOOKUP(A880,'16'!E887:I887,4,FALSE),\"-\")","v":"-"}]
[null,{"$f":"IFERROR(VLOOKUP(A880,'16'!$E$18:$I$18,2,FALSE),\"-\")","v":"-"},{"$f":"IFERROR(VLOOKUP(A880,'16'!E888:I888,4,FALSE),\"-\")","v":"-"}]
[null,{"$f":"IFERROR(VLOOKUP(A880,'16'!$E$19:$I$19,2,FALSE),\"-\")","v":"-"},{"$f":"IFERROR(VLOOKUP(A880,'16'!E889:I889,4,FALSE),\"-\")","v":"-"}]
[null,{"$f":"IFERROR(VLOOKUP(A880,'16'!$E$20:$I$20,2,FALSE),\"-\")","v":"-"},{"$f":"IFERROR(VLOOKUP(A880,'16'!E890:I890,4,FALSE),\"-\")","v":"-"}]
[null,{"$f":"IFERROR(VLOOKUP(A880,'16'!$E$21:$I$21,2,FALSE),\"-\")","v":"-"},{"$f":"IFERROR(VLOOKUP(A880,'16'!E891:I891,4,FALSE),\"-\")","v":"-"}]
[null,{"$f":"IFERROR(VLOOKUP(A880,'16'!$E$22:$I$22,2,FALSE),\"-\")","v":"-"},{"$f":"IFERROR(VLOOKUP(A880,'16'!E892:I892,4,FALSE),\"-\")","v":"-"}]
[null,{"$f":"IFERROR(VLOOKUP(A880,'16'!$E$23:$I$23,2,FALSE),\"-\")","v":"-"},{"$f":"IFERROR(VLOOKUP(A880,'16'!E893:I893,4,FALSE),\"-\")","v":"-"}]
[null,{"$f":"IFERROR(VLOOKUP(A880,'16'!$E$24:$I$24,2,FALSE),\"-\")","v":"-"},{"$f":"IFERROR(VLOOKUP(A880,'16'!E894:I894,4,FALSE),\"-\")","v":"-"}]
[null,{"$f":"IFERROR(VLOOKUP(A880,'16'!$E$25:$I$25,2,FALSE),\"-\")","v":"-"},{"$f":"IFERROR(VLOOKUP(A880,'16'!E895:I895,4,FALSE),\"-\")","v":"-"}]
[null,{"$f":"IFERROR(VLOOKUP(A880,'16'!$E$26:$I$26,2,FALSE),\"-\")","v":"-"},{"$f":"IFERROR(VLOOKUP(A880,'16'!E896:I896,4,FALSE),\"-\")","v":"-"}]
[null,{"$f":"IFERROR(VLOOKUP(A880,'16'!$E$27:$I$27,2,FALSE),\"-\")","v":"-"},{"$f":"IFERROR(VLOOKUP(A880,'16'!E897:I897,4,FALSE),\"-\")","v":"-"}]
[null,{"$f":"IFERROR(VLOOKUP(A880,'16'!$E$28:$I$28,2,FALSE),\"-\")","v":"-"},{"$f":"IFERROR(VLOOKUP(A880,'16'!E898:I898,4,FALSE),\"-\")","v":"-"}]
[null,{"$f":"IFERROR(VLOOKUP(A880,'16'!$E$29:$I$29,2,FALSE),\"-\")","v":"-"},{"$f":"IFERROR(VLOOKUP(A880,'16'!E899:I899,4,FALSE),\"-\")","v":"-"}]
[null,{"$f":"IFERROR(VLOOKUP(A880,'16'!$E$30:$I$30,2,FALSE),\"-\")","v":"-"},{"$f":"IFERROR(VLOOKUP(A880,'16'!E900:I900,4,FALSE),\"-\")","v":"-"}]
[null,{"$f":"IFERROR(VLOOKUP(A880,'16'!$E$31:$I$31,2,FALSE),\"-\")","v":"-"},{"$f":"IFERROR(VLOOKUP(A880,'16'!E901:I901,4,FALSE),\"-\")","v":"-"}]
[null,{"$f":"IFERROR(VLOOKUP(A880,'17'!$E$4:$I$4,2,FALSE),\"-\")","v":"-"},{"$f":"IFERROR(VLOOKUP(A880,'17'!E874:I874,4,FALSE),\"-\")","v":"-"}]
[null,{"$f":"IFERROR(VLOOKUP(A880,'17'!$E$5:$I$5,2,FALSE),\"-\")","v":"-"},{"$f":"IFERROR(VLOOKUP(A880,'17'!E875:I875,4,FALSE),\"-\")","v":"-"}]
[null,{"$f":"IFERROR(VLOOKUP(A880,'17'!$E$6:$I$6,2,FALSE),\"-\")","v":"-"},{"$f":"IFERROR(VLOOKUP(A880,'17'!E876:I876,4,FALSE),\"-\")","v":"-"}]
[null,{"$f":"IFERROR(VLOOKUP(A880,'17'!$E$7:$I$7,2,FALSE),\"-\")","v":"-"},{"$f":"IFERROR(VLOOKUP(A880,'17'!E877:I877,4,FALSE),\"-\")","v":"-"}]
[null,{"$f":"IFERROR(VLOOKUP(A880,'17'!$E$8:$I$8,2,FALSE),\"-\")","v":"-"},{"$f":"IFERROR(VLOOKUP(A880,'17'!E878:I878,4,FALSE),\"-\")","v":"-"}]
[null,{"$f":"IFERROR(VLOOKUP(A880,'17'!$E$9:$I$9,2,FALSE),\"-\")","v":"-"},{"$f":"IFERROR(VLOOKUP(A880,'17'!E879:I879,4,FALSE),\"-\")","v":"-"}]
[null,{"$f":"IFERROR(VLOOKUP(A880,'17'!$E$10:$I$10,2,FALSE),\"-\")","v":"-"},{"$f":"IFERROR(VLOOKUP(A880,'17'!E880:I880,4,FALSE),\"-\")","v":"-"}]
[null,{"$f":"IFERROR(VLOOKUP(A880,'17'!$E$11:$I$11,2,FALSE),\"-\")","v":"-"},{"$f":"IFERROR(VLOOKUP(A880,'17'!E881:I881,4,FALSE),\"-\")","v":"-"}]
[null,{"$f":"IFERROR(VLOOKUP(A880,'17'!$E$12:$I$12,2,FALSE),\"-\")","v":"-"},{"$f":"IFERROR(VLOOKUP(A880,'17'!E882:I882,4,FALSE),\"-\")","v":"-"}]
[null,{"$f":"IFERROR(VLOOKUP(A880,'17'!$E$13:$I$13,2,FALSE),\"-\")","v":"-"},{"$f":"IFERROR(VLOOKUP(A880,'17'!E883:I883,4,FALSE),\"-\")","v":"-"}]
[null,{"$f":"IFERROR(VLOOKUP(A880,'17'!$E$14:$I$14,2,FALSE),\"-\")","v":"-"},{"$f":"IFERROR(VLOOKUP(A880,'17'!E884:I884,4,FALSE),\"-\")","v":"-"}]
[null,{"$f":"IFERROR(VLOOKUP(A880,'17'!$E$15:$I$15,2,FALSE),\"-\")","v":"-"},{"$f":"IFERROR(VLOOKUP(A880,'17'!E885:I885,4,FALSE),\"-\")","v":"-"}]
[null,{"$f":"IFERROR(VLOOKUP(A880,'17'!$E$16:$I$16,2,FALSE),\"-\")","v":"-"},{"$f":"IFERROR(VLOOKUP(A880,'17'!E886:I886,4,FALSE),\"-\")","v":"-"}]
[null,{"$f":"IFERROR(VLOOKUP(A880,'17'!$E$17:$I$17,2,FALSE),\"-\")","v":"-"},{"$f":"IFERROR(VLOOKUP(A880,'17'!E887:I887,4,FALSE),\"-\")","v":"-"}]
[null,{"$f":"IFERROR(VLOOKUP(A880,'17'!$E$18:$I$18,2,FALSE),\"-\")","v":"-"},{"$f":"IFERROR(VLOOKUP(A880,'17'!E888:I888,4,FALSE),\"-\")","v":"-"}]
[null,{"$f":"IFERROR(VLOOKUP(A880,'17'!$E$19:$I$19,2,FALSE),\"-\")","v":"-"},{"$f":"IFERROR(VLOOKUP(A880,'17'!E889:I889,4,FALSE),\"-\")","v":"-"}]
[null,{"$f":"IFERROR(VLOOKUP(A880,'17'!$E$20:$I$20,2,FALSE),\"-\")","v":"-"},{"$f":"IFERROR(VLOOKUP(A880,'17'!E890:I890,4,FALSE),\"-\")","v":"-"}]
[null,{"$f":"IFERROR(VLOOKUP(A880,'17'!E$21:$I891,2,FALSE),\"-\")","v":"-"},{"$f":"IFERROR(VLOOKUP(A880,'17'!E891:I891,4,FALSE),\"-\")","v":"-"}]
[null,{"$f":"IFERROR(VLOOKUP(A880,'17'!$E$22:$I$22,2,FALSE),\"-\")","v":"-"},{"$f":"IFERROR(VLOOKUP(A880,'17'!E892:I892,4,FALSE),\"-\")","v":"-"}]
[null,{"$f":"IFERROR(VLOOKUP(A880,'17'!$E$23:$I$23,2,FALSE),\"-\")","v":"-"},{"$f":"IFERROR(VLOOKUP(A880,'17'!E893:I893,4,FALSE),\"-\")","v":"-"}]
[null,{"$f":"IFERROR(VLOOKUP(A880,'17'!$E$24:$I$24,2,FALSE),\"-\")","v":"-"},{"$f":"IFERROR(VLOOKUP(A880,'17'!E894:I894,4,FALSE),\"-\")","v":"-"}]
[null,{"$f":"IFERROR(VLOOKUP(A880,'17'!$E$25:$I$25,2,FALSE),\"-\")","v":"-"},{"$f":"IFERROR(VLOOKUP(A880,'17'!E895:I895,4,FALSE),\"-\")","v":"-"}]
[null,{"$f":"IFERROR(VLOOKUP(A880,'17'!$E$26:$I$26,2,FALSE),\"-\")","v":"-"},{"$f":"IFERROR(VLOOKUP(A880,'17'!E896:I896,4,FALSE),\"-\")","v":"-"}]
[null,{"$f":"IFERROR(VLOOKUP(A880,'17'!$E$27:$I$27,2,FALSE),\"-\")","v":"-"},{"$f":"IFERROR(VLOOKUP(A880,'17'!E897:I897,4,FALSE),\"-\")","v":"-"}]
[null,{"$f":"IFERROR(VLOOKUP(A880,'17'!$E$28:$I$28,2,FALSE),\"-\")","v":"-"},{"$f":"IFERROR(VLOOKUP(A880,'17'!E898:I898,4,FALSE),\"-\")","v":"-"}]
[null,{"$f":"IFERROR(VLOOKUP(A880,'17'!$E$29:$I$29,2,FALSE),\"-\")","v":"-"},{"$f":"IFERROR(VLOOKUP(A880,'17'!E899:I899,4,FALSE),\"-\")","v":"-"}]
[null,{"$f":"IFERROR(VLOOKUP(A880,'17'!$E$30:$I$30,2,FALSE),\"-\")","v":"-"},{"$f":"IFERROR(VLOOKUP(A880,'17'!E900:I900,4,FALSE),\"-\")","v":"-"}]
[null,{"$f":"IFERROR(VLOOKUP(A880,'17'!$E$31:$I$31,2,FALSE),\"-\")","v":"-"},{"$f":"IFERROR(VLOOKUP(A880,'17'!E901:I901,4,FALSE),\"-\")","v":"-"}]
[null,{"$f":"IFERROR(VLOOKUP(A880,'18'!$E$4:$I$4,2,FALSE),\"-\")","v":"-"},{"$f":"IFERROR(VLOOKUP(A880,'18'!E874:I874,4,FALSE),\"-\")","v":"-"}]
[null,{"$f":"IFERROR(VLOOKUP(A880,'18'!$E$5:$I$5,2,FALSE),\"-\")","v":"-"},{"$f":"IFERROR(VLOOKUP(A880,'18'!E875:I875,4,FALSE),\"-\")","v":"-"}]
[null,{"$f":"IFERROR(VLOOKUP(A880,'18'!$E$6:$I$6,2,FALSE),\"-\")","v":"-"},{"$f":"IFERROR(VLOOKUP(A880,'18'!E876:I876,4,FALSE),\"-\")","v":"-"}]
[null,{"$f":"IFERROR(VLOOKUP(A880,'18'!$E$7:$I$7,2,FALSE),\"-\")","v":"-"},{"$f":"IFERROR(VLOOKUP(A880,'18'!E877:I877,4,FALSE),\"-\")","v":"-"}]
[null,{"$f":"IFERROR(VLOOKUP(A880,'18'!$E$8:$I$8,2,FALSE),\"-\")","v":"-"},{"$f":"IFERROR(VLOOKUP(A880,'18'!E878:I878,4,FALSE),\"-\")","v":"-"}]
[null,{"$f":"IFERROR(VLOOKUP(A880,'18'!$E$9:$I$9,2,FALSE),\"-\")","v":"-"},{"$f":"IFERROR(VLOOKUP(A880,'18'!E879:I879,4,FALSE),\"-\")","v":"-"}]
[null,{"$f":"IFERROR(VLOOKUP(A880,'18'!$E$10:$I$10,2,FALSE),\"-\")","v":"-"},{"$f":"IFERROR(VLOOKUP(A880,'18'!E880:I880,4,FALSE),\"-\")","v":"-"}]
[null,{"$f":"IFERROR(VLOOKUP(A880,'18'!$E$11:$I$11,2,FALSE),\"-\")","v":"-"},{"$f":"IFERROR(VLOOKUP(A880,'18'!E881:I881,4,FALSE),\"-\")","v":"-"}]
[null,{"$f":"IFERROR(VLOOKUP(A880,'18'!$E$12:$I$12,2,FALSE),\"-\")","v":"-"},{"$f":"IFERROR(VLOOKUP(A880,'18'!E882:I882,4,FALSE),\"-\")","v":"-"}]
[null,{"$f":"IFERROR(VLOOKUP(A880,'18'!$E$13:$I$13,2,FALSE),\"-\")","v":"-"},{"$f":"IFERROR(VLOOKUP(A880,'18'!E883:I883,4,FALSE),\"-\")","v":"-"}]
[null,{"$f":"IFERROR(VLOOKUP(A880,'18'!$E$14:$I$14,2,FALSE),\"-\")","v":"-"},{"$f":"IFERROR(VLOOKUP(A880,'18'!E884:I884,4,FALSE),\"-\")","v":"-"}]
[null,{"$f":"IFERROR(VLOOKUP(A880,'18'!$E$15:$I$15,2,FALSE),\"-\")","v":"-"},{"$f":"IFERROR(VLOOKUP(A880,'18'!E885:I885,4,FALSE),\"-\")","v":"-"}]
[null,{"$f":"IFERROR(VLOOKUP(A880,'18'!$E$16:$I$16,2,FALSE),\"-\")","v":"-"},{"$f":"IFERROR(VLOOKUP(A880,'18'!E886:I886,4,FALSE),\"-\")","v":"-"}]
[null,{"$f":"IFERROR(VLOOKUP(A880,'18'!$E$17:$I$17,2,FALSE),\"-\")","v":"-"},{"$f":"IFERROR(VLOOKUP(A880,'18'!E887:I887,4,FALSE),\"-\")","v":"-"}]
[null,{"$f":"IFERROR(VLOOKUP(A880,'18'!$E$18:$I$18,2,FALSE),\"-\")","v":"-"},{"$f":"IFERROR(VLOOKUP(A880,'18'!E888:I888,4,FALSE),\"-\")","v":"-"}]
[null,{"$f":"IFERROR(VLOOKUP(A880,'18'!$E$19:$I$19,2,FALSE),\"-\")","v":"-"},{"$f":"IFERROR(VLOOKUP(A880,'18'!E889:I889,4,FALSE),\"-\")","v":"-"}]
[null,{"$f":"IFERROR(VLOOKUP(A880,'18'!$E$20:$I$20,2,FALSE),\"-\")","v":"-"},{"$f":"IFERROR(VLOOKUP(A880,'18'!E890:I890,4,FALSE),\"-\")","v":"-"}]
[null,{"$f":"IFERROR(VLOOKUP(A880,'18'!$E$21:$I$21,2,FALSE),\"-\")","v":"-"},{"$f":"IFERROR(VLOOKUP(A880,'18'!E891:I891,4,FALSE),\"-\")","v":"-"}]
[null,{"$f":"IFERROR(VLOOKUP(A880,'18'!$E$22:$I$22,2,FALSE),\"-\")","v":"-"},{"$f":"IFERROR(VLOOKUP(A880,'18'!E892:I892,4,FALSE),\"-\")","v":"-"}]
[null,{"$f":"IFERROR(VLOOKUP(A880,'18'!$E$23:$I$23,2,FALSE),\"-\")","v":"-"},{"$f":"IFERROR(VLOOKUP(A880,'18'!E893:I893,4,FALSE),\"-\")","v":"-"}]
[null,{"$f":"IFERROR(VLOOKUP(A880,'18'!$E$24:$I$24,2,FALSE),\"-\")","v":"-"},{"$f":"IFERROR(VLOOKUP(A880,'18'!E894:I894,4,FALSE),\"-\")","v":"-"}]
[null,{"$f":"IFERROR(VLOOKUP(A880,'18'!$E$25:$I$25,2,FALSE),\"-\")","v":"-"},{"$f":"IFERROR(VLOOKUP(A880,'18'!E895:I895,4,FALSE),\"-\")","v":"-"}]
[null,{"$f":"IFERROR(VLOOKUP(A880,'18'!$E$26:$I$26,2,FALSE),\"-\")","v":"-"},{"$f":"IFERROR(VLOOKUP(A880,'18'!E896:I896,4,FALSE),\"-\")","v":"-"}]
[null,{"$f":"IFERROR(VLOOKUP(A880,'18'!$E$27:$I$27,2,FALSE),\"-\")","v":"-"},{"$f":"IFERROR(VLOOKUP(A880,'18'!E897:I897,4,FALSE),\"-\")","v":"-"}]
[null,{"$f":"IFERROR(VLOOKUP(A880,'18'!$E$28:$I$28,2,FALSE),\"-\")","v":"-"},{"$f":"IFERROR(VLOOKUP(A880,'18'!E898:I898,4,FALSE),\"-\")","v":"-"}]
[null,{"$f":"IFERROR(VLOOKUP(A880,'18'!$E$29:$I$29,2,FALSE),\"-\")","v":"-"},{"$f":"IFERROR(VLOOKUP(A880,'18'!E899:I899,4,FALSE),\"-\")","v":"-"}]
[null,{"$f":"IFERROR(VLOOKUP(A880,'18'!$E$30:$I$30,2,FALSE),\"-\")","v":"-"},{"$f":"IFERROR(VLOOKUP(A880,'18'!E900:I900,4,FALSE),\"-\")","v":"-"}]
[null,{"$f":"IFERROR(VLOOKUP(A880,'18'!$E$31:$I$31,2,FALSE),\"-\")","v":"-"},{"$f":"IFERROR(VLOOKUP(A880,'18'!E901:I901,4,FALSE),\"-\")","v":"-"}]
[null,{"$f":"IFERROR(VLOOKUP(A880,'19'!$E$4:$I$4,2,FALSE),\"-\")","v":"-"},{"$f":"IFERROR(VLOOKUP(A880,'19'!E874:I874,4,FALSE),\"-\")","v":"-"}]
[null,{"$f":"IFERROR(VLOOKUP(A880,'19'!$E$5:$I$5,2,FALSE),\"-\")","v":"-"},{"$f":"IFERROR(VLOOKUP(A880,'19'!E875:I875,4,FALSE),\"-\")","v":"-"}]
[null,{"$f":"IFERROR(VLOOKUP(A880,'19'!$E$6:$I$6,2,FALSE),\"-\")","v":"-"},{"$f":"IFERROR(VLOOKUP(A880,'19'!E876:I876,4,FALSE),\"-\")","v":"-"}]
[null,{"$f":"IFERROR(VLOOKUP(A880,'19'!$E$7:$I$7,2,FALSE),\"-\")","v":"-"},{"$f":"IFERROR(VLOOKUP(A880,'19'!E877:I877,4,FALSE),\"-\")","v":"-"}]
[null,{"$f":"IFERROR(VLOOKUP(A880,'19'!$E$8:$I$8,2,FALSE),\"-\")","v":"-"},{"$f":"IFERROR(VLOOKUP(A880,'19'!E878:I878,4,FALSE),\"-\")","v":"-"}]
[null,{"$f":"IFERROR(VLOOKUP(A880,'19'!$E$9:$I$9,2,FALSE),\"-\")","v":"-"},{"$f":"IFERROR(VLOOKUP(A880,'19'!E879:I879,4,FALSE),\"-\")","v":"-"}]
[null,{"$f":"IFERROR(VLOOKUP(A880,'19'!$E$10:$I$10,2,FALSE),\"-\")","v":"-"},{"$f":"IFERROR(VLOOKUP(A880,'19'!E880:I880,4,FALSE),\"-\")","v":"-"}]
[null,{"$f":"IFERROR(VLOOKUP(A880,'19'!$E$11:$I$11,2,FALSE),\"-\")","v":"-"},{"$f":"IFERROR(VLOOKUP(A880,'19'!E881:I881,4,FALSE),\"-\")","v":"-"}]
[null,{"$f":"IFERROR(VLOOKUP(A880,'19'!$E$12:$I$12,2,FALSE),\"-\")","v":"-"},{"$f":"IFERROR(VLOOKUP(A880,'19'!E882:I882,4,FALSE),\"-\")","v":"-"}]
[null,{"$f":"IFERROR(VLOOKUP(A880,'19'!$E$13:$I$13,2,FALSE),\"-\")","v":"-"},{"$f":"IFERROR(VLOOKUP(A880,'19'!E883:I883,4,FALSE),\"-\")","v":"-"}]
[null,{"$f":"IFERROR(VLOOKUP(A880,'19'!$E$14:$I$14,2,FALSE),\"-\")","v":"-"},{"$f":"IFERROR(VLOOKUP(A880,'19'!E884:I884,4,FALSE),\"-\")","v":"-"}]
[null,{"$f":"IFERROR(VLOOKUP(A880,'19'!$E$15:$I$15,2,FALSE),\"-\")","v":"-"},{"$f":"IFERROR(VLOOKUP(A880,'19'!E885:I885,4,FALSE),\"-\")","v":"-"}]
[null,{"$f":"IFERROR(VLOOKUP(A880,'19'!$E$16:$I$16,2,FALSE),\"-\")","v":"-"},{"$f":"IFERROR(VLOOKUP(A880,'19'!E886:I886,4,FALSE),\"-\")","v":"-"}]
[null,{"$f":"IFERROR(VLOOKUP(A880,'19'!$E$17:$I$17,2,FALSE),\"-\")","v":"-"},{"$f":"IFERROR(VLOOKUP(A880,'19'!E887:I887,4,FALSE),\"-\")","v":"-"}]
[null,{"$f":"IFERROR(VLOOKUP(A880,'19'!$E$18:$I$18,2,FALSE),\"-\")","v":"-"},{"$f":"IFERROR(VLOOKUP(A880,'19'!E888:I888,4,FALSE),\"-\")","v":"-"}]
[null,{"$f":"IFERROR(VLOOKUP(A880,'19'!$E$19:$I$19,2,FALSE),\"-\")","v":"-"},{"$f":"IFERROR(VLOOKUP(A880,'19'!E889:I889,4,FALSE),\"-\")","v":"-"}]
[null,{"$f":"IFERROR(VLOOKUP(A880,'19'!$E$20:$I$20,2,FALSE),\"-\")","v":"-"},{"$f":"IFERROR(VLOOKUP(A880,'19'!E890:I890,4,FALSE),\"-\")","v":"-"}]
[null,{"$f":"IFERROR(VLOOKUP(A880,'19'!$E$21:$I$21,2,FALSE),\"-\")","v":"-"},{"$f":"IFERROR(VLOOKUP(A880,'19'!E891:I891,4,FALSE),\"-\")","v":"-"}]
[null,{"$f":"IFERROR(VLOOKUP(A880,'19'!$E$22:$I$22,2,FALSE),\"-\")","v":"-"},{"$f":"IFERROR(VLOOKUP(A880,'19'!E892:I892,4,FALSE),\"-\")","v":"-"}]
[null,{"$f":"IFERROR(VLOOKUP(A880,'19'!$E$23:$I$23,2,FALSE),\"-\")","v":"-"},{"$f":"IFERROR(VLOOKUP(A880,'19'!E893:I893,4,FALSE),\"-\")","v":"-"}]
[null,{"$f":"IFERROR(VLOOKUP(A880,'19'!$E$24:$I$24,2,FALSE),\"-\")","v":"-"},{"$f":"IFERROR(VLOOKUP(A880,'19'!E894:I894,4,FALSE),\"-\")","v":"-"}]
[null,{"$f":"IFERROR(VLOOKUP(A880,'19'!$E$25:$I$25,2,FALSE),\"-\")","v":"-"},{"$f":"IFERROR(VLOOKUP(A880,'19'!E895:I895,4,FALSE),\"-\")","v":"-"}]
[null,{"$f":"IFERROR(VLOOKUP(A880,'19'!$E$26:$I$26,2,FALSE),\"-\")","v":"-"},{"$f":"IFERROR(VLOOKUP(A880,'19'!E896:I896,4,FALSE),\"-\")","v":"-"}]
[null,{"$f":"IFERROR(VLOOKUP(A880,'19'!$E$27:$I$27,2,FALSE),\"-\")","v":"-"},{"$f":"IFERROR(VLOOKUP(A880,'19'!E897:I897,4,FALSE),\"-\")","v":"-"}]
[null,{"$f":"IFERROR(VLOOKUP(A880,'19'!$E$28:$I$28,2,FALSE),\"-\")","v":"-"},{"$f":"IFERROR(VLOOKUP(A880,'19'!E898:I898,4,FALSE),\"-\")","v":"-"}]
[null,{"$f":"IFERROR(VLOOKUP(A880,'19'!$E$29:$I$29,2,FALSE),\"-\")","v":"-"},{"$f":"IFERROR(VLOOKUP(A880,'19'!E899:I899,4,FALSE),\"-\")","v":"-"}]
[null,{"$f":"IFERROR(VLOOKUP(A880,'19'!$E$30:$I$30,2,FALSE),\"-\")","v":"-"},{"$f":"IFERROR(VLOOKUP(A880,'19'!E900:I900,4,FALSE),\"-\")","v":"-"}]
[null,{"$f":"IFERROR(VLOOKUP(A880,'19'!$E$31:$I$31,2,FALSE),\"-\")","v":"-"},{"$f":"IFERROR(VLOOKUP(A880,'19'!E901:I901,4,FALSE),\"-\")","v":"-"}]
[null,{"$f":"IFERROR(VLOOKUP(A880,'20'!$E$4:$I$4,2,FALSE),\"-\")","v":"-"},{"$f":"IFERROR(VLOOKUP(A880,'20'!E874:I874,4,FALSE),\"-\")","v":"-"}]
[null,{"$f":"IFERROR(VLOOKUP(A880,'20'!$E$5:$I$5,2,FALSE),\"-\")","v":"-"},{"$f":"IFERROR(VLOOKUP(A880,'20'!E875:I875,4,FALSE),\"-\")","v":"-"}]
[null,{"$f":"IFERROR(VLOOKUP(A880,'20'!$E$6:$I$6,2,FALSE),\"-\")","v":"-"},{"$f":"IFERROR(VLOOKUP(A880,'20'!E876:I876,4,FALSE),\"-\")","v":"-"}]
[null,{"$f":"IFERROR(VLOOKUP(A880,'20'!$E$7:$I$7,2,FALSE),\"-\")","v":"-"},{"$f":"IFERROR(VLOOKUP(A880,'20'!E877:I877,4,FALSE),\"-\")","v":"-"}]
[null,{"$f":"IFERROR(VLOOKUP(A880,'20'!$E$8:I878,2,FALSE),\"-\")","v":"-"},{"$f":"IFERROR(VLOOKUP(A880,'20'!E878:I878,4,FALSE),\"-\")","v":"-"}]
[null,{"$f":"IFERROR(VLOOKUP(A880,'20'!$E$9:$I$9,2,FALSE),\"-\")","v":"-"},{"$f":"IFERROR(VLOOKUP(A880,'20'!E879:I879,4,FALSE),\"-\")","v":"-"}]
[null,{"$f":"IFERROR(VLOOKUP(A880,'20'!$E$10:$I$10,2,FALSE),\"-\")","v":"-"},{"$f":"IFERROR(VLOOKUP(A880,'20'!E880:I880,4,FALSE),\"-\")","v":"-"}]
[null,{"$f":"IFERROR(VLOOKUP(A880,'20'!$E$11:$I$11,2,FALSE),\"-\")","v":"-"},{"$f":"IFERROR(VLOOKUP(A880,'20'!E881:I881,4,FALSE),\"-\")","v":"-"}]
[null,{"$f":"IFERROR(VLOOKUP(A880,'20'!$E$12:$I$12,2,FALSE),\"-\")","v":"-"},{"$f":"IFERROR(VLOOKUP(A880,'20'!E882:I882,4,FALSE),\"-\")","v":"-"}]
[null,{"$f":"IFERROR(VLOOKUP(A880,'20'!$E$13:$I$13,2,FALSE),\"-\")","v":"-"},{"$f":"IFERROR(VLOOKUP(A880,'20'!E883:I883,4,FALSE),\"-\")","v":"-"}]
[null,{"$f":"IFERROR(VLOOKUP(A880,'20'!$E$14:$I$14,2,FALSE),\"-\")","v":"-"},{"$f":"IFERROR(VLOOKUP(A880,'20'!E884:I884,4,FALSE),\"-\")","v":"-"}]
[null,{"$f":"IFERROR(VLOOKUP(A880,'20'!$E$15:$I$15,2,FALSE),\"-\")","v":"-"},{"$f":"IFERROR(VLOOKUP(A880,'20'!E885:I885,4,FALSE),\"-\")","v":"-"}]
[null,{"$f":"IFERROR(VLOOKUP(A880,'20'!$E$16:$I$16,2,FALSE),\"-\")","v":"-"},{"$f":"IFERROR(VLOOKUP(A880,'20'!E886:I886,4,FALSE),\"-\")","v":"-"}]
[null,{"$f":"IFERROR(VLOOKUP(A880,'20'!$E$17:$I$17,2,FALSE),\"-\")","v":"-"},{"$f":"IFERROR(VLOOKUP(A880,'20'!E887:I887,4,FALSE),\"-\")","v":"-"}]
[null,{"$f":"IFERROR(VLOOKUP(A880,'20'!$E$18:$I$18,2,FALSE),\"-\")","v":"-"},{"$f":"IFERROR(VLOOKUP(A880,'20'!E888:I888,4,FALSE),\"-\")","v":"-"}]
[null,{"$f":"IFERROR(VLOOKUP(A880,'20'!$E$19:$I$19,2,FALSE),\"-\")","v":"-"},{"$f":"IFERROR(VLOOKUP(A880,'20'!E889:I889,4,FALSE),\"-\")","v":"-"}]
[null,{"$f":"IFERROR(VLOOKUP(A880,'20'!$E$20:$I$20,2,FALSE),\"-\")","v":"-"},{"$f":"IFERROR(VLOOKUP(A880,'20'!E890:I890,4,FALSE),\"-\")","v":"-"}]
[null,{"$f":"IFERROR(VLOOKUP(A880,'20'!$E$21:$I$21,2,FALSE),\"-\")","v":"-"},{"$f":"IFERROR(VLOOKUP(A880,'20'!E891:I891,4,FALSE),\"-\")","v":"-"}]
[null,{"$f":"IFERROR(VLOOKUP(A880,'20'!$E$22:$I$22,2,FALSE),\"-\")","v":"-"},{"$f":"IFERROR(VLOOKUP(A880,'20'!E892:I892,4,FALSE),\"-\")","v":"-"}]
[null,{"$f":"IFERROR(VLOOKUP(A880,'20'!$E$23:$I$23,2,FALSE),\"-\")","v":"-"},{"$f":"IFERROR(VLOOKUP(A880,'20'!E893:I893,4,FALSE),\"-\")","v":"-"}]
[null,{"$f":"IFERROR(VLOOKUP(A880,'20'!$E$24:$I$24,2,FALSE),\"-\")","v":"-"},{"$f":"IFERROR(VLOOKUP(A880,'20'!E894:I894,4,FALSE),\"-\")","v":"-"}]
[null,{"$f":"IFERROR(VLOOKUP(A880,'20'!$E$25:$I$25,2,FALSE),\"-\")","v":"-"},{"$f":"IFERROR(VLOOKUP(A880,'20'!E895:I895,4,FALSE),\"-\")","v":"-"}]
[null,{"$f":"IFERROR(VLOOKUP(A880,'20'!$E$26:$I$26,2,FALSE),\"-\")","v":"-"},{"$f":"IFERROR(VLOOKUP(A880,'20'!E896:I896,4,FALSE),\"-\")","v":"-"}]
[null,{"$f":"IFERROR(VLOOKUP(A880,'20'!$E$27:$I$27,2,FALSE),\"-\")","v":"-"},{"$f":"IFERROR(VLOOKUP(A880,'20'!E897:I897,4,FALSE),\"-\")","v":"-"}]
[null,{"$f":"IFERROR(VLOOKUP(A880,'20'!$E$28:$I$28,2,FALSE),\"-\")","v":"-"},{"$f":"IFERROR(VLOOKUP(A880,'20'!E898:I898,4,FALSE),\"-\")","v":"-"}]
[null,{"$f":"IFERROR(VLOOKUP(A880,'20'!$E$29:$I$29,2,FALSE),\"-\")","v":"-"},{"$f":"IFERROR(VLOOKUP(A880,'20'!E899:I899,4,FALSE),\"-\")","v":"-"}]
[null,{"$f":"IFERROR(VLOOKUP(A880,'20'!$E$30:$I$30,2,FALSE),\"-\")","v":"-"},{"$f":"IFERROR(VLOOKUP(A880,'20'!E900:I900,4,FALSE),\"-\")","v":"-"}]
[null,{"$f":"IFERROR(VLOOKUP(A880,'20'!$E$31:$I$31,2,FALSE),\"-\")","v":"-"},{"$f":"IFERROR(VLOOKUP(A880,'20'!E901:I901,4,FALSE),\"-\")","v":"-"}]
[null,{"$f":"IFERROR(VLOOKUP(A880,'21'!$E$4:$I$4,2,FALSE),\"-\")","v":"-"},{"$f":"IFERROR(VLOOKUP(A880,'21'!E874:I874,4,FALSE),\"-\")","v":"-"}]
[null,{"$f":"IFERROR(VLOOKUP(A880,'21'!$E$5:$I$5,2,FALSE),\"-\")","v":"-"},{"$f":"IFERROR(VLOOKUP(A880,'21'!E875:I875,4,FALSE),\"-\")","v":"-"}]
[null,{"$f":"IFERROR(VLOOKUP(A880,'21'!$E$6:$I$6,2,FALSE),\"-\")","v":"-"},{"$f":"IFERROR(VLOOKUP(A880,'21'!E876:I876,4,FALSE),\"-\")","v":"-"}]
[null,{"$f":"IFERROR(VLOOKUP(A880,'21'!$E$7:$I$7,2,FALSE),\"-\")","v":"-"},{"$f":"IFERROR(VLOOKUP(A880,'21'!E877:I877,4,FALSE),\"-\")","v":"-"}]
[null,{"$f":"IFERROR(VLOOKUP(A880,'21'!$E$8:$I$8,2,FALSE),\"-\")","v":"-"},{"$f":"IFERROR(VLOOKUP(A880,'21'!E878:I878,4,FALSE),\"-\")","v":"-"}]
[null,{"$f":"IFERROR(VLOOKUP(A880,'21'!$E$9:$I$9,2,FALSE),\"-\")","v":"-"},{"$f":"IFERROR(VLOOKUP(A880,'21'!E879:I879,4,FALSE),\"-\")","v":"-"}]
[null,{"$f":"IFERROR(VLOOKUP(A880,'21'!$E$10:$I$10,2,FALSE),\"-\")","v":"-"},{"$f":"IFERROR(VLOOKUP(A880,'21'!E880:I880,4,FALSE),\"-\")","v":"-"}]
[null,{"$f":"IFERROR(VLOOKUP(A880,'21'!$E$11:$I$11,2,FALSE),\"-\")","v":"-"},{"$f":"IFERROR(VLOOKUP(A880,'21'!E881:I881,4,FALSE),\"-\")","v":"-"}]
[null,{"$f":"IFERROR(VLOOKUP(A880,'21'!$E$12:$I$12,2,FALSE),\"-\")","v":"-"},{"$f":"IFERROR(VLOOKUP(A880,'21'!E882:I882,4,FALSE),\"-\")","v":"-"}]
[null,{"$f":"IFERROR(VLOOKUP(A880,'21'!$E$13:$I$13,2,FALSE),\"-\")","v":"-"},{"$f":"IFERROR(VLOOKUP(A880,'21'!E883:I883,4,FALSE),\"-\")","v":"-"}]
[null,{"$f":"IFERROR(VLOOKUP(A880,'21'!$E$14:$I$14,2,FALSE),\"-\")","v":"-"},{"$f":"IFERROR(VLOOKUP(A880,'21'!E884:I884,4,FALSE),\"-\")","v":"-"}]
[null,{"$f":"IFERROR(VLOOKUP(A880,'21'!$E$15:$I$15,2,FALSE),\"-\")","v":"-"},{"$f":"IFERROR(VLOOKUP(A880,'21'!E885:I885,4,FALSE),\"-\")","v":"-"}]
[null,{"$f":"IFERROR(VLOOKUP(A880,'21'!$E$16:$I$16,2,FALSE),\"-\")","v":"-"},{"$f":"IFERROR(VLOOKUP(A880,'21'!E886:I886,4,FALSE),\"-\")","v":"-"}]
[null,{"$f":"IFERROR(VLOOKUP(A880,'21'!$E$17:$I$17,2,FALSE),\"-\")","v":"-"},{"$f":"IFERROR(VLOOKUP(A880,'21'!E887:I887,4,FALSE),\"-\")","v":"-"}]
[null,{"$f":"IFERROR(VLOOKUP(A880,'21'!$E$18:$I$18,2,FALSE),\"-\")","v":"-"},{"$f":"IFERROR(VLOOKUP(A880,'21'!E888:I888,4,FALSE),\"-\")","v":"-"}]
[null,{"$f":"IFERROR(VLOOKUP(A880,'21'!$E$19:$I$19,2,FALSE),\"-\")","v":"-"},{"$f":"IFERROR(VLOOKUP(A880,'21'!E889:I889,4,FALSE),\"-\")","v":"-"}]
[null,{"$f":"IFERROR(VLOOKUP(A880,'21'!$E$20:$I$20,2,FALSE),\"-\")","v":"-"},{"$f":"IFERROR(VLOOKUP(A880,'21'!E890:I890,4,FALSE),\"-\")","v":"-"}]
[null,{"$f":"IFERROR(VLOOKUP(A880,'21'!$E$21:$I$21,2,FALSE),\"-\")","v":"-"},{"$f":"IFERROR(VLOOKUP(A880,'21'!E891:I891,4,FALSE),\"-\")","v":"-"}]
[null,{"$f":"IFERROR(VLOOKUP(A880,'21'!$E$22:$I$22,2,FALSE),\"-\")","v":"-"},{"$f":"IFERROR(VLOOKUP(A880,'21'!E892:I892,4,FALSE),\"-\")","v":"-"}]
[null,{"$f":"IFERROR(VLOOKUP(A880,'21'!$E$23:$I$23,2,FALSE),\"-\")","v":"-"},{"$f":"IFERROR(VLOOKUP(A880,'21'!E893:I893,4,FALSE),\"-\")","v":"-"}]
[null,{"$f":"IFERROR(VLOOKUP(A880,'21'!$E$24:$I$24,2,FALSE),\"-\")","v":"-"},{"$f":"IFERROR(VLOOKUP(A880,'21'!E894:I894,4,FALSE),\"-\")","v":"-"}]
[null,{"$f":"IFERROR(VLOOKUP(A880,'21'!$E$25:$I$25,2,FALSE),\"-\")","v":"-"},{"$f":"IFERROR(VLOOKUP(A880,'21'!E895:I895,4,FALSE),\"-\")","v":"-"}]
[null,{"$f":"IFERROR(VLOOKUP(A880,'21'!$E$26:$I$26,2,FALSE),\"-\")","v":"-"},{"$f":"IFERROR(VLOOKUP(A880,'21'!E896:I896,4,FALSE),\"-\")","v":"-"}]
[null,{"$f":"IFERROR(VLOOKUP(A880,'21'!$E$27:$I$27,2,FALSE),\"-\")","v":"-"},{"$f":"IFERROR(VLOOKUP(A880,'21'!E897:I897,4,FALSE),\"-\")","v":"-"}]
[null,{"$f":"IFERROR(VLOOKUP(A880,'21'!$E$28:$I$28,2,FALSE),\"-\")","v":"-"},{"$f":"IFERROR(VLOOKUP(A880,'21'!E898:I898,4,FALSE),\"-\")","v":"-"}]
[null,{"$f":"IFERROR(VLOOKUP(A880,'21'!$E$29:$I$29,2,FALSE),\"-\")","v":"-"},{"$f":"IFERROR(VLOOKUP(A880,'21'!E899:I899,4,FALSE),\"-\")","v":"-"}]
[null,{"$f":"IFERROR(VLOOKUP(A880,'21'!$E$30:$I$30,2,FALSE),\"-\")","v":"-"},{"$f":"IFERROR(VLOOKUP(A880,'21'!E900:I900,4,FALSE),\"-\")","v":"-"}]
[null,{"$f":"IFERROR(VLOOKUP(A880,'21'!$E$31:$I$31,2,FALSE),\"-\")","v":"-"},{"$f":"IFERROR(VLOOKUP(A880,'21'!E901:I901,4,FALSE),\"-\")","v":"-"}]
[null,{"$f":"IFERROR(VLOOKUP(A880,'22'!$E$4:$I$4,2,FALSE),\"-\")","v":"-"},{"$f":"IFERROR(VLOOKUP(A880,'22'!E874:I874,4,FALSE),\"-\")","v":"-"}]
[null,{"$f":"IFERROR(VLOOKUP(A880,'22'!$E$5:$I$5,2,FALSE),\"-\")","v":"-"},{"$f":"IFERROR(VLOOKUP(A880,'22'!E875:I875,4,FALSE),\"-\")","v":"-"}]
[null,{"$f":"IFERROR(VLOOKUP(A880,'22'!$E$6:$I$6,2,FALSE),\"-\")","v":"-"},{"$f":"IFERROR(VLOOKUP(A880,'22'!E876:I876,4,FALSE),\"-\")","v":"-"}]
[null,{"$f":"IFERROR(VLOOKUP(A880,'22'!$E$7:$I$7,2,FALSE),\"-\")","v":"-"},{"$f":"IFERROR(VLOOKUP(A880,'22'!E877:I877,4,FALSE),\"-\")","v":"-"}]
[null,{"$f":"IFERROR(VLOOKUP(A880,'22'!$E$8:$I$8,2,FALSE),\"-\")","v":"-"},{"$f":"IFERROR(VLOOKUP(A880,'22'!E878:I878,4,FALSE),\"-\")","v":"-"}]
[null,{"$f":"IFERROR(VLOOKUP(A880,'22'!$E$9:$I$9,2,FALSE),\"-\")","v":"-"},{"$f":"IFERROR(VLOOKUP(A880,'22'!E879:I879,4,FALSE),\"-\")","v":"-"}]
[null,{"$f":"IFERROR(VLOOKUP(A880,'22'!$E$10:$I$10,2,FALSE),\"-\")","v":"-"},{"$f":"IFERROR(VLOOKUP(A880,'22'!E880:I880,4,FALSE),\"-\")","v":"-"}]
[null,{"$f":"IFERROR(VLOOKUP(A880,'22'!$E$11:$I$11,2,FALSE),\"-\")","v":"-"},{"$f":"IFERROR(VLOOKUP(A880,'22'!E881:I881,4,FALSE),\"-\")","v":"-"}]
[null,{"$f":"IFERROR(VLOOKUP(A880,'22'!$E$12:$I$12,2,FALSE),\"-\")","v":"-"},{"$f":"IFERROR(VLOOKUP(A880,'22'!E882:I882,4,FALSE),\"-\")","v":"-"}]
[null,{"$f":"IFERROR(VLOOKUP(A880,'22'!$E$13:$I$13,2,FALSE),\"-\")","v":"-"},{"$f":"IFERROR(VLOOKUP(A880,'22'!E883:I883,4,FALSE),\"-\")","v":"-"}]
[null,{"$f":"IFERROR(VLOOKUP(A880,'22'!$E$14:$I$14,2,FALSE),\"-\")","v":"-"},{"$f":"IFERROR(VLOOKUP(A880,'22'!E884:I884,4,FALSE),\"-\")","v":"-"}]
[null,{"$f":"IFERROR(VLOOKUP(A880,'22'!$E$15:$I$15,2,FALSE),\"-\")","v":"-"},{"$f":"IFERROR(VLOOKUP(A880,'22'!E885:I885,4,FALSE),\"-\")","v":"-"}]
[null,{"$f":"IFERROR(VLOOKUP(A880,'22'!$E$16:$I$16,2,FALSE),\"-\")","v":"-"},{"$f":"IFERROR(VLOOKUP(A880,'22'!E886:I886,4,FALSE),\"-\")","v":"-"}]
[null,{"$f":"IFERROR(VLOOKUP(A880,'22'!$E$17:$I$17,2,FALSE),\"-\")","v":"-"},{"$f":"IFERROR(VLOOKUP(A880,'22'!E887:I887,4,FALSE),\"-\")","v":"-"}]
[null,{"$f":"IFERROR(VLOOKUP(A880,'22'!$E$18:$I$18,2,FALSE),\"-\")","v":"-"},{"$f":"IFERROR(VLOOKUP(A880,'22'!E888:I888,4,FALSE),\"-\")","v":"-"}]
[null,{"$f":"IFERROR(VLOOKUP(A880,'22'!$E$19:$I$19,2,FALSE),\"-\")","v":"-"},{"$f":"IFERROR(VLOOKUP(A880,'22'!E889:I889,4,FALSE),\"-\")","v":"-"}]
[null,{"$f":"IFERROR(VLOOKUP(A880,'22'!$E$20:$I$20,2,FALSE),\"-\")","v":"-"},{"$f":"IFERROR(VLOOKUP(A880,'22'!E890:I890,4,FALSE),\"-\")","v":"-"}]
[null,{"$f":"IFERROR(VLOOKUP(A880,'22'!$E$21:$I$21,2,FALSE),\"-\")","v":"-"},{"$f":"IFERROR(VLOOKUP(A880,'22'!E891:I891,4,FALSE),\"-\")","v":"-"}]
[null,{"$f":"IFERROR(VLOOKUP(A880,'22'!$E$22:$I$22,2,FALSE),\"-\")","v":"-"},{"$f":"IFERROR(VLOOKUP(A880,'22'!E892:I892,4,FALSE),\"-\")","v":"-"}]
[null,{"$f":"IFERROR(VLOOKUP(A880,'22'!$E$23:$I$23,2,FALSE),\"-\")","v":"-"},{"$f":"IFERROR(VLOOKUP(A880,'22'!E893:I893,4,FALSE),\"-\")","v":"-"}]
[null,{"$f":"IFERROR(VLOOKUP(A880,'22'!$E$24:$I$24,2,FALSE),\"-\")","v":"-"},{"$f":"IFERROR(VLOOKUP(A880,'22'!E894:I894,4,FALSE),\"-\")","v":"-"}]
[null,{"$f":"IFERROR(VLOOKUP(A880,'22'!$E$25:$I$25,2,FALSE),\"-\")","v":"-"},{"$f":"IFERROR(VLOOKUP(A880,'22'!E895:I895,4,FALSE),\"-\")","v":"-"}]
[null,{"$f":"IFERROR(VLOOKUP(A880,'22'!$E$26:$I$26,2,FALSE),\"-\")","v":"-"},{"$f":"IFERROR(VLOOKUP(A880,'22'!E896:I896,4,FALSE),\"-\")","v":"-"}]
[null,{"$f":"IFERROR(VLOOKUP(A880,'22'!$E$27:$I$27,2,FALSE),\"-\")","v":"-"},{"$f":"IFERROR(VLOOKUP(A880,'22'!E897:I897,4,FALSE),\"-\")","v":"-"}]
[null,{"$f":"IFERROR(VLOOKUP(A880,'22'!$E$28:$I$28,2,FALSE),\"-\")","v":"-"},{"$f":"IFERROR(VLOOKUP(A880,'22'!E898:I898,4,FALSE),\"-\")","v":"-"}]
[null,{"$f":"IFERROR(VLOOKUP(A880,'22'!$E$29:$I$29,2,FALSE),\"-\")","v":"-"},{"$f":"IFERROR(VLOOKUP(A880,'22'!E899:I899,4,FALSE),\"-\")","v":"-"}]
[null,{"$f":"IFERROR(VLOOKUP(A880,'22'!$E$30:$I$30,2,FALSE),\"-\")","v":"-"},{"$f":"IFERROR(VLOOKUP(A880,'22'!E900:I900,4,FALSE),\"-\")","v":"-"}]
[null,{"$f":"IFERROR(VLOOKUP(A880,'22'!$E$31:$I$31,2,FALSE),\"-\")","v":"-"},{"$f":"IFERROR(VLOOKUP(A880,'22'!E901:I901,4,FALSE),\"-\")","v":"-"}]
[null,{"$f":"IFERROR(VLOOKUP(A880,'23'!$E$4:$I$4,2,FALSE),\"-\")","v":"-"},{"$f":"IFERROR(VLOOKUP(A880,'23'!E874:I874,4,FALSE),\"-\")","v":"-"}]
[null,{"$f":"IFERROR(VLOOKUP(A880,'23'!$E$5:$I$5,2,FALSE),\"-\")","v":"-"},{"$f":"IFERROR(VLOOKUP(A880,'23'!E875:I875,4,FALSE),\"-\")","v":"-"}]
[null,{"$f":"IFERROR(VLOOKUP(A880,'23'!$E$6:$I$6,2,FALSE),\"-\")","v":"-"},{"$f":"IFERROR(VLOOKUP(A880,'23'!E876:I876,4,FALSE),\"-\")","v":"-"}]
[null,{"$f":"IFERROR(VLOOKUP(A880,'23'!$E$7:$I$7,2,FALSE),\"-\")","v":"-"},{"$f":"IFERROR(VLOOKUP(A880,'23'!E877:I877,4,FALSE),\"-\")","v":"-"}]
[null,{"$f":"IFERROR(VLOOKUP(A880,'23'!$E$8:$I$8,2,FALSE),\"-\")","v":"-"},{"$f":"IFERROR(VLOOKUP(A880,'23'!E878:I878,4,FALSE),\"-\")","v":"-"}]
[null,{"$f":"IFERROR(VLOOKUP(A880,'23'!$E$9:$I$9,2,FALSE),\"-\")","v":"-"},{"$f":"IFERROR(VLOOKUP(A880,'23'!E879:I879,4,FALSE),\"-\")","v":"-"}]
[null,{"$f":"IFERROR(VLOOKUP(A880,'23'!$E$10:$I$10,2,FALSE),\"-\")","v":"-"},{"$f":"IFERROR(VLOOKUP(A880,'23'!E880:I880,4,FALSE),\"-\")","v":"-"}]
[null,{"$f":"IFERROR(VLOOKUP(A880,'23'!$E$11:$I$11,2,FALSE),\"-\")","v":"-"},{"$f":"IFERROR(VLOOKUP(A880,'23'!E881:I881,4,FALSE),\"-\")","v":"-"}]
[null,{"$f":"IFERROR(VLOOKUP(A880,'23'!$E$12:$I$12,2,FALSE),\"-\")","v":"-"},{"$f":"IFERROR(VLOOKUP(A880,'23'!E882:I882,4,FALSE),\"-\")","v":"-"}]
[null,{"$f":"IFERROR(VLOOKUP(A880,'23'!$E$13:$I$13,2,FALSE),\"-\")","v":"-"},{"$f":"IFERROR(VLOOKUP(A880,'23'!E883:I883,4,FALSE),\"-\")","v":"-"}]
[null,{"$f":"IFERROR(VLOOKUP(A880,'23'!$E$14:$I$14,2,FALSE),\"-\")","v":"-"},{"$f":"IFERROR(VLOOKUP(A880,'23'!E884:I884,4,FALSE),\"-\")","v":"-"}]
[null,{"$f":"IFERROR(VLOOKUP(A880,'23'!$E$15:$I$15,2,FALSE),\"-\")","v":"-"},{"$f":"IFERROR(VLOOKUP(A880,'23'!E885:I885,4,FALSE),\"-\")","v":"-"}]
[null,{"$f":"IFERROR(VLOOKUP(A880,'23'!$E$16:$I$16,2,FALSE),\"-\")","v":"-"},{"$f":"IFERROR(VLOOKUP(A880,'23'!E886:I886,4,FALSE),\"-\")","v":"-"}]
[null,{"$f":"IFERROR(VLOOKUP(A880,'23'!$E$17:$I$17,2,FALSE),\"-\")","v":"-"},{"$f":"IFERROR(VLOOKUP(A880,'23'!E887:I887,4,FALSE),\"-\")","v":"-"}]
[null,{"$f":"IFERROR(VLOOKUP(A880,'23'!$E$18:$I$18,2,FALSE),\"-\")","v":"-"},{"$f":"IFERROR(VLOOKUP(A880,'23'!E888:I888,4,FALSE),\"-\")","v":"-"}]
[null,{"$f":"IFERROR(VLOOKUP(A880,'23'!$E$19:$I$19,2,FALSE),\"-\")","v":"-"},{"$f":"IFERROR(VLOOKUP(A880,'23'!E889:I889,4,FALSE),\"-\")","v":"-"}]
[null,{"$f":"IFERROR(VLOOKUP(A880,'23'!$E$20:$I$20,2,FALSE),\"-\")","v":"-"},{"$f":"IFERROR(VLOOKUP(A880,'23'!E890:I890,4,FALSE),\"-\")","v":"-"}]
[null,{"$f":"IFERROR(VLOOKUP(A880,'23'!$E$21:$I$21,2,FALSE),\"-\")","v":"-"},{"$f":"IFERROR(VLOOKUP(A880,'23'!E891:I891,4,FALSE),\"-\")","v":"-"}]
[null,{"$f":"IFERROR(VLOOKUP(A880,'23'!$E$22:$I$22,2,FALSE),\"-\")","v":"-"},{"$f":"IFERROR(VLOOKUP(A880,'23'!E892:I892,4,FALSE),\"-\")","v":"-"}]
[null,{"$f":"IFERROR(VLOOKUP(A880,'23'!$E$23:$I$23,2,FALSE),\"-\")","v":"-"},{"$f":"IFERROR(VLOOKUP(A880,'23'!E893:I893,4,FALSE),\"-\")","v":"-"}]
[null,{"$f":"IFERROR(VLOOKUP(A880,'23'!$E$24:$I$24,2,FALSE),\"-\")","v":"-"},{"$f":"IFERROR(VLOOKUP(A880,'23'!E894:I894,4,FALSE),\"-\")","v":"-"}]
[null,{"$f":"IFERROR(VLOOKUP(A880,'23'!$E$25:$I$25,2,FALSE),\"-\")","v":"-"},{"$f":"IFERROR(VLOOKUP(A880,'23'!E895:I895,4,FALSE),\"-\")","v":"-"}]
[null,{"$f":"IFERROR(VLOOKUP(A880,'23'!$E$26:$I$26,2,FALSE),\"-\")","v":"-"},{"$f":"IFERROR(VLOOKUP(A880,'23'!E896:I896,4,FALSE),\"-\")","v":"-"}]
[null,{"$f":"IFERROR(VLOOKUP(A880,'23'!$E$27:$I$27,2,FALSE),\"-\")","v":"-"},{"$f":"IFERROR(VLOOKUP(A880,'23'!E897:I897,4,FALSE),\"-\")","v":"-"}]
[null,{"$f":"IFERROR(VLOOKUP(A880,'23'!$E$28:$I$28,2,FALSE),\"-\")","v":"-"},{"$f":"IFERROR(VLOOKUP(A880,'23'!E898:I898,4,FALSE),\"-\")","v":"-"}]
[null,{"$f":"IFERROR(VLOOKUP(A880,'23'!$E$29:$I$29,2,FALSE),\"-\")","v":"-"},{"$f":"IFERROR(VLOOKUP(A880,'23'!E899:I899,4,FALSE),\"-\")","v":"-"}]
[null,{"$f":"IFERROR(VLOOKUP(A880,'23'!$E$30:$I$30,2,FALSE),\"-\")","v":"-"},{"$f":"IFERROR(VLOOKUP(A880,'23'!E900:I900,4,FALSE),\"-\")","v":"-"}]
[null,{"$f":"IFERROR(VLOOKUP(A880,'23'!$E$31:$I$31,2,FALSE),\"-\")","v":"-"},{"$f":"IFERROR(VLOOKUP(A880,'23'!E901:I901,4,FALSE),\"-\")","v":"-"}]
[null,{"$f":"IFERROR(VLOOKUP(A880,'24'!$E$4:$I$4,2,FALSE),\"-\")","v":"-"},{"$f":"IFERROR(VLOOKUP(A880,'24'!E874:I874,4,FALSE),\"-\")","v":"-"}]
[null,{"$f":"IFERROR(VLOOKUP(A880,'24'!$E$5:$I$5,2,FALSE),\"-\")","v":"-"},{"$f":"IFERROR(VLOOKUP(A880,'24'!E875:I875,4,FALSE),\"-\")","v":"-"}]
[null,{"$f":"IFERROR(VLOOKUP(A880,'24'!$E$6:$I$6,2,FALSE),\"-\")","v":"-"},{"$f":"IFERROR(VLOOKUP(A880,'24'!E876:I876,4,FALSE),\"-\")","v":"-"}]
[null,{"$f":"IFERROR(VLOOKUP(A880,'24'!$E$7:$I$7,2,FALSE),\"-\")","v":"-"},{"$f":"IFERROR(VLOOKUP(A880,'24'!E877:I877,4,FALSE),\"-\")","v":"-"}]
[null,{"$f":"IFERROR(VLOOKUP(A880,'24'!$E$8:$I$8,2,FALSE),\"-\")","v":"-"},{"$f":"IFERROR(VLOOKUP(A880,'24'!E878:I878,4,FALSE),\"-\")","v":"-"}]
[null,{"$f":"IFERROR(VLOOKUP(A880,'24'!$E$9:$I$9,2,FALSE),\"-\")","v":"-"},{"$f":"IFERROR(VLOOKUP(A880,'24'!E879:I879,4,FALSE),\"-\")","v":"-"}]
[null,{"$f":"IFERROR(VLOOKUP(A880,'24'!$E$10:$I$10,2,FALSE),\"-\")","v":"-"},{"$f":"IFERROR(VLOOKUP(A880,'24'!E880:I880,4,FALSE),\"-\")","v":"-"}]
[null,{"$f":"IFERROR(VLOOKUP(A880,'24'!$E$11:$I$11,2,FALSE),\"-\")","v":"-"},{"$f":"IFERROR(VLOOKUP(A880,'24'!E881:I881,4,FALSE),\"-\")","v":"-"}]
[null,{"$f":"IFERROR(VLOOKUP(A880,'24'!$E$12:$I$12,2,FALSE),\"-\")","v":"-"},{"$f":"IFERROR(VLOOKUP(A880,'24'!E882:I882,4,FALSE),\"-\")","v":"-"}]
[null,{"$f":"IFERROR(VLOOKUP(A880,'24'!$E$13:$I$13,2,FALSE),\"-\")","v":"-"},{"$f":"IFERROR(VLOOKUP(A880,'24'!E883:I883,4,FALSE),\"-\")","v":"-"}]
[null,{"$f":"IFERROR(VLOOKUP(A880,'24'!$E$14:$I$14,2,FALSE),\"-\")","v":"-"},{"$f":"IFERROR(VLOOKUP(A880,'24'!E884:I884,4,FALSE),\"-\")","v":"-"}]
[null,{"$f":"IFERROR(VLOOKUP(A880,'24'!$E$15:$I$15,2,FALSE),\"-\")","v":"-"},{"$f":"IFERROR(VLOOKUP(A880,'24'!E885:I885,4,FALSE),\"-\")","v":"-"}]
[null,{"$f":"IFERROR(VLOOKUP(A880,'24'!$E$16:$I$16,2,FALSE),\"-\")","v":"-"},{"$f":"IFERROR(VLOOKUP(A880,'24'!E886:I886,4,FALSE),\"-\")","v":"-"}]
[null,{"$f":"IFERROR(VLOOKUP(A880,'24'!$E$17:$I$17,2,FALSE),\"-\")","v":"-"},{"$f":"IFERROR(VLOOKUP(A880,'24'!E887:I887,4,FALSE),\"-\")","v":"-"}]
[null,{"$f":"IFERROR(VLOOKUP(A880,'24'!$E$18:$I$18,2,FALSE),\"-\")","v":"-"},{"$f":"IFERROR(VLOOKUP(A880,'24'!E888:I888,4,FALSE),\"-\")","v":"-"}]
[null,{"$f":"IFERROR(VLOOKUP(A880,'24'!$E$19:$I$19,2,FALSE),\"-\")","v":"-"},{"$f":"IFERROR(VLOOKUP(A880,'24'!E889:I889,4,FALSE),\"-\")","v":"-"}]
[null,{"$f":"IFERROR(VLOOKUP(A880,'24'!$E$20:$I$20,2,FALSE),\"-\")","v":"-"},{"$f":"IFERROR(VLOOKUP(A880,'24'!E890:I890,4,FALSE),\"-\")","v":"-"}]
[null,{"$f":"IFERROR(VLOOKUP(A880,'24'!$E$21:$I$21,2,FALSE),\"-\")","v":"-"},{"$f":"IFERROR(VLOOKUP(A880,'24'!E891:I891,4,FALSE),\"-\")","v":"-"}]
[null,{"$f":"IFERROR(VLOOKUP(A880,'24'!$E$22:$I$22,2,FALSE),\"-\")","v":"-"},{"$f":"IFERROR(VLOOKUP(A880,'24'!E892:I892,4,FALSE),\"-\")","v":"-"}]
[null,{"$f":"IFERROR(VLOOKUP(A880,'24'!$E$23:$I$23,2,FALSE),\"-\")","v":"-"},{"$f":"IFERROR(VLOOKUP(A880,'24'!E893:I893,4,FALSE),\"-\")","v":"-"}]
[null,{"$f":"IFERROR(VLOOKUP(A880,'24'!$E$24:$I$24,2,FALSE),\"-\")","v":"-"},{"$f":"IFERROR(VLOOKUP(A880,'24'!E894:I894,4,FALSE),\"-\")","v":"-"}]
[null,{"$f":"IFERROR(VLOOKUP(A880,'24'!$E$25:$I$25,2,FALSE),\"-\")","v":"-"},{"$f":"IFERROR(VLOOKUP(A880,'24'!E895:I895,4,FALSE),\"-\")","v":"-"}]
[null,{"$f":"IFERROR(VLOOKUP(A880,'24'!$E$26:$I$26,2,FALSE),\"-\")","v":"-"},{"$f":"IFERROR(VLOOKUP(A880,'24'!E896:I896,4,FALSE),\"-\")","v":"-"}]
[null,{"$f":"IFERROR(VLOOKUP(A880,'24'!$E$27:$I$27,2,FALSE),\"-\")","v":"-"},{"$f":"IFERROR(VLOOKUP(A880,'24'!E897:I897,4,FALSE),\"-\")","v":"-"}]
[null,{"$f":"IFERROR(VLOOKUP(A880,'24'!$E$28:$I$28,2,FALSE),\"-\")","v":"-"},{"$f":"IFERROR(VLOOKUP(A880,'24'!E898:I898,4,FALSE),\"-\")","v":"-"}]
[null,{"$f":"IFERROR(VLOOKUP(A880,'24'!$E$29:$I$29,2,FALSE),\"-\")","v":"-"},{"$f":"IFERROR(VLOOKUP(A880,'24'!E899:I899,4,FALSE),\"-\")","v":"-"}]
[null,{"$f":"IFERROR(VLOOKUP(A880,'24'!$E$30:$I$30,2,FALSE),\"-\")","v":"-"},{"$f":"IFERROR(VLOOKUP(A880,'24'!E900:I900,4,FALSE),\"-\")","v":"-"}]
[null,{"$f":"IFERROR(VLOOKUP(A880,'24'!$E$31:$I$31,2,FALSE),\"-\")","v":"-"},{"$f":"IFERROR(VLOOKUP(A880,'24'!E901:I901,4,FALSE),\"-\")","v":"-"}]
[null,{"$f":"IFERROR(VLOOKUP(A880,'25'!$E$4:$I$4,2,FALSE),\"-\")","v":"-"},{"$f":"IFERROR(VLOOKUP(A880,'25'!E874:I874,4,FALSE),\"-\")","v":"-"}]
[null,{"$f":"IFERROR(VLOOKUP(A880,'25'!$E$5:$I$5,2,FALSE),\"-\")","v":"-"},{"$f":"IFERROR(VLOOKUP(A880,'25'!E875:I875,4,FALSE),\"-\")","v":"-"}]
[null,{"$f":"IFERROR(VLOOKUP(A880,'25'!$E$6:$I$6,2,FALSE),\"-\")","v":"-"},{"$f":"IFERROR(VLOOKUP(A880,'25'!E876:I876,4,FALSE),\"-\")","v":"-"}]
[null,{"$f":"IFERROR(VLOOKUP(A880,'25'!$E$7:$I$7,2,FALSE),\"-\")","v":"-"},{"$f":"IFERROR(VLOOKUP(A880,'25'!E877:I877,4,FALSE),\"-\")","v":"-"}]
[null,{"$f":"IFERROR(VLOOKUP(A880,'25'!$E$8:$I$8,2,FALSE),\"-\")","v":"-"},{"$f":"IFERROR(VLOOKUP(A880,'25'!E878:I878,4,FALSE),\"-\")","v":"-"}]
[null,{"$f":"IFERROR(VLOOKUP(A880,'25'!$E$9:$I$9,2,FALSE),\"-\")","v":"-"},{"$f":"IFERROR(VLOOKUP(A880,'25'!E879:I879,4,FALSE),\"-\")","v":"-"}]
[null,{"$f":"IFERROR(VLOOKUP(A880,'25'!$E$10:$I$10,2,FALSE),\"-\")","v":"-"},{"$f":"IFERROR(VLOOKUP(A880,'25'!E880:I880,4,FALSE),\"-\")","v":"-"}]
[null,{"$f":"IFERROR(VLOOKUP(A880,'25'!$E$11:$I$11,2,FALSE),\"-\")","v":"-"},{"$f":"IFERROR(VLOOKUP(A880,'25'!E881:I881,4,FALSE),\"-\")","v":"-"}]
[null,{"$f":"IFERROR(VLOOKUP(A880,'25'!$E$12:$I$12,2,FALSE),\"-\")","v":"-"},{"$f":"IFERROR(VLOOKUP(A880,'25'!E882:I882,4,FALSE),\"-\")","v":"-"}]
[null,{"$f":"IFERROR(VLOOKUP(A880,'25'!$E$13:$I$13,2,FALSE),\"-\")","v":"-"},{"$f":"IFERROR(VLOOKUP(A880,'25'!E883:I883,4,FALSE),\"-\")","v":"-"}]
[null,{"$f":"IFERROR(VLOOKUP(A880,'25'!$E$14:$I$14,2,FALSE),\"-\")","v":"-"},{"$f":"IFERROR(VLOOKUP(A880,'25'!E884:I884,4,FALSE),\"-\")","v":"-"}]
[null,{"$f":"IFERROR(VLOOKUP(A880,'25'!$E$15:I885,2,FALSE),\"-\")","v":"-"},{"$f":"IFERROR(VLOOKUP(A880,'25'!E885:I885,4,FALSE),\"-\")","v":"-"}]
[null,{"$f":"IFERROR(VLOOKUP(A880,'25'!$E$16:$I$16,2,FALSE),\"-\")","v":"-"},{"$f":"IFERROR(VLOOKUP(A880,'25'!E886:I886,4,FALSE),\"-\")","v":"-"}]
[null,{"$f":"IFERROR(VLOOKUP(A880,'25'!$E$17:$I$17,2,FALSE),\"-\")","v":"-"},{"$f":"IFERROR(VLOOKUP(A880,'25'!E887:I887,4,FALSE),\"-\")","v":"-"}]
[null,{"$f":"IFERROR(VLOOKUP(A880,'25'!$E$18:$I$18,2,FALSE),\"-\")","v":"-"},{"$f":"IFERROR(VLOOKUP(A880,'25'!E888:I888,4,FALSE),\"-\")","v":"-"}]
[null,{"$f":"IFERROR(VLOOKUP(A880,'25'!$E$19:$I$19,2,FALSE),\"-\")","v":"-"},{"$f":"IFERROR(VLOOKUP(A880,'25'!E889:I889,4,FALSE),\"-\")","v":"-"}]
[null,{"$f":"IFERROR(VLOOKUP(A880,'25'!$E$20:$I$20,2,FALSE),\"-\")","v":"-"},{"$f":"IFERROR(VLOOKUP(A880,'25'!E890:I890,4,FALSE),\"-\")","v":"-"}]
[null,{"$f":"IFERROR(VLOOKUP(A880,'25'!$E$21:$I$21,2,FALSE),\"-\")","v":"-"},{"$f":"IFERROR(VLOOKUP(A880,'25'!E891:I891,4,FALSE),\"-\")","v":"-"}]
[null,{"$f":"IFERROR(VLOOKUP(A880,'25'!$E$22:$I$22,2,FALSE),\"-\")","v":"-"},{"$f":"IFERROR(VLOOKUP(A880,'25'!E892:I892,4,FALSE),\"-\")","v":"-"}]
[null,{"$f":"IFERROR(VLOOKUP(A880,'25'!$E$23:$I$23,2,FALSE),\"-\")","v":"-"},{"$f":"IFERROR(VLOOKUP(A880,'25'!E893:I893,4,FALSE),\"-\")","v":"-"}]
[null,{"$f":"IFERROR(VLOOKUP(A880,'25'!$E$24:$I$24,2,FALSE),\"-\")","v":"-"},{"$f":"IFERROR(VLOOKUP(A880,'25'!E894:I894,4,FALSE),\"-\")","v":"-"}]
[null,{"$f":"IFERROR(VLOOKUP(A880,'25'!$E$25:$I$25,2,FALSE),\"-\")","v":"-"},{"$f":"IFERROR(VLOOKUP(A880,'25'!E895:I895,4,FALSE),\"-\")","v":"-"}]
[null,{"$f":"IFERROR(VLOOKUP(A880,'25'!$E$26:$I$26,2,FALSE),\"-\")","v":"-"},{"$f":"IFERROR(VLOOKUP(A880,'25'!E896:I896,4,FALSE),\"-\")","v":"-"}]
[null,{"$f":"IFERROR(VLOOKUP(A880,'25'!$E$27:$I$27,2,FALSE),\"-\")","v":"-"},{"$f":"IFERROR(VLOOKUP(A880,'25'!E897:I897,4,FALSE),\"-\")","v":"-"}]
[null,{"$f":"IFERROR(VLOOKUP(A880,'25'!$E$28:$I$28,2,FALSE),\"-\")","v":"-"},{"$f":"IFERROR(VLOOKUP(A880,'25'!E898:I898,4,FALSE),\"-\")","v":"-"}]
[null,{"$f":"IFERROR(VLOOKUP(A880,'25'!$E$29:$I$29,2,FALSE),\"-\")","v":"-"},{"$f":"IFERROR(VLOOKUP(A880,'25'!E899:I899,4,FALSE),\"-\")","v":"-"}]
[null,{"$f":"IFERROR(VLOOKUP(A880,'25'!$E$30:$I$30,2,FALSE),\"-\")","v":"-"},{"$f":"IFERROR(VLOOKUP(A880,'25'!E900:I900,4,FALSE),\"-\")","v":"-"}]
[null,{"$f":"IFERROR(VLOOKUP(A880,'25'!$E$31:$I$31,2,FALSE),\"-\")","v":"-"},{"$f":"IFERROR(VLOOKUP(A880,'25'!E901:I901,4,FALSE),\"-\")","v":"-"}]
[null,{"$f":"IFERROR(VLOOKUP(A880,'26'!$E$4:$I$4,2,FALSE),\"-\")","v":"-"},{"$f":"IFERROR(VLOOKUP(A880,'26'!E874:I874,4,FALSE),\"-\")","v":"-"}]
[null,{"$f":"IFERROR(VLOOKUP(A880,'26'!$E$5:$I$5,2,FALSE),\"-\")","v":"-"},{"$f":"IFERROR(VLOOKUP(A880,'26'!E875:I875,4,FALSE),\"-\")","v":"-"}]
[null,{"$f":"IFERROR(VLOOKUP(A880,'26'!$E$6:$I$6,2,FALSE),\"-\")","v":"-"},{"$f":"IFERROR(VLOOKUP(A880,'26'!E876:I876,4,FALSE),\"-\")","v":"-"}]
[null,{"$f":"IFERROR(VLOOKUP(A880,'26'!$E$7:$I$7,2,FALSE),\"-\")","v":"-"},{"$f":"IFERROR(VLOOKUP(A880,'26'!E877:I877,4,FALSE),\"-\")","v":"-"}]
[null,{"$f":"IFERROR(VLOOKUP(A880,'26'!$E$8:$I$8,2,FALSE),\"-\")","v":"-"},{"$f":"IFERROR(VLOOKUP(A880,'26'!E878:I878,4,FALSE),\"-\")","v":"-"}]
[null,{"$f":"IFERROR(VLOOKUP(A880,'26'!$E$9:$I$9,2,FALSE),\"-\")","v":"-"},{"$f":"IFERROR(VLOOKUP(A880,'26'!E879:I879,4,FALSE),\"-\")","v":"-"}]
[null,{"$f":"IFERROR(VLOOKUP(A880,'26'!$E$10:$I$10,2,FALSE),\"-\")","v":"-"},{"$f":"IFERROR(VLOOKUP(A880,'26'!E880:I880,4,FALSE),\"-\")","v":"-"}]
[null,{"$f":"IFERROR(VLOOKUP(A880,'26'!$E$11:$I$11,2,FALSE),\"-\")","v":"-"},{"$f":"IFERROR(VLOOKUP(A880,'26'!E881:I881,4,FALSE),\"-\")","v":"-"}]
[null,{"$f":"IFERROR(VLOOKUP(A880,'26'!$E$12:$I$12,2,FALSE),\"-\")","v":"-"},{"$f":"IFERROR(VLOOKUP(A880,'26'!E882:I882,4,FALSE),\"-\")","v":"-"}]
[null,{"$f":"IFERROR(VLOOKUP(A880,'26'!$E$13:$I$13,2,FALSE),\"-\")","v":"-"},{"$f":"IFERROR(VLOOKUP(A880,'26'!E883:I883,4,FALSE),\"-\")","v":"-"}]
[null,{"$f":"IFERROR(VLOOKUP(A880,'26'!$E$14:$I$14,2,FALSE),\"-\")","v":"-"},{"$f":"IFERROR(VLOOKUP(A880,'26'!E884:I884,4,FALSE),\"-\")","v":"-"}]
[null,{"$f":"IFERROR(VLOOKUP(A880,'26'!$E$15:$I$15,2,FALSE),\"-\")","v":"-"},{"$f":"IFERROR(VLOOKUP(A880,'26'!E885:I885,4,FALSE),\"-\")","v":"-"}]
[null,{"$f":"IFERROR(VLOOKUP(A880,'26'!$E$16:$I$16,2,FALSE),\"-\")","v":"-"},{"$f":"IFERROR(VLOOKUP(A880,'26'!E886:I886,4,FALSE),\"-\")","v":"-"}]
[null,{"$f":"IFERROR(VLOOKUP(A880,'26'!$E$17:$I$17,2,FALSE),\"-\")","v":"-"},{"$f":"IFERROR(VLOOKUP(A880,'26'!E887:I887,4,FALSE),\"-\")","v":"-"}]
[null,{"$f":"IFERROR(VLOOKUP(A880,'26'!$E$18:$I$18,2,FALSE),\"-\")","v":"-"},{"$f":"IFERROR(VLOOKUP(A880,'26'!E888:I888,4,FALSE),\"-\")","v":"-"}]
[null,{"$f":"IFERROR(VLOOKUP(A880,'26'!$E$19:$I$19,2,FALSE),\"-\")","v":"-"},{"$f":"IFERROR(VLOOKUP(A880,'26'!E889:I889,4,FALSE),\"-\")","v":"-"}]
[null,{"$f":"IFERROR(VLOOKUP(A880,'26'!$E$20:$I$20,2,FALSE),\"-\")","v":"-"},{"$f":"IFERROR(VLOOKUP(A880,'26'!E890:I890,4,FALSE),\"-\")","v":"-"}]
[null,{"$f":"IFERROR(VLOOKUP(A880,'26'!$E$21:$I$21,2,FALSE),\"-\")","v":"-"},{"$f":"IFERROR(VLOOKUP(A880,'26'!E891:I891,4,FALSE),\"-\")","v":"-"}]
[null,{"$f":"IFERROR(VLOOKUP(A880,'26'!$E$22:$I$22,2,FALSE),\"-\")","v":"-"},{"$f":"IFERROR(VLOOKUP(A880,'26'!E892:I892,4,FALSE),\"-\")","v":"-"}]
[null,{"$f":"IFERROR(VLOOKUP(A880,'26'!$E$23:$I$23,2,FALSE),\"-\")","v":"-"},{"$f":"IFERROR(VLOOKUP(A880,'26'!E893:I893,4,FALSE),\"-\")","v":"-"}]
[null,{"$f":"IFERROR(VLOOKUP(A880,'26'!$E$24:$I$24,2,FALSE),\"-\")","v":"-"},{"$f":"IFERROR(VLOOKUP(A880,'26'!E894:I894,4,FALSE),\"-\")","v":"-"}]
[null,{"$f":"IFERROR(VLOOKUP(A880,'26'!$E$25:$I$25,2,FALSE),\"-\")","v":"-"},{"$f":"IFERROR(VLOOKUP(A880,'26'!E895:I895,4,FALSE),\"-\")","v":"-"}]
[null,{"$f":"IFERROR(VLOOKUP(A880,'26'!$E$26:$I$26,2,FALSE),\"-\")","v":"-"},{"$f":"IFERROR(VLOOKUP(A880,'26'!E896:I896,4,FALSE),\"-\")","v":"-"}]
[null,{"$f":"IFERROR(VLOOKUP(A880,'26'!$E$27:$I$27,2,FALSE),\"-\")","v":"-"},{"$f":"IFERROR(VLOOKUP(A880,'26'!E897:I897,4,FALSE),\"-\")","v":"-"}]
[null,{"$f":"IFERROR(VLOOKUP(A880,'26'!$E$28:$I$28,2,FALSE),\"-\")","v":"-"},{"$f":"IFERROR(VLOOKUP(A880,'26'!E898:I898,4,FALSE),\"-\")","v":"-"}]
[null,{"$f":"IFERROR(VLOOKUP(A880,'26'!E$29:$I899,2,FALSE),\"-\")","v":"-"},{"$f":"IFERROR(VLOOKUP(A880,'26'!E899:I899,4,FALSE),\"-\")","v":"-"}]
[null,{"$f":"IFERROR(VLOOKUP(A880,'26'!$E$30:$I$30,2,FALSE),\"-\")","v":"-"},{"$f":"IFERROR(VLOOKUP(A880,'26'!E900:I900,4,FALSE),\"-\")","v":"-"}]
[null,{"$f":"IFERROR(VLOOKUP(A880,'26'!$E$31:$I$31,2,FALSE),\"-\")","v":"-"},{"$f":"IFERROR(VLOOKUP(A880,'26'!E901:I901,4,FALSE),\"-\")","v":"-"}]
[null,{"$f":"IFERROR(VLOOKUP(A880,'27'!$E$4:$I$4,2,FALSE),\"-\")","v":"-"},{"$f":"IFERROR(VLOOKUP(A880,'27'!E874:I874,4,FALSE),\"-\")","v":"-"}]
[null,{"$f":"IFERROR(VLOOKUP(A880,'27'!$E$5:$I$5,2,FALSE),\"-\")","v":"-"},{"$f":"IFERROR(VLOOKUP(A880,'27'!E875:I875,4,FALSE),\"-\")","v":"-"}]
[null,{"$f":"IFERROR(VLOOKUP(A880,'27'!$E$6:$I$6,2,FALSE),\"-\")","v":"-"},{"$f":"IFERROR(VLOOKUP(A880,'27'!E876:I876,4,FALSE),\"-\")","v":"-"}]
[null,{"$f":"IFERROR(VLOOKUP(A880,'27'!$E$7:$I$7,2,FALSE),\"-\")","v":"-"},{"$f":"IFERROR(VLOOKUP(A880,'27'!E877:I877,4,FALSE),\"-\")","v":"-"}]
[null,{"$f":"IFERROR(VLOOKUP(A880,'27'!$E$8:$I$8,2,FALSE),\"-\")","v":"-"},{"$f":"IFERROR(VLOOKUP(A880,'27'!E878:I878,4,FALSE),\"-\")","v":"-"}]
[null,{"$f":"IFERROR(VLOOKUP(A880,'27'!$E$9:$I$9,2,FALSE),\"-\")","v":"-"},{"$f":"IFERROR(VLOOKUP(A880,'27'!E879:I879,4,FALSE),\"-\")","v":"-"}]
[null,{"$f":"IFERROR(VLOOKUP(A880,'27'!$E$10:$I$10,2,FALSE),\"-\")","v":"-"},{"$f":"IFERROR(VLOOKUP(A880,'27'!E880:I880,4,FALSE),\"-\")","v":"-"}]
[null,{"$f":"IFERROR(VLOOKUP(A880,'27'!$E$11:$I$11,2,FALSE),\"-\")","v":"-"},{"$f":"IFERROR(VLOOKUP(A880,'27'!E881:I881,4,FALSE),\"-\")","v":"-"}]
[null,{"$f":"IFERROR(VLOOKUP(A880,'27'!$E$12:$I$12,2,FALSE),\"-\")","v":"-"},{"$f":"IFERROR(VLOOKUP(A880,'27'!E882:I882,4,FALSE),\"-\")","v":"-"}]
[null,{"$f":"IFERROR(VLOOKUP(A880,'27'!$E$13:$I$13,2,FALSE),\"-\")","v":"-"},{"$f":"IFERROR(VLOOKUP(A880,'27'!E883:I883,4,FALSE),\"-\")","v":"-"}]
[null,{"$f":"IFERROR(VLOOKUP(A880,'27'!$E$14:$I$14,2,FALSE),\"-\")","v":"-"},{"$f":"IFERROR(VLOOKUP(A880,'27'!E884:I884,4,FALSE),\"-\")","v":"-"}]
[null,{"$f":"IFERROR(VLOOKUP(A880,'27'!$E$15:$I$15,2,FALSE),\"-\")","v":"-"},{"$f":"IFERROR(VLOOKUP(A880,'27'!E885:I885,4,FALSE),\"-\")","v":"-"}]
[null,{"$f":"IFERROR(VLOOKUP(A880,'27'!$E$16:$I$16,2,FALSE),\"-\")","v":"-"},{"$f":"IFERROR(VLOOKUP(A880,'27'!E886:I886,4,FALSE),\"-\")","v":"-"}]
[null,{"$f":"IFERROR(VLOOKUP(A880,'27'!$E$17:$I$17,2,FALSE),\"-\")","v":"-"},{"$f":"IFERROR(VLOOKUP(A880,'27'!E887:I887,4,FALSE),\"-\")","v":"-"}]
[null,{"$f":"IFERROR(VLOOKUP(A880,'27'!$E$18:$I$18,2,FALSE),\"-\")","v":"-"},{"$f":"IFERROR(VLOOKUP(A880,'27'!E888:I888,4,FALSE),\"-\")","v":"-"}]
[null,{"$f":"IFERROR(VLOOKUP(A880,'27'!$E$19:$I$19,2,FALSE),\"-\")","v":"-"},{"$f":"IFERROR(VLOOKUP(A880,'27'!E889:I889,4,FALSE),\"-\")","v":"-"}]
[null,{"$f":"IFERROR(VLOOKUP(A880,'27'!$E$20:$I$20,2,FALSE),\"-\")","v":"-"},{"$f":"IFERROR(VLOOKUP(A880,'27'!E890:I890,4,FALSE),\"-\")","v":"-"}]
[null,{"$f":"IFERROR(VLOOKUP(A880,'27'!$E$21:$I$21,2,FALSE),\"-\")","v":"-"},{"$f":"IFERROR(VLOOKUP(A880,'27'!E891:I891,4,FALSE),\"-\")","v":"-"}]
[null,{"$f":"IFERROR(VLOOKUP(A880,'27'!$E$22:$I$22,2,FALSE),\"-\")","v":"-"},{"$f":"IFERROR(VLOOKUP(A880,'27'!E892:I892,4,FALSE),\"-\")","v":"-"}]
[null,{"$f":"IFERROR(VLOOKUP(A880,'27'!$E$23:$I$23,2,FALSE),\"-\")","v":"-"},{"$f":"IFERROR(VLOOKUP(A880,'27'!E893:I893,4,FALSE),\"-\")","v":"-"}]
[null,{"$f":"IFERROR(VLOOKUP(A880,'27'!$E$24:$I$24,2,FALSE),\"-\")","v":"-"},{"$f":"IFERROR(VLOOKUP(A880,'27'!E894:I894,4,FALSE),\"-\")","v":"-"}]
[null,{"$f":"IFERROR(VLOOKUP(A880,'27'!$E$25:$I$25,2,FALSE),\"-\")","v":"-"},{"$f":"IFERROR(VLOOKUP(A880,'27'!E895:I895,4,FALSE),\"-\")","v":"-"}]
[null,{"$f":"IFERROR(VLOOKUP(A880,'27'!$E$26:$I$26,2,FALSE),\"-\")","v":"-"},{"$f":"IFERROR(VLOOKUP(A880,'27'!E896:I896,4,FALSE),\"-\")","v":"-"}]
[null,{"$f":"IFERROR(VLOOKUP(A880,'27'!$E$27:$I$27,2,FALSE),\"-\")","v":"-"},{"$f":"IFERROR(VLOOKUP(A880,'27'!E897:I897,4,FALSE),\"-\")","v":"-"}]
[null,{"$f":"IFERROR(VLOOKUP(A880,'27'!$E$28:$I$28,2,FALSE),\"-\")","v":"-"},{"$f":"IFERROR(VLOOKUP(A880,'27'!E898:I898,4,FALSE),\"-\")","v":"-"}]
[null,{"$f":"IFERROR(VLOOKUP(A880,'27'!$E$29:$I$29,2,FALSE),\"-\")","v":"-"},{"$f":"IFERROR(VLOOKUP(A880,'27'!E899:I899,4,FALSE),\"-\")","v":"-"}]
[null,{"$f":"IFERROR(VLOOKUP(A880,'27'!$E$30:$I$30,2,FALSE),\"-\")","v":"-"},{"$f":"IFERROR(VLOOKUP(A880,'27'!E900:I900,4,FALSE),\"-\")","v":"-"}]
[null,{"$f":"IFERROR(VLOOKUP(A880,'27'!$E$31:$I$31,2,FALSE),\"-\")","v":"-"},{"$f":"IFERROR(VLOOKUP(A880,'27'!E901:I901,4,FALSE),\"-\")","v":"-"}]
[null,{"$f":"IFERROR(VLOOKUP(A880,'28'!$E$4:$I$4,2,FALSE),\"-\")","v":"-"},{"$f":"IFERROR(VLOOKUP(A880,'28'!E874:I874,4,FALSE),\"-\")","v":"-"}]
[null,{"$f":"IFERROR(VLOOKUP(A880,'28'!$E$5:$I$5,2,FALSE),\"-\")","v":"-"},{"$f":"IFERROR(VLOOKUP(A880,'28'!E875:I875,4,FALSE),\"-\")","v":"-"}]
[null,{"$f":"IFERROR(VLOOKUP(A880,'28'!$E$6:$I$6,2,FALSE),\"-\")","v":"-"},{"$f":"IFERROR(VLOOKUP(A880,'28'!E876:I876,4,FALSE),\"-\")","v":"-"}]
[null,{"$f":"IFERROR(VLOOKUP(A880,'28'!$E$7:$I$7,2,FALSE),\"-\")","v":"-"},{"$f":"IFERROR(VLOOKUP(A880,'28'!E877:I877,4,FALSE),\"-\")","v":"-"}]
[null,{"$f":"IFERROR(VLOOKUP(A880,'28'!$E$8:$I$8,2,FALSE),\"-\")","v":"-"},{"$f":"IFERROR(VLOOKUP(A880,'28'!E878:I878,4,FALSE),\"-\")","v":"-"}]
[null,{"$f":"IFERROR(VLOOKUP(A880,'28'!$E$9:$I$9,2,FALSE),\"-\")","v":"-"},{"$f":"IFERROR(VLOOKUP(A880,'28'!E879:I879,4,FALSE),\"-\")","v":"-"}]
[null,{"$f":"IFERROR(VLOOKUP(A880,'28'!$E$10:$I$10,2,FALSE),\"-\")","v":"-"},{"$f":"IFERROR(VLOOKUP(A880,'28'!E880:I880,4,FALSE),\"-\")","v":"-"}]
[null,{"$f":"IFERROR(VLOOKUP(A880,'28'!$E$11:$I$11,2,FALSE),\"-\")","v":"-"},{"$f":"IFERROR(VLOOKUP(A880,'28'!E881:I881,4,FALSE),\"-\")","v":"-"}]
[null,{"$f":"IFERROR(VLOOKUP(A880,'28'!$E$12:$I$12,2,FALSE),\"-\")","v":"-"},{"$f":"IFERROR(VLOOKUP(A880,'28'!E882:I882,4,FALSE),\"-\")","v":"-"}]
[null,{"$f":"IFERROR(VLOOKUP(A880,'28'!$E$13:$I$13,2,FALSE),\"-\")","v":"-"},{"$f":"IFERROR(VLOOKUP(A880,'28'!E883:I883,4,FALSE),\"-\")","v":"-"}]
[null,{"$f":"IFERROR(VLOOKUP(A880,'28'!$E$14:$I$14,2,FALSE),\"-\")","v":"-"},{"$f":"IFERROR(VLOOKUP(A880,'28'!E884:I884,4,FALSE),\"-\")","v":"-"}]
[null,{"$f":"IFERROR(VLOOKUP(A880,'28'!$E$15:$I$15,2,FALSE),\"-\")","v":"-"},{"$f":"IFERROR(VLOOKUP(A880,'28'!E885:I885,4,FALSE),\"-\")","v":"-"}]
[null,{"$f":"IFERROR(VLOOKUP(A880,'28'!$E$16:$I$16,2,FALSE),\"-\")","v":"-"},{"$f":"IFERROR(VLOOKUP(A880,'28'!E886:I886,4,FALSE),\"-\")","v":"-"}]
[null,{"$f":"IFERROR(VLOOKUP(A880,'28'!$E$17:$I$17,2,FALSE),\"-\")","v":"-"},{"$f":"IFERROR(VLOOKUP(A880,'28'!E887:I887,4,FALSE),\"-\")","v":"-"}]
[null,{"$f":"IFERROR(VLOOKUP(A880,'28'!$E$18:$I$18,2,FALSE),\"-\")","v":"-"},{"$f":"IFERROR(VLOOKUP(A880,'28'!E888:I888,4,FALSE),\"-\")","v":"-"}]
[null,{"$f":"IFERROR(VLOOKUP(A880,'28'!$E$19:$I$19,2,FALSE),\"-\")","v":"-"},{"$f":"IFERROR(VLOOKUP(A880,'28'!E889:I889,4,FALSE),\"-\")","v":"-"}]
[null,{"$f":"IFERROR(VLOOKUP(A880,'28'!$E$20:$I$20,2,FALSE),\"-\")","v":"-"},{"$f":"IFERROR(VLOOKUP(A880,'28'!E890:I890,4,FALSE),\"-\")","v":"-"}]
[null,{"$f":"IFERROR(VLOOKUP(A880,'28'!$E$21:$I$21,2,FALSE),\"-\")","v":"-"},{"$f":"IFERROR(VLOOKUP(A880,'28'!E891:I891,4,FALSE),\"-\")","v":"-"}]
[null,{"$f":"IFERROR(VLOOKUP(A880,'28'!$E$22:$I$22,2,FALSE),\"-\")","v":"-"},{"$f":"IFERROR(VLOOKUP(A880,'28'!E892:I892,4,FALSE),\"-\")","v":"-"}]
[null,{"$f":"IFERROR(VLOOKUP(A880,'28'!$E$23:$I$23,2,FALSE),\"-\")","v":"-"},{"$f":"IFERROR(VLOOKUP(A880,'28'!E893:I893,4,FALSE),\"-\")","v":"-"}]
[null,{"$f":"IFERROR(VLOOKUP(A880,'28'!$E$24:$I$24,2,FALSE),\"-\")","v":"-"},{"$f":"IFERROR(VLOOKUP(A880,'28'!E894:I894,4,FALSE),\"-\")","v":"-"}]
[null,{"$f":"IFERROR(VLOOKUP(A880,'28'!$E$25:$I$25,2,FALSE),\"-\")","v":"-"},{"$f":"IFERROR(VLOOKUP(A880,'28'!E895:I895,4,FALSE),\"-\")","v":"-"}]
[null,{"$f":"IFERROR(VLOOKUP(A880,'28'!$E$26:$I$26,2,FALSE),\"-\")","v":"-"},{"$f":"IFERROR(VLOOKUP(A880,'28'!E896:I896,4,FALSE),\"-\")","v":"-"}]
[null,{"$f":"IFERROR(VLOOKUP(A880,'28'!$E$27:$I$27,2,FALSE),\"-\")","v":"-"},{"$f":"IFERROR(VLOOKUP(A880,'28'!E897:I897,4,FALSE),\"-\")","v":"-"}]
[null,{"$f":"IFERROR(VLOOKUP(A880,'28'!$E$28:$I$28,2,FALSE),\"-\")","v":"-"},{"$f":"IFERROR(VLOOKUP(A880,'28'!E898:I898,4,FALSE),\"-\")","v":"-"}]
[null,{"$f":"IFERROR(VLOOKUP(A880,'28'!$E$29:$I$29,2,FALSE),\"-\")","v":"-"},{"$f":"IFERROR(VLOOKUP(A880,'28'!E899:I899,4,FALSE),\"-\")","v":"-"}]
[null,{"$f":"IFERROR(VLOOKUP(A880,'28'!$E$30:$I$30,2,FALSE),\"-\")","v":"-"},{"$f":"IFERROR(VLOOKUP(A880,'28'!E900:I900,4,FALSE),\"-\")","v":"-"}]
[null,{"$f":"IFERROR(VLOOKUP(A880,'28'!$E$31:$I$31,2,FALSE),\"-\")","v":"-"},{"$f":"IFERROR(VLOOKUP(A880,'28'!E901:I901,4,FALSE),\"-\")","v":"-"}]
[null,{"$f":"IFERROR(VLOOKUP(A880,'29'!$E$4:$I$4,2,FALSE),\"-\")","v":"-"},{"$f":"IFERROR(VLOOKUP(A880,'29'!E874:I874,4,FALSE),\"-\")","v":"-"}]
[null,{"$f":"IFERROR(VLOOKUP(A880,'29'!$E$5:$I$5,2,FALSE),\"-\")","v":"-"},{"$f":"IFERROR(VLOOKUP(A880,'29'!E875:I875,4,FALSE),\"-\")","v":"-"}]
[null,{"$f":"IFERROR(VLOOKUP(A880,'29'!$E$6:$I$6,2,FALSE),\"-\")","v":"-"},{"$f":"IFERROR(VLOOKUP(A880,'29'!E876:I876,4,FALSE),\"-\")","v":"-"}]
[null,{"$f":"IFERROR(VLOOKUP(A880,'29'!$E$7:$I$7,2,FALSE),\"-\")","v":"-"},{"$f":"IFERROR(VLOOKUP(A880,'29'!E877:I877,4,FALSE),\"-\")","v":"-"}]
[null,{"$f":"IFERROR(VLOOKUP(A880,'29'!$E$8:$I$8,2,FALSE),\"-\")","v":"-"},{"$f":"IFERROR(VLOOKUP(A880,'29'!E878:I878,4,FALSE),\"-\")","v":"-"}]
[null,{"$f":"IFERROR(VLOOKUP(A880,'29'!$E$9:$I$9,2,FALSE),\"-\")","v":"-"},{"$f":"IFERROR(VLOOKUP(A880,'29'!E879:I879,4,FALSE),\"-\")","v":"-"}]
[null,{"$f":"IFERROR(VLOOKUP(A880,'29'!$E$10:$I$10,2,FALSE),\"-\")","v":"-"},{"$f":"IFERROR(VLOOKUP(A880,'29'!E880:I880,4,FALSE),\"-\")","v":"-"}]
[null,{"$f":"IFERROR(VLOOKUP(A880,'29'!$E$11:$I$11,2,FALSE),\"-\")","v":"-"},{"$f":"IFERROR(VLOOKUP(A880,'29'!E881:I881,4,FALSE),\"-\")","v":"-"}]
[null,{"$f":"IFERROR(VLOOKUP(A880,'29'!$E$12:$I$12,2,FALSE),\"-\")","v":"-"},{"$f":"IFERROR(VLOOKUP(A880,'29'!E882:I882,4,FALSE),\"-\")","v":"-"}]
[null,{"$f":"IFERROR(VLOOKUP(A880,'29'!$E$13:$I$13,2,FALSE),\"-\")","v":"-"},{"$f":"IFERROR(VLOOKUP(A880,'29'!E883:I883,4,FALSE),\"-\")","v":"-"}]
[null,{"$f":"IFERROR(VLOOKUP(A880,'29'!$E$14:$I$14,2,FALSE),\"-\")","v":"-"},{"$f":"IFERROR(VLOOKUP(A880,'29'!E884:I884,4,FALSE),\"-\")","v":"-"}]
[null,{"$f":"IFERROR(VLOOKUP(A880,'29'!$E$15:$I$15,2,FALSE),\"-\")","v":"-"},{"$f":"IFERROR(VLOOKUP(A880,'29'!E885:I885,4,FALSE),\"-\")","v":"-"}]
[null,{"$f":"IFERROR(VLOOKUP(A880,'29'!$E$16:$I$16,2,FALSE),\"-\")","v":"-"},{"$f":"IFERROR(VLOOKUP(A880,'29'!E886:I886,4,FALSE),\"-\")","v":"-"}]
[null,{"$f":"IFERROR(VLOOKUP(A880,'29'!$E$17:$I$17,2,FALSE),\"-\")","v":"-"},{"$f":"IFERROR(VLOOKUP(A880,'29'!E887:I887,4,FALSE),\"-\")","v":"-"}]
[null,{"$f":"IFERROR(VLOOKUP(A880,'29'!$E$18:$I$18,2,FALSE),\"-\")","v":"-"},{"$f":"IFERROR(VLOOKUP(A880,'29'!E888:I888,4,FALSE),\"-\")","v":"-"}]
[null,{"$f":"IFERROR(VLOOKUP(A880,'29'!$E$19:$I$19,2,FALSE),\"-\")","v":"-"},{"$f":"IFERROR(VLOOKUP(A880,'29'!E889:I889,4,FALSE),\"-\")","v":"-"}]
[null,{"$f":"IFERROR(VLOOKUP(A880,'29'!$E$20:$I$20,2,FALSE),\"-\")","v":"-"},{"$f":"IFERROR(VLOOKUP(A880,'29'!E890:I890,4,FALSE),\"-\")","v":"-"}]
[null,{"$f":"IFERROR(VLOOKUP(A880,'29'!$E$21:$I$21,2,FALSE),\"-\")","v":"-"},{"$f":"IFERROR(VLOOKUP(A880,'29'!E891:I891,4,FALSE),\"-\")","v":"-"}]
[null,{"$f":"IFERROR(VLOOKUP(A880,'29'!$E$22:$I$22,2,FALSE),\"-\")","v":"-"},{"$f":"IFERROR(VLOOKUP(A880,'29'!E892:I892,4,FALSE),\"-\")","v":"-"}]
[null,{"$f":"IFERROR(VLOOKUP(A880,'29'!$E$23:$I$23,2,FALSE),\"-\")","v":"-"},{"$f":"IFERROR(VLOOKUP(A880,'29'!E893:I893,4,FALSE),\"-\")","v":"-"}]
[null,{"$f":"IFERROR(VLOOKUP(A880,'29'!$E$24:$I$24,2,FALSE),\"-\")","v":"-"},{"$f":"IFERROR(VLOOKUP(A880,'29'!E894:I894,4,FALSE),\"-\")","v":"-"}]
[null,{"$f":"IFERROR(VLOOKUP(A880,'29'!$E$25:$I$25,2,FALSE),\"-\")","v":"-"},{"$f":"IFERROR(VLOOKUP(A880,'29'!E895:I895,4,FALSE),\"-\")","v":"-"}]
[null,{"$f":"IFERROR(VLOOKUP(A880,'29'!$E$26:$I$26,2,FALSE),\"-\")","v":"-"},{"$f":"IFERROR(VLOOKUP(A880,'29'!E896:I896,4,FALSE),\"-\")","v":"-"}]
[null,{"$f":"IFERROR(VLOOKUP(A880,'29'!$E$27:$I$27,2,FALSE),\"-\")","v":"-"},{"$f":"IFERROR(VLOOKUP(A880,'29'!E897:I897,4,FALSE),\"-\")","v":"-"}]
[null,{"$f":"IFERROR(VLOOKUP(A880,'29'!$E$28:$I$28,2,FALSE),\"-\")","v":"-"},{"$f":"IFERROR(VLOOKUP(A880,'29'!E898:I898,4,FALSE),\"-\")","v":"-"}]
[null,{"$f":"IFERROR(VLOOKUP(A880,'29'!$E$29:$I$29,2,FALSE),\"-\")","v":"-"},{"$f":"IFERROR(VLOOKUP(A880,'29'!E899:I899,4,FALSE),\"-\")","v":"-"}]
[null,{"$f":"IFERROR(VLOOKUP(A880,'29'!$E$30:$I$30,2,FALSE),\"-\")","v":"-"},{"$f":"IFERROR(VLOOKUP(A880,'29'!E900:I900,4,FALSE),\"-\")","v":"-"}]
[null,{"$f":"IFERROR(VLOOKUP(A880,'29'!$E$31:$I$31,2,FALSE),\"-\")","v":"-"},{"$f":"IFERROR(VLOOKUP(A880,'29'!E901:I901,4,FALSE),\"-\")","v":"-"}]
[null,{"$f":"IFERROR(VLOOKUP(A880,'30'!$E$4:$I$4,2,FALSE),\"-\")","v":"-"},{"$f":"IFERROR(VLOOKUP(A880,'30'!E874:I874,4,FALSE),\"-\")","v":"-"}]
[null,{"$f":"IFERROR(VLOOKUP(A880,'30'!$E$5:$I$5,2,FALSE),\"-\")","v":"-"},{"$f":"IFERROR(VLOOKUP(A880,'30'!E875:I875,4,FALSE),\"-\")","v":"-"}]
[null,{"$f":"IFERROR(VLOOKUP(A880,'30'!$E$6:$I$6,2,FALSE),\"-\")","v":"-"},{"$f":"IFERROR(VLOOKUP(A880,'30'!E876:I876,4,FALSE),\"-\")","v":"-"}]
[null,{"$f":"IFERROR(VLOOKUP(A880,'30'!$E$7:$I$7,2,FALSE),\"-\")","v":"-"},{"$f":"IFERROR(VLOOKUP(A880,'30'!E877:I877,4,FALSE),\"-\")","v":"-"}]
[null,{"$f":"IFERROR(VLOOKUP(A880,'30'!$E$8:$I$8,2,FALSE),\"-\")","v":"-"},{"$f":"IFERROR(VLOOKUP(A880,'30'!E878:I878,4,FALSE),\"-\")","v":"-"}]
[null,{"$f":"IFERROR(VLOOKUP(A880,'30'!$E$9:$I$9,2,FALSE),\"-\")","v":"-"},{"$f":"IFERROR(VLOOKUP(A880,'30'!E879:I879,4,FALSE),\"-\")","v":"-"}]
[null,{"$f":"IFERROR(VLOOKUP(A880,'30'!$E$10:$I$10,2,FALSE),\"-\")","v":"-"},{"$f":"IFERROR(VLOOKUP(A880,'30'!E880:I880,4,FALSE),\"-\")","v":"-"}]
[null,{"$f":"IFERROR(VLOOKUP(A880,'30'!$E$11:$I$11,2,FALSE),\"-\")","v":"-"},{"$f":"IFERROR(VLOOKUP(A880,'30'!E881:I881,4,FALSE),\"-\")","v":"-"}]
[null,{"$f":"IFERROR(VLOOKUP(A880,'30'!$E$12:$I$12,2,FALSE),\"-\")","v":"-"},{"$f":"IFERROR(VLOOKUP(A880,'30'!E882:I882,4,FALSE),\"-\")","v":"-"}]
[null,{"$f":"IFERROR(VLOOKUP(A880,'30'!$E$13:$I$13,2,FALSE),\"-\")","v":"-"},{"$f":"IFERROR(VLOOKUP(A880,'30'!E883:I883,4,FALSE),\"-\")","v":"-"}]
[null,{"$f":"IFERROR(VLOOKUP(A880,'30'!$E$14:$I$14,2,FALSE),\"-\")","v":"-"},{"$f":"IFERROR(VLOOKUP(A880,'30'!E884:I884,4,FALSE),\"-\")","v":"-"}]
[null,{"$f":"IFERROR(VLOOKUP(A880,'30'!$E$15:$I$15,2,FALSE),\"-\")","v":"-"},{"$f":"IFERROR(VLOOKUP(A880,'30'!E885:I885,4,FALSE),\"-\")","v":"-"}]
[null,{"$f":"IFERROR(VLOOKUP(A880,'30'!$E$16:$I$16,2,FALSE),\"-\")","v":"-"},{"$f":"IFERROR(VLOOKUP(A880,'30'!E886:I886,4,FALSE),\"-\")","v":"-"}]
[null,{"$f":"IFERROR(VLOOKUP(A880,'30'!$E$17:$I$17,2,FALSE),\"-\")","v":"-"},{"$f":"IFERROR(VLOOKUP(A880,'30'!E887:I887,4,FALSE),\"-\")","v":"-"}]
[null,{"$f":"IFERROR(VLOOKUP(A880,'30'!$E$18:$I$18,2,FALSE),\"-\")","v":"-"},{"$f":"IFERROR(VLOOKUP(A880,'30'!E888:I888,4,FALSE),\"-\")","v":"-"}]
[null,{"$f":"IFERROR(VLOOKUP(A880,'30'!$E$19:$I$19,2,FALSE),\"-\")","v":"-"},{"$f":"IFERROR(VLOOKUP(A880,'30'!E889:I889,4,FALSE),\"-\")","v":"-"}]
[null,{"$f":"IFERROR(VLOOKUP(A880,'30'!$E$20:$I$20,2,FALSE),\"-\")","v":"-"},{"$f":"IFERROR(VLOOKUP(A880,'30'!E890:I890,4,FALSE),\"-\")","v":"-"}]
[null,{"$f":"IFERROR(VLOOKUP(A880,'30'!$E$21:$I$21,2,FALSE),\"-\")","v":"-"},{"$f":"IFERROR(VLOOKUP(A880,'30'!E891:I891,4,FALSE),\"-\")","v":"-"}]
[null,{"$f":"IFERROR(VLOOKUP(A880,'30'!$E$22:$I$22,2,FALSE),\"-\")","v":"-"},{"$f":"IFERROR(VLOOKUP(A880,'30'!E892:I892,4,FALSE),\"-\")","v":"-"}]
[null,{"$f":"IFERROR(VLOOKUP(A880,'30'!$E$23:$I$23,2,FALSE),\"-\")","v":"-"},{"$f":"IFERROR(VLOOKUP(A880,'30'!E893:I893,4,FALSE),\"-\")","v":"-"}]
[null,{"$f":"IFERROR(VLOOKUP(A880,'30'!$E$24:$I$24,2,FALSE),\"-\")","v":"-"},{"$f":"IFERROR(VLOOKUP(A880,'30'!E894:I894,4,FALSE),\"-\")","v":"-"}]
[null,{"$f":"IFERROR(VLOOKUP(A880,'30'!$E$25:$I$25,2,FALSE),\"-\")","v":"-"},{"$f":"IFERROR(VLOOKUP(A880,'30'!E895:I895,4,FALSE),\"-\")","v":"-"}]
[null,{"$f":"IFERROR(VLOOKUP(A880,'30'!$E$26:$I$26,2,FALSE),\"-\")","v":"-"},{"$f":"IFERROR(VLOOKUP(A880,'30'!E896:I896,4,FALSE),\"-\")","v":"-"}]
[null,{"$f":"IFERROR(VLOOKUP(A880,'30'!$E$27:$I$27,2,FALSE),\"-\")","v":"-"},{"$f":"IFERROR(VLOOKUP(A880,'30'!E897:I897,4,FALSE),\"-\")","v":"-"}]
[null,{"$f":"IFERROR(VLOOKUP(A880,'30'!$E$28:$I$28,2,FALSE),\"-\")","v":"-"},{"$f":"IFERROR(VLOOKUP(A880,'30'!E898:I898,4,FALSE),\"-\")","v":"-"}]
[null,{"$f":"IFERROR(VLOOKUP(A880,'30'!$E$29:$I$29,2,FALSE),\"-\")","v":"-"},{"$f":"IFERROR(VLOOKUP(A880,'30'!E899:I899,4,FALSE),\"-\")","v":"-"}]
[null,{"$f":"IFERROR(VLOOKUP(A880,'30'!$E$30:$I$30,2,FALSE),\"-\")","v":"-"},{"$f":"IFERROR(VLOOKUP(A880,'30'!E900:I900,4,FALSE),\"-\")","v":"-"}]
[null,{"$f":"IFERROR(VLOOKUP(A880,'30'!$E$31:$I$31,2,FALSE),\"-\")","v":"-"},{"$f":"IFERROR(VLOOKUP(A880,'30'!E901:I901,4,FALSE),\"-\")","v":"-"}]
[null,{"$f":"IFERROR(VLOOKUP(A880,'31'!$E$4:$I$4,2,FALSE),\"-\")","v":"-"},{"$f":"IFERROR(VLOOKUP(A880,'31'!E874:I874,4,FALSE),\"-\")","v":"-"}]
[null,{"$f":"IFERROR(VLOOKUP(A880,'31'!$E$5:$I$5,2,FALSE),\"-\")","v":"Fulano"},{"$f":"IFERROR(VLOOKUP(A880,'31'!E875:I875,4,FALSE),\"-\")","v":"-"}]
[null,{"$f":"IFERROR(VLOOKUP(A880,'31'!$E$6:$I$6,2,FALSE),\"-\")","v":"-"},{"$f":"IFERROR(VLOOKUP(A880,'31'!E876:I876,4,FALSE),\"-\")","v":"-"}]
[null,{"$f":"IFERROR(VLOOKUP(A880,'31'!$E$7:$I$7,2,FALSE),\"-\")","v":"-"},{"$f":"IFERROR(VLOOKUP(A880,'31'!E877:I877,4,FALSE),\"-\")","v":"-"}]
[null,{"$f":"IFERROR(VLOOKUP(A880,'31'!$E$8:$I$8,2,FALSE),\"-\")","v":"-"},{"$f":"IFERROR(VLOOKUP(A880,'31'!E878:I878,4,FALSE),\"-\")","v":"-"}]
[null,{"$f":"IFERROR(VLOOKUP(A880,'31'!$E$9:$I$9,2,FALSE),\"-\")","v":"-"},{"$f":"IFERROR(VLOOKUP(A880,'31'!E879:I879,4,FALSE),\"-\")","v":"-"}]
[null,{"$f":"IFERROR(VLOOKUP(A880,'31'!$E$10:$I$10,2,FALSE),\"-\")","v":"-"},{"$f":"IFERROR(VLOOKUP(A880,'31'!E880:I880,4,FALSE),\"-\")","v":"-"}]
[null,{"$f":"IFERROR(VLOOKUP(A880,'31'!$E$11:$I$11,2,FALSE),\"-\")","v":"-"},{"$f":"IFERROR(VLOOKUP(A880,'31'!E881:I881,4,FALSE),\"-\")","v":"-"}]
[null,{"$f":"IFERROR(VLOOKUP(A880,'31'!$E$12:$I$12,2,FALSE),\"-\")","v":"-"},{"$f":"IFERROR(VLOOKUP(A880,'31'!E882:I882,4,FALSE),\"-\")","v":"-"}]
[null,{"$f":"IFERROR(VLOOKUP(A880,'31'!$E$13:$I$13,2,FALSE),\"-\")","v":"-"},{"$f":"IFERROR(VLOOKUP(A880,'31'!E883:I883,4,FALSE),\"-\")","v":"-"}]
[null,{"$f":"IFERROR(VLOOKUP(A880,'31'!$E$14:$I$14,2,FALSE),\"-\")","v":"-"},{"$f":"IFERROR(VLOOKUP(A880,'31'!E884:I884,4,FALSE),\"-\")","v":"-"}]
[null,{"$f":"IFERROR(VLOOKUP(A880,'31'!$E$15:$I$15,2,FALSE),\"-\")","v":"-"},{"$f":"IFERROR(VLOOKUP(A880,'31'!E885:I885,4,FALSE),\"-\")","v":"-"}]
[null,{"$f":"IFERROR(VLOOKUP(A880,'31'!$E$16:$I$16,2,FALSE),\"-\")","v":"-"},{"$f":"IFERROR(VLOOKUP(A880,'31'!E886:I886,4,FALSE),\"-\")","v":"-"}]
[null,{"$f":"IFERROR(VLOOKUP(A880,'31'!$E$17:$I$17,2,FALSE),\"-\")","v":"-"},{"$f":"IFERROR(VLOOKUP(A880,'31'!E887:I887,4,FALSE),\"-\")","v":"-"}]
[null,{"$f":"IFERROR(VLOOKUP(A880,'31'!$E$18:$I$18,2,FALSE),\"-\")","v":"-"},{"$f":"IFERROR(VLOOKUP(A880,'31'!E888:I888,4,FALSE),\"-\")","v":"-"}]
[null,{"$f":"IFERROR(VLOOKUP(A880,'31'!$E$19:$I$19,2,FALSE),\"-\")","v":"-"},{"$f":"IFERROR(VLOOKUP(A880,'31'!E889:I889,4,FALSE),\"-\")","v":"-"}]
[null,{"$f":"IFERROR(VLOOKUP(A880,'31'!$E$20:$I$20,2,FALSE),\"-\")","v":"-"},{"$f":"IFERROR(VLOOKUP(A880,'31'!E890:I890,4,FALSE),\"-\")","v":"-"}]
[null,{"$f":"IFERROR(VLOOKUP(A880,'31'!$E$21:$I$21,2,FALSE),\"-\")","v":"-"},{"$f":"IFERROR(VLOOKUP(A880,'31'!E891:I891,4,FALSE),\"-\")","v":"-"}]
[null,{"$f":"IFERROR(VLOOKUP(A880,'31'!$E$22:$I$22,2,FALSE),\"-\")","v":"-"},{"$f":"IFERROR(VLOOKUP(A880,'31'!E892:I892,4,FALSE),\"-\")","v":"-"}]
[null,{"$f":"IFERROR(VLOOKUP(A880,'31'!$E$23:$I$23,2,FALSE),\"-\")","v":"-"},{"$f":"IFERROR(VLOOKUP(A880,'31'!E893:I893,4,FALSE),\"-\")","v":"-"}]
[null,{"$f":"IFERROR(VLOOKUP(A880,'31'!$E$24:$I$24,2,FALSE),\"-\")","v":"-"},{"$f":"IFERROR(VLOOKUP(A880,'31'!E894:I894,4,FALSE),\"-\")","v":"-"}]
[null,{"$f":"IFERROR(VLOOKUP(A880,'31'!$E$25:$I$25,2,FALSE),\"-\")","v":"-"},{"$f":"IFERROR(VLOOKUP(A880,'31'!E895:I895,4,FALSE),\"-\")","v":"-"}]
[null,{"$f":"IFERROR(VLOOKUP(A880,'31'!$E$26:$I$26,2,FALSE),\"-\")","v":"-"},{"$f":"IFERROR(VLOOKUP(A880,'31'!E896:I896,4,FALSE),\"-\")","v":"-"}]
[null,{"$f":"IFERROR(VLOOKUP(A880,'31'!$E$27:$I$27,2,FALSE),\"-\")","v":"-"},{"$f":"IFERROR(VLOOKUP(A880,'31'!E897:I897,4,FALSE),\"-\")","v":"-"}]
[null,{"$f":"IFERROR(VLOOKUP(A880,'31'!$E$28:$I$28,2,FALSE),\"-\")","v":"-"},{"$f":"IFERROR(VLOOKUP(A880,'31'!E898:I898,4,FALSE),\"-\")","v":"-"}]
[null,{"$f":"IFERROR(VLOOKUP(A880,'31'!$E$29:$I$29,2,FALSE),\"-\")","v":"-"},{"$f":"IFERROR(VLOOKUP(A880,'31'!E899:I899,4,FALSE),\"-\")","v":"-"}]
[null,{"$f":"IFERROR(VLOOKUP(A880,'31'!$E$30:$I$30,2,FALSE),\"-\")","v":"-"},{"$f":"IFERROR(VLOOKUP(A880,'31'!E900:I900,4,FALSE),\"-\")","v":"-"}]
[null,{"$f":"IFERROR(VLOOKUP(A880,'31'!$E$31:$I$31,2,FALSE),\"-\")","v":"-"},{"$f":"IFERROR(VLOOKUP(A880,'31'!E901:I901,4,FALSE),\"-\")","v":"-"}]
[]
["Codigo","Fornecedor","Valor"]
["Fx",{"$f":"IFERROR(VLOOKUP(A1750,'1'!$E$4:$I$4,2,FALSE),\"-\")","v":"-"},{"$f":"IFERROR(VLOOKUP(A1750,'1'!$E$4:$I$4,4,FALSE),\"-\")","v":"-"}]
[null,{"$f":"IFERROR(VLOOKUP(A1750,'1'!$E$5:$I$5,2,FALSE),\"-\")","v":"-"},{"$f":"IFERROR(VLOOKUP(A1750,'1'!$E$5:$I$5,4,FALSE),\"-\")","v":"-"}]
[null,{"$f":"IFERROR(VLOOKUP(A1750,'1'!$E$6:$I$6,2,FALSE),\"-\")","v":"-"},{"$f":"IFERROR(VLOOKUP(A1750,'1'!$E$6:$I$6,4,FALSE),\"-\")","v":"-"}]
[null,{"$f":"IFERROR(VLOOKUP(A1750,'1'!$E$7:$I$7,2,FALSE),\"-\")","v":"-"},{"$f":"IFERROR(VLOOKUP(A1750,'1'!$E$7:$I$7,4,FALSE),\"-\")","v":"-"}]
[null,{"$f":"IFERROR(VLOOKUP(A1750,'1'!$E$8:$I$8,2,FALSE),\"-\")","v":"-"},{"$f":"IFERROR(VLOOKUP(A1750,'1'!$E$8:$I$8,4,FALSE),\"-\")","v":"-"}]
[null,{"$f":"IFERROR(VLOOKUP(A1750,'1'!$E$9:$I$9,2,FALSE),\"-\")","v":"-"},{"$f":"IFERROR(VLOOKUP(A1750,'1'!$E$9:$I$9,4,FALSE),\"-\")","v":"-"}]
[null,{"$f":"IFERROR(VLOOKUP(A1750,'1'!$E$10:$I$10,2,FALSE),\"-\")","v":"-"},{"$f":"IFERROR(VLOOKUP(A1750,'1'!$E$10:$I$10,4,FALSE),\"-\")","v":"-"}]
[null,{"$f":"IFERROR(VLOOKUP(A1750,'1'!$E$11:$I$11,2,FALSE),\"-\")","v":"-"},{"$f":"IFERROR(VLOOKUP(A1750,'1'!$E$11:$I$11,4,FALSE),\"-\")","v":"-"}]
[null,{"$f":"IFERROR(VLOOKUP(A1750,'1'!$E$12:$I$12,2,FALSE),\"-\")","v":"-"},{"$f":"IFERROR(VLOOKUP(A1750,'1'!$E$12:$I$12,4,FALSE),\"-\")","v":"-"}]
[null,{"$f":"IFERROR(VLOOKUP(A1750,'1'!$E$13:$I$13,2,FALSE),\"-\")","v":"-"},{"$f":"IFERROR(VLOOKUP(A1750,'1'!$E$13:$I$13,4,FALSE),\"-\")","v":"-"}]
[null,{"$f":"IFERROR(VLOOKUP(A1750,'1'!$E$14:$I$14,2,FALSE),\"-\")","v":"-"},{"$f":"IFERROR(VLOOKUP(A1750,'1'!$E$14:$I$14,4,FALSE),\"-\")","v":"-"}]
[null,{"$f":"IFERROR(VLOOKUP(A1750,'1'!$E$15:$I$15,2,FALSE),\"-\")","v":"-"},{"$f":"IFERROR(VLOOKUP(A1750,'1'!$E$15:$I$15,4,FALSE),\"-\")","v":"-"}]
[null,{"$f":"IFERROR(VLOOKUP(A1750,'1'!$E$16:$I$16,2,FALSE),\"-\")","v":"-"},{"$f":"IFERROR(VLOOKUP(A1750,'1'!$E$16:$I$16,4,FALSE),\"-\")","v":"-"}]
[null,{"$f":"IFERROR(VLOOKUP(A1750,'1'!$E$17:$I$17,2,FALSE),\"-\")","v":"-"},{"$f":"IFERROR(VLOOKUP(A1750,'1'!$E$17:$I$17,4,FALSE),\"-\")","v":"-"}]
[null,{"$f":"IFERROR(VLOOKUP(A1750,'1'!$E$18:$I$18,2,FALSE),\"-\")","v":"-"},{"$f":"IFERROR(VLOOKUP(A1750,'1'!$E$18:$I$18,4,FALSE),\"-\")","v":"-"}]
[null,{"$f":"IFERROR(VLOOKUP(A1750,'1'!$E$19:$I$19,2,FALSE),\"-\")","v":"-"},{"$f":"IFERROR(VLOOKUP(A1750,'1'!$E$19:$I$19,4,FALSE),\"-\")","v":"-"}]
[null,{"$f":"IFERROR(VLOOKUP(A1750,'1'!$E$20:$I$20,2,FALSE),\"-\")","v":"-"},{"$f":"IFERROR(VLOOKUP(A1750,'1'!$E$20:$I$20,4,FALSE),\"-\")","v":"-"}]
[null,{"$f":"IFERROR(VLOOKUP(A1750,'1'!$E$21:$I$21,2,FALSE),\"-\")","v":"-"},{"$f":"IFERROR(VLOOKUP(A1750,'1'!$E$21:$I$21,4,FALSE),\"-\")","v":"-"}]
[null,{"$f":"IFERROR(VLOOKUP(A1750,'1'!$E$22:$I$22,2,FALSE),\"-\")","v":"-"},{"$f":"IFERROR(VLOOKUP(A1750,'1'!$E$22:$I$22,4,FALSE),\"-\")","v":"-"}]
[null,{"$f":"IFERROR(VLOOKUP(A1750,'1'!$E$23:$I$23,2,FALSE),\"-\")","v":"-"},{"$f":"IFERROR(VLOOKUP(A1750,'1'!$E$23:$I$23,4,FALSE),\"-\")","v":"-"}]
[null,{"$f":"IFERROR(VLOOKUP(A1750,'1'!$E$24:$I$24,2,FALSE),\"-\")","v":"-"},{"$f":"IFERROR(VLOOKUP(A1750,'1'!$E$24:$I$24,4,FALSE),\"-\")","v":"-"}]
[null,{"$f":"IFERROR(VLOOKUP(A1750,'1'!$E$25:$I$25,2,FALSE),\"-\")","v":"-"},{"$f":"IFERROR(VLOOKUP(A1750,'1'!$E$25:$I$25,4,FALSE),\"-\")","v":"-"}]
[null,{"$f":"IFERROR(VLOOKUP(A1750,'1'!$E$26:$I$26,2,FALSE),\"-\")","v":"-"},{"$f":"IFERROR(VLOOKUP(A1750,'1'!$E$26:$I$26,4,FALSE),\"-\")","v":"-"}]
[null,{"$f":"IFERROR(VLOOKUP(A1750,'1'!$E$27:$I$27,2,FALSE),\"-\")","v":"-"},{"$f":"IFERROR(VLOOKUP(A1750,'1'!$E$27:$I$27,4,FALSE),\"-\")","v":"-"}]
[null,{"$f":"IFERROR(VLOOKUP(A1750,'1'!$E$28:$I$28,2,FALSE),\"-\")","v":"-"},{"$f":"IFERROR(VLOOKUP(A1750,'1'!$E$28:$I$28,4,FALSE),\"-\")","v":"-"}]
[null,{"$f":"IFERROR(VLOOKUP(A1750,'1'!$E$29:$I$29,2,FALSE),\"-\")","v":"-"},{"$f":"IFERROR(VLOOKUP(A1750,'1'!$E$29:$I$29,4,FALSE),\"-\")","v":"-"}]
[null,{"$f":"IFERROR(VLOOKUP(A1750,'1'!$E$30:$I$30,2,FALSE),\"-\")","v":"-"},{"$f":"IFERROR(VLOOKUP(A1750,'1'!$E$30:$I$30,4,FALSE),\"-\")","v":"-"}]
[null,{"$f":"IFERROR(VLOOKUP(A1750,'1'!$E$31:$I$31,2,FALSE),\"-\")","v":"-"},{"$f":"IFERROR(VLOOKUP(A1750,'1'!$E$31:$I$31,4,FALSE),\"-\")","v":"-"}]
[null,{"$f":"IFERROR(VLOOKUP(A1750,'2'!$E$4:$I$4,2,FALSE),\"-\")","v":"-"},{"$f":"IFERROR(VLOOKUP(A1750,'2'!$E$4:$I$4,4,FALSE),\"-\")","v":"-"}]
[null,{"$f":"IFERROR(VLOOKUP(A1750,'2'!$E$5:$I$5,2,FALSE),\"-\")","v":"-"},{"$f":"IFERROR(VLOOKUP(A1750,'2'!E1745:I1745,4,FALSE),\"-\")","v":"-"}]
[null,{"$f":"IFERROR(VLOOKUP(A1750,'2'!$E$6:$I$6,2,FALSE),\"-\")","v":"-"},{"$f":"IFERROR(VLOOKUP(A1750,'2'!E1746:I1746,4,FALSE),\"-\")","v":"-"}]
[null,{"$f":"IFERROR(VLOOKUP(A1750,'2'!$E$7:$I$7,2,FALSE),\"-\")","v":"-"},{"$f":"IFERROR(VLOOKUP(A1750,'2'!E1747:I1747,4,FALSE),\"-\")","v":"-"}]
[null,{"$f":"IFERROR(VLOOKUP(A1750,'2'!$E$8:$I$8,2,FALSE),\"-\")","v":"-"},{"$f":"IFERROR(VLOOKUP(A1750,'2'!E1748:I1748,4,FALSE),\"-\")","v":"-"}]
[null,{"$f":"IFERROR(VLOOKUP(A1750,'2'!$E$9:$I$9,2,FALSE),\"-\")","v":"-"},{"$f":"IFERROR(VLOOKUP(A1750,'2'!E1749:I1749,4,FALSE),\"-\")","v":"-"}]
[null,{"$f":"IFERROR(VLOOKUP(A1750,'2'!$E$10:$I$10,2,FALSE),\"-\")","v":"-"},{"$f":"IFERROR(VLOOKUP(A1750,'2'!E1750:I1750,4,FALSE),\"-\")","v":"-"}]
[null,{"$f":"IFERROR(VLOOKUP(A1750,'2'!$E$11:$I$11,2,FALSE),\"-\")","v":"-"},{"$f":"IFERROR(VLOOKUP(A1750,'2'!E1751:I1751,4,FALSE),\"-\")","v":"-"}]
[null,{"$f":"IFERROR(VLOOKUP(A1750,'2'!$E$12:$I$12,2,FALSE),\"-\")","v":"-"},{"$f":"IFERROR(VLOOKUP(A1750,'2'!E1752:I1752,4,FALSE),\"-\")","v":"-"}]
[null,{"$f":"IFERROR(VLOOKUP(A1750,'2'!$E$13:$I$13,2,FALSE),\"-\")","v":"-"},{"$f":"IFERROR(VLOOKUP(A1750,'2'!E1753:I1753,4,FALSE),\"-\")","v":"-"}]
[null,{"$f":"IFERROR(VLOOKUP(A1750,'2'!$E$14:$I$14,2,FALSE),\"-\")","v":"-"},{"$f":"IFERROR(VLOOKUP(A1750,'2'!E1754:I1754,4,FALSE),\"-\")","v":"-"}]
[null,{"$f":"IFERROR(VLOOKUP(A1750,'2'!$E$15:$I$15,2,FALSE),\"-\")","v":"-"},{"$f":"IFERROR(VLOOKUP(A1750,'2'!E1755:I1755,4,FALSE),\"-\")","v":"-"}]
[null,{"$f":"IFERROR(VLOOKUP(A1750,'2'!$E$16:$I$16,2,FALSE),\"-\")","v":"-"},{"$f":"IFERROR(VLOOKUP(A1750,'2'!E1756:I1756,4,FALSE),\"-\")","v":"-"}]
[null,{"$f":"IFERROR(VLOOKUP(A1750,'2'!$E$17:$I$17,2,FALSE),\"-\")","v":"-"},{"$f":"IFERROR(VLOOKUP(A1750,'2'!E1757:I1757,4,FALSE),\"-\")","v":"-"}]
[null,{"$f":"IFERROR(VLOOKUP(A1750,'2'!$E$18:$I$18,2,FALSE),\"-\")","v":"-"},{"$f":"IFERROR(VLOOKUP(A1750,'2'!E1758:I1758,4,FALSE),\"-\")","v":"-"}]
[null,{"$f":"IFERROR(VLOOKUP(A1750,'2'!$E$19:$I$19,2,FALSE),\"-\")","v":"-"},{"$f":"IFERROR(VLOOKUP(A1750,'2'!E1759:I1759,4,FALSE),\"-\")","v":"-"}]
[null,{"$f":"IFERROR(VLOOKUP(A1750,'2'!$E$20:$I$20,2,FALSE),\"-\")","v":"-"},{"$f":"IFERROR(VLOOKUP(A1750,'2'!E1760:I1760,4,FALSE),\"-\")","v":"-"}]
[null,{"$f":"IFERROR(VLOOKUP(A1750,'2'!$E$21:$I$21,2,FALSE),\"-\")","v":"-"},{"$f":"IFERROR(VLOOKUP(A1750,'2'!E1761:I1761,4,FALSE),\"-\")","v":"-"}]
[null,{"$f":"IFERROR(VLOOKUP(A1750,'2'!$E$22:$I$22,2,FALSE),\"-\")","v":"-"},{"$f":"IFERROR(VLOOKUP(A1750,'2'!E1762:I1762,4,FALSE),\"-\")","v":"-"}]
[null,{"$f":"IFERROR(VLOOKUP(A1750,'2'!$E$23:$I$23,2,FALSE),\"-\")","v":"-"},{"$f":"IFERROR(VLOOKUP(A1750,'2'!E1763:I1763,4,FALSE),\"-\")","v":"-"}]
[null,{"$f":"IFERROR(VLOOKUP(A1750,'2'!$E$24:$I$24,2,FALSE),\"-\")","v":"-"},{"$f":"IFERROR(VLOOKUP(A1750,'2'!E1764:I1764,4,FALSE),\"-\")","v":"-"}]
[null,{"$f":"IFERROR(VLOOKUP(A1750,'2'!$E$25:$I$25,2,FALSE),\"-\")","v":"-"},{"$f":"IFERROR(VLOOKUP(A1750,'2'!E1765:I1765,4,FALSE),\"-\")","v":"-"}]
[null,{"$f":"IFERROR(VLOOKUP(A1750,'2'!$E$26:$I$26,2,FALSE),\"-\")","v":"-"},{"$f":"IFERROR(VLOOKUP(A1750,'2'!E1766:I1766,4,FALSE),\"-\")","v":"-"}]
[null,{"$f":"IFERROR(VLOOKUP(A1750,'2'!$E$27:$I$27,2,FALSE),\"-\")","v":"-"},{"$f":"IFERROR(VLOOKUP(A1750,'2'!E1767:I1767,4,FALSE),\"-\")","v":"-"}]
[null,{"$f":"IFERROR(VLOOKUP(A1750,'2'!$E$28:$I$28,2,FALSE),\"-\")","v":"-"},{"$f":"IFERROR(VLOOKUP(A1750,'2'!E1768:I1768,4,FALSE),\"-\")","v":"-"}]
[null,{"$f":"IFERROR(VLOOKUP(A1750,'2'!$E$29:$I$29,2,FALSE),\"-\")","v":"-"},{"$f":"IFERROR(VLOOKUP(A1750,'2'!E1769:I1769,4,FALSE),\"-\")","v":"-"}]
[null,{"$f":"IFERROR(VLOOKUP(A1750,'2'!$E$30:$I$30,2,FALSE),\"-\")","v":"-"},{"$f":"IFERROR(VLOOKUP(A1750,'2'!E1770:I1770,4,FALSE),\"-\")","v":"-"}]
[null,{"$f":"IFERROR(VLOOKUP(A1750,'2'!$E$31:$I$31,2,FALSE),\"-\")","v":"-"},{"$f":"IFERROR(VLOOKUP(A1750,'2'!E1771:I1771,4,FALSE),\"-\")","v":"-"}]
[null,{"$f":"IFERROR(VLOOKUP(A1750,'3'!$E$4:$I$4,2,FALSE),\"-\")","v":"-"},{"$f":"IFERROR(VLOOKUP(A1750,'3'!E1744:I1744,4,FALSE),\"-\")","v":"-"}]
[null,{"$f":"IFERROR(VLOOKUP(A1750,'3'!$E$5:$I$5,2,FALSE),\"-\")","v":"-"},{"$f":"IFERROR(VLOOKUP(A1750,'3'!E1745:I1745,4,FALSE),\"-\")","v":"-"}]
[null,{"$f":"IFERROR(VLOOKUP(A1750,'3'!$E$6:$I$6,2,FALSE),\"-\")","v":"-"},{"$f":"IFERROR(VLOOKUP(A1750,'3'!E1746:I1746,4,FALSE),\"-\")","v":"-"}]
[null,{"$f":"IFERROR(VLOOKUP(A1750,'3'!$E$7:$I$7,2,FALSE),\"-\")","v":"-"},{"$f":"IFERROR(VLOOKUP(A1750,'3'!E1747:I1747,4,FALSE),\"-\")","v":"-"}]
[null,{"$f":"IFERROR(VLOOKUP(A1750,'3'!$E$8:$I$8,2,FALSE),\"-\")","v":"-"},{"$f":"IFERROR(VLOOKUP(A1750,'3'!E1748:I1748,4,FALSE),\"-\")","v":"-"}]
[null,{"$f":"IFERROR(VLOOKUP(A1750,'3'!$E$9:$I$9,2,FALSE),\"-\")","v":"-"},{"$f":"IFERROR(VLOOKUP(A1750,'3'!E1749:I1749,4,FALSE),\"-\")","v":"-"}]
[null,{"$f":"IFERROR(VLOOKUP(A1750,'3'!$E$10:$I$10,2,FALSE),\"-\")","v":"-"},{"$f":"IFERROR(VLOOKUP(A1750,'3'!E1750:I1750,4,FALSE),\"-\")","v":"-"}]
[null,{"$f":"IFERROR(VLOOKUP(A1750,'3'!$E$11:$I$11,2,FALSE),\"-\")","v":"-"},{"$f":"IFERROR(VLOOKUP(A1750,'3'!E1751:I1751,4,FALSE),\"-\")","v":"-"}]
[null,{"$f":"IFERROR(VLOOKUP(A1750,'3'!$E$12:$I$12,2,FALSE),\"-\")","v":"-"},{"$f":"IFERROR(VLOOKUP(A1750,'3'!E1752:I1752,4,FALSE),\"-\")","v":"-"}]
[null,{"$f":"IFERROR(VLOOKUP(A1750,'3'!$E$13:$I$13,2,FALSE),\"-\")","v":"-"},{"$f":"IFERROR(VLOOKUP(A1750,'3'!E1753:I1753,4,FALSE),\"-\")","v":"-"}]
[null,{"$f":"IFERROR(VLOOKUP(A1750,'3'!$E$14:$I$14,2,FALSE),\"-\")","v":"-"},{"$f":"IFERROR(VLOOKUP(A1750,'3'!E1754:I1754,4,FALSE),\"-\")","v":"-"}]
[null,{"$f":"IFERROR(VLOOKUP(A1750,'3'!$E$15:$I$15,2,FALSE),\"-\")","v":"-"},{"$f":"IFERROR(VLOOKUP(A1750,'3'!E1755:I1755,4,FALSE),\"-\")","v":"-"}]
[null,{"$f":"IFERROR(VLOOKUP(A1750,'3'!$E$16:$I$16,2,FALSE),\"-\")","v":"-"},{"$f":"IFERROR(VLOOKUP(A1750,'3'!E1756:I1756,4,FALSE),\"-\")","v":"-"}]
[null,{"$f":"IFERROR(VLOOKUP(A1750,'3'!$E$17:$I$17,2,FALSE),\"-\")","v":"-"},{"$f":"IFERROR(VLOOKUP(A1750,'3'!E1757:I1757,4,FALSE),\"-\")","v":"-"}]
[null,{"$f":"IFERROR(VLOOKUP(A1750,'3'!$E$18:$I$18,2,FALSE),\"-\")","v":"-"},{"$f":"IFERROR(VLOOKUP(A1750,'3'!E1758:I1758,4,FALSE),\"-\")","v":"-"}]
[null,{"$f":"IFERROR(VLOOKUP(A1750,'3'!$E$19:$I$19,2,FALSE),\"-\")","v":"-"},{"$f":"IFERROR(VLOOKUP(A1750,'3'!E1759:I1759,4,FALSE),\"-\")","v":"-"}]
[null,{"$f":"IFERROR(VLOOKUP(A1750,'3'!$E$20:$I$20,2,FALSE),\"-\")","v":"-"},{"$f":"IFERROR(VLOOKUP(A1750,'3'!E1760:I1760,4,FALSE),\"-\")","v":"-"}]
[null,{"$f":"IFERROR(VLOOKUP(A1750,'3'!$E$21:$I$21,2,FALSE),\"-\")","v":"-"},{"$f":"IFERROR(VLOOKUP(A1750,'3'!E1761:I1761,4,FALSE),\"-\")","v":"-"}]
[null,{"$f":"IFERROR(VLOOKUP(A1750,'3'!$E$22:$I$22,2,FALSE),\"-\")","v":"-"},{"$f":"IFERROR(VLOOKUP(A1750,'3'!E1762:I1762,4,FALSE),\"-\")","v":"-"}]
[null,{"$f":"IFERROR(VLOOKUP(A1750,'3'!$E$23:$I$23,2,FALSE),\"-\")","v":"-"},{"$f":"IFERROR(VLOOKUP(A1750,'3'!E1763:I1763,4,FALSE),\"-\")","v":"-"}]
[null,{"$f":"IFERROR(VLOOKUP(A1750,'3'!$E$24:$I$24,2,FALSE),\"-\")","v":"-"},{"$f":"IFERROR(VLOOKUP(A1750,'3'!E1764:I1764,4,FALSE),\"-\")","v":"-"}]
[null,{"$f":"IFERROR(VLOOKUP(A1750,'3'!$E$25:$I$25,2,FALSE),\"-\")","v":"-"},{"$f":"IFERROR(VLOOKUP(A1750,'3'!E1765:I1765,4,FALSE),\"-\")","v":"-"}]
[null,{"$f":"IFERROR(VLOOKUP(A1750,'3'!$E$26:$I$26,2,FALSE),\"-\")","v":"-"},{"$f":"IFERROR(VLOOKUP(A1750,'3'!E1766:I1766,4,FALSE),\"-\")","v":"-"}]
[null,{"$f":"IFERROR(VLOOKUP(A1750,'3'!$E$27:$I$27,2,FALSE),\"-\")","v":"-"},{"$f":"IFERROR(VLOOKUP(A1750,'3'!E1767:I1767,4,FALSE),\"-\")","v":"-"}]
[null,{"$f":"IFERROR(VLOOKUP(A1750,'3'!$E$28:$I$28,2,FALSE),\"-\")","v":"-"},{"$f":"IFERROR(VLOOKUP(A1750,'3'!E1768:I1768,4,FALSE),\"-\")","v":"-"}]
[null,{"$f":"IFERROR(VLOOKUP(A1750,'3'!$E$29:$I$29,2,FALSE),\"-\")","v":"-"},{"$f":"IFERROR(VLOOKUP(A1750,'3'!E1769:I1769,4,FALSE),\"-\")","v":"-"}]
[null,{"$f":"IFERROR(VLOOKUP(A1750,'3'!$E$30:$I$30,2,FALSE),\"-\")","v":"-"},{"$f":"IFERROR(VLOOKUP(A1750,'3'!E1770:I1770,4,FALSE),\"-\")","v":"-"}]
[null,{"$f":"IFERROR(VLOOKUP(A1750,'3'!$E$31:$I$31,2,FALSE),\"-\")","v":"-"},{"$f":"IFERROR(VLOOKUP(A1750,'3'!E1771:I1771,4,FALSE),\"-\")","v":"-"}]
[null,{"$f":"IFERROR(VLOOKUP(A1750,'4'!$E$4:$I$4,2,FALSE),\"-\")","v":"-"},{"$f":"IFERROR(VLOOKUP(A1750,'4'!E1744:I1744,4,FALSE),\"-\")","v":"-"}]
[null,{"$f":"IFERROR(VLOOKUP(A1750,'4'!$E$5:$I$5,2,FALSE),\"-\")","v":"-"},{"$f":"IFERROR(VLOOKUP(A1750,'4'!E1745:I1745,4,FALSE),\"-\")","v":"-"}]
[null,{"$f":"IFERROR(VLOOKUP(A1750,'4'!$E$6:$I$6,2,FALSE),\"-\")","v":"-"},{"$f":"IFERROR(VLOOKUP(A1750,'4'!E1746:I1746,4,FALSE),\"-\")","v":"-"}]
[null,{"$f":"IFERROR(VLOOKUP(A1750,'4'!$E$7:$I$7,2,FALSE),\"-\")","v":"-"},{"$f":"IFERROR(VLOOKUP(A1750,'4'!E1747:I1747,4,FALSE),\"-\")","v":"-"}]
[null,{"$f":"IFERROR(VLOOKUP(A1750,'4'!$E$8:$I$8,2,FALSE),\"-\")","v":"-"},{"$f":"IFERROR(VLOOKUP(A1750,'4'!E1748:I1748,4,FALSE),\"-\")","v":"-"}]
[null,{"$f":"IFERROR(VLOOKUP(A1750,'4'!$E$9:$I$9,2,FALSE),\"-\")","v":"-"},{"$f":"IFERROR(VLOOKUP(A1750,'4'!E1749:I1749,4,FALSE),\"-\")","v":"-"}]
[null,{"$f":"IFERROR(VLOOKUP(A1750,'4'!$E$10:$I$10,2,FALSE),\"-\")","v":"-"},{"$f":"IFERROR(VLOOKUP(A1750,'4'!E1750:I1750,4,FALSE),\"-\")","v":"-"}]
[null,{"$f":"IFERROR(VLOOKUP(A1750,'4'!$E$11:$I$11,2,FALSE),\"-\")","v":"-"},{"$f":"IFERROR(VLOOKUP(A1750,'4'!E1751:I1751,4,FALSE),\"-\")","v":"-"}]
[null,{"$f":"IFERROR(VLOOKUP(A1750,'4'!$E$12:$I$12,2,FALSE),\"-\")","v":"-"},{"$f":"IFERROR(VLOOKUP(A1750,'4'!E1752:I1752,4,FALSE),\"-\")","v":"-"}]
[null,{"$f":"IFERROR(VLOOKUP(A1750,'4'!$E$13:$I$13,2,FALSE),\"-\")","v":"-"},{"$f":"IFERROR(VLOOKUP(A1750,'4'!E1753:I1753,4,FALSE),\"-\")","v":"-"}]
[null,{"$f":"IFERROR(VLOOKUP(A1750,'4'!$E$14:$I$14,2,FALSE),\"-\")","v":"-"},{"$f":"IFERROR(VLOOKUP(A1750,'4'!E1754:I1754,4,FALSE),\"-\")","v":"-"}]
[null,{"$f":"IFERROR(VLOOKUP(A1750,'4'!$E$15:$I$15,2,FALSE),\"-\")","v":"-"},{"$f":"IFERROR(VLOOKUP(A1750,'4'!E1755:I1755,4,FALSE),\"-\")","v":"-"}]
[null,{"$f":"IFERROR(VLOOKUP(A1750,'4'!$E$16:$I$16,2,FALSE),\"-\")","v":"-"},{"$f":"IFERROR(VLOOKUP(A1750,'4'!E1756:I1756,4,FALSE),\"-\")","v":"-"}]
[null,{"$f":"IFERROR(VLOOKUP(A1750,'4'!$E$17:$I$17,2,FALSE),\"-\")","v":"-"},{"$f":"IFERROR(VLOOKUP(A1750,'4'!E1757:I1757,4,FALSE),\"-\")","v":"-"}]
[null,{"$f":"IFERROR(VLOOKUP(A1750,'4'!$E$18:$I$18,2,FALSE),\"-\")","v":"-"},{"$f":"IFERROR(VLOOKUP(A1750,'4'!E1758:I1758,4,FALSE),\"-\")","v":"-"}]
[null,{"$f":"IFERROR(VLOOKUP(A1750,'4'!$E$19:$I$19,2,FALSE),\"-\")","v":"-"},{"$f":"IFERROR(VLOOKUP(A1750,'4'!E1759:I1759,4,FALSE),\"-\")","v":"-"}]
[null,{"$f":"IFERROR(VLOOKUP(A1750,'4'!$E$20:$I$20,2,FALSE),\"-\")","v":"-"},{"$f":"IFERROR(VLOOKUP(A1750,'4'!E1760:I1760,4,FALSE),\"-\")","v":"-"}]
[null,{"$f":"IFERROR(VLOOKUP(A1750,'4'!$E$21:$I$21,2,FALSE),\"-\")","v":"-"},{"$f":"IFERROR(VLOOKUP(A1750,'4'!E1761:I1761,4,FALSE),\"-\")","v":"-"}]
[null,{"$f":"IFERROR(VLOOKUP(A1750,'4'!$E$22:$I$22,2,FALSE),\"-\")","v":"-"},{"$f":"IFERROR(VLOOKUP(A1750,'4'!E1762:I1762,4,FALSE),\"-\")","v":"-"}]
[null,{"$f":"IFERROR(VLOOKUP(A1750,'4'!$E$23:$I$23,2,FALSE),\"-\")","v":"-"},{"$f":"IFERROR(VLOOKUP(A1750,'4'!E1763:I1763,4,FALSE),\"-\")","v":"-"}]
[null,{"$f":"IFERROR(VLOOKUP(A1750,'4'!$E$24:$I$24,2,FALSE),\"-\")","v":"-"},{"$f":"IFERROR(VLOOKUP(A1750,'4'!E1764:I1764,4,FALSE),\"-\")","v":"-"}]
[null,{"$f":"IFERROR(VLOOKUP(A1750,'4'!$E$25:$I$25,2,FALSE),\"-\")","v":"-"},{"$f":"IFERROR(VLOOKUP(A1750,'4'!E1765:I1765,4,FALSE),\"-\")","v":"-"}]
[null,{"$f":"IFERROR(VLOOKUP(A1750,'4'!$E$26:$I$26,2,FALSE),\"-\")","v":"-"},{"$f":"IFERROR(VLOOKUP(A1750,'4'!E1766:I1766,4,FALSE),\"-\")","v":"-"}]
[null,{"$f":"IFERROR(VLOOKUP(A1750,'4'!$E$27:$I$27,2,FALSE),\"-\")","v":"-"},{"$f":"IFERROR(VLOOKUP(A1750,'4'!E1767:I1767,4,FALSE),\"-\")","v":"-"}]
[null,{"$f":"IFERROR(VLOOKUP(A1750,'4'!$E$28:$I$28,2,FALSE),\"-\")","v":"-"},{"$f":"IFERROR(VLOOKUP(A1750,'4'!E1768:I1768,4,FALSE),\"-\")","v":"-"}]
[null,{"$f":"IFERROR(VLOOKUP(A1750,'4'!$E$29:$I$29,2,FALSE),\"-\")","v":"-"},{"$f":"IFERROR(VLOOKUP(A1750,'4'!E1769:I1769,4,FALSE),\"-\")","v":"-"}]
[null,{"$f":"IFERROR(VLOOKUP(A1750,'4'!$E$30:$I$30,2,FALSE),\"-\")","v":"-"},{"$f":"IFERROR(VLOOKUP(A1750,'4'!E1770:I1770,4,FALSE),\"-\")","v":"-"}]
[null,{"$f":"IFERROR(VLOOKUP(A1750,'4'!$E$31:$I$31,2,FALSE),\"-\")","v":"-"},{"$f":"IFERROR(VLOOKUP(A1750,'4'!E1771:I1771,4,FALSE),\"-\")","v":"-"}]
[null,{"$f":"IFERROR(VLOOKUP(A1750,'5'!$E$4:$I$4,2,FALSE),\"-\")","v":"-"},{"$f":"IFERROR(VLOOKUP(A1750,'5'!E1744:I1744,4,FALSE),\"-\")","v":"-"}]
[null,{"$f":"IFERROR(VLOOKUP(A1750,'5'!$E$5:$I$5,2,FALSE),\"-\")","v":"-"},{"$f":"IFERROR(VLOOKUP(A1750,'5'!E1745:I1745,4,FALSE),\"-\")","v":"-"}]
[null,{"$f":"IFERROR(VLOOKUP(A1750,'5'!$E$6:$I$6,2,FALSE),\"-\")","v":"-"},{"$f":"IFERROR(VLOOKUP(A1750,'5'!E1746:I1746,4,FALSE),\"-\")","v":"-"}]
[null,{"$f":"IFERROR(VLOOKUP(A1750,'5'!$E$7:$I$7,2,FALSE),\"-\")","v":"-"},{"$f":"IFERROR(VLOOKUP(A1750,'5'!E1747:I1747,4,FALSE),\"-\")","v":"-"}]
[null,{"$f":"IFERROR(VLOOKUP(A1750,'5'!$E$8:$I$8,2,FALSE),\"-\")","v":"-"},{"$f":"IFERROR(VLOOKUP(A1750,'5'!E1748:I1748,4,FALSE),\"-\")","v":"-"}]
[null,{"$f":"IFERROR(VLOOKUP(A1750,'5'!$E$9:$I$9,2,FALSE),\"-\")","v":"-"},{"$f":"IFERROR(VLOOKUP(A1750,'5'!E1749:I1749,4,FALSE),\"-\")","v":"-"}]
[null,{"$f":"IFERROR(VLOOKUP(A1750,'5'!$E$10:$I$10,2,FALSE),\"-\")","v":"-"},{"$f":"IFERROR(VLOOKUP(A1750,'5'!E1750:I1750,4,FALSE),\"-\")","v":"-"}]
[null,{"$f":"IFERROR(VLOOKUP(A1750,'5'!$E$11:$I$11,2,FALSE),\"-\")","v":"-"},{"$f":"IFERROR(VLOOKUP(A1750,'5'!E1751:I1751,4,FALSE),\"-\")","v":"-"}]
[null,{"$f":"IFERROR(VLOOKUP(A1750,'5'!$E$12:$I$12,2,FALSE),\"-\")","v":"-"},{"$f":"IFERROR(VLOOKUP(A1750,'5'!E1752:I1752,4,FALSE),\"-\")","v":"-"}]
[null,{"$f":"IFERROR(VLOOKUP(A1750,'5'!$E$13:$I$13,2,FALSE),\"-\")","v":"-"},{"$f":"IFERROR(VLOOKUP(A1750,'5'!E1753:I1753,4,FALSE),\"-\")","v":"-"}]
[null,{"$f":"IFERROR(VLOOKUP(A1750,'5'!$E$14:$I$14,2,FALSE),\"-\")","v":"-"},{"$f":"IFERROR(VLOOKUP(A1750,'5'!E1754:I1754,4,FALSE),\"-\")","v":"-"}]
[null,{"$f":"IFERROR(VLOOKUP(A1750,'5'!$E$15:$I$15,2,FALSE),\"-\")","v":"-"},{"$f":"IFERROR(VLOOKUP(A1750,'5'!E1755:I1755,4,FALSE),\"-\")","v":"-"}]
[null,{"$f":"IFERROR(VLOOKUP(A1750,'5'!$E$16:$I$16,2,FALSE),\"-\")","v":"-"},{"$f":"IFERROR(VLOOKUP(A1750,'5'!E1756:I1756,4,FALSE),\"-\")","v":"-"}]
[null,{"$f":"IFERROR(VLOOKUP(A1750,'5'!$E$17:$I$17,2,FALSE),\"-\")","v":"-"},{"$f":"IFERROR(VLOOKUP(A1750,'5'!E1757:I1757,4,FALSE),\"-\")","v":"-"}]
[null,{"$f":"IFERROR(VLOOKUP(A1750,'5'!$E$18:$I$18,2,FALSE),\"-\")","v":"-"},{"$f":"IFERROR(VLOOKUP(A1750,'5'!E1758:I1758,4,FALSE),\"-\")","v":"-"}]
[null,{"$f":"IFERROR(VLOOKUP(A1750,'5'!$E$19:$I$19,2,FALSE),\"-\")","v":"-"},{"$f":"IFERROR(VLOOKUP(A1750,'5'!E1759:I1759,4,FALSE),\"-\")","v":"-"}]
[null,{"$f":"IFERROR(VLOOKUP(A1750,'5'!$E$20:$I$20,2,FALSE),\"-\")","v":"-"},{"$f":"IFERROR(VLOOKUP(A1750,'5'!E1760:I1760,4,FALSE),\"-\")","v":"-"}]
[null,{"$f":"IFERROR(VLOOKUP(A1750,'5'!$E$21:$I$21,2,FALSE),\"-\")","v":"-"},{"$f":"IFERROR(VLOOKUP(A1750,'5'!E1761:I1761,4,FALSE),\"-\")","v":"-"}]
[null,{"$f":"IFERROR(VLOOKUP(A1750,'5'!$E$22:$I$22,2,FALSE),\"-\")","v":"-"},{"$f":"IFERROR(VLOOKUP(A1750,'5'!E1762:I1762,4,FALSE),\"-\")","v":"-"}]
[null,{"$f":"IFERROR(VLOOKUP(A1750,'5'!$E$23:$I$23,2,FALSE),\"-\")","v":"-"},{"$f":"IFERROR(VLOOKUP(A1750,'5'!E1763:I1763,4,FALSE),\"-\")","v":"-"}]
[null,{"$f":"IFERROR(VLOOKUP(A1750,'5'!$E$24:$I$24,2,FALSE),\"-\")","v":"-"},{"$f":"IFERROR(VLOOKUP(A1750,'5'!E1764:I1764,4,FALSE),\"-\")","v":"-"}]
[null,{"$f":"IFERROR(VLOOKUP(A1750,'5'!$E$25:$I$25,2,FALSE),\"-\")","v":"-"},{"$f":"IFERROR(VLOOKUP(A1750,'5'!E1765:I1765,4,FALSE),\"-\")","v":"-"}]
[null,{"$f":"IFERROR(VLOOKUP(A1750,'5'!$E$26:$I$26,2,FALSE),\"-\")","v":"-"},{"$f":"IFERROR(VLOOKUP(A1750,'5'!E1766:I1766,4,FALSE),\"-\")","v":"-"}]
[null,{"$f":"IFERROR(VLOOKUP(A1750,'5'!$E$27:$I$27,2,FALSE),\"-\")","v":"-"},{"$f":"IFERROR(VLOOKUP(A1750,'5'!E1767:I1767,4,FALSE),\"-\")","v":"-"}]
[null,{"$f":"IFERROR(VLOOKUP(A1750,'5'!$E$28:$I$28,2,FALSE),\"-\")","v":"-"},{"$f":"IFERROR(VLOOKUP(A1750,'5'!E1768:I1768,4,FALSE),\"-\")","v":"-"}]
[null,{"$f":"IFERROR(VLOOKUP(A1750,'5'!$E$29:$I$29,2,FALSE),\"-\")","v":"-"},{"$f":"IFERROR(VLOOKUP(A1750,'5'!E1769:I1769,4,FALSE),\"-\")","v":"-"}]
[null,{"$f":"IFERROR(VLOOKUP(A1750,'5'!$E$30:$I$30,2,FALSE),\"-\")","v":"-"},{"$f":"IFERROR(VLOOKUP(A1750,'5'!E1770:I1770,4,FALSE),\"-\")","v":"-"}]
[null,{"$f":"IFERROR(VLOOKUP(A1750,'5'!$E$31:$I$31,2,FALSE),\"-\")","v":"-"},{"$f":"IFERROR(VLOOKUP(A1750,'5'!E1771:I1771,4,FALSE),\"-\")","v":"-"}]
[null,{"$f":"IFERROR(VLOOKUP(A1750,'6'!$E$4:$I$4,2,FALSE),\"-\")","v":"-"},{"$f":"IFERROR(VLOOKUP(A1750,'6'!E1744:I1744,4,FALSE),\"-\")","v":"-"}]
[null,{"$f":"IFERROR(VLOOKUP(A1750,'6'!$E$5:$I$5,2,FALSE),\"-\")","v":"-"},{"$f":"IFERROR(VLOOKUP(A1750,'6'!E1745:I1745,4,FALSE),\"-\")","v":"-"}]
[null,{"$f":"IFERROR(VLOOKUP(A1750,'6'!$E$6:$I$6,2,FALSE),\"-\")","v":"-"},{"$f":"IFERROR(VLOOKUP(A1750,'6'!E1746:I1746,4,FALSE),\"-\")","v":"-"}]
[null,{"$f":"IFERROR(VLOOKUP(A1750,'6'!$E$7:$I$7,2,FALSE),\"-\")","v":"-"},{"$f":"IFERROR(VLOOKUP(A1750,'6'!E1747:I1747,4,FALSE),\"-\")","v":"-"}]
[null,{"$f":"IFERROR(VLOOKUP(A1750,'6'!$E$8:$I$8,2,FALSE),\"-\")","v":"-"},{"$f":"IFERROR(VLOOKUP(A1750,'6'!E1748:I1748,4,FALSE),\"-\")","v":"-"}]
[null,{"$f":"IFERROR(VLOOKUP(A1750,'6'!$E$9:$I$9,2,FALSE),\"-\")","v":"-"},{"$f":"IFERROR(VLOOKUP(A1750,'6'!E1749:I1749,4,FALSE),\"-\")","v":"-"}]
[null,{"$f":"IFERROR(VLOOKUP(A1750,'6'!$E$10:$I$10,2,FALSE),\"-\")","v":"-"},{"$f":"IFERROR(VLOOKUP(A1750,'6'!E1750:I1750,4,FALSE),\"-\")","v":"-"}]
[null,{"$f":"IFERROR(VLOOKUP(A1750,'6'!$E$11:$I$11,2,FALSE),\"-\")","v":"-"},{"$f":"IFERROR(VLOOKUP(A1750,'6'!E1751:I1751,4,FALSE),\"-\")","v":"-"}]
[null,{"$f":"IFERROR(VLOOKUP(A1750,'6'!$E$12:$I$12,2,FALSE),\"-\")","v":"-"},{"$f":"IFERROR(VLOOKUP(A1750,'6'!E1752:I1752,4,FALSE),\"-\")","v":"-"}]
[null,{"$f":"IFERROR(VLOOKUP(A1750,'6'!$E$13:$I$13,2,FALSE),\"-\")","v":"-"},{"$f":"IFERROR(VLOOKUP(A1750,'6'!E1753:I1753,4,FALSE),\"-\")","v":"-"}]
[null,{"$f":"IFERROR(VLOOKUP(A1750,'6'!$E$14:$I$14,2,FALSE),\"-\")","v":"-"},{"$f":"IFERROR(VLOOKUP(A1750,'6'!E1754:I1754,4,FALSE),\"-\")","v":"-"}]
[null,{"$f":"IFERROR(VLOOKUP(A1750,'6'!$E$15:$I$15,2,FALSE),\"-\")","v":"-"},{"$f":"IFERROR(VLOOKUP(A1750,'6'!E1755:I1755,4,FALSE),\"-\")","v":"-"}]
[null,{"$f":"IFERROR(VLOOKUP(A1750,'6'!$E$16:$I$16,2,FALSE),\"-\")","v":"-"},{"$f":"IFERROR(VLOOKUP(A1750,'6'!E1756:I1756,4,FALSE),\"-\")","v":"-"}]
[null,{"$f":"IFERROR(VLOOKUP(A1750,'6'!$E$17:$I$17,2,FALSE),\"-\")","v":"-"},{"$f":"IFERROR(VLOOKUP(A1750,'6'!E1757:I1757,4,FALSE),\"-\")","v":"-"}]
[null,{"$f":"IFERROR(VLOOKUP(A1750,'6'!$E$18:$I$18,2,FALSE),\"-\")","v":"-"},{"$f":"IFERROR(VLOOKUP(A1750,'6'!E1758:I1758,4,FALSE),\"-\")","v":"-"}]
[null,{"$f":"IFERROR(VLOOKUP(A1750,'6'!$E$19:$I$19,2,FALSE),\"-\")","v":"-"},{"$f":"IFERROR(VLOOKUP(A1750,'6'!E1759:I1759,4,FALSE),\"-\")","v":"-"}]
[null,{"$f":"IFERROR(VLOOKUP(A1750,'6'!$E$20:$I$20,2,FALSE),\"-\")","v":"-"},{"$f":"IFERROR(VLOOKUP(A1750,'6'!E1760:I1760,4,FALSE),\"-\")","v":"-"}]
[null,{"$f":"IFERROR(VLOOKUP(A1750,'6'!$E$21:$I$21,2,FALSE),\"-\")","v":"-"},{"$f":"IFERROR(VLOOKUP(A1750,'6'!E1761:I1761,4,FALSE),\"-\")","v":"-"}]
[null,{"$f":"IFERROR(VLOOKUP(A1750,'6'!$E$22:$I$22,2,FALSE),\"-\")","v":"-"},{"$f":"IFERROR(VLOOKUP(A1750,'6'!E1762:I1762,4,FALSE),\"-\")","v":"-"}]
[null,{"$f":"IFERROR(VLOOKUP(A1750,'6'!$E$23:$I$23,2,FALSE),\"-\")","v":"-"},{"$f":"IFERROR(VLOOKUP(A1750,'6'!E1763:I1763,4,FALSE),\"-\")","v":"-"}]
[null,{"$f":"IFERROR(VLOOKUP(A1750,'6'!$E$24:$I$24,2,FALSE),\"-\")","v":"-"},{"$f":"IFERROR(VLOOKUP(A1750,'6'!E1764:I1764,4,FALSE),\"-\")","v":"-"}]
[null,{"$f":"IFERROR(VLOOKUP(A1750,'6'!$E$25:$I$25,2,FALSE),\"-\")","v":"-"},{"$f":"IFERROR(VLOOKUP(A1750,'6'!E1765:I1765,4,FALSE),\"-\")","v":"-"}]
[null,{"$f":"IFERROR(VLOOKUP(A1750,'6'!$E$26:$I$26,2,FALSE),\"-\")","v":"-"},{"$f":"IFERROR(VLOOKUP(A1750,'6'!E1766:I1766,4,FALSE),\"-\")","v":"-"}]
[null,{"$f":"IFERROR(VLOOKUP(A1750,'6'!$E$27:$I$27,2,FALSE),\"-\")","v":"-"},{"$f":"IFERROR(VLOOKUP(A1750,'6'!E1767:I1767,4,FALSE),\"-\")","v":"-"}]
[null,{"$f":"IFERROR(VLOOKUP(A1750,'6'!$E$28:$I$28,2,FALSE),\"-\")","v":"-"},{"$f":"IFERROR(VLOOKUP(A1750,'6'!E1768:I1768,4,FALSE),\"-\")","v":"-"}]
[null,{"$f":"IFERROR(VLOOKUP(A1750,'6'!$E$29:$I$29,2,FALSE),\"-\")","v":"-"},{"$f":"IFERROR(VLOOKUP(A1750,'6'!E1769:I1769,4,FALSE),\"-\")","v":"-"}]
[null,{"$f":"IFERROR(VLOOKUP(A1750,'6'!$E$30:$I$30,2,FALSE),\"-\")","v":"-"},{"$f":"IFERROR(VLOOKUP(A1750,'6'!E1770:I1770,4,FALSE),\"-\")","v":"-"}]
[null,{"$f":"IFERROR(VLOOKUP(A1750,'6'!$E$31:$I$31,2,FALSE),\"-\")","v":"-"},{"$f":"IFERROR(VLOOKUP(A1750,'6'!E1771:I1771,4,FALSE),\"-\")","v":"-"}]
[null,{"$f":"IFERROR(VLOOKUP(A1750,'7'!$E$4:$I$4,2,FALSE),\"-\")","v":"-"},{"$f":"IFERROR(VLOOKUP(A1750,'7'!E1744:I1744,4,FALSE),\"-\")","v":"-"}]
[null,{"$f":"IFERROR(VLOOKUP(A1750,'7'!$E$5:$I$5,2,FALSE),\"-\")","v":"-"},{"$f":"IFERROR(VLOOKUP(A1750,'7'!E1745:I1745,4,FALSE),\"-\")","v":"-"}]
[null,{"$f":"IFERROR(VLOOKUP(A1750,'7'!$E$6:$I$6,2,FALSE),\"-\")","v":"-"},{"$f":"IFERROR(VLOOKUP(A1750,'7'!E1746:I1746,4,FALSE),\"-\")","v":"-"}]
[null,{"$f":"IFERROR(VLOOKUP(A1750,'7'!$E$7:$I$7,2,FALSE),\"-\")","v":"-"},{"$f":"IFERROR(VLOOKUP(A1750,'7'!E1747:I1747,4,FALSE),\"-\")","v":"-"}]
[null,{"$f":"IFERROR(VLOOKUP(A1750,'7'!$E$8:$I$8,2,FALSE),\"-\")","v":"-"},{"$f":"IFERROR(VLOOKUP(A1750,'7'!E1748:I1748,4,FALSE),\"-\")","v":"-"}]
[null,{"$f":"IFERROR(VLOOKUP(A1750,'7'!$E$9:$I$9,2,FALSE),\"-\")","v":"-"},{"$f":"IFERROR(VLOOKUP(A1750,'7'!E1749:I1749,4,FALSE),\"-\")","v":"-"}]
[null,{"$f":"IFERROR(VLOOKUP(A1750,'7'!$E$10:$I$10,2,FALSE),\"-\")","v":"-"},{"$f":"IFERROR(VLOOKUP(A1750,'7'!E1750:I1750,4,FALSE),\"-\")","v":"-"}]
[null,{"$f":"IFERROR(VLOOKUP(A1750,'7'!$E$11:$I$11,2,FALSE),\"-\")","v":"-"},{"$f":"IFERROR(VLOOKUP(A1750,'7'!E1751:I1751,4,FALSE),\"-\")","v":"-"}]
[null,{"$f":"IFERROR(VLOOKUP(A1750,'7'!$E$12:$I$12,2,FALSE),\"-\")","v":"-"},{"$f":"IFERROR(VLOOKUP(A1750,'7'!E1752:I1752,4,FALSE),\"-\")","v":"-"}]
[null,{"$f":"IFERROR(VLOOKUP(A1750,'7'!$E$13:$I$13,2,FALSE),\"-\")","v":"-"},{"$f":"IFERROR(VLOOKUP(A1750,'7'!E1753:I1753,4,FALSE),\"-\")","v":"-"}]
[null,{"$f":"IFERROR(VLOOKUP(A1750,'7'!$E$14:$I$14,2,FALSE),\"-\")","v":"-"},{"$f":"IFERROR(VLOOKUP(A1750,'7'!E1754:I1754,4,FALSE),\"-\")","v":"-"}]
[null,{"$f":"IFERROR(VLOOKUP(A1750,'7'!$E$15:$I$15,2,FALSE),\"-\")","v":"-"},{"$f":"IFERROR(VLOOKUP(A1750,'7'!E1755:I1755,4,FALSE),\"-\")","v":"-"}]
[null,{"$f":"IFERROR(VLOOKUP(A1750,'7'!$E$16:$I$16,2,FALSE),\"-\")","v":"-"},{"$f":"IFERROR(VLOOKUP(A1750,'7'!E1756:I1756,4,FALSE),\"-\")","v":"-"}]
[null,{"$f":"IFERROR(VLOOKUP(A1750,'7'!$E$17:$I$17,2,FALSE),\"-\")","v":"-"},{"$f":"IFERROR(VLOOKUP(A1750,'7'!E1757:I1757,4,FALSE),\"-\")","v":"-"}]
[null,{"$f":"IFERROR(VLOOKUP(A1750,'7'!$E$18:$I$18,2,FALSE),\"-\")","v":"-"},{"$f":"IFERROR(VLOOKUP(A1750,'7'!E1758:I1758,4,FALSE),\"-\")","v":"-"}]
[null,{"$f":"IFERROR(VLOOKUP(A1750,'7'!$E$19:$I$19,2,FALSE),\"-\")","v":"-"},{"$f":"IFERROR(VLOOKUP(A1750,'7'!E1759:I1759,4,FALSE),\"-\")","v":"-"}]
[null,{"$f":"IFERROR(VLOOKUP(A1750,'7'!$E$20:$I$20,2,FALSE),\"-\")","v":"-"},{"$f":"IFERROR(VLOOKUP(A1750,'7'!E1760:I1760,4,FALSE),\"-\")","v":"-"}]
[null,{"$f":"IFERROR(VLOOKUP(A1750,'7'!$E$21:$I$21,2,FALSE),\"-\")","v":"-"},{"$f":"IFERROR(VLOOKUP(A1750,'7'!E1761:I1761,4,FALSE),\"-\")","v":"-"}]
[null,{"$f":"IFERROR(VLOOKUP(A1750,'7'!$E$22:$I$22,2,FALSE),\"-\")","v":"-"},{"$f":"IFERROR(VLOOKUP(A1750,'7'!E1762:I1762,4,FALSE),\"-\")","v":"-"}]
[null,{"$f":"IFERROR(VLOOKUP(A1750,'7'!$E$23:$I$23,2,FALSE),\"-\")","v":"-"},{"$f":"IFERROR(VLOOKUP(A1750,'7'!E1763:I1763,4,FALSE),\"-\")","v":"-"}]
[null,{"$f":"IFERROR(VLOOKUP(A1750,'7'!$E$24:$I$24,2,FALSE),\"-\")","v":"-"},{"$f":"IFERROR(VLOOKUP(A1750,'7'!E1764:I1764,4,FALSE),\"-\")","v":"-"}]
[null,{"$f":"IFERROR(VLOOKUP(A1750,'7'!$E$25:$I$25,2,FALSE),\"-\")","v":"-"},{"$f":"IFERROR(VLOOKUP(A1750,'7'!E1765:I1765,4,FALSE),\"-\")","v":"-"}]
[null,{"$f":"IFERROR(VLOOKUP(A1750,'7'!$E$26:$I$26,2,FALSE),\"-\")","v":"-"},{"$f":"IFERROR(VLOOKUP(A1750,'7'!E1766:I1766,4,FALSE),\"-\")","v":"-"}]
[null,{"$f":"IFERROR(VLOOKUP(A1750,'7'!$E$27:$I$27,2,FALSE),\"-\")","v":"-"},{"$f":"IFERROR(VLOOKUP(A1750,'7'!E1767:I1767,4,FALSE),\"-\")","v":"-"}]
[null,{"$f":"IFERROR(VLOOKUP(A1750,'7'!$E$28:$I$28,2,FALSE),\"-\")","v":"-"},{"$f":"IFERROR(VLOOKUP(A1750,'7'!E1768:I1768,4,FALSE),\"-\")","v":"-"}]
[null,{"$f":"IFERROR(VLOOKUP(A1750,'7'!$E$29:$I$29,2,FALSE),\"-\")","v":"-"},{"$f":"IFERROR(VLOOKUP(A1750,'7'!E1769:I1769,4,FALSE),\"-\")","v":"-"}]
[null,{"$f":"IFERROR(VLOOKUP(A1750,'7'!$E$30:$I$30,2,FALSE),\"-\")","v":"-"},{"$f":"IFERROR(VLOOKUP(A1750,'7'!E1770:I1770,4,FALSE),\"-\")","v":"-"}]
[null,{"$f":"IFERROR(VLOOKUP(A1750,'7'!$E$31:$I$31,2,FALSE),\"-\")","v":"-"},{"$f":"IFERROR(VLOOKUP(A1750,'7'!E1771:I1771,4,FALSE),\"-\")","v":"-"}]
[null,{"$f":"IFERROR(VLOOKUP(A1750,'8'!$E$4:$I$4,2,FALSE),\"-\")","v":"-"},{"$f":"IFERROR(VLOOKUP(A1750,'8'!E1744:I1744,4,FALSE),\"-\")","v":"-"}]
[null,{"$f":"IFERROR(VLOOKUP(A1750,'8'!$E$5:$I$5,2,FALSE),\"-\")","v":"-"},{"$f":"IFERROR(VLOOKUP(A1750,'8'!E1745:I1745,4,FALSE),\"-\")","v":"-"}]
[null,{"$f":"IFERROR(VLOOKUP(A1750,'8'!$E$6:$I$6,2,FALSE),\"-\")","v":"-"},{"$f":"IFERROR(VLOOKUP(A1750,'8'!E1746:I1746,4,FALSE),\"-\")","v":"-"}]
[null,{"$f":"IFERROR(VLOOKUP(A1750,'8'!$E$7:$I$7,2,FALSE),\"-\")","v":"-"},{"$f":"IFERROR(VLOOKUP(A1750,'8'!E1747:I1747,4,FALSE),\"-\")","v":"-"}]
[null,{"$f":"IFERROR(VLOOKUP(A1750,'8'!$E$8:$I$8,2,FALSE),\"-\")","v":"-"},{"$f":"IFERROR(VLOOKUP(A1750,'8'!E1748:I1748,4,FALSE),\"-\")","v":"-"}]
[null,{"$f":"IFERROR(VLOOKUP(A1750,'8'!$E$9:$I$9,2,FALSE),\"-\")","v":"-"},{"$f":"IFERROR(VLOOKUP(A1750,'8'!E1749:I1749,4,FALSE),\"-\")","v":"-"}]
[null,{"$f":"IFERROR(VLOOKUP(A1750,'8'!$E$10:$I$10,2,FALSE),\"-\")","v":"-"},{"$f":"IFERROR(VLOOKUP(A1750,'8'!E1750:I1750,4,FALSE),\"-\")","v":"-"}]
[null,{"$f":"IFERROR(VLOOKUP(A1750,'8'!$E$11:$I$11,2,FALSE),\"-\")","v":"-"},{"$f":"IFERROR(VLOOKUP(A1750,'8'!E1751:I1751,4,FALSE),\"-\")","v":"-"}]
[null,{"$f":"IFERROR(VLOOKUP(A1750,'8'!$E$12:$I$12,2,FALSE),\"-\")","v":"-"},{"$f":"IFERROR(VLOOKUP(A1750,'8'!E1752:I1752,4,FALSE),\"-\")","v":"-"}]
[null,{"$f":"IFERROR(VLOOKUP(A1750,'8'!$E$13:$I$13,2,FALSE),\"-\")","v":"-"},{"$f":"IFERROR(VLOOKUP(A1750,'8'!E1753:I1753,4,FALSE),\"-\")","v":"-"}]
[null,{"$f":"IFERROR(VLOOKUP(A1750,'8'!$E$14:$I$14,2,FALSE),\"-\")","v":"-"},{"$f":"IFERROR(VLOOKUP(A1750,'8'!E1754:I1754,4,FALSE),\"-\")","v":"-"}]
[null,{"$f":"IFERROR(VLOOKUP(A1750,'8'!$E$15:$I$15,2,FALSE),\"-\")","v":"-"},{"$f":"IFERROR(VLOOKUP(A1750,'8'!E1755:I1755,4,FALSE),\"-\")","v":"-"}]
[null,{"$f":"IFERROR(VLOOKUP(A1750,'8'!$E$16:$I$16,2,FALSE),\"-\")","v":"-"},{"$f":"IFERROR(VLOOKUP(A1750,'8'!E1756:I1756,4,FALSE),\"-\")","v":"-"}]
[null,{"$f":"IFERROR(VLOOKUP(A1750,'8'!$E$17:$I$17,2,FALSE),\"-\")","v":"-"},{"$f":"IFERROR(VLOOKUP(A1750,'8'!E1757:I1757,4,FALSE),\"-\")","v":"-"}]
[null,{"$f":"IFERROR(VLOOKUP(A1750,'8'!$E$18:$I$18,2,FALSE),\"-\")","v":"-"},{"$f":"IFERROR(VLOOKUP(A1750,'8'!E1758:I1758,4,FALSE),\"-\")","v":"-"}]
[null,{"$f":"IFERROR(VLOOKUP(A1750,'8'!$E$19:$I$19,2,FALSE),\"-\")","v":"-"},{"$f":"IFERROR(VLOOKUP(A1750,'8'!E1759:I1759,4,FALSE),\"-\")","v":"-"}]
[null,{"$f":"IFERROR(VLOOKUP(A1750,'8'!$E$20:$I$20,2,FALSE),\"-\")","v":"-"},{"$f":"IFERROR(VLOOKUP(A1750,'8'!E1760:I1760,4,FALSE),\"-\")","v":"-"}]
[null,{"$f":"IFERROR(VLOOKUP(A1750,'8'!$E$21:$I$21,2,FALSE),\"-\")","v":"-"},{"$f":"IFERROR(VLOOKUP(A1750,'8'!E1761:I1761,4,FALSE),\"-\")","v":"-"}]
[null,{"$f":"IFERROR(VLOOKUP(A1750,'8'!$E$22:$I$22,2,FALSE),\"-\")","v":"-"},{"$f":"IFERROR(VLOOKUP(A1750,'8'!E1762:I1762,4,FALSE),\"-\")","v":"-"}]
[null,{"$f":"IFERROR(VLOOKUP(A1750,'8'!$E$23:$I$23,2,FALSE),\"-\")","v":"-"},{"$f":"IFERROR(VLOOKUP(A1750,'8'!E1763:I1763,4,FALSE),\"-\")","v":"-"}]
[null,{"$f":"IFERROR(VLOOKUP(A1750,'8'!$E$24:$I$24,2,FALSE),\"-\")","v":"-"},{"$f":"IFERROR(VLOOKUP(A1750,'8'!E1764:I1764,4,FALSE),\"-\")","v":"-"}]
[null,{"$f":"IFERROR(VLOOKUP(A1750,'8'!$E$25:$I$25,2,FALSE),\"-\")","v":"-"},{"$f":"IFERROR(VLOOKUP(A1750,'8'!E1765:I1765,4,FALSE),\"-\")","v":"-"}]
[null,{"$f":"IFERROR(VLOOKUP(A1750,'8'!$E$26:$I$26,2,FALSE),\"-\")","v":"-"},{"$f":"IFERROR(VLOOKUP(A1750,'8'!E1766:I1766,4,FALSE),\"-\")","v":"-"}]
[null,{"$f":"IFERROR(VLOOKUP(A1750,'8'!$E$27:$I$27,2,FALSE),\"-\")","v":"-"},{"$f":"IFERROR(VLOOKUP(A1750,'8'!E1767:I1767,4,FALSE),\"-\")","v":"-"}]
[null,{"$f":"IFERROR(VLOOKUP(A1750,'8'!$E$28:$I$28,2,FALSE),\"-\")","v":"-"},{"$f":"IFERROR(VLOOKUP(A1750,'8'!E1768:I1768,4,FALSE),\"-\")","v":"-"}]
[null,{"$f":"IFERROR(VLOOKUP(A1750,'8'!$E$29:$I$29,2,FALSE),\"-\")","v":"-"},{"$f":"IFERROR(VLOOKUP(A1750,'8'!E1769:I1769,4,FALSE),\"-\")","v":"-"}]
[null,{"$f":"IFERROR(VLOOKUP(A1750,'8'!$E$30:$I$30,2,FALSE),\"-\")","v":"-"},{"$f":"IFERROR(VLOOKUP(A1750,'8'!E1770:I1770,4,FALSE),\"-\")","v":"-"}]
[null,{"$f":"IFERROR(VLOOKUP(A1750,'8'!$E$31:$I$31,2,FALSE),\"-\")","v":"-"},{"$f":"IFERROR(VLOOKUP(A1750,'8'!E1771:I1771,4,FALSE),\"-\")","v":"-"}]
[null,{"$f":"IFERROR(VLOOKUP(A1750,'9'!$E$4:$I$4,2,FALSE),\"-\")","v":"-"},{"$f":"IFERROR(VLOOKUP(A1750,'9'!E1744:I1744,4,FALSE),\"-\")","v":"-"}]
[null,{"$f":"IFERROR(VLOOKUP(A1750,'9'!$E$5:$I$5,2,FALSE),\"-\")","v":"-"},{"$f":"IFERROR(VLOOKUP(A1750,'9'!E1745:I1745,4,FALSE),\"-\")","v":"-"}]
[null,{"$f":"IFERROR(VLOOKUP(A1750,'9'!$E$6:$I$6,2,FALSE),\"-\")","v":"-"},{"$f":"IFERROR(VLOOKUP(A1750,'9'!E1746:I1746,4,FALSE),\"-\")","v":"-"}]
[null,{"$f":"IFERROR(VLOOKUP(A1750,'9'!$E$7:$I$7,2,FALSE),\"-\")","v":"-"},{"$f":"IFERROR(VLOOKUP(A1750,'9'!E1747:I1747,4,FALSE),\"-\")","v":"-"}]
[null,{"$f":"IFERROR(VLOOKUP(A1750,'9'!$E$8:$I$8,2,FALSE),\"-\")","v":"-"},{"$f":"IFERROR(VLOOKUP(A1750,'9'!E1748:I1748,4,FALSE),\"-\")","v":"-"}]
[null,{"$f":"IFERROR(VLOOKUP(A1750,'9'!$E$9:$I$9,2,FALSE),\"-\")","v":"-"},{"$f":"IFERROR(VLOOKUP(A1750,'9'!E1749:I1749,4,FALSE),\"-\")","v":"-"}]
[null,{"$f":"IFERROR(VLOOKUP(A1750,'9'!$E$10:$I$10,2,FALSE),\"-\")","v":"-"},{"$f":"IFERROR(VLOOKUP(A1750,'9'!E1750:I1750,4,FALSE),\"-\")","v":"-"}]
[null,{"$f":"IFERROR(VLOOKUP(A1750,'9'!$E$11:$I$11,2,FALSE),\"-\")","v":"-"},{"$f":"IFERROR(VLOOKUP(A1750,'9'!E1751:I1751,4,FALSE),\"-\")","v":"-"}]
[null,{"$f":"IFERROR(VLOOKUP(A1750,'9'!$E$12:$I$12,2,FALSE),\"-\")","v":"-"},{"$f":"IFERROR(VLOOKUP(A1750,'9'!E1752:I1752,4,FALSE),\"-\")","v":"-"}]
[null,{"$f":"IFERROR(VLOOKUP(A1750,'9'!$E$13:$I$13,2,FALSE),\"-\")","v":"-"},{"$f":"IFERROR(VLOOKUP(A1750,'9'!E1753:I1753,4,FALSE),\"-\")","v":"-"}]
[null,{"$f":"IFERROR(VLOOKUP(A1750,'9'!$E$14:$I$14,2,FALSE),\"-\")","v":"-"},{"$f":"IFERROR(VLOOKUP(A1750,'9'!E1754:I1754,4,FALSE),\"-\")","v":"-"}]
[null,{"$f":"IFERROR(VLOOKUP(A1750,'9'!$E$15:$I$15,2,FALSE),\"-\")","v":"-"},{"$f":"IFERROR(VLOOKUP(A1750,'9'!E1755:I1755,4,FALSE),\"-\")","v":"-"}]
[null,{"$f":"IFERROR(VLOOKUP(A1750,'9'!$E$16:$I$16,2,FALSE),\"-\")","v":"-"},{"$f":"IFERROR(VLOOKUP(A1750,'9'!E1756:I1756,4,FALSE),\"-\")","v":"-"}]
[null,{"$f":"IFERROR(VLOOKUP(A1750,'9'!$E$17:$I$17,2,FALSE),\"-\")","v":"-"},{"$f":"IFERROR(VLOOKUP(A1750,'9'!E1757:I1757,4,FALSE),\"-\")","v":"-"}]
[null,{"$f":"IFERROR(VLOOKUP(A1750,'9'!$E$18:$I$18,2,FALSE),\"-\")","v":"-"},{"$f":"IFERROR(VLOOKUP(A1750,'9'!E1758:I1758,4,FALSE),\"-\")","v":"-"}]
[null,{"$f":"IFERROR(VLOOKUP(A1750,'9'!$E$19:$I$19,2,FALSE),\"-\")","v":"-"},{"$f":"IFERROR(VLOOKUP(A1750,'9'!E1759:I1759,4,FALSE),\"-\")","v":"-"}]
[null,{"$f":"IFERROR(VLOOKUP(A1750,'9'!$E$20:$I$20,2,FALSE),\"-\")","v":"-"},{"$f":"IFERROR(VLOOKUP(A1750,'9'!E1760:I1760,4,FALSE),\"-\")","v":"-"}]
[null,{"$f":"IFERROR(VLOOKUP(A1750,'9'!$E$21:$I$21,2,FALSE),\"-\")","v":"-"},{"$f":"IFERROR(VLOOKUP(A1750,'9'!E1761:I1761,4,FALSE),\"-\")","v":"-"}]
[null,{"$f":"IFERROR(VLOOKUP(A1750,'9'!$E$22:$I$22,2,FALSE),\"-\")","v":"-"},{"$f":"IFERROR(VLOOKUP(A1750,'9'!E1762:I1762,4,FALSE),\"-\")","v":"-"}]
[null,{"$f":"IFERROR(VLOOKUP(A1750,'9'!$E$23:$I$23,2,FALSE),\"-\")","v":"-"},{"$f":"IFERROR(VLOOKUP(A1750,'9'!E1763:I1763,4,FALSE),\"-\")","v":"-"}]
[null,{"$f":"IFERROR(VLOOKUP(A1750,'9'!$E$24:$I$24,2,FALSE),\"-\")","v":"-"},{"$f":"IFERROR(VLOOKUP(A1750,'9'!E1764:I1764,4,FALSE),\"-\")","v":"-"}]
[null,{"$f":"IFERROR(VLOOKUP(A1750,'9'!$E$25:$I$25,2,FALSE),\"-\")","v":"-"},{"$f":"IFERROR(VLOOKUP(A1750,'9'!E1765:I1765,4,FALSE),\"-\")","v":"-"}]
[null,{"$f":"IFERROR(VLOOKUP(A1750,'9'!$E$26:$I$26,2,FALSE),\"-\")","v":"-"},{"$f":"IFERROR(VLOOKUP(A1750,'9'!E1766:I1766,4,FALSE),\"-\")","v":"-"}]
[null,{"$f":"IFERROR(VLOOKUP(A1750,'9'!$E$27:$I$27,2,FALSE),\"-\")","v":"-"},{"$f":"IFERROR(VLOOKUP(A1750,'9'!E1767:I1767,4,FALSE),\"-\")","v":"-"}]
[null,{"$f":"IFERROR(VLOOKUP(A1750,'9'!$E$28:$I$28,2,FALSE),\"-\")","v":"-"},{"$f":"IFERROR(VLOOKUP(A1750,'9'!E1768:I1768,4,FALSE),\"-\")","v":"-"}]
[null,{"$f":"IFERROR(VLOOKUP(A1750,'9'!$E$29:$I$29,2,FALSE),\"-\")","v":"-"},{"$f":"IFERROR(VLOOKUP(A1750,'9'!E1769:I1769,4,FALSE),\"-\")","v":"-"}]
[null,{"$f":"IFERROR(VLOOKUP(A1750,'9'!$E$30:$I$30,2,FALSE),\"-\")","v":"-"},{"$f":"IFERROR(VLOOKUP(A1750,'9'!E1770:I1770,4,FALSE),\"-\")","v":"-"}]
[null,{"$f":"IFERROR(VLOOKUP(A1750,'9'!$E$31:$I$31,2,FALSE),\"-\")","v":"-"},{"$f":"IFERROR(VLOOKUP(A1750,'9'!E1771:I1771,4,FALSE),\"-\")","v":"-"}]
[null,{"$f":"IFERROR(VLOOKUP(A1750,'10'!$E$4:$I$4,2,FALSE),\"-\")","v":"-"},{"$f":"IFERROR(VLOOKUP(A1750,'10'!E1744:I1744,4,FALSE),\"-\")","v":"-"}]
[null,{"$f":"IFERROR(VLOOKUP(A1750,'10'!$E$5:$I$5,2,FALSE),\"-\")","v":"-"},{"$f":"IFERROR(VLOOKUP(A1750,'10'!E1745:I1745,4,FALSE),\"-\")","v":"-"}]
[null,{"$f":"IFERROR(VLOOKUP(A1750,'10'!$E$6:$I$6,2,FALSE),\"-\")","v":"-"},{"$f":"IFERROR(VLOOKUP(A1750,'10'!E1746:I1746,4,FALSE),\"-\")","v":"-"}]
[null,{"$f":"IFERROR(VLOOKUP(A1750,'10'!$E$7:$I$7,2,FALSE),\"-\")","v":"-"},{"$f":"IFERROR(VLOOKUP(A1750,'10'!E1747:I1747,4,FALSE),\"-\")","v":"-"}]
[null,{"$f":"IFERROR(VLOOKUP(A1750,'10'!$E$8:$I$8,2,FALSE),\"-\")","v":"-"},{"$f":"IFERROR(VLOOKUP(A1750,'10'!E1748:I1748,4,FALSE),\"-\")","v":"-"}]
[null,{"$f":"IFERROR(VLOOKUP(A1750,'10'!$E$9:$I$9,2,FALSE),\"-\")","v":"-"},{"$f":"IFERROR(VLOOKUP(A1750,'10'!E1749:I1749,4,FALSE),\"-\")","v":"-"}]
[null,{"$f":"IFERROR(VLOOKUP(A1750,'10'!$E$10:$I$10,2,FALSE),\"-\")","v":"-"},{"$f":"IFERROR(VLOOKUP(A1750,'10'!E1750:I1750,4,FALSE),\"-\")","v":"-"}]
[null,{"$f":"IFERROR(VLOOKUP(A1750,'10'!$E$11:$I$11,2,FALSE),\"-\")","v":"-"},{"$f":"IFERROR(VLOOKUP(A1750,'10'!E1751:I1751,4,FALSE),\"-\")","v":"-"}]
[null,{"$f":"IFERROR(VLOOKUP(A1750,'10'!$E$12:$I$12,2,FALSE),\"-\")","v":"-"},{"$f":"IFERROR(VLOOKUP(A1750,'10'!E1752:I1752,4,FALSE),\"-\")","v":"-"}]
[null,{"$f":"IFERROR(VLOOKUP(A1750,'10'!$E$13:$I$13,2,FALSE),\"-\")","v":"-"},{"$f":"IFERROR(VLOOKUP(A1750,'10'!E1753:I1753,4,FALSE),\"-\")","v":"-"}]
[null,{"$f":"IFERROR(VLOOKUP(A1750,'10'!$E$14:$I$14,2,FALSE),\"-\")","v":"-"},{"$f":"IFERROR(VLOOKUP(A1750,'10'!E1754:I1754,4,FALSE),\"-\")","v":"-"}]
[null,{"$f":"IFERROR(VLOOKUP(A1750,'10'!$E$15:$I$15,2,FALSE),\"-\")","v":"-"},{"$f":"IFERROR(VLOOKUP(A1750,'10'!E1755:I1755,4,FALSE),\"-\")","v":"-"}]
[null,{"$f":"IFERROR(VLOOKUP(A1750,'10'!$E$16:$I$16,2,FALSE),\"-\")","v":"-"},{"$f":"IFERROR(VLOOKUP(A1750,'10'!E1756:I1756,4,FALSE),\"-\")","v":"-"}]
[null,{"$f":"IFERROR(VLOOKUP(A1750,'10'!$E$17:$I$17,2,FALSE),\"-\")","v":"-"},{"$f":"IFERROR(VLOOKUP(A1750,'10'!E1757:I1757,4,FALSE),\"-\")","v":"-"}]
[null,{"$f":"IFERROR(VLOOKUP(A1750,'10'!$E$18:$I$18,2,FALSE),\"-\")","v":"-"},{"$f":"IFERROR(VLOOKUP(A1750,'10'!E1758:I1758,4,FALSE),\"-\")","v":"-"}]
[null,{"$f":"IFERROR(VLOOKUP(A1750,'10'!E$19:$I1759,2,FALSE),\"-\")","v":"-"},{"$f":"IFERROR(VLOOKUP(A1750,'10'!E1759:I1759,4,FALSE),\"-\")","v":"-"}]
[null,{"$f":"IFERROR(VLOOKUP(A1750,'10'!$E$20:$I$20,2,FALSE),\"-\")","v":"-"},{"$f":"IFERROR(VLOOKUP(A1750,'10'!E1760:I1760,4,FALSE),\"-\")","v":"-"}]
[null,{"$f":"IFERROR(VLOOKUP(A1750,'10'!$E$21:$I$21,2,FALSE),\"-\")","v":"-"},{"$f":"IFERROR(VLOOKUP(A1750,'10'!E1761:I1761,4,FALSE),\"-\")","v":"-"}]
[null,{"$f":"IFERROR(VLOOKUP(A1750,'10'!$E$22:$I$22,2,FALSE),\"-\")","v":"-"},{"$f":"IFERROR(VLOOKUP(A1750,'10'!E1762:I1762,4,FALSE),\"-\")","v":"-"}]
[null,{"$f":"IFERROR(VLOOKUP(A1750,'10'!$E$23:$I$23,2,FALSE),\"-\")","v":"-"},{"$f":"IFERROR(VLOOKUP(A1750,'10'!E1763:I1763,4,FALSE),\"-\")","v":"-"}]
[null,{"$f":"IFERROR(VLOOKUP(A1750,'10'!$E$24:$I$24,2,FALSE),\"-\")","v":"-"},{"$f":"IFERROR(VLOOKUP(A1750,'10'!E1764:I1764,4,FALSE),\"-\")","v":"-"}]
[null,{"$f":"IFERROR(VLOOKUP(A1750,'10'!$E$25:$I$25,2,FALSE),\"-\")","v":"-"},{"$f":"IFERROR(VLOOKUP(A1750,'10'!E1765:I1765,4,FALSE),\"-\")","v":"-"}]
[null,{"$f":"IFERROR(VLOOKUP(A1750,'10'!$E$26:$I$26,2,FALSE),\"-\")","v":"-"},{"$f":"IFERROR(VLOOKUP(A1750,'10'!E1766:I1766,4,FALSE),\"-\")","v":"-"}]
[null,{"$f":"IFERROR(VLOOKUP(A1750,'10'!$E$27:$I$27,2,FALSE),\"-\")","v":"-"},{"$f":"IFERROR(VLOOKUP(A1750,'10'!E1767:I1767,4,FALSE),\"-\")","v":"-"}]
[null,{"$f":"IFERROR(VLOOKUP(A1750,'10'!$E$28:I1768,2,FALSE),\"-\")","v":"-"},{"$f":"IFERROR(VLOOKUP(A1750,'10'!E1768:I1768,4,FALSE),\"-\")","v":"-"}]
[null,{"$f":"IFERROR(VLOOKUP(A1750,'10'!$E$29:$I$29,2,FALSE),\"-\")","v":"-"},{"$f":"IFERROR(VLOOKUP(A1750,'10'!E1769:I1769,4,FALSE),\"-\")","v":"-"}]
[null,{"$f":"IFERROR(VLOOKUP(A1750,'10'!$E$30:$I$30,2,FALSE),\"-\")","v":"-"},{"$f":"IFERROR(VLOOKUP(A1750,'10'!E1770:I1770,4,FALSE),\"-\")","v":"-"}]
[null,{"$f":"IFERROR(VLOOKUP(A1750,'10'!$E$31:$I$31,2,FALSE),\"-\")","v":"-"},{"$f":"IFERROR(VLOOKUP(A1750,'10'!E1771:I1771,4,FALSE),\"-\")","v":"-"}]
[null,{"$f":"IFERROR(VLOOKUP(A1750,'11'!$E$4:$I$4,2,FALSE),\"-\")","v":"-"},{"$f":"IFERROR(VLOOKUP(A1750,'11'!E1744:I1744,4,FALSE),\"-\")","v":"-"}]
[null,{"$f":"IFERROR(VLOOKUP(A1750,'11'!$E$5:$I$5,2,FALSE),\"-\")","v":"-"},{"$f":"IFERROR(VLOOKUP(A1750,'11'!E1745:I1745,4,FALSE),\"-\")","v":"-"}]
[null,{"$f":"IFERROR(VLOOKUP(A1750,'11'!$E$6:$I$6,2,FALSE),\"-\")","v":"-"},{"$f":"IFERROR(VLOOKUP(A1750,'11'!E1746:I1746,4,FALSE),\"-\")","v":"-"}]
[null,{"$f":"IFERROR(VLOOKUP(A1750,'11'!$E$7:$I$7,2,FALSE),\"-\")","v":"-"},{"$f":"IFERROR(VLOOKUP(A1750,'11'!E1747:I1747,4,FALSE),\"-\")","v":"-"}]
[null,{"$f":"IFERROR(VLOOKUP(A1750,'11'!$E$8:$I$8,2,FALSE),\"-\")","v":"-"},{"$f":"IFERROR(VLOOKUP(A1750,'11'!E1748:I1748,4,FALSE),\"-\")","v":"-"}]
[null,{"$f":"IFERROR(VLOOKUP(A1750,'11'!$E$9:$I$9,2,FALSE),\"-\")","v":"-"},{"$f":"IFERROR(VLOOKUP(A1750,'11'!E1749:I1749,4,FALSE),\"-\")","v":"-"}]
[null,{"$f":"IFERROR(VLOOKUP(A1750,'11'!$E$10:$I$10,2,FALSE),\"-\")","v":"-"},{"$f":"IFERROR(VLOOKUP(A1750,'11'!E1750:I1750,4,FALSE),\"-\")","v":"-"}]
[null,{"$f":"IFERROR(VLOOKUP(A1750,'11'!$E$11:$I$11,2,FALSE),\"-\")","v":"-"},{"$f":"IFERROR(VLOOKUP(A1750,'11'!E1751:I1751,4,FALSE),\"-\")","v":"-"}]
[null,{"$f":"IFERROR(VLOOKUP(A1750,'11'!$E$12:$I$12,2,FALSE),\"-\")","v":"-"},{"$f":"IFERROR(VLOOKUP(A1750,'11'!E1752:I1752,4,FALSE),\"-\")","v":"-"}]
[null,{"$f":"IFERROR(VLOOKUP(A1750,'11'!$E$13:$I$13,2,FALSE),\"-\")","v":"-"},{"$f":"IFERROR(VLOOKUP(A1750,'11'!E1753:I1753,4,FALSE),\"-\")","v":"-"}]
[null,{"$f":"IFERROR(VLOOKUP(A1750,'11'!$E$14:$I$14,2,FALSE),\"-\")","v":"-"},{"$f":"IFERROR(VLOOKUP(A1750,'11'!E1754:I1754,4,FALSE),\"-\")","v":"-"}]
[null,{"$f":"IFERROR(VLOOKUP(A1750,'11'!$E$15:$I$15,2,FALSE),\"-\")","v":"-"},{"$f":"IFERROR(VLOOKUP(A1750,'11'!E1755:I1755,4,FALSE),\"-\")","v":"-"}]
[null,{"$f":"IFERROR(VLOOKUP(A1750,'11'!$E$16:$I$16,2,FALSE),\"-\")","v":"-"},{"$f":"IFERROR(VLOOKUP(A1750,'11'!E1756:I1756,4,FALSE),\"-\")","v":"-"}]
[null,{"$f":"IFERROR(VLOOKUP(A1750,'11'!$E$17:$I$17,2,FALSE),\"-\")","v":"-"},{"$f":"IFERROR(VLOOKUP(A1750,'11'!E1757:I1757,4,FALSE),\"-\")","v":"-"}]
[null,{"$f":"IFERROR(VLOOKUP(A1750,'11'!$E$18:$I$18,2,FALSE),\"-\")","v":"-"},{"$f":"IFERROR(VLOOKUP(A1750,'11'!E1758:I1758,4,FALSE),\"-\")","v":"-"}]
[null,{"$f":"IFERROR(VLOOKUP(A1750,'11'!$E$19:$I$19,2,FALSE),\"-\")","v":"-"},{"$f":"IFERROR(VLOOKUP(A1750,'11'!E1759:I1759,4,FALSE),\"-\")","v":"-"}]
[null,{"$f":"IFERROR(VLOOKUP(A1750,'11'!$E$20:$I$20,2,FALSE),\"-\")","v":"-"},{"$f":"IFERROR(VLOOKUP(A1750,'11'!E1760:I1760,4,FALSE),\"-\")","v":"-"}]
[null,{"$f":"IFERROR(VLOOKUP(A1750,'11'!$E$21:$I$21,2,FALSE),\"-\")","v":"-"},{"$f":"IFERROR(VLOOKUP(A1750,'11'!E1761:I1761,4,FALSE),\"-\")","v":"-"}]
[null,{"$f":"IFERROR(VLOOKUP(A1750,'11'!$E$22:$I$22,2,FALSE),\"-\")","v":"-"},{"$f":"IFERROR(VLOOKUP(A1750,'11'!E1762:I1762,4,FALSE),\"-\")","v":"-"}]
[null,{"$f":"IFERROR(VLOOKUP(A1750,'11'!$E$23:$I$23,2,FALSE),\"-\")","v":"-"},{"$f":"IFERROR(VLOOKUP(A1750,'11'!E1763:I1763,4,FALSE),\"-\")","v":"-"}]
[null,{"$f":"IFERROR(VLOOKUP(A1750,'11'!$E$24:$I$24,2,FALSE),\"-\")","v":"-"},{"$f":"IFERROR(VLOOKUP(A1750,'11'!E1764:I1764,4,FALSE),\"-\")","v":"-"}]
[null,{"$f":"IFERROR(VLOOKUP(A1750,'11'!$E$25:$I$25,2,FALSE),\"-\")","v":"-"},{"$f":"IFERROR(VLOOKUP(A1750,'11'!E1765:I1765,4,FALSE),\"-\")","v":"-"}]
[null,{"$f":"IFERROR(VLOOKUP(A1750,'11'!$E$26:$I$26,2,FALSE),\"-\")","v":"-"},{"$f":"IFERROR(VLOOKUP(A1750,'11'!E1766:I1766,4,FALSE),\"-\")","v":"-"}]
[null,{"$f":"IFERROR(VLOOKUP(A1750,'11'!$E$27:$I$27,2,FALSE),\"-\")","v":"-"},{"$f":"IFERROR(VLOOKUP(A1750,'11'!E1767:I1767,4,FALSE),\"-\")","v":"-"}]
[null,{"$f":"IFERROR(VLOOKUP(A1750,'11'!$E$28:$I$28,2,FALSE),\"-\")","v":"-"},{"$f":"IFERROR(VLOOKUP(A1750,'11'!E1768:I1768,4,FALSE),\"-\")","v":"-"}]
[null,{"$f":"IFERROR(VLOOKUP(A1750,'11'!$E$29:$I$29,2,FALSE),\"-\")","v":"-"},{"$f":"IFERROR(VLOOKUP(A1750,'11'!E1769:I1769,4,FALSE),\"-\")","v":"-"}]
[null,{"$f":"IFERROR(VLOOKUP(A1750,'11'!$E$30:$I$30,2,FALSE),\"-\")","v":"-"},{"$f":"IFERROR(VLOOKUP(A1750,'11'!E1770:I1770,4,FALSE),\"-\")","v":"-"}]
[null,{"$f":"IFERROR(VLOOKUP(A1750,'11'!$E$31:$I$31,2,FALSE),\"-\")","v":"-"},{"$f":"IFERROR(VLOOKUP(A1750,'11'!E1771:I1771,4,FALSE),\"-\")","v":"-"}]
[null,{"$f":"IFERROR(VLOOKUP(A1750,'12'!$E$4:$I$4,2,FALSE),\"-\")","v":"-"},{"$f":"IFERROR(VLOOKUP(A1750,'12'!E1744:I1744,4,FALSE),\"-\")","v":"-"}]
[null,{"$f":"IFERROR(VLOOKUP(A1750,'12'!$E$5:$I$5,2,FALSE),\"-\")","v":"-"},{"$f":"IFERROR(VLOOKUP(A1750,'12'!E1745:I1745,4,FALSE),\"-\")","v":"-"}]
[null,{"$f":"IFERROR(VLOOKUP(A1750,'12'!$E$6:$I$6,2,FALSE),\"-\")","v":"-"},{"$f":"IFERROR(VLOOKUP(A1750,'12'!E1746:I1746,4,FALSE),\"-\")","v":"-"}]
[null,{"$f":"IFERROR(VLOOKUP(A1750,'12'!$E$7:$I$7,2,FALSE),\"-\")","v":"-"},{"$f":"IFERROR(VLOOKUP(A1750,'12'!E1747:I1747,4,FALSE),\"-\")","v":"-"}]
[null,{"$f":"IFERROR(VLOOKUP(A1750,'12'!$E$8:$I$8,2,FALSE),\"-\")","v":"-"},{"$f":"IFERROR(VLOOKUP(A1750,'12'!E1748:I1748,4,FALSE),\"-\")","v":"-"}]
[null,{"$f":"IFERROR(VLOOKUP(A1750,'12'!$E$9:$I$9,2,FALSE),\"-\")","v":"-"},{"$f":"IFERROR(VLOOKUP(A1750,'12'!E1749:I1749,4,FALSE),\"-\")","v":"-"}]
[null,{"$f":"IFERROR(VLOOKUP(A1750,'12'!$E$10:$I$10,2,FALSE),\"-\")","v":"-"},{"$f":"IFERROR(VLOOKUP(A1750,'12'!E1750:I1750,4,FALSE),\"-\")","v":"-"}]
[null,{"$f":"IFERROR(VLOOKUP(A1750,'12'!$E$11:$I$11,2,FALSE),\"-\")","v":"-"},{"$f":"IFERROR(VLOOKUP(A1750,'12'!E1751:I1751,4,FALSE),\"-\")","v":"-"}]
[null,{"$f":"IFERROR(VLOOKUP(A1750,'12'!$E$12:$I$12,2,FALSE),\"-\")","v":"-"},{"$f":"IFERROR(VLOOKUP(A1750,'12'!E1752:I1752,4,FALSE),\"-\")","v":"-"}]
[null,{"$f":"IFERROR(VLOOKUP(A1750,'12'!$E$13:$I$13,2,FALSE),\"-\")","v":"-"},{"$f":"IFERROR(VLOOKUP(A1750,'12'!E1753:I1753,4,FALSE),\"-\")","v":"-"}]
[null,{"$f":"IFERROR(VLOOKUP(A1750,'12'!$E$14:$I$14,2,FALSE),\"-\")","v":"-"},{"$f":"IFERROR(VLOOKUP(A1750,'12'!E1754:I1754,4,FALSE),\"-\")","v":"-"}]
[null,{"$f":"IFERROR(VLOOKUP(A1750,'12'!$E$15:$I$15,2,FALSE),\"-\")","v":"-"},{"$f":"IFERROR(VLOOKUP(A1750,'12'!E1755:I1755,4,FALSE),\"-\")","v":"-"}]
[null,{"$f":"IFERROR(VLOOKUP(A1750,'12'!$E$16:$I$16,2,FALSE),\"-\")","v":"-"},{"$f":"IFERROR(VLOOKUP(A1750,'12'!E1756:I1756,4,FALSE),\"-\")","v":"-"}]
[null,{"$f":"IFERROR(VLOOKUP(A1750,'12'!$E$17:$I$17,2,FALSE),\"-\")","v":"-"},{"$f":"IFERROR(VLOOKUP(A1750,'12'!E1757:I1757,4,FALSE),\"-\")","v":"-"}]
[null,{"$f":"IFERROR(VLOOKUP(A1750,'12'!$E$18:$I$18,2,FALSE),\"-\")","v":"-"},{"$f":"IFERROR(VLOOKUP(A1750,'12'!E1758:I1758,4,FALSE),\"-\")","v":"-"}]
[null,{"$f":"IFERROR(VLOOKUP(A1750,'12'!$E$19:$I$19,2,FALSE),\"-\")","v":"-"},{"$f":"IFERROR(VLOOKUP(A1750,'12'!E1759:I1759,4,FALSE),\"-\")","v":"-"}]
[null,{"$f":"IFERROR(VLOOKUP(A1750,'12'!$E$20:$I$20,2,FALSE),\"-\")","v":"-"},{"$f":"IFERROR(VLOOKUP(A1750,'12'!E1760:I1760,4,FALSE),\"-\")","v":"-"}]
[null,{"$f":"IFERROR(VLOOKUP(A1750,'12'!$E$21:$I$21,2,FALSE),\"-\")","v":"-"},{"$f":"IFERROR(VLOOKUP(A1750,'12'!E1761:I1761,4,FALSE),\"-\")","v":"-"}]
[null,{"$f":"IFERROR(VLOOKUP(A1750,'12'!$E$22:$I$22,2,FALSE),\"-\")","v":"-"},{"$f":"IFERROR(VLOOKUP(A1750,'12'!E1762:I1762,4,FALSE),\"-\")","v":"-"}]
[null,{"$f":"IFERROR(VLOOKUP(A1750,'12'!$E$23:$I$23,2,FALSE),\"-\")","v":"-"},{"$f":"IFERROR(VLOOKUP(A1750,'12'!E1763:I1763,4,FALSE),\"-\")","v":"-"}]
[null,{"$f":"IFERROR(VLOOKUP(A1750,'12'!$E$24:$I$24,2,FALSE),\"-\")","v":"-"},{"$f":"IFERROR(VLOOKUP(A1750,'12'!E1764:I1764,4,FALSE),\"-\")","v":"-"}]
[null,{"$f":"IFERROR(VLOOKUP(A1750,'12'!$E$25:$I$25,2,FALSE),\"-\")","v":"-"},{"$f":"IFERROR(VLOOKUP(A1750,'12'!E1765:I1765,4,FALSE),\"-\")","v":"-"}]
[null,{"$f":"IFERROR(VLOOKUP(A1750,'12'!$E$26:$I$26,2,FALSE),\"-\")","v":"-"},{"$f":"IFERROR(VLOOKUP(A1750,'12'!E1766:I1766,4,FALSE),\"-\")","v":"-"}]
[null,{"$f":"IFERROR(VLOOKUP(A1750,'12'!$E$27:$I$27,2,FALSE),\"-\")","v":"-"},{"$f":"IFERROR(VLOOKUP(A1750,'12'!E1767:I1767,4,FALSE),\"-\")","v":"-"}]
[null,{"$f":"IFERROR(VLOOKUP(A1750,'12'!$E$28:$I$28,2,FALSE),\"-\")","v":"-"},{"$f":"IFERROR(VLOOKUP(A1750,'12'!E1768:I1768,4,FALSE),\"-\")","v":"-"}]
[null,{"$f":"IFERROR(VLOOKUP(A1750,'12'!$E$29:$I$29,2,FALSE),\"-\")","v":"-"},{"$f":"IFERROR(VLOOKUP(A1750,'12'!E1769:I1769,4,FALSE),\"-\")","v":"-"}]
[null,{"$f":"IFERROR(VLOOKUP(A1750,'12'!$E$30:$I$30,2,FALSE),\"-\")","v":"-"},{"$f":"IFERROR(VLOOKUP(A1750,'12'!E1770:I1770,4,FALSE),\"-\")","v":"-"}]
[null,{"$f":"IFERROR(VLOOKUP(A1750,'12'!$E$31:$I$31,2,FALSE),\"-\")","v":"-"},{"$f":"IFERROR(VLOOKUP(A1750,'12'!E1771:I1771,4,FALSE),\"-\")","v":"-"}]
[null,{"$f":"IFERROR(VLOOKUP(A1750,'13'!$E$4:$I$4,2,FALSE),\"-\")","v":"-"},{"$f":"IFERROR(VLOOKUP(A1750,'13'!E1744:I1744,4,FALSE),\"-\")","v":"-"}]
[null,{"$f":"IFERROR(VLOOKUP(A1750,'13'!$E$5:$I$5,2,FALSE),\"-\")","v":"-"},{"$f":"IFERROR(VLOOKUP(A1750,'13'!E1745:I1745,4,FALSE),\"-\")","v":"-"}]
[null,{"$f":"IFERROR(VLOOKUP(A1750,'13'!$E$6:$I$6,2,FALSE),\"-\")","v":"-"},{"$f":"IFERROR(VLOOKUP(A1750,'13'!E1746:I1746,4,FALSE),\"-\")","v":"-"}]
[null,{"$f":"IFERROR(VLOOKUP(A1750,'13'!$E$7:$I$7,2,FALSE),\"-\")","v":"-"},{"$f":"IFERROR(VLOOKUP(A1750,'13'!E1747:I1747,4,FALSE),\"-\")","v":"-"}]
[null,{"$f":"IFERROR(VLOOKUP(A1750,'13'!$E$8:$I$8,2,FALSE),\"-\")","v":"-"},{"$f":"IFERROR(VLOOKUP(A1750,'13'!E1748:I1748,4,FALSE),\"-\")","v":"-"}]
[null,{"$f":"IFERROR(VLOOKUP(A1750,'13'!$E$9:$I$9,2,FALSE),\"-\")","v":"-"},{"$f":"IFERROR(VLOOKUP(A1750,'13'!E1749:I1749,4,FALSE),\"-\")","v":"-"}]
[null,{"$f":"IFERROR(VLOOKUP(A1750,'13'!$E$10:$I$10,2,FALSE),\"-\")","v":"-"},{"$f":"IFERROR(VLOOKUP(A1750,'13'!E1750:I1750,4,FALSE),\"-\")","v":"-"}]
[null,{"$f":"IFERROR(VLOOKUP(A1750,'13'!$E$11:$I$11,2,FALSE),\"-\")","v":"-"},{"$f":"IFERROR(VLOOKUP(A1750,'13'!E1751:I1751,4,FALSE),\"-\")","v":"-"}]
[null,{"$f":"IFERROR(VLOOKUP(A1750,'13'!$E$12:$I$12,2,FALSE),\"-\")","v":"-"},{"$f":"IFERROR(VLOOKUP(A1750,'13'!E1752:I1752,4,FALSE),\"-\")","v":"-"}]
[null,{"$f":"IFERROR(VLOOKUP(A1750,'13'!$E$13:$I$13,2,FALSE),\"-\")","v":"-"},{"$f":"IFERROR(VLOOKUP(A1750,'13'!E1753:I1753,4,FALSE),\"-\")","v":"-"}]
[null,{"$f":"IFERROR(VLOOKUP(A1750,'13'!$E$14:$I$14,2,FALSE),\"-\")","v":"-"},{"$f":"IFERROR(VLOOKUP(A1750,'13'!E1754:I1754,4,FALSE),\"-\")","v":"-"}]
[null,{"$f":"IFERROR(VLOOKUP(A1750,'13'!$E$15:$I$15,2,FALSE),\"-\")","v":"-"},{"$f":"IFERROR(VLOOKUP(A1750,'13'!E1755:I1755,4,FALSE),\"-\")","v":"-"}]
[null,{"$f":"IFERROR(VLOOKUP(A1750,'13'!$E$16:$I$16,2,FALSE),\"-\")","v":"-"},{"$f":"IFERROR(VLOOKUP(A1750,'13'!E1756:I1756,4,FALSE),\"-\")","v":"-"}]
[null,{"$f":"IFERROR(VLOOKUP(A1750,'13'!$E$17:$I$17,2,FALSE),\"-\")","v":"-"},{"$f":"IFERROR(VLOOKUP(A1750,'13'!E1757:I1757,4,FALSE),\"-\")","v":"-"}]
[null,{"$f":"IFERROR(VLOOKUP(A1750,'13'!$E$18:$I$18,2,FALSE),\"-\")","v":"-"},{"$f":"IFERROR(VLOOKUP(A1750,'13'!E1758:I1758,4,FALSE),\"-\")","v":"-"}]
[null,{"$f":"IFERROR(VLOOKUP(A1750,'13'!$E$19:$I$19,2,FALSE),\"-\")","v":"-"},{"$f":"IFERROR(VLOOKUP(A1750,'13'!E1759:I1759,4,FALSE),\"-\")","v":"-"}]
[null,{"$f":"IFERROR(VLOOKUP(A1750,'13'!$E$20:$I$20,2,FALSE),\"-\")","v":"-"},{"$f":"IFERROR(VLOOKUP(A1750,'13'!E1760:I1760,4,FALSE),\"-\")","v":"-"}]
[null,{"$f":"IFERROR(VLOOKUP(A1750,'13'!$E$21:$I$21,2,FALSE),\"-\")","v":"-"},{"$f":"IFERROR(VLOOKUP(A1750,'13'!E1761:I1761,4,FALSE),\"-\")","v":"-"}]
[null,{"$f":"IFERROR(VLOOKUP(A1750,'13'!$E$22:$I$22,2,FALSE),\"-\")","v":"-"},{"$f":"IFERROR(VLOOKUP(A1750,'13'!E1762:I1762,4,FALSE),\"-\")","v":"-"}]
[null,{"$f":"IFERROR(VLOOKUP(A1750,'13'!$E$23:$I$23,2,FALSE),\"-\")","v":"-"},{"$f":"IFERROR(VLOOKUP(A1750,'13'!E1763:I1763,4,FALSE),\"-\")","v":"-"}]
[null,{"$f":"IFERROR(VLOOKUP(A1750,'13'!$E$24:$I$24,2,FALSE),\"-\")","v":"-"},{"$f":"IFERROR(VLOOKUP(A1750,'13'!E1764:I1764,4,FALSE),\"-\")","v":"-"}]
[null,{"$f":"IFERROR(VLOOKUP(A1750,'13'!$E$25:$I$25,2,FALSE),\"-\")","v":"-"},{"$f":"IFERROR(VLOOKUP(A1750,'13'!E1765:I1765,4,FALSE),\"-\")","v":"-"}]
[null,{"$f":"IFERROR(VLOOKUP(A1750,'13'!$E$26:$I$26,2,FALSE),\"-\")","v":"-"},{"$f":"IFERROR(VLOOKUP(A1750,'13'!E1766:I1766,4,FALSE),\"-\")","v":"-"}]
[null,{"$f":"IFERROR(VLOOKUP(A1750,'13'!$E$27:$I$27,2,FALSE),\"-\")","v":"-"},{"$f":"IFERROR(VLOOKUP(A1750,'13'!E1767:I1767,4,FALSE),\"-\")","v":"-"}]
[null,{"$f":"IFERROR(VLOOKUP(A1750,'13'!$E$28:$I$28,2,FALSE),\"-\")","v":"-"},{"$f":"IFERROR(VLOOKUP(A1750,'13'!E1768:I1768,4,FALSE),\"-\")","v":"-"}]
[null,{"$f":"IFERROR(VLOOKUP(A1750,'13'!$E$29:$I$29,2,FALSE),\"-\")","v":"-"},{"$f":"IFERROR(VLOOKUP(A1750,'13'!E1769:I1769,4,FALSE),\"-\")","v":"-"}]
[null,{"$f":"IFERROR(VLOOKUP(A1750,'13'!$E$30:$I$30,2,FALSE),\"-\")","v":"-"},{"$f":"IFERROR(VLOOKUP(A1750,'13'!E1770:I1770,4,FALSE),\"-\")","v":"-"}]
[null,{"$f":"IFERROR(VLOOKUP(A1750,'13'!$E$31:$I$31,2,FALSE),\"-\")","v":"-"},{"$f":"IFERROR(VLOOKUP(A1750,'13'!E1771:I1771,4,FALSE),\"-\")","v":"-"}]
[null,{"$f":"IFERROR(VLOOKUP(A1750,'14'!$E$4:$I$4,2,FALSE),\"-\")","v":"-"},{"$f":"IFERROR(VLOOKUP(A1750,'14'!E1744:I1744,4,FALSE),\"-\")","v":"-"}]
[null,{"$f":"IFERROR(VLOOKUP(A1750,'14'!$E$5:$I$5,2,FALSE),\"-\")","v":"-"},{"$f":"IFERROR(VLOOKUP(A1750,'14'!E1745:I1745,4,FALSE),\"-\")","v":"-"}]
[null,{"$f":"IFERROR(VLOOKUP(A1750,'14'!$E$6:$I$6,2,FALSE),\"-\")","v":"-"},{"$f":"IFERROR(VLOOKUP(A1750,'14'!E1746:I1746,4,FALSE),\"-\")","v":"-"}]
[null,{"$f":"IFERROR(VLOOKUP(A1750,'14'!$E$7:$I$7,2,FALSE),\"-\")","v":"-"},{"$f":"IFERROR(VLOOKUP(A1750,'14'!E1747:I1747,4,FALSE),\"-\")","v":"-"}]
[null,{"$f":"IFERROR(VLOOKUP(A1750,'14'!$E$8:$I$8,2,FALSE),\"-\")","v":"-"},{"$f":"IFERROR(VLOOKUP(A1750,'14'!E1748:I1748,4,FALSE),\"-\")","v":"-"}]
[null,{"$f":"IFERROR(VLOOKUP(A1750,'14'!$E$9:$I$9,2,FALSE),\"-\")","v":"-"},{"$f":"IFERROR(VLOOKUP(A1750,'14'!E1749:I1749,4,FALSE),\"-\")","v":"-"}]
[null,{"$f":"IFERROR(VLOOKUP(A1750,'14'!$E$10:$I$10,2,FALSE),\"-\")","v":"-"},{"$f":"IFERROR(VLOOKUP(A1750,'14'!E1750:I1750,4,FALSE),\"-\")","v":"-"}]
[null,{"$f":"IFERROR(VLOOKUP(A1750,'14'!$E$11:$I$11,2,FALSE),\"-\")","v":"-"},{"$f":"IFERROR(VLOOKUP(A1750,'14'!E1751:I1751,4,FALSE),\"-\")","v":"-"}]
[null,{"$f":"IFERROR(VLOOKUP(A1750,'14'!$E$12:$I$12,2,FALSE),\"-\")","v":"-"},{"$f":"IFERROR(VLOOKUP(A1750,'14'!E1752:I1752,4,FALSE),\"-\")","v":"-"}]
[null,{"$f":"IFERROR(VLOOKUP(A1750,'14'!$E$13:$I$13,2,FALSE),\"-\")","v":"-"},{"$f":"IFERROR(VLOOKUP(A1750,'14'!E1753:I1753,4,FALSE),\"-\")","v":"-"}]
[null,{"$f":"IFERROR(VLOOKUP(A1750,'14'!$E$14:$I$14,2,FALSE),\"-\")","v":"-"},{"$f":"IFERROR(VLOOKUP(A1750,'14'!E1754:I1754,4,FALSE),\"-\")","v":"-"}]
[null,{"$f":"IFERROR(VLOOKUP(A1750,'14'!$E$15:$I$15,2,FALSE),\"-\")","v":"-"},{"$f":"IFERROR(VLOOKUP(A1750,'14'!E1755:I1755,4,FALSE),\"-\")","v":"-"}]
[null,{"$f":"IFERROR(VLOOKUP(A1750,'14'!$E$16:$I$16,2,FALSE),\"-\")","v":"-"},{"$f":"IFERROR(VLOOKUP(A1750,'14'!E1756:I1756,4,FALSE),\"-\")","v":"-"}]
[null,{"$f":"IFERROR(VLOOKUP(A1750,'14'!$E$17:$I$17,2,FALSE),\"-\")","v":"-"},{"$f":"IFERROR(VLOOKUP(A1750,'14'!E1757:I1757,4,FALSE),\"-\")","v":"-"}]
[null,{"$f":"IFERROR(VLOOKUP(A1750,'14'!$E$18:$I$18,2,FALSE),\"-\")","v":"-"},{"$f":"IFERROR(VLOOKUP(A1750,'14'!E1758:I1758,4,FALSE),\"-\")","v":"-"}]
[null,{"$f":"IFERROR(VLOOKUP(A1750,'14'!$E$19:$I$19,2,FALSE),\"-\")","v":"-"},{"$f":"IFERROR(VLOOKUP(A1750,'14'!E1759:I1759,4,FALSE),\"-\")","v":"-"}]
[null,{"$f":"IFERROR(VLOOKUP(A1750,'14'!$E$20:$I$20,2,FALSE),\"-\")","v":"-"},{"$f":"IFERROR(VLOOKUP(A1750,'14'!E1760:I1760,4,FALSE),\"-\")","v":"-"}]
[null,{"$f":"IFERROR(VLOOKUP(A1750,'14'!$E$21:$I$21,2,FALSE),\"-\")","v":"-"},{"$f":"IFERROR(VLOOKUP(A1750,'14'!E1761:I1761,4,FALSE),\"-\")","v":"-"}]
[null,{"$f":"IFERROR(VLOOKUP(A1750,'14'!$E$22:$I$22,2,FALSE),\"-\")","v":"-"},{"$f":"IFERROR(VLOOKUP(A1750,'14'!E1762:I1762,4,FALSE),\"-\")","v":"-"}]
[null,{"$f":"IFERROR(VLOOKUP(A1750,'14'!$E$23:$I$23,2,FALSE),\"-\")","v":"-"},{"$f":"IFERROR(VLOOKUP(A1750,'14'!E1763:I1763,4,FALSE),\"-\")","v":"-"}]
[null,{"$f":"IFERROR(VLOOKUP(A1750,'14'!$E$24:$I$24,2,FALSE),\"-\")","v":"-"},{"$f":"IFERROR(VLOOKUP(A1750,'14'!E1764:I1764,4,FALSE),\"-\")","v":"-"}]
[null,{"$f":"IFERROR(VLOOKUP(A1750,'14'!$E$25:I1765,2,FALSE),\"-\")","v":"-"},{"$f":"IFERROR(VLOOKUP(A1750,'14'!E1765:I1765,4,FALSE),\"-\")","v":"-"}]
[null,{"$f":"IFERROR(VLOOKUP(A1750,'14'!$E$26:$I$26,2,FALSE),\"-\")","v":"-"},{"$f":"IFERROR(VLOOKUP(A1750,'14'!E1766:I1766,4,FALSE),\"-\")","v":"-"}]
[null,{"$f":"IFERROR(VLOOKUP(A1750,'14'!$E$27:$I$27,2,FALSE),\"-\")","v":"-"},{"$f":"IFERROR(VLOOKUP(A1750,'14'!E1767:I1767,4,FALSE),\"-\")","v":"-"}]
[null,{"$f":"IFERROR(VLOOKUP(A1750,'14'!$E$28:$I$28,2,FALSE),\"-\")","v":"-"},{"$f":"IFERROR(VLOOKUP(A1750,'14'!E1768:I1768,4,FALSE),\"-\")","v":"-"}]
[null,{"$f":"IFERROR(VLOOKUP(A1750,'14'!$E$29:$I$29,2,FALSE),\"-\")","v":"-"},{"$f":"IFERROR(VLOOKUP(A1750,'14'!E1769:I1769,4,FALSE),\"-\")","v":"-"}]
[null,{"$f":"IFERROR(VLOOKUP(A1750,'14'!$E$30:$I$30,2,FALSE),\"-\")","v":"-"},{"$f":"IFERROR(VLOOKUP(A1750,'14'!E1770:I1770,4,FALSE),\"-\")","v":"-"}]
[null,{"$f":"IFERROR(VLOOKUP(A1750,'14'!$E$31:$I$31,2,FALSE),\"-\")","v":"-"},{"$f":"IFERROR(VLOOKUP(A1750,'14'!E1771:I1771,4,FALSE),\"-\")","v":"-"}]
[null,{"$f":"IFERROR(VLOOKUP(A1750,'15'!$E$4:$I$4,2,FALSE),\"-\")","v":"-"},{"$f":"IFERROR(VLOOKUP(A1750,'15'!E1744:I1744,4,FALSE),\"-\")","v":"-"}]
[null,{"$f":"IFERROR(VLOOKUP(A1750,'15'!$E$5:$I$5,2,FALSE),\"-\")","v":"-"},{"$f":"IFERROR(VLOOKUP(A1750,'15'!E1745:I1745,4,FALSE),\"-\")","v":"-"}]
[null,{"$f":"IFERROR(VLOOKUP(A1750,'15'!$E$6:$I$6,2,FALSE),\"-\")","v":"-"},{"$f":"IFERROR(VLOOKUP(A1750,'15'!E1746:I1746,4,FALSE),\"-\")","v":"-"}]
[null,{"$f":"IFERROR(VLOOKUP(A1750,'15'!$E$7:$I$7,2,FALSE),\"-\")","v":"-"},{"$f":"IFERROR(VLOOKUP(A1750,'15'!E1747:I1747,4,FALSE),\"-\")","v":"-"}]
[null,{"$f":"IFERROR(VLOOKUP(A1750,'15'!$E$8:$I$8,2,FALSE),\"-\")","v":"-"},{"$f":"IFERROR(VLOOKUP(A1750,'15'!E1748:I1748,4,FALSE),\"-\")","v":"-"}]
[null,{"$f":"IFERROR(VLOOKUP(A1750,'15'!$E$9:$I$9,2,FALSE),\"-\")","v":"-"},{"$f":"IFERROR(VLOOKUP(A1750,'15'!E1749:I1749,4,FALSE),\"-\")","v":"-"}]
[null,{"$f":"IFERROR(VLOOKUP(A1750,'15'!$E$10:$I$10,2,FALSE),\"-\")","v":"-"},{"$f":"IFERROR(VLOOKUP(A1750,'15'!E1750:I1750,4,FALSE),\"-\")","v":"-"}]
[null,{"$f":"IFERROR(VLOOKUP(A1750,'15'!$E$11:$I$11,2,FALSE),\"-\")","v":"-"},{"$f":"IFERROR(VLOOKUP(A1750,'15'!E1751:I1751,4,FALSE),\"-\")","v":"-"}]
[null,{"$f":"IFERROR(VLOOKUP(A1750,'15'!$E$12:$I$12,2,FALSE),\"-\")","v":"-"},{"$f":"IFERROR(VLOOKUP(A1750,'15'!E1752:I1752,4,FALSE),\"-\")","v":"-"}]
[null,{"$f":"IFERROR(VLOOKUP(A1750,'15'!$E$13:$I$13,2,FALSE),\"-\")","v":"-"},{"$f":"IFERROR(VLOOKUP(A1750,'15'!E1753:I1753,4,FALSE),\"-\")","v":"-"}]
[null,{"$f":"IFERROR(VLOOKUP(A1750,'15'!$E$14:$I$14,2,FALSE),\"-\")","v":"-"},{"$f":"IFERROR(VLOOKUP(A1750,'15'!E1754:I1754,4,FALSE),\"-\")","v":"-"}]
[null,{"$f":"IFERROR(VLOOKUP(A1750,'15'!$E$15:$I$15,2,FALSE),\"-\")","v":"-"},{"$f":"IFERROR(VLOOKUP(A1750,'15'!E1755:I1755,4,FALSE),\"-\")","v":"-"}]
[null,{"$f":"IFERROR(VLOOKUP(A1750,'15'!$E$16:$I$16,2,FALSE),\"-\")","v":"-"},{"$f":"IFERROR(VLOOKUP(A1750,'15'!E1756:I1756,4,FALSE),\"-\")","v":"-"}]
[null,{"$f":"IFERROR(VLOOKUP(A1750,'15'!$E$17:$I$17,2,FALSE),\"-\")","v":"-"},{"$f":"IFERROR(VLOOKUP(A1750,'15'!E1757:I1757,4,FALSE),\"-\")","v":"-"}]
[null,{"$f":"IFERROR(VLOOKUP(A1750,'15'!$E$18:$I$18,2,FALSE),\"-\")","v":"-"},{"$f":"IFERROR(VLOOKUP(A1750,'15'!E1758:I1758,4,FALSE),\"-\")","v":"-"}]
[null,{"$f":"IFERROR(VLOOKUP(A1750,'15'!$E$19:$I$19,2,FALSE),\"-\")","v":"-"},{"$f":"IFERROR(VLOOKUP(A1750,'15'!E1759:I1759,4,FALSE),\"-\")","v":"-"}]
[null,{"$f":"IFERROR(VLOOKUP(A1750,'15'!$E$20:$I$20,2,FALSE),\"-\")","v":"-"},{"$f":"IFERROR(VLOOKUP(A1750,'15'!E1760:I1760,4,FALSE),\"-\")","v":"-"}]
[null,{"$f":"IFERROR(VLOOKUP(A1750,'15'!$E$21:$I$21,2,FALSE),\"-\")","v":"-"},{"$f":"IFERROR(VLOOKUP(A1750,'15'!E1761:I1761,4,FALSE),\"-\")","v":"-"}]
[null,{"$f":"IFERROR(VLOOKUP(A1750,'15'!$E$22:$I$22,2,FALSE),\"-\")","v":"-"},{"$f":"IFERROR(VLOOKUP(A1750,'15'!E1762:I1762,4,FALSE),\"-\")","v":"-"}]
[null,{"$f":"IFERROR(VLOOKUP(A1750,'15'!$E$23:$I$23,2,FALSE),\"-\")","v":"-"},{"$f":"IFERROR(VLOOKUP(A1750,'15'!E1763:I1763,4,FALSE),\"-\")","v":"-"}]
[null,{"$f":"IFERROR(VLOOKUP(A1750,'15'!$E$24:$I$24,2,FALSE),\"-\")","v":"-"},{"$f":"IFERROR(VLOOKUP(A1750,'15'!E1764:I1764,4,FALSE),\"-\")","v":"-"}]
[null,{"$f":"IFERROR(VLOOKUP(A1750,'15'!$E$25:$I$25,2,FALSE),\"-\")","v":"-"},{"$f":"IFERROR(VLOOKUP(A1750,'15'!E1765:I1765,4,FALSE),\"-\")","v":"-"}]
[null,{"$f":"IFERROR(VLOOKUP(A1750,'15'!$E$26:$I$26,2,FALSE),\"-\")","v":"-"},{"$f":"IFERROR(VLOOKUP(A1750,'15'!E1766:I1766,4,FALSE),\"-\")","v":"-"}]
[null,{"$f":"IFERROR(VLOOKUP(A1750,'15'!$E$27:$I$27,2,FALSE),\"-\")","v":"-"},{"$f":"IFERROR(VLOOKUP(A1750,'15'!E1767:I1767,4,FALSE),\"-\")","v":"-"}]
[null,{"$f":"IFERROR(VLOOKUP(A1750,'15'!$E$28:$I$28,2,FALSE),\"-\")","v":"-"},{"$f":"IFERROR(VLOOKUP(A1750,'15'!E1768:I1768,4,FALSE),\"-\")","v":"-"}]
[null,{"$f":"IFERROR(VLOOKUP(A1750,'15'!$E$29:$I$29,2,FALSE),\"-\")","v":"-"},{"$f":"IFERROR(VLOOKUP(A1750,'15'!E1769:I1769,4,FALSE),\"-\")","v":"-"}]
[null,{"$f":"IFERROR(VLOOKUP(A1750,'15'!$E$30:$I$30,2,FALSE),\"-\")","v":"-"},{"$f":"IFERROR(VLOOKUP(A1750,'15'!E1770:I1770,4,FALSE),\"-\")","v":"-"}]
[null,{"$f":"IFERROR(VLOOKUP(A1750,'15'!$E$31:$I$31,2,FALSE),\"-\")","v":"-"},{"$f":"IFERROR(VLOOKUP(A1750,'15'!E1771:I1771,4,FALSE),\"-\")","v":"-"}]
[null,{"$f":"IFERROR(VLOOKUP(A1750,'16'!$E$4:$I$4,2,FALSE),\"-\")","v":"-"},{"$f":"IFERROR(VLOOKUP(A1750,'16'!E1744:I1744,4,FALSE),\"-\")","v":"-"}]
[null,{"$f":"IFERROR(VLOOKUP(A1750,'16'!$E$5:$I$5,2,FALSE),\"-\")","v":"-"},{"$f":"IFERROR(VLOOKUP(A1750,'16'!E1745:I1745,4,FALSE),\"-\")","v":"-"}]
[null,{"$f":"IFERROR(VLOOKUP(A1750,'16'!$E$6:$I$6,2,FALSE),\"-\")","v":"-"},{"$f":"IFERROR(VLOOKUP(A1750,'16'!E1746:I1746,4,FALSE),\"-\")","v":"-"}]
[null,{"$f":"IFERROR(VLOOKUP(A1750,'16'!$E$7:$I$7,2,FALSE),\"-\")","v":"-"},{"$f":"IFERROR(VLOOKUP(A1750,'16'!E1747:I1747,4,FALSE),\"-\")","v":"-"}]
[null,{"$f":"IFERROR(VLOOKUP(A1750,'16'!$E$8:$I$8,2,FALSE),\"-\")","v":"-"},{"$f":"IFERROR(VLOOKUP(A1750,'16'!E1748:I1748,4,FALSE),\"-\")","v":"-"}]
[null,{"$f":"IFERROR(VLOOKUP(A1750,'16'!$E$9:$I$9,2,FALSE),\"-\")","v":"-"},{"$f":"IFERROR(VLOOKUP(A1750,'16'!E1749:I1749,4,FALSE),\"-\")","v":"-"}]
[null,{"$f":"IFERROR(VLOOKUP(A1750,'16'!$E$10:$I$10,2,FALSE),\"-\")","v":"-"},{"$f":"IFERROR(VLOOKUP(A1750,'16'!E1750:I1750,4,FALSE),\"-\")","v":"-"}]
[null,{"$f":"IFERROR(VLOOKUP(A1750,'16'!$E$11:$I$11,2,FALSE),\"-\")","v":"-"},{"$f":"IFERROR(VLOOKUP(A1750,'16'!E1751:I1751,4,FALSE),\"-\")","v":"-"}]
[null,{"$f":"IFERROR(VLOOKUP(A1750,'16'!$E$12:$I$12,2,FALSE),\"-\")","v":"-"},{"$f":"IFERROR(VLOOKUP(A1750,'16'!E1752:I1752,4,FALSE),\"-\")","v":"-"}]
[null,{"$f":"IFERROR(VLOOKUP(A1750,'16'!$E$13:$I$13,2,FALSE),\"-\")","v":"-"},{"$f":"IFERROR(VLOOKUP(A1750,'16'!E1753:I1753,4,FALSE),\"-\")","v":"-"}]
[null,{"$f":"IFERROR(VLOOKUP(A1750,'16'!$E$14:$I$14,2,FALSE),\"-\")","v":"-"},{"$f":"IFERROR(VLOOKUP(A1750,'16'!E1754:I1754,4,FALSE),\"-\")","v":"-"}]
[null,{"$f":"IFERROR(VLOOKUP(A1750,'16'!$E$15:$I$15,2,FALSE),\"-\")","v":"-"},{"$f":"IFERROR(VLOOKUP(A1750,'16'!E1755:I1755,4,FALSE),\"-\")","v":"-"}]
[null,{"$f":"IFERROR(VLOOKUP(A1750,'16'!$E$16:$I$16,2,FALSE),\"-\")","v":"-"},{"$f":"IFERROR(VLOOKUP(A1750,'16'!E1756:I1756,4,FALSE),\"-\")","v":"-"}]
[null,{"$f":"IFERROR(VLOOKUP(A1750,'16'!$E$17:$I$17,2,FALSE),\"-\")","v":"-"},{"$f":"IFERROR(VLOOKUP(A1750,'16'!E1757:I1757,4,FALSE),\"-\")","v":"-"}]
[null,{"$f":"IFERROR(VLOOKUP(A1750,'16'!$E$18:$I$18,2,FALSE),\"-\")","v":"-"},{"$f":"IFERROR(VLOOKUP(A1750,'16'!E1758:I1758,4,FALSE),\"-\")","v":"-"}]
[null,{"$f":"IFERROR(VLOOKUP(A1750,'16'!$E$19:$I$19,2,FALSE),\"-\")","v":"-"},{"$f":"IFERROR(VLOOKUP(A1750,'16'!E1759:I1759,4,FALSE),\"-\")","v":"-"}]
[null,{"$f":"IFERROR(VLOOKUP(A1750,'16'!$E$20:$I$20,2,FALSE),\"-\")","v":"-"},{"$f":"IFERROR(VLOOKUP(A1750,'16'!E1760:I1760,4,FALSE),\"-\")","v":"-"}]
[null,{"$f":"IFERROR(VLOOKUP(A1750,'16'!$E$21:$I$21,2,FALSE),\"-\")","v":"-"},{"$f":"IFERROR(VLOOKUP(A1750,'16'!E1761:I1761,4,FALSE),\"-\")","v":"-"}]
[null,{"$f":"IFERROR(VLOOKUP(A1750,'16'!$E$22:$I$22,2,FALSE),\"-\")","v":"-"},{"$f":"IFERROR(VLOOKUP(A1750,'16'!E1762:I1762,4,FALSE),\"-\")","v":"-"}]
[null,{"$f":"IFERROR(VLOOKUP(A1750,'16'!$E$23:$I$23,2,FALSE),\"-\")","v":"-"},{"$f":"IFERROR(VLOOKUP(A1750,'16'!E1763:I1763,4,FALSE),\"-\")","v":"-"}]
[null,{"$f":"IFERROR(VLOOKUP(A1750,'16'!$E$24:$I$24,2,FALSE),\"-\")","v":"-"},{"$f":"IFERROR(VLOOKUP(A1750,'16'!E1764:I1764,4,FALSE),\"-\")","v":"-"}]
[null,{"$f":"IFERROR(VLOOKUP(A1750,'16'!$E$25:$I$25,2,FALSE),\"-\")","v":"-"},{"$f":"IFERROR(VLOOKUP(A1750,'16'!E1765:I1765,4,FALSE),\"-\")","v":"-"}]
[null,{"$f":"IFERROR(VLOOKUP(A1750,'16'!$E$26:$I$26,2,FALSE),\"-\")","v":"-"},{"$f":"IFERROR(VLOOKUP(A1750,'16'!E1766:I1766,4,FALSE),\"-\")","v":"-"}]
[null,{"$f":"IFERROR(VLOOKUP(A1750,'16'!$E$27:$I$27,2,FALSE),\"-\")","v":"-"},{"$f":"IFERROR(VLOOKUP(A1750,'16'!E1767:I1767,4,FALSE),\"-\")","v":"-"}]
[null,{"$f":"IFERROR(VLOOKUP(A1750,'16'!$E$28:$I$28,2,FALSE),\"-\")","v":"-"},{"$f":"IFERROR(VLOOKUP(A1750,'16'!E1768:I1768,4,FALSE),\"-\")","v":"-"}]
[null,{"$f":"IFERROR(VLOOKUP(A1750,'16'!$E$29:$I$29,2,FALSE),\"-\")","v":"-"},{"$f":"IFERROR(VLOOKUP(A1750,'16'!E1769:I1769,4,FALSE),\"-\")","v":"-"}]
[null,{"$f":"IFERROR(VLOOKUP(A1750,'16'!$E$30:$I$30,2,FALSE),\"-\")","v":"-"},{"$f":"IFERROR(VLOOKUP(A1750,'16'!E1770:I1770,4,FALSE),\"-\")","v":"-"}]
[null,{"$f":"IFERROR(VLOOKUP(A1750,'16'!$E$31:$I$31,2,FALSE),\"-\")","v":"-"},{"$f":"IFERROR(VLOOKUP(A1750,'16'!E1771:I1771,4,FALSE),\"-\")","v":"-"}]
[null,{"$f":"IFERROR(VLOOKUP(A1750,'17'!$E$4:$I$4,2,FALSE),\"-\")","v":"-"},{"$f":"IFERROR(VLOOKUP(A1750,'17'!E1744:I1744,4,FALSE),\"-\")","v":"-"}]
[null,{"$f":"IFERROR(VLOOKUP(A1750,'17'!$E$5:$I$5,2,FALSE),\"-\")","v":"-"},{"$f":"IFERROR(VLOOKUP(A1750,'17'!E1745:I1745,4,FALSE),\"-\")","v":"-"}]
[null,{"$f":"IFERROR(VLOOKUP(A1750,'17'!$E$6:$I$6,2,FALSE),\"-\")","v":"-"},{"$f":"IFERROR(VLOOKUP(A1750,'17'!E1746:I1746,4,FALSE),\"-\")","v":"-"}]
[null,{"$f":"IFERROR(VLOOKUP(A1750,'17'!$E$7:$I$7,2,FALSE),\"-\")","v":"-"},{"$f":"IFERROR(VLOOKUP(A1750,'17'!E1747:I1747,4,FALSE),\"-\")","v":"-"}]
[null,{"$f":"IFERROR(VLOOKUP(A1750,'17'!$E$8:$I$8,2,FALSE),\"-\")","v":"-"},{"$f":"IFERROR(VLOOKUP(A1750,'17'!E1748:I1748,4,FALSE),\"-\")","v":"-"}]
[null,{"$f":"IFERROR(VLOOKUP(A1750,'17'!$E$9:$I$9,2,FALSE),\"-\")","v":"-"},{"$f":"IFERROR(VLOOKUP(A1750,'17'!E1749:I1749,4,FALSE),\"-\")","v":"-"}]
[null,{"$f":"IFERROR(VLOOKUP(A1750,'17'!$E$10:$I$10,2,FALSE),\"-\")","v":"-"},{"$f":"IFERROR(VLOOKUP(A1750,'17'!E1750:I1750,4,FALSE),\"-\")","v":"-"}]
[null,{"$f":"IFERROR(VLOOKUP(A1750,'17'!$E$11:$I$11,2,FALSE),\"-\")","v":"-"},{"$f":"IFERROR(VLOOKUP(A1750,'17'!E1751:I1751,4,FALSE),\"-\")","v":"-"}]
[null,{"$f":"IFERROR(VLOOKUP(A1750,'17'!$E$12:$I$12,2,FALSE),\"-\")","v":"-"},{"$f":"IFERROR(VLOOKUP(A1750,'17'!E1752:I1752,4,FALSE),\"-\")","v":"-"}]
[null,{"$f":"IFERROR(VLOOKUP(A1750,'17'!$E$13:$I$13,2,FALSE),\"-\")","v":"-"},{"$f":"IFERROR(VLOOKUP(A1750,'17'!E1753:I1753,4,FALSE),\"-\")","v":"-"}]
[null,{"$f":"IFERROR(VLOOKUP(A1750,'17'!$E$14:$I$14,2,FALSE),\"-\")","v":"-"},{"$f":"IFERROR(VLOOKUP(A1750,'17'!E1754:I1754,4,FALSE),\"-\")","v":"-"}]
[null,{"$f":"IFERROR(VLOOKUP(A1750,'17'!$E$15:$I$15,2,FALSE),\"-\")","v":"-"},{"$f":"IFERROR(VLOOKUP(A1750,'17'!E1755:I1755,4,FALSE),\"-\")","v":"-"}]
[null,{"$f":"IFERROR(VLOOKUP(A1750,'17'!$E$16:$I$16,2,FALSE),\"-\")","v":"-"},{"$f":"IFERROR(VLOOKUP(A1750,'17'!E1756:I1756,4,FALSE),\"-\")","v":"-"}]
[null,{"$f":"IFERROR(VLOOKUP(A1750,'17'!$E$17:$I$17,2,FALSE),\"-\")","v":"-"},{"$f":"IFERROR(VLOOKUP(A1750,'17'!E1757:I1757,4,FALSE),\"-\")","v":"-"}]
[null,{"$f":"IFERROR(VLOOKUP(A1750,'17'!$E$18:$I$18,2,FALSE),\"-\")","v":"-"},{"$f":"IFERROR(VLOOKUP(A1750,'17'!E1758:I1758,4,FALSE),\"-\")","v":"-"}]
[null,{"$f":"IFERROR(VLOOKUP(A1750,'17'!$E$19:$I$19,2,FALSE),\"-\")","v":"-"},{"$f":"IFERROR(VLOOKUP(A1750,'17'!E1759:I1759,4,FALSE),\"-\")","v":"-"}]
[null,{"$f":"IFERROR(VLOOKUP(A1750,'17'!$E$20:$I$20,2,FALSE),\"-\")","v":"-"},{"$f":"IFERROR(VLOOKUP(A1750,'17'!E1760:I1760,4,FALSE),\"-\")","v":"-"}]
[null,{"$f":"IFERROR(VLOOKUP(A1750,'17'!E$21:$I1761,2,FALSE),\"-\")","v":"-"},{"$f":"IFERROR(VLOOKUP(A1750,'17'!E1761:I1761,4,FALSE),\"-\")","v":"-"}]
[null,{"$f":"IFERROR(VLOOKUP(A1750,'17'!$E$22:$I$22,2,FALSE),\"-\")","v":"-"},{"$f":"IFERROR(VLOOKUP(A1750,'17'!E1762:I1762,4,FALSE),\"-\")","v":"-"}]
[null,{"$f":"IFERROR(VLOOKUP(A1750,'17'!$E$23:$I$23,2,FALSE),\"-\")","v":"-"},{"$f":"IFERROR(VLOOKUP(A1750,'17'!E1763:I1763,4,FALSE),\"-\")","v":"-"}]
[null,{"$f":"IFERROR(VLOOKUP(A1750,'17'!$E$24:$I$24,2,FALSE),\"-\")","v":"-"},{"$f":"IFERROR(VLOOKUP(A1750,'17'!E1764:I1764,4,FALSE),\"-\")","v":"-"}]
[null,{"$f":"IFERROR(VLOOKUP(A1750,'17'!$E$25:$I$25,2,FALSE),\"-\")","v":"-"},{"$f":"IFERROR(VLOOKUP(A1750,'17'!E1765:I1765,4,FALSE),\"-\")","v":"-"}]
[null,{"$f":"IFERROR(VLOOKUP(A1750,'17'!$E$26:$I$26,2,FALSE),\"-\")","v":"-"},{"$f":"IFERROR(VLOOKUP(A1750,'17'!E1766:I1766,4,FALSE),\"-\")","v":"-"}]
[null,{"$f":"IFERROR(VLOOKUP(A1750,'17'!$E$27:$I$27,2,FALSE),\"-\")","v":"-"},{"$f":"IFERROR(VLOOKUP(A1750,'17'!E1767:I1767,4,FALSE),\"-\")","v":"-"}]
[null,{"$f":"IFERROR(VLOOKUP(A1750,'17'!$E$28:$I$28,2,FALSE),\"-\")","v":"-"},{"$f":"IFERROR(VLOOKUP(A1750,'17'!E1768:I1768,4,FALSE),\"-\")","v":"-"}]
[null,{"$f":"IFERROR(VLOOKUP(A1750,'17'!$E$29:$I$29,2,FALSE),\"-\")","v":"-"},{"$f":"IFERROR(VLOOKUP(A1750,'17'!E1769:I1769,4,FALSE),\"-\")","v":"-"}]
[null,{"$f":"IFERROR(VLOOKUP(A1750,'17'!$E$30:$I$30,2,FALSE),\"-\")","v":"-"},{"$f":"IFERROR(VLOOKUP(A1750,'17'!E1770:I1770,4,FALSE),\"-\")","v":"-"}]
[null,{"$f":"IFERROR(VLOOKUP(A1750,'17'!$E$31:$I$31,2,FALSE),\"-\")","v":"-"},{"$f":"IFERROR(VLOOKUP(A1750,'17'!E1771:I1771,4,FALSE),\"-\")","v":"-"}]
[null,{"$f":"IFERROR(VLOOKUP(A1750,'18'!$E$4:$I$4,2,FALSE),\"-\")","v":"-"},{"$f":"IFERROR(VLOOKUP(A1750,'18'!E1744:I1744,4,FALSE),\"-\")","v":"-"}]
[null,{"$f":"IFERROR(VLOOKUP(A1750,'18'!$E$5:$I$5,2,FALSE),\"-\")","v":"-"},{"$f":"IFERROR(VLOOKUP(A1750,'18'!E1745:I1745,4,FALSE),\"-\")","v":"-"}]
[null,{"$f":"IFERROR(VLOOKUP(A1750,'18'!$E$6:$I$6,2,FALSE),\"-\")","v":"-"},{"$f":"IFERROR(VLOOKUP(A1750,'18'!E1746:I1746,4,FALSE),\"-\")","v":"-"}]
[null,{"$f":"IFERROR(VLOOKUP(A1750,'18'!$E$7:$I$7,2,FALSE),\"-\")","v":"-"},{"$f":"IFERROR(VLOOKUP(A1750,'18'!E1747:I1747,4,FALSE),\"-\")","v":"-"}]
[null,{"$f":"IFERROR(VLOOKUP(A1750,'18'!$E$8:$I$8,2,FALSE),\"-\")","v":"-"},{"$f":"IFERROR(VLOOKUP(A1750,'18'!E1748:I1748,4,FALSE),\"-\")","v":"-"}]
[null,{"$f":"IFERROR(VLOOKUP(A1750,'18'!$E$9:$I$9,2,FALSE),\"-\")","v":"-"},{"$f":"IFERROR(VLOOKUP(A1750,'18'!E1749:I1749,4,FALSE),\"-\")","v":"-"}]
[null,{"$f":"IFERROR(VLOOKUP(A1750,'18'!$E$10:$I$10,2,FALSE),\"-\")","v":"-"},{"$f":"IFERROR(VLOOKUP(A1750,'18'!E1750:I1750,4,FALSE),\"-\")","v":"-"}]
[null,{"$f":"IFERROR(VLOOKUP(A1750,'18'!$E$11:$I$11,2,FALSE),\"-\")","v":"-"},{"$f":"IFERROR(VLOOKUP(A1750,'18'!E1751:I1751,4,FALSE),\"-\")","v":"-"}]
[null,{"$f":"IFERROR(VLOOKUP(A1750,'18'!$E$12:$I$12,2,FALSE),\"-\")","v":"-"},{"$f":"IFERROR(VLOOKUP(A1750,'18'!E1752:I1752,4,FALSE),\"-\")","v":"-"}]
[null,{"$f":"IFERROR(VLOOKUP(A1750,'18'!$E$13:$I$13,2,FALSE),\"-\")","v":"-"},{"$f":"IFERROR(VLOOKUP(A1750,'18'!E1753:I1753,4,FALSE),\"-\")","v":"-"}]
[null,{"$f":"IFERROR(VLOOKUP(A1750,'18'!$E$14:$I$14,2,FALSE),\"-\")","v":"-"},{"$f":"IFERROR(VLOOKUP(A1750,'18'!E1754:I1754,4,FALSE),\"-\")","v":"-"}]
[null,{"$f":"IFERROR(VLOOKUP(A1750,'18'!$E$15:$I$15,2,FALSE),\"-\")","v":"-"},{"$f":"IFERROR(VLOOKUP(A1750,'18'!E1755:I1755,4,FALSE),\"-\")","v":"-"}]
[null,{"$f":"IFERROR(VLOOKUP(A1750,'18'!$E$16:$I$16,2,FALSE),\"-\")","v":"-"},{"$f":"IFERROR(VLOOKUP(A1750,'18'!E1756:I1756,4,FALSE),\"-\")","v":"-"}]
[null,{"$f":"IFERROR(VLOOKUP(A1750,'18'!$E$17:$I$17,2,FALSE),\"-\")","v":"-"},{"$f":"IFERROR(VLOOKUP(A1750,'18'!E1757:I1757,4,FALSE),\"-\")","v":"-"}]
[null,{"$f":"IFERROR(VLOOKUP(A1750,'18'!$E$18:$I$18,2,FALSE),\"-\")","v":"-"},{"$f":"IFERROR(VLOOKUP(A1750,'18'!E1758:I1758,4,FALSE),\"-\")","v":"-"}]
[null,{"$f":"IFERROR(VLOOKUP(A1750,'18'!$E$19:$I$19,2,FALSE),\"-\")","v":"-"},{"$f":"IFERROR(VLOOKUP(A1750,'18'!E1759:I1759,4,FALSE),\"-\")","v":"-"}]
[null,{"$f":"IFERROR(VLOOKUP(A1750,'18'!$E$20:$I$20,2,FALSE),\"-\")","v":"-"},{"$f":"IFERROR(VLOOKUP(A1750,'18'!E1760:I1760,4,FALSE),\"-\")","v":"-"}]
[null,{"$f":"IFERROR(VLOOKUP(A1750,'18'!$E$21:$I$21,2,FALSE),\"-\")","v":"-"},{"$f":"IFERROR(VLOOKUP(A1750,'18'!E1761:I1761,4,FALSE),\"-\")","v":"-"}]
[null,{"$f":"IFERROR(VLOOKUP(A1750,'18'!$E$22:$I$22,2,FALSE),\"-\")","v":"-"},{"$f":"IFERROR(VLOOKUP(A1750,'18'!E1762:I1762,4,FALSE),\"-\")","v":"-"}]
[null,{"$f":"IFERROR(VLOOKUP(A1750,'18'!$E$23:$I$23,2,FALSE),\"-\")","v":"-"},{"$f":"IFERROR(VLOOKUP(A1750,'18'!E1763:I1763,4,FALSE),\"-\")","v":"-"}]
[null,{"$f":"IFERROR(VLOOKUP(A1750,'18'!$E$24:$I$24,2,FALSE),\"-\")","v":"-"},{"$f":"IFERROR(VLOOKUP(A1750,'18'!E1764:I1764,4,FALSE),\"-\")","v":"-"}]
[null,{"$f":"IFERROR(VLOOKUP(A1750,'18'!$E$25:$I$25,2,FALSE),\"-\")","v":"-"},{"$f":"IFERROR(VLOOKUP(A1750,'18'!E1765:I1765,4,FALSE),\"-\")","v":"-"}]
[null,{"$f":"IFERROR(VLOOKUP(A1750,'18'!$E$26:$I$26,2,FALSE),\"-\")","v":"-"},{"$f":"IFERROR(VLOOKUP(A1750,'18'!E1766:I1766,4,FALSE),\"-\")","v":"-"}]
[null,{"$f":"IFERROR(VLOOKUP(A1750,'18'!$E$27:$I$27,2,FALSE),\"-\")","v":"-"},{"$f":"IFERROR(VLOOKUP(A1750,'18'!E1767:I1767,4,FALSE),\"-\")","v":"-"}]
[null,{"$f":"IFERROR(VLOOKUP(A1750,'18'!$E$28:$I$28,2,FALSE),\"-\")","v":"-"},{"$f":"IFERROR(VLOOKUP(A1750,'18'!E1768:I1768,4,FALSE),\"-\")","v":"-"}]
[null,{"$f":"IFERROR(VLOOKUP(A1750,'18'!$E$29:$I$29,2,FALSE),\"-\")","v":"-"},{"$f":"IFERROR(VLOOKUP(A1750,'18'!E1769:I1769,4,FALSE),\"-\")","v":"-"}]
[null,{"$f":"IFERROR(VLOOKUP(A1750,'18'!$E$30:$I$30,2,FALSE),\"-\")","v":"-"},{"$f":"IFERROR(VLOOKUP(A1750,'18'!E1770:I1770,4,FALSE),\"-\")","v":"-"}]
[null,{"$f":"IFERROR(VLOOKUP(A1750,'18'!$E$31:$I$31,2,FALSE),\"-\")","v":"-"},{"$f":"IFERROR(VLOOKUP(A1750,'18'!E1771:I1771,4,FALSE),\"-\")","v":"-"}]
[null,{"$f":"IFERROR(VLOOKUP(A1750,'19'!$E$4:$I$4,2,FALSE),\"-\")","v":"-"},{"$f":"IFERROR(VLOOKUP(A1750,'19'!E1744:I1744,4,FALSE),\"-\")","v":"-"}]
[null,{"$f":"IFERROR(VLOOKUP(A1750,'19'!$E$5:$I$5,2,FALSE),\"-\")","v":"-"},{"$f":"IFERROR(VLOOKUP(A1750,'19'!E1745:I1745,4,FALSE),\"-\")","v":"-"}]
[null,{"$f":"IFERROR(VLOOKUP(A1750,'19'!$E$6:$I$6,2,FALSE),\"-\")","v":"-"},{"$f":"IFERROR(VLOOKUP(A1750,'19'!E1746:I1746,4,FALSE),\"-\")","v":"-"}]
[null,{"$f":"IFERROR(VLOOKUP(A1750,'19'!$E$7:$I$7,2,FALSE),\"-\")","v":"-"},{"$f":"IFERROR(VLOOKUP(A1750,'19'!E1747:I1747,4,FALSE),\"-\")","v":"-"}]
[null,{"$f":"IFERROR(VLOOKUP(A1750,'19'!$E$8:$I$8,2,FALSE),\"-\")","v":"-"},{"$f":"IFERROR(VLOOKUP(A1750,'19'!E1748:I1748,4,FALSE),\"-\")","v":"-"}]
[null,{"$f":"IFERROR(VLOOKUP(A1750,'19'!$E$9:$I$9,2,FALSE),\"-\")","v":"-"},{"$f":"IFERROR(VLOOKUP(A1750,'19'!E1749:I1749,4,FALSE),\"-\")","v":"-"}]
[null,{"$f":"IFERROR(VLOOKUP(A1750,'19'!$E$10:$I$10,2,FALSE),\"-\")","v":"-"},{"$f":"IFERROR(VLOOKUP(A1750,'19'!E1750:I1750,4,FALSE),\"-\")","v":"-"}]
[null,{"$f":"IFERROR(VLOOKUP(A1750,'19'!$E$11:$I$11,2,FALSE),\"-\")","v":"-"},{"$f":"IFERROR(VLOOKUP(A1750,'19'!E1751:I1751,4,FALSE),\"-\")","v":"-"}]
[null,{"$f":"IFERROR(VLOOKUP(A1750,'19'!$E$12:$I$12,2,FALSE),\"-\")","v":"-"},{"$f":"IFERROR(VLOOKUP(A1750,'19'!E1752:I1752,4,FALSE),\"-\")","v":"-"}]
[null,{"$f":"IFERROR(VLOOKUP(A1750,'19'!$E$13:$I$13,2,FALSE),\"-\")","v":"-"},{"$f":"IFERROR(VLOOKUP(A1750,'19'!E1753:I1753,4,FALSE),\"-\")","v":"-"}]
[null,{"$f":"IFERROR(VLOOKUP(A1750,'19'!$E$14:$I$14,2,FALSE),\"-\")","v":"-"},{"$f":"IFERROR(VLOOKUP(A1750,'19'!E1754:I1754,4,FALSE),\"-\")","v":"-"}]
[null,{"$f":"IFERROR(VLOOKUP(A1750,'19'!$E$15:$I$15,2,FALSE),\"-\")","v":"-"},{"$f":"IFERROR(VLOOKUP(A1750,'19'!E1755:I1755,4,FALSE),\"-\")","v":"-"}]
[null,{"$f":"IFERROR(VLOOKUP(A1750,'19'!$E$16:$I$16,2,FALSE),\"-\")","v":"-"},{"$f":"IFERROR(VLOOKUP(A1750,'19'!E1756:I1756,4,FALSE),\"-\")","v":"-"}]
[null,{"$f":"IFERROR(VLOOKUP(A1750,'19'!$E$17:$I$17,2,FALSE),\"-\")","v":"-"},{"$f":"IFERROR(VLOOKUP(A1750,'19'!E1757:I1757,4,FALSE),\"-\")","v":"-"}]
[null,{"$f":"IFERROR(VLOOKUP(A1750,'19'!$E$18:$I$18,2,FALSE),\"-\")","v":"-"},{"$f":"IFERROR(VLOOKUP(A1750,'19'!E1758:I1758,4,FALSE),\"-\")","v":"-"}]
[null,{"$f":"IFERROR(VLOOKUP(A1750,'19'!$E$19:$I$19,2,FALSE),\"-\")","v":"-"},{"$f":"IFERROR(VLOOKUP(A1750,'19'!E1759:I1759,4,FALSE),\"-\")","v":"-"}]
[null,{"$f":"IFERROR(VLOOKUP(A1750,'19'!$E$20:$I$20,2,FALSE),\"-\")","v":"-"},{"$f":"IFERROR(VLOOKUP(A1750,'19'!E1760:I1760,4,FALSE),\"-\")","v":"-"}]
[null,{"$f":"IFERROR(VLOOKUP(A1750,'19'!$E$21:$I$21,2,FALSE),\"-\")","v":"-"},{"$f":"IFERROR(VLOOKUP(A1750,'19'!E1761:I1761,4,FALSE),\"-\")","v":"-"}]
[null,{"$f":"IFERROR(VLOOKUP(A1750,'19'!$E$22:$I$22,2,FALSE),\"-\")","v":"-"},{"$f":"IFERROR(VLOOKUP(A1750,'19'!E1762:I1762,4,FALSE),\"-\")","v":"-"}]
[null,{"$f":"IFERROR(VLOOKUP(A1750,'19'!$E$23:$I$23,2,FALSE),\"-\")","v":"-"},{"$f":"IFERROR(VLOOKUP(A1750,'19'!E1763:I1763,4,FALSE),\"-\")","v":"-"}]
[null,{"$f":"IFERROR(VLOOKUP(A1750,'19'!$E$24:$I$24,2,FALSE),\"-\")","v":"-"},{"$f":"IFERROR(VLOOKUP(A1750,'19'!E1764:I1764,4,FALSE),\"-\")","v":"-"}]
[null,{"$f":"IFERROR(VLOOKUP(A1750,'19'!$E$25:$I$25,2,FALSE),\"-\")","v":"-"},{"$f":"IFERROR(VLOOKUP(A1750,'19'!E1765:I1765,4,FALSE),\"-\")","v":"-"}]
[null,{"$f":"IFERROR(VLOOKUP(A1750,'19'!$E$26:$I$26,2,FALSE),\"-\")","v":"-"},{"$f":"IFERROR(VLOOKUP(A1750,'19'!E1766:I1766,4,FALSE),\"-\")","v":"-"}]
[null,{"$f":"IFERROR(VLOOKUP(A1750,'19'!$E$27:$I$27,2,FALSE),\"-\")","v":"-"},{"$f":"IFERROR(VLOOKUP(A1750,'19'!E1767:I1767,4,FALSE),\"-\")","v":"-"}]
[null,{"$f":"IFERROR(VLOOKUP(A1750,'19'!$E$28:$I$28,2,FALSE),\"-\")","v":"-"},{"$f":"IFERROR(VLOOKUP(A1750,'19'!E1768:I1768,4,FALSE),\"-\")","v":"-"}]
[null,{"$f":"IFERROR(VLOOKUP(A1750,'19'!$E$29:$I$29,2,FALSE),\"-\")","v":"-"},{"$f":"IFERROR(VLOOKUP(A1750,'19'!E1769:I1769,4,FALSE),\"-\")","v":"-"}]
[null,{"$f":"IFERROR(VLOOKUP(A1750,'19'!$E$30:$I$30,2,FALSE),\"-\")","v":"-"},{"$f":"IFERROR(VLOOKUP(A1750,'19'!E1770:I1770,4,FALSE),\"-\")","v":"-"}]
[null,{"$f":"IFERROR(VLOOKUP(A1750,'19'!$E$31:$I$31,2,FALSE),\"-\")","v":"-"},{"$f":"IFERROR(VLOOKUP(A1750,'19'!E1771:I1771,4,FALSE),\"-\")","v":"-"}]
[null,{"$f":"IFERROR(VLOOKUP(A1750,'20'!$E$4:$I$4,2,FALSE),\"-\")","v":"-"},{"$f":"IFERROR(VLOOKUP(A1750,'20'!E1744:I1744,4,FALSE),\"-\")","v":"-"}]
[null,{"$f":"IFERROR(VLOOKUP(A1750,'20'!$E$5:$I$5,2,FALSE),\"-\")","v":"-"},{"$f":"IFERROR(VLOOKUP(A1750,'20'!E1745:I1745,4,FALSE),\"-\")","v":"-"}]
[null,{"$f":"IFERROR(VLOOKUP(A1750,'20'!$E$6:$I$6,2,FALSE),\"-\")","v":"-"},{"$f":"IFERROR(VLOOKUP(A1750,'20'!E1746:I1746,4,FALSE),\"-\")","v":"-"}]
[null,{"$f":"IFERROR(VLOOKUP(A1750,'20'!$E$7:$I$7,2,FALSE),\"-\")","v":"-"},{"$f":"IFERROR(VLOOKUP(A1750,'20'!E1747:I1747,4,FALSE),\"-\")","v":"-"}]
[null,{"$f":"IFERROR(VLOOKUP(A1750,'20'!$E$8:I1748,2,FALSE),\"-\")","v":"-"},{"$f":"IFERROR(VLOOKUP(A1750,'20'!E1748:I1748,4,FALSE),\"-\")","v":"-"}]
[null,{"$f":"IFERROR(VLOOKUP(A1750,'20'!$E$9:$I$9,2,FALSE),\"-\")","v":"-"},{"$f":"IFERROR(VLOOKUP(A1750,'20'!E1749:I1749,4,FALSE),\"-\")","v":"-"}]
[null,{"$f":"IFERROR(VLOOKUP(A1750,'20'!$E$10:$I$10,2,FALSE),\"-\")","v":"-"},{"$f":"IFERROR(VLOOKUP(A1750,'20'!E1750:I1750,4,FALSE),\"-\")","v":"-"}]
[null,{"$f":"IFERROR(VLOOKUP(A1750,'20'!$E$11:$I$11,2,FALSE),\"-\")","v":"-"},{"$f":"IFERROR(VLOOKUP(A1750,'20'!E1751:I1751,4,FALSE),\"-\")","v":"-"}]
[null,{"$f":"IFERROR(VLOOKUP(A1750,'20'!$E$12:$I$12,2,FALSE),\"-\")","v":"-"},{"$f":"IFERROR(VLOOKUP(A1750,'20'!E1752:I1752,4,FALSE),\"-\")","v":"-"}]
[null,{"$f":"IFERROR(VLOOKUP(A1750,'20'!$E$13:$I$13,2,FALSE),\"-\")","v":"-"},{"$f":"IFERROR(VLOOKUP(A1750,'20'!E1753:I1753,4,FALSE),\"-\")","v":"-"}]
[null,{"$f":"IFERROR(VLOOKUP(A1750,'20'!$E$14:$I$14,2,FALSE),\"-\")","v":"-"},{"$f":"IFERROR(VLOOKUP(A1750,'20'!E1754:I1754,4,FALSE),\"-\")","v":"-"}]
[null,{"$f":"IFERROR(VLOOKUP(A1750,'20'!$E$15:$I$15,2,FALSE),\"-\")","v":"-"},{"$f":"IFERROR(VLOOKUP(A1750,'20'!E1755:I1755,4,FALSE),\"-\")","v":"-"}]
[null,{"$f":"IFERROR(VLOOKUP(A1750,'20'!$E$16:$I$16,2,FALSE),\"-\")","v":"-"},{"$f":"IFERROR(VLOOKUP(A1750,'20'!E1756:I1756,4,FALSE),\"-\")","v":"-"}]
[null,{"$f":"IFERROR(VLOOKUP(A1750,'20'!$E$17:$I$17,2,FALSE),\"-\")","v":"-"},{"$f":"IFERROR(VLOOKUP(A1750,'20'!E1757:I1757,4,FALSE),\"-\")","v":"-"}]
[null,{"$f":"IFERROR(VLOOKUP(A1750,'20'!$E$18:$I$18,2,FALSE),\"-\")","v":"-"},{"$f":"IFERROR(VLOOKUP(A1750,'20'!E1758:I1758,4,FALSE),\"-\")","v":"-"}]
[null,{"$f":"IFERROR(VLOOKUP(A1750,'20'!$E$19:$I$19,2,FALSE),\"-\")","v":"-"},{"$f":"IFERROR(VLOOKUP(A1750,'20'!E1759:I1759,4,FALSE),\"-\")","v":"-"}]
[null,{"$f":"IFERROR(VLOOKUP(A1750,'20'!$E$20:$I$20,2,FALSE),\"-\")","v":"-"},{"$f":"IFERROR(VLOOKUP(A1750,'20'!E1760:I1760,4,FALSE),\"-\")","v":"-"}]
[null,{"$f":"IFERROR(VLOOKUP(A1750,'20'!$E$21:$I$21,2,FALSE),\"-\")","v":"-"},{"$f":"IFERROR(VLOOKUP(A1750,'20'!E1761:I1761,4,FALSE),\"-\")","v":"-"}]
[null,{"$f":"IFERROR(VLOOKUP(A1750,'20'!$E$22:$I$22,2,FALSE),\"-\")","v":"-"},{"$f":"IFERROR(VLOOKUP(A1750,'20'!E1762:I1762,4,FALSE),\"-\")","v":"-"}]
[null,{"$f":"IFERROR(VLOOKUP(A1750,'20'!$E$23:$I$23,2,FALSE),\"-\")","v":"-"},{"$f":"IFERROR(VLOOKUP(A1750,'20'!E1763:I1763,4,FALSE),\"-\")","v":"-"}]
[null,{"$f":"IFERROR(VLOOKUP(A1750,'20'!$E$24:$I$24,2,FALSE),\"-\")","v":"-"},{"$f":"IFERROR(VLOOKUP(A1750,'20'!E1764:I1764,4,FALSE),\"-\")","v":"-"}]
[null,{"$f":"IFERROR(VLOOKUP(A1750,'20'!$E$25:$I$25,2,FALSE),\"-\")","v":"-"},{"$f":"IFERROR(VLOOKUP(A1750,'20'!E1765:I1765,4,FALSE),\"-\")","v":"-"}]
[null,{"$f":"IFERROR(VLOOKUP(A1750,'20'!$E$26:$I$26,2,FALSE),\"-\")","v":"-"},{"$f":"IFERROR(VLOOKUP(A1750,'20'!E1766:I1766,4,FALSE),\"-\")","v":"-"}]
[null,{"$f":"IFERROR(VLOOKUP(A1750,'20'!$E$27:$I$27,2,FALSE),\"-\")","v":"-"},{"$f":"IFERROR(VLOOKUP(A1750,'20'!E1767:I1767,4,FALSE),\"-\")","v":"-"}]
[null,{"$f":"IFERROR(VLOOKUP(A1750,'20'!$E$28:$I$28,2,FALSE),\"-\")","v":"-"},{"$f":"IFERROR(VLOOKUP(A1750,'20'!E1768:I1768,4,FALSE),\"-\")","v":"-"}]
[null,{"$f":"IFERROR(VLOOKUP(A1750,'20'!$E$29:$I$29,2,FALSE),\"-\")","v":"-"},{"$f":"IFERROR(VLOOKUP(A1750,'20'!E1769:I1769,4,FALSE),\"-\")","v":"-"}]
[null,{"$f":"IFERROR(VLOOKUP(A1750,'20'!$E$30:$I$30,2,FALSE),\"-\")","v":"-"},{"$f":"IFERROR(VLOOKUP(A1750,'20'!E1770:I1770,4,FALSE),\"-\")","v":"-"}]
[null,{"$f":"IFERROR(VLOOKUP(A1750,'20'!$E$31:$I$31,2,FALSE),\"-\")","v":"-"},{"$f":"IFERROR(VLOOKUP(A1750,'20'!E1771:I1771,4,FALSE),\"-\")","v":"-"}]
[null,{"$f":"IFERROR(VLOOKUP(A1750,'21'!$E$4:$I$4,2,FALSE),\"-\")","v":"-"},{"$f":"IFERROR(VLOOKUP(A1750,'21'!E1744:I1744,4,FALSE),\"-\")","v":"-"}]
[null,{"$f":"IFERROR(VLOOKUP(A1750,'21'!$E$5:$I$5,2,FALSE),\"-\")","v":"-"},{"$f":"IFERROR(VLOOKUP(A1750,'21'!E1745:I1745,4,FALSE),\"-\")","v":"-"}]
[null,{"$f":"IFERROR(VLOOKUP(A1750,'21'!$E$6:$I$6,2,FALSE),\"-\")","v":"-"},{"$f":"IFERROR(VLOOKUP(A1750,'21'!E1746:I1746,4,FALSE),\"-\")","v":"-"}]
[null,{"$f":"IFERROR(VLOOKUP(A1750,'21'!$E$7:$I$7,2,FALSE),\"-\")","v":"-"},{"$f":"IFERROR(VLOOKUP(A1750,'21'!E1747:I1747,4,FALSE),\"-\")","v":"-"}]
[null,{"$f":"IFERROR(VLOOKUP(A1750,'21'!$E$8:$I$8,2,FALSE),\"-\")","v":"-"},{"$f":"IFERROR(VLOOKUP(A1750,'21'!E1748:I1748,4,FALSE),\"-\")","v":"-"}]
[null,{"$f":"IFERROR(VLOOKUP(A1750,'21'!$E$9:$I$9,2,FALSE),\"-\")","v":"-"},{"$f":"IFERROR(VLOOKUP(A1750,'21'!E1749:I1749,4,FALSE),\"-\")","v":"-"}]
[null,{"$f":"IFERROR(VLOOKUP(A1750,'21'!$E$10:$I$10,2,FALSE),\"-\")","v":"-"},{"$f":"IFERROR(VLOOKUP(A1750,'21'!E1750:I1750,4,FALSE),\"-\")","v":"-"}]
[null,{"$f":"IFERROR(VLOOKUP(A1750,'21'!$E$11:$I$11,2,FALSE),\"-\")","v":"-"},{"$f":"IFERROR(VLOOKUP(A1750,'21'!E1751:I1751,4,FALSE),\"-\")","v":"-"}]
[null,{"$f":"IFERROR(VLOOKUP(A1750,'21'!$E$12:$I$12,2,FALSE),\"-\")","v":"-"},{"$f":"IFERROR(VLOOKUP(A1750,'21'!E1752:I1752,4,FALSE),\"-\")","v":"-"}]
[null,{"$f":"IFERROR(VLOOKUP(A1750,'21'!$E$13:$I$13,2,FALSE),\"-\")","v":"-"},{"$f":"IFERROR(VLOOKUP(A1750,'21'!E1753:I1753,4,FALSE),\"-\")","v":"-"}]
[null,{"$f":"IFERROR(VLOOKUP(A1750,'21'!$E$14:$I$14,2,FALSE),\"-\")","v":"-"},{"$f":"IFERROR(VLOOKUP(A1750,'21'!E1754:I1754,4,FALSE),\"-\")","v":"-"}]
[null,{"$f":"IFERROR(VLOOKUP(A1750,'21'!$E$15:$I$15,2,FALSE),\"-\")","v":"-"},{"$f":"IFERROR(VLOOKUP(A1750,'21'!E1755:I1755,4,FALSE),\"-\")","v":"-"}]
[null,{"$f":"IFERROR(VLOOKUP(A1750,'21'!$E$16:$I$16,2,FALSE),\"-\")","v":"-"},{"$f":"IFERROR(VLOOKUP(A1750,'21'!E1756:I1756,4,FALSE),\"-\")","v":"-"}]
[null,{"$f":"IFERROR(VLOOKUP(A1750,'21'!$E$17:$I$17,2,FALSE),\"-\")","v":"-"},{"$f":"IFERROR(VLOOKUP(A1750,'21'!E1757:I1757,4,FALSE),\"-\")","v":"-"}]
[null,{"$f":"IFERROR(VLOOKUP(A1750,'21'!$E$18:$I$18,2,FALSE),\"-\")","v":"-"},{"$f":"IFERROR(VLOOKUP(A1750,'21'!E1758:I1758,4,FALSE),\"-\")","v":"-"}]
[null,{"$f":"IFERROR(VLOOKUP(A1750,'21'!$E$19:$I$19,2,FALSE),\"-\")","v":"-"},{"$f":"IFERROR(VLOOKUP(A1750,'21'!E1759:I1759,4,FALSE),\"-\")","v":"-"}]
[null,{"$f":"IFERROR(VLOOKUP(A1750,'21'!$E$20:$I$20,2,FALSE),\"-\")","v":"-"},{"$f":"IFERROR(VLOOKUP(A1750,'21'!E1760:I1760,4,FALSE),\"-\")","v":"-"}]
[null,{"$f":"IFERROR(VLOOKUP(A1750,'21'!$E$21:$I$21,2,FALSE),\"-\")","v":"-"},{"$f":"IFERROR(VLOOKUP(A1750,'21'!E1761:I1761,4,FALSE),\"-\")","v":"-"}]
[null,{"$f":"IFERROR(VLOOKUP(A1750,'21'!$E$22:$I$22,2,FALSE),\"-\")","v":"-"},{"$f":"IFERROR(VLOOKUP(A1750,'21'!E1762:I1762,4,FALSE),\"-\")","v":"-"}]
[null,{"$f":"IFERROR(VLOOKUP(A1750,'21'!$E$23:$I$23,2,FALSE),\"-\")","v":"-"},{"$f":"IFERROR(VLOOKUP(A1750,'21'!E1763:I1763,4,FALSE),\"-\")","v":"-"}]
[null,{"$f":"IFERROR(VLOOKUP(A1750,'21'!$E$24:$I$24,2,FALSE),\"-\")","v":"-"},{"$f":"IFERROR(VLOOKUP(A1750,'21'!E1764:I1764,4,FALSE),\"-\")","v":"-"}]
[null,{"$f":"IFERROR(VLOOKUP(A1750,'21'!$E$25:$I$25,2,FALSE),\"-\")","v":"-"},{"$f":"IFERROR(VLOOKUP(A1750,'21'!E1765:I1765,4,FALSE),\"-\")","v":"-"}]
[null,{"$f":"IFERROR(VLOOKUP(A1750,'21'!$E$26:$I$26,2,FALSE),\"-\")","v":"-"},{"$f":"IFERROR(VLOOKUP(A1750,'21'!E1766:I1766,4,FALSE),\"-\")","v":"-"}]
[null,{"$f":"IFERROR(VLOOKUP(A1750,'21'!$E$27:$I$27,2,FALSE),\"-\")","v":"-"},{"$f":"IFERROR(VLOOKUP(A1750,'21'!E1767:I1767,4,FALSE),\"-\")","v":"-"}]
[null,{"$f":"IFERROR(VLOOKUP(A1750,'21'!$E$28:$I$28,2,FALSE),\"-\")","v":"-"},{"$f":"IFERROR(VLOOKUP(A1750,'21'!E1768:I1768,4,FALSE),\"-\")","v":"-"}]
[null,{"$f":"IFERROR(VLOOKUP(A1750,'21'!$E$29:$I$29,2,FALSE),\"-\")","v":"-"},{"$f":"IFERROR(VLOOKUP(A1750,'21'!E1769:I1769,4,FALSE),\"-\")","v":"-"}]
[null,{"$f":"IFERROR(VLOOKUP(A1750,'21'!$E$30:$I$30,2,FALSE),\"-\")","v":"-"},{"$f":"IFERROR(VLOOKUP(A1750,'21'!E1770:I1770,4,FALSE),\"-\")","v":"-"}]
[null,{"$f":"IFERROR(VLOOKUP(A1750,'21'!$E$31:$I$31,2,FALSE),\"-\")","v":"-"},{"$f":"IFERROR(VLOOKUP(A1750,'21'!E1771:I1771,4,FALSE),\"-\")","v":"-"}]
[null,{"$f":"IFERROR(VLOOKUP(A1750,'22'!$E$4:$I$4,2,FALSE),\"-\")","v":"-"},{"$f":"IFERROR(VLOOKUP(A1750,'22'!E1744:I1744,4,FALSE),\"-\")","v":"-"}]
[null,{"$f":"IFERROR(VLOOKUP(A1750,'22'!$E$5:$I$5,2,FALSE),\"-\")","v":"-"},{"$f":"IFERROR(VLOOKUP(A1750,'22'!E1745:I1745,4,FALSE),\"-\")","v":"-"}]
[null,{"$f":"IFERROR(VLOOKUP(A1750,'22'!$E$6:$I$6,2,FALSE),\"-\")","v":"-"},{"$f":"IFERROR(VLOOKUP(A1750,'22'!E1746:I1746,4,FALSE),\"-\")","v":"-"}]
[null,{"$f":"IFERROR(VLOOKUP(A1750,'22'!$E$7:$I$7,2,FALSE),\"-\")","v":"-"},{"$f":"IFERROR(VLOOKUP(A1750,'22'!E1747:I1747,4,FALSE),\"-\")","v":"-"}]
[null,{"$f":"IFERROR(VLOOKUP(A1750,'22'!$E$8:$I$8,2,FALSE),\"-\")","v":"-"},{"$f":"IFERROR(VLOOKUP(A1750,'22'!E1748:I1748,4,FALSE),\"-\")","v":"-"}]
[null,{"$f":"IFERROR(VLOOKUP(A1750,'22'!$E$9:$I$9,2,FALSE),\"-\")","v":"-"},{"$f":"IFERROR(VLOOKUP(A1750,'22'!E1749:I1749,4,FALSE),\"-\")","v":"-"}]
[null,{"$f":"IFERROR(VLOOKUP(A1750,'22'!$E$10:$I$10,2,FALSE),\"-\")","v":"-"},{"$f":"IFERROR(VLOOKUP(A1750,'22'!E1750:I1750,4,FALSE),\"-\")","v":"-"}]
[null,{"$f":"IFERROR(VLOOKUP(A1750,'22'!$E$11:$I$11,2,FALSE),\"-\")","v":"-"},{"$f":"IFERROR(VLOOKUP(A1750,'22'!E1751:I1751,4,FALSE),\"-\")","v":"-"}]
[null,{"$f":"IFERROR(VLOOKUP(A1750,'22'!$E$12:$I$12,2,FALSE),\"-\")","v":"-"},{"$f":"IFERROR(VLOOKUP(A1750,'22'!E1752:I1752,4,FALSE),\"-\")","v":"-"}]
[null,{"$f":"IFERROR(VLOOKUP(A1750,'22'!$E$13:$I$13,2,FALSE),\"-\")","v":"-"},{"$f":"IFERROR(VLOOKUP(A1750,'22'!E1753:I1753,4,FALSE),\"-\")","v":"-"}]
[null,{"$f":"IFERROR(VLOOKUP(A1750,'22'!$E$14:$I$14,2,FALSE),\"-\")","v":"-"},{"$f":"IFERROR(VLOOKUP(A1750,'22'!E1754:I1754,4,FALSE),\"-\")","v":"-"}]
[null,{"$f":"IFERROR(VLOOKUP(A1750,'22'!$E$15:$I$15,2,FALSE),\"-\")","v":"-"},{"$f":"IFERROR(VLOOKUP(A1750,'22'!E1755:I1755,4,FALSE),\"-\")","v":"-"}]
[null,{"$f":"IFERROR(VLOOKUP(A1750,'22'!$E$16:$I$16,2,FALSE),\"-\")","v":"-"},{"$f":"IFERROR(VLOOKUP(A1750,'22'!E1756:I1756,4,FALSE),\"-\")","v":"-"}]
[null,{"$f":"IFERROR(VLOOKUP(A1750,'22'!$E$17:$I$17,2,FALSE),\"-\")","v":"-"},{"$f":"IFERROR(VLOOKUP(A1750,'22'!E1757:I1757,4,FALSE),\"-\")","v":"-"}]
[null,{"$f":"IFERROR(VLOOKUP(A1750,'22'!$E$18:$I$18,2,FALSE),\"-\")","v":"-"},{"$f":"IFERROR(VLOOKUP(A1750,'22'!E1758:I1758,4,FALSE),\"-\")","v":"-"}]
[null,{"$f":"IFERROR(VLOOKUP(A1750,'22'!$E$19:$I$19,2,FALSE),\"-\")","v":"-"},{"$f":"IFERROR(VLOOKUP(A1750,'22'!E1759:I1759,4,FALSE),\"-\")","v":"-"}]
[null,{"$f":"IFERROR(VLOOKUP(A1750,'22'!$E$20:$I$20,2,FALSE),\"-\")","v":"-"},{"$f":"IFERROR(VLOOKUP(A1750,'22'!E1760:I1760,4,FALSE),\"-\")","v":"-"}]
[null,{"$f":"IFERROR(VLOOKUP(A1750,'22'!$E$21:$I$21,2,FALSE),\"-\")","v":"-"},{"$f":"IFERROR(VLOOKUP(A1750,'22'!E1761:I1761,4,FALSE),\"-\")","v":"-"}]
[null,{"$f":"IFERROR(VLOOKUP(A1750,'22'!$E$22:$I$22,2,FALSE),\"-\")","v":"-"},{"$f":"IFERROR(VLOOKUP(A1750,'22'!E1762:I1762,4,FALSE),\"-\")","v":"-"}]
[null,{"$f":"IFERROR(VLOOKUP(A1750,'22'!$E$23:$I$23,2,FALSE),\"-\")","v":"-"},{"$f":"IFERROR(VLOOKUP(A1750,'22'!E1763:I1763,4,FALSE),\"-\")","v":"-"}]
[null,{"$f":"IFERROR(VLOOKUP(A1750,'22'!$E$24:$I$24,2,FALSE),\"-\")","v":"-"},{"$f":"IFERROR(VLOOKUP(A1750,'22'!E1764:I1764,4,FALSE),\"-\")","v":"-"}]
[null,{"$f":"IFERROR(VLOOKUP(A1750,'22'!$E$25:$I$25,2,FALSE),\"-\")","v":"-"},{"$f":"IFERROR(VLOOKUP(A1750,'22'!E1765:I1765,4,FALSE),\"-\")","v":"-"}]
[null,{"$f":"IFERROR(VLOOKUP(A1750,'22'!$E$26:$I$26,2,FALSE),\"-\")","v":"-"},{"$f":"IFERROR(VLOOKUP(A1750,'22'!E1766:I1766,4,FALSE),\"-\")","v":"-"}]
[null,{"$f":"IFERROR(VLOOKUP(A1750,'22'!$E$27:$I$27,2,FALSE),\"-\")","v":"-"},{"$f":"IFERROR(VLOOKUP(A1750,'22'!E1767:I1767,4,FALSE),\"-\")","v":"-"}]
[null,{"$f":"IFERROR(VLOOKUP(A1750,'22'!$E$28:$I$28,2,FALSE),\"-\")","v":"-"},{"$f":"IFERROR(VLOOKUP(A1750,'22'!E1768:I1768,4,FALSE),\"-\")","v":"-"}]
[null,{"$f":"IFERROR(VLOOKUP(A1750,'22'!$E$29:$I$29,2,FALSE),\"-\")","v":"-"},{"$f":"IFERROR(VLOOKUP(A1750,'22'!E1769:I1769,4,FALSE),\"-\")","v":"-"}]
[null,{"$f":"IFERROR(VLOOKUP(A1750,'22'!$E$30:$I$30,2,FALSE),\"-\")","v":"-"},{"$f":"IFERROR(VLOOKUP(A1750,'22'!E1770:I1770,4,FALSE),\"-\")","v":"-"}]
[null,{"$f":"IFERROR(VLOOKUP(A1750,'22'!$E$31:$I$31,2,FALSE),\"-\")","v":"-"},{"$f":"IFERROR(VLOOKUP(A1750,'22'!E1771:I1771,4,FALSE),\"-\")","v":"-"}]
[null,{"$f":"IFERROR(VLOOKUP(A1750,'23'!$E$4:$I$4,2,FALSE),\"-\")","v":"-"},{"$f":"IFERROR(VLOOKUP(A1750,'23'!E1744:I1744,4,FALSE),\"-\")","v":"-"}]
[null,{"$f":"IFERROR(VLOOKUP(A1750,'23'!$E$5:$I$5,2,FALSE),\"-\")","v":"-"},{"$f":"IFERROR(VLOOKUP(A1750,'23'!E1745:I1745,4,FALSE),\"-\")","v":"-"}]
[null,{"$f":"IFERROR(VLOOKUP(A1750,'23'!$E$6:$I$6,2,FALSE),\"-\")","v":"-"},{"$f":"IFERROR(VLOOKUP(A1750,'23'!E1746:I1746,4,FALSE),\"-\")","v":"-"}]
[null,{"$f":"IFERROR(VLOOKUP(A1750,'23'!$E$7:$I$7,2,FALSE),\"-\")","v":"-"},{"$f":"IFERROR(VLOOKUP(A1750,'23'!E1747:I1747,4,FALSE),\"-\")","v":"-"}]
[null,{"$f":"IFERROR(VLOOKUP(A1750,'23'!$E$8:$I$8,2,FALSE),\"-\")","v":"-"},{"$f":"IFERROR(VLOOKUP(A1750,'23'!E1748:I1748,4,FALSE),\"-\")","v":"-"}]
[null,{"$f":"IFERROR(VLOOKUP(A1750,'23'!$E$9:$I$9,2,FALSE),\"-\")","v":"-"},{"$f":"IFERROR(VLOOKUP(A1750,'23'!E1749:I1749,4,FALSE),\"-\")","v":"-"}]
[null,{"$f":"IFERROR(VLOOKUP(A1750,'23'!$E$10:$I$10,2,FALSE),\"-\")","v":"-"},{"$f":"IFERROR(VLOOKUP(A1750,'23'!E1750:I1750,4,FALSE),\"-\")","v":"-"}]
[null,{"$f":"IFERROR(VLOOKUP(A1750,'23'!$E$11:$I$11,2,FALSE),\"-\")","v":"-"},{"$f":"IFERROR(VLOOKUP(A1750,'23'!E1751:I1751,4,FALSE),\"-\")","v":"-"}]
[null,{"$f":"IFERROR(VLOOKUP(A1750,'23'!$E$12:$I$12,2,FALSE),\"-\")","v":"-"},{"$f":"IFERROR(VLOOKUP(A1750,'23'!E1752:I1752,4,FALSE),\"-\")","v":"-"}]
[null,{"$f":"IFERROR(VLOOKUP(A1750,'23'!$E$13:$I$13,2,FALSE),\"-\")","v":"-"},{"$f":"IFERROR(VLOOKUP(A1750,'23'!E1753:I1753,4,FALSE),\"-\")","v":"-"}]
[null,{"$f":"IFERROR(VLOOKUP(A1750,'23'!$E$14:$I$14,2,FALSE),\"-\")","v":"-"},{"$f":"IFERROR(VLOOKUP(A1750,'23'!E1754:I1754,4,FALSE),\"-\")","v":"-"}]
[null,{"$f":"IFERROR(VLOOKUP(A1750,'23'!$E$15:$I$15,2,FALSE),\"-\")","v":"-"},{"$f":"IFERROR(VLOOKUP(A1750,'23'!E1755:I1755,4,FALSE),\"-\")","v":"-"}]
[null,{"$f":"IFERROR(VLOOKUP(A1750,'23'!$E$16:$I$16,2,FALSE),\"-\")","v":"-"},{"$f":"IFERROR(VLOOKUP(A1750,'23'!E1756:I1756,4,FALSE),\"-\")","v":"-"}]
[null,{"$f":"IFERROR(VLOOKUP(A1750,'23'!$E$17:$I$17,2,FALSE),\"-\")","v":"-"},{"$f":"IFERROR(VLOOKUP(A1750,'23'!E1757:I1757,4,FALSE),\"-\")","v":"-"}]
[null,{"$f":"IFERROR(VLOOKUP(A1750,'23'!$E$18:$I$18,2,FALSE),\"-\")","v":"-"},{"$f":"IFERROR(VLOOKUP(A1750,'23'!E1758:I1758,4,FALSE),\"-\")","v":"-"}]
[null,{"$f":"IFERROR(VLOOKUP(A1750,'23'!$E$19:$I$19,2,FALSE),\"-\")","v":"-"},{"$f":"IFERROR(VLOOKUP(A1750,'23'!E1759:I1759,4,FALSE),\"-\")","v":"-"}]
[null,{"$f":"IFERROR(VLOOKUP(A1750,'23'!$E$20:$I$20,2,FALSE),\"-\")","v":"-"},{"$f":"IFERROR(VLOOKUP(A1750,'23'!E1760:I1760,4,FALSE),\"-\")","v":"-"}]
[null,{"$f":"IFERROR(VLOOKUP(A1750,'23'!$E$21:$I$21,2,FALSE),\"-\")","v":"-"},{"$f":"IFERROR(VLOOKUP(A1750,'23'!E1761:I1761,4,FALSE),\"-\")","v":"-"}]
[null,{"$f":"IFERROR(VLOOKUP(A1750,'23'!$E$22:$I$22,2,FALSE),\"-\")","v":"-"},{"$f":"IFERROR(VLOOKUP(A1750,'23'!E1762:I1762,4,FALSE),\"-\")","v":"-"}]
[null,{"$f":"IFERROR(VLOOKUP(A1750,'23'!$E$23:$I$23,2,FALSE),\"-\")","v":"-"},{"$f":"IFERROR(VLOOKUP(A1750,'23'!E1763:I1763,4,FALSE),\"-\")","v":"-"}]
[null,{"$f":"IFERROR(VLOOKUP(A1750,'23'!$E$24:$I$24,2,FALSE),\"-\")","v":"-"},{"$f":"IFERROR(VLOOKUP(A1750,'23'!E1764:I1764,4,FALSE),\"-\")","v":"-"}]
[null,{"$f":"IFERROR(VLOOKUP(A1750,'23'!$E$25:$I$25,2,FALSE),\"-\")","v":"-"},{"$f":"IFERROR(VLOOKUP(A1750,'23'!E1765:I1765,4,FALSE),\"-\")","v":"-"}]
[null,{"$f":"IFERROR(VLOOKUP(A1750,'23'!$E$26:$I$26,2,FALSE),\"-\")","v":"-"},{"$f":"IFERROR(VLOOKUP(A1750,'23'!E1766:I1766,4,FALSE),\"-\")","v":"-"}]
[null,{"$f":"IFERROR(VLOOKUP(A1750,'23'!$E$27:$I$27,2,FALSE),\"-\")","v":"-"},{"$f":"IFERROR(VLOOKUP(A1750,'23'!E1767:I1767,4,FALSE),\"-\")","v":"-"}]
[null,{"$f":"IFERROR(VLOOKUP(A1750,'23'!$E$28:$I$28,2,FALSE),\"-\")","v":"-"},{"$f":"IFERROR(VLOOKUP(A1750,'23'!E1768:I1768,4,FALSE),\"-\")","v":"-"}]
[null,{"$f":"IFERROR(VLOOKUP(A1750,'23'!$E$29:$I$29,2,FALSE),\"-\")","v":"-"},{"$f":"IFERROR(VLOOKUP(A1750,'23'!E1769:I1769,4,FALSE),\"-\")","v":"-"}]
[null,{"$f":"IFERROR(VLOOKUP(A1750,'23'!$E$30:$I$30,2,FALSE),\"-\")","v":"-"},{"$f":"IFERROR(VLOOKUP(A1750,'23'!E1770:I1770,4,FALSE),\"-\")","v":"-"}]
[null,{"$f":"IFERROR(VLOOKUP(A1750,'23'!$E$31:$I$31,2,FALSE),\"-\")","v":"-"},{"$f":"IFERROR(VLOOKUP(A1750,'23'!E1771:I1771,4,FALSE),\"-\")","v":"-"}]
[null,{"$f":"IFERROR(VLOOKUP(A1750,'24'!$E$4:$I$4,2,FALSE),\"-\")","v":"-"},{"$f":"IFERROR(VLOOKUP(A1750,'24'!E1744:I1744,4,FALSE),\"-\")","v":"-"}]
[null,{"$f":"IFERROR(VLOOKUP(A1750,'24'!$E$5:$I$5,2,FALSE),\"-\")","v":"-"},{"$f":"IFERROR(VLOOKUP(A1750,'24'!E1745:I1745,4,FALSE),\"-\")","v":"-"}]
[null,{"$f":"IFERROR(VLOOKUP(A1750,'24'!$E$6:$I$6,2,FALSE),\"-\")","v":"-"},{"$f":"IFERROR(VLOOKUP(A1750,'24'!E1746:I1746,4,FALSE),\"-\")","v":"-"}]
[null,{"$f":"IFERROR(VLOOKUP(A1750,'24'!$E$7:$I$7,2,FALSE),\"-\")","v":"-"},{"$f":"IFERROR(VLOOKUP(A1750,'24'!E1747:I1747,4,FALSE),\"-\")","v":"-"}]
[null,{"$f":"IFERROR(VLOOKUP(A1750,'24'!$E$8:$I$8,2,FALSE),\"-\")","v":"-"},{"$f":"IFERROR(VLOOKUP(A1750,'24'!E1748:I1748,4,FALSE),\"-\")","v":"-"}]
[null,{"$f":"IFERROR(VLOOKUP(A1750,'24'!$E$9:$I$9,2,FALSE),\"-\")","v":"-"},{"$f":"IFERROR(VLOOKUP(A1750,'24'!E1749:I1749,4,FALSE),\"-\")","v":"-"}]
[null,{"$f":"IFERROR(VLOOKUP(A1750,'24'!$E$10:$I$10,2,FALSE),\"-\")","v":"-"},{"$f":"IFERROR(VLOOKUP(A1750,'24'!E1750:I1750,4,FALSE),\"-\")","v":"-"}]
[null,{"$f":"IFERROR(VLOOKUP(A1750,'24'!$E$11:$I$11,2,FALSE),\"-\")","v":"-"},{"$f":"IFERROR(VLOOKUP(A1750,'24'!E1751:I1751,4,FALSE),\"-\")","v":"-"}]
[null,{"$f":"IFERROR(VLOOKUP(A1750,'24'!$E$12:$I$12,2,FALSE),\"-\")","v":"-"},{"$f":"IFERROR(VLOOKUP(A1750,'24'!E1752:I1752,4,FALSE),\"-\")","v":"-"}]
[null,{"$f":"IFERROR(VLOOKUP(A1750,'24'!$E$13:$I$13,2,FALSE),\"-\")","v":"-"},{"$f":"IFERROR(VLOOKUP(A1750,'24'!E1753:I1753,4,FALSE),\"-\")","v":"-"}]
[null,{"$f":"IFERROR(VLOOKUP(A1750,'24'!$E$14:$I$14,2,FALSE),\"-\")","v":"-"},{"$f":"IFERROR(VLOOKUP(A1750,'24'!E1754:I1754,4,FALSE),\"-\")","v":"-"}]
[null,{"$f":"IFERROR(VLOOKUP(A1750,'24'!$E$15:$I$15,2,FALSE),\"-\")","v":"-"},{"$f":"IFERROR(VLOOKUP(A1750,'24'!E1755:I1755,4,FALSE),\"-\")","v":"-"}]
[null,{"$f":"IFERROR(VLOOKUP(A1750,'24'!$E$16:$I$16,2,FALSE),\"-\")","v":"-"},{"$f":"IFERROR(VLOOKUP(A1750,'24'!E1756:I1756,4,FALSE),\"-\")","v":"-"}]
[null,{"$f":"IFERROR(VLOOKUP(A1750,'24'!$E$17:$I$17,2,FALSE),\"-\")","v":"-"},{"$f":"IFERROR(VLOOKUP(A1750,'24'!E1757:I1757,4,FALSE),\"-\")","v":"-"}]
[null,{"$f":"IFERROR(VLOOKUP(A1750,'24'!$E$18:$I$18,2,FALSE),\"-\")","v":"-"},{"$f":"IFERROR(VLOOKUP(A1750,'24'!E1758:I1758,4,FALSE),\"-\")","v":"-"}]
[null,{"$f":"IFERROR(VLOOKUP(A1750,'24'!$E$19:$I$19,2,FALSE),\"-\")","v":"-"},{"$f":"IFERROR(VLOOKUP(A1750,'24'!E1759:I1759,4,FALSE),\"-\")","v":"-"}]
[null,{"$f":"IFERROR(VLOOKUP(A1750,'24'!$E$20:$I$20,2,FALSE),\"-\")","v":"-"},{"$f":"IFERROR(VLOOKUP(A1750,'24'!E1760:I1760,4,FALSE),\"-\")","v":"-"}]
[null,{"$f":"IFERROR(VLOOKUP(A1750,'24'!$E$21:$I$21,2,FALSE),\"-\")","v":"-"},{"$f":"IFERROR(VLOOKUP(A1750,'24'!E1761:I1761,4,FALSE),\"-\")","v":"-"}]
[null,{"$f":"IFERROR(VLOOKUP(A1750,'24'!$E$22:$I$22,2,FALSE),\"-\")","v":"-"},{"$f":"IFERROR(VLOOKUP(A1750,'24'!E1762:I1762,4,FALSE),\"-\")","v":"-"}]
[null,{"$f":"IFERROR(VLOOKUP(A1750,'24'!$E$23:$I$23,2,FALSE),\"-\")","v":"-"},{"$f":"IFERROR(VLOOKUP(A1750,'24'!E1763:I1763,4,FALSE),\"-\")","v":"-"}]
[null,{"$f":"IFERROR(VLOOKUP(A1750,'24'!$E$24:$I$24,2,FALSE),\"-\")","v":"-"},{"$f":"IFERROR(VLOOKUP(A1750,'24'!E1764:I1764,4,FALSE),\"-\")","v":"-"}]
[null,{"$f":"IFERROR(VLOOKUP(A1750,'24'!$E$25:$I$25,2,FALSE),\"-\")","v":"-"},{"$f":"IFERROR(VLOOKUP(A1750,'24'!E1765:I1765,4,FALSE),\"-\")","v":"-"}]
[null,{"$f":"IFERROR(VLOOKUP(A1750,'24'!$E$26:$I$26,2,FALSE),\"-\")","v":"-"},{"$f":"IFERROR(VLOOKUP(A1750,'24'!E1766:I1766,4,FALSE),\"-\")","v":"-"}]
[null,{"$f":"IFERROR(VLOOKUP(A1750,'24'!$E$27:$I$27,2,FALSE),\"-\")","v":"-"},{"$f":"IFERROR(VLOOKUP(A1750,'24'!E1767:I1767,4,FALSE),\"-\")","v":"-"}]
[null,{"$f":"IFERROR(VLOOKUP(A1750,'24'!$E$28:$I$28,2,FALSE),\"-\")","v":"-"},{"$f":"IFERROR(VLOOKUP(A1750,'24'!E1768:I1768,4,FALSE),\"-\")","v":"-"}]
[null,{"$f":"IFERROR(VLOOKUP(A1750,'24'!$E$29:$I$29,2,FALSE),\"-\")","v":"-"},{"$f":"IFERROR(VLOOKUP(A1750,'24'!E1769:I1769,4,FALSE),\"-\")","v":"-"}]
[null,{"$f":"IFERROR(VLOOKUP(A1750,'24'!$E$30:$I$30,2,FALSE),\"-\")","v":"-"},{"$f":"IFERROR(VLOOKUP(A1750,'24'!E1770:I1770,4,FALSE),\"-\")","v":"-"}]
[null,{"$f":"IFERROR(VLOOKUP(A1750,'24'!$E$31:$I$31,2,FALSE),\"-\")","v":"-"},{"$f":"IFERROR(VLOOKUP(A1750,'24'!E1771:I1771,4,FALSE),\"-\")","v":"-"}]
[null,{"$f":"IFERROR(VLOOKUP(A1750,'25'!$E$4:$I$4,2,FALSE),\"-\")","v":"-"},{"$f":"IFERROR(VLOOKUP(A1750,'25'!E1744:I1744,4,FALSE),\"-\")","v":"-"}]
[null,{"$f":"IFERROR(VLOOKUP(A1750,'25'!$E$5:$I$5,2,FALSE),\"-\")","v":"-"},{"$f":"IFERROR(VLOOKUP(A1750,'25'!E1745:I1745,4,FALSE),\"-\")","v":"-"}]
[null,{"$f":"IFERROR(VLOOKUP(A1750,'25'!$E$6:$I$6,2,FALSE),\"-\")","v":"-"},{"$f":"IFERROR(VLOOKUP(A1750,'25'!E1746:I1746,4,FALSE),\"-\")","v":"-"}]
[null,{"$f":"IFERROR(VLOOKUP(A1750,'25'!$E$7:$I$7,2,FALSE),\"-\")","v":"-"},{"$f":"IFERROR(VLOOKUP(A1750,'25'!E1747:I1747,4,FALSE),\"-\")","v":"-"}]
[null,{"$f":"IFERROR(VLOOKUP(A1750,'25'!$E$8:$I$8,2,FALSE),\"-\")","v":"-"},{"$f":"IFERROR(VLOOKUP(A1750,'25'!E1748:I1748,4,FALSE),\"-\")","v":"-"}]
[null,{"$f":"IFERROR(VLOOKUP(A1750,'25'!$E$9:$I$9,2,FALSE),\"-\")","v":"-"},{"$f":"IFERROR(VLOOKUP(A1750,'25'!E1749:I1749,4,FALSE),\"-\")","v":"-"}]
[null,{"$f":"IFERROR(VLOOKUP(A1750,'25'!$E$10:$I$10,2,FALSE),\"-\")","v":"-"},{"$f":"IFERROR(VLOOKUP(A1750,'25'!E1750:I1750,4,FALSE),\"-\")","v":"-"}]
[null,{"$f":"IFERROR(VLOOKUP(A1750,'25'!$E$11:$I$11,2,FALSE),\"-\")","v":"-"},{"$f":"IFERROR(VLOOKUP(A1750,'25'!E1751:I1751,4,FALSE),\"-\")","v":"-"}]
[null,{"$f":"IFERROR(VLOOKUP(A1750,'25'!$E$12:$I$12,2,FALSE),\"-\")","v":"-"},{"$f":"IFERROR(VLOOKUP(A1750,'25'!E1752:I1752,4,FALSE),\"-\")","v":"-"}]
[null,{"$f":"IFERROR(VLOOKUP(A1750,'25'!$E$13:$I$13,2,FALSE),\"-\")","v":"-"},{"$f":"IFERROR(VLOOKUP(A1750,'25'!E1753:I1753,4,FALSE),\"-\")","v":"-"}]
[null,{"$f":"IFERROR(VLOOKUP(A1750,'25'!$E$14:$I$14,2,FALSE),\"-\")","v":"-"},{"$f":"IFERROR(VLOOKUP(A1750,'25'!E1754:I1754,4,FALSE),\"-\")","v":"-"}]
[null,{"$f":"IFERROR(VLOOKUP(A1750,'25'!$E$15:I1755,2,FALSE),\"-\")","v":"-"},{"$f":"IFERROR(VLOOKUP(A1750,'25'!E1755:I1755,4,FALSE),\"-\")","v":"-"}]
[null,{"$f":"IFERROR(VLOOKUP(A1750,'25'!$E$16:$I$16,2,FALSE),\"-\")","v":"-"},{"$f":"IFERROR(VLOOKUP(A1750,'25'!E1756:I1756,4,FALSE),\"-\")","v":"-"}]
[null,{"$f":"IFERROR(VLOOKUP(A1750,'25'!$E$17:$I$17,2,FALSE),\"-\")","v":"-"},{"$f":"IFERROR(VLOOKUP(A1750,'25'!E1757:I1757,4,FALSE),\"-\")","v":"-"}]
[null,{"$f":"IFERROR(VLOOKUP(A1750,'25'!$E$18:$I$18,2,FALSE),\"-\")","v":"-"},{"$f":"IFERROR(VLOOKUP(A1750,'25'!E1758:I1758,4,FALSE),\"-\")","v":"-"}]
[null,{"$f":"IFERROR(VLOOKUP(A1750,'25'!$E$19:$I$19,2,FALSE),\"-\")","v":"-"},{"$f":"IFERROR(VLOOKUP(A1750,'25'!E1759:I1759,4,FALSE),\"-\")","v":"-"}]
[null,{"$f":"IFERROR(VLOOKUP(A1750,'25'!$E$20:$I$20,2,FALSE),\"-\")","v":"-"},{"$f":"IFERROR(VLOOKUP(A1750,'25'!E1760:I1760,4,FALSE),\"-\")","v":"-"}]
[null,{"$f":"IFERROR(VLOOKUP(A1750,'25'!$E$21:$I$21,2,FALSE),\"-\")","v":"-"},{"$f":"IFERROR(VLOOKUP(A1750,'25'!E1761:I1761,4,FALSE),\"-\")","v":"-"}]
[null,{"$f":"IFERROR(VLOOKUP(A1750,'25'!$E$22:$I$22,2,FALSE),\"-\")","v":"-"},{"$f":"IFERROR(VLOOKUP(A1750,'25'!E1762:I1762,4,FALSE),\"-\")","v":"-"}]
[null,{"$f":"IFERROR(VLOOKUP(A1750,'25'!$E$23:$I$23,2,FALSE),\"-\")","v":"-"},{"$f":"IFERROR(VLOOKUP(A1750,'25'!E1763:I1763,4,FALSE),\"-\")","v":"-"}]
[null,{"$f":"IFERROR(VLOOKUP(A1750,'25'!$E$24:$I$24,2,FALSE),\"-\")","v":"-"},{"$f":"IFERROR(VLOOKUP(A1750,'25'!E1764:I1764,4,FALSE),\"-\")","v":"-"}]
[null,{"$f":"IFERROR(VLOOKUP(A1750,'25'!$E$25:$I$25,2,FALSE),\"-\")","v":"-"},{"$f":"IFERROR(VLOOKUP(A1750,'25'!E1765:I1765,4,FALSE),\"-\")","v":"-"}]
[null,{"$f":"IFERROR(VLOOKUP(A1750,'25'!$E$26:$I$26,2,FALSE),\"-\")","v":"-"},{"$f":"IFERROR(VLOOKUP(A1750,'25'!E1766:I1766,4,FALSE),\"-\")","v":"-"}]
[null,{"$f":"IFERROR(VLOOKUP(A1750,'25'!$E$27:$I$27,2,FALSE),\"-\")","v":"-"},{"$f":"IFERROR(VLOOKUP(A1750,'25'!E1767:I1767,4,FALSE),\"-\")","v":"-"}]
[null,{"$f":"IFERROR(VLOOKUP(A1750,'25'!$E$28:$I$28,2,FALSE),\"-\")","v":"-"},{"$f":"IFERROR(VLOOKUP(A1750,'25'!E1768:I1768,4,FALSE),\"-\")","v":"-"}]
[null,{"$f":"IFERROR(VLOOKUP(A1750,'25'!$E$29:$I$29,2,FALSE),\"-\")","v":"-"},{"$f":"IFERROR(VLOOKUP(A1750,'25'!E1769:I1769,4,FALSE),\"-\")","v":"-"}]
[null,{"$f":"IFERROR(VLOOKUP(A1750,'25'!$E$30:$I$30,2,FALSE),\"-\")","v":"-"},{"$f":"IFERROR(VLOOKUP(A1750,'25'!E1770:I1770,4,FALSE),\"-\")","v":"-"}]
[null,{"$f":"IFERROR(VLOOKUP(A1750,'25'!$E$31:$I$31,2,FALSE),\"-\")","v":"-"},{"$f":"IFERROR(VLOOKUP(A1750,'25'!E1771:I1771,4,FALSE),\"-\")","v":"-"}]
[null,{"$f":"IFERROR(VLOOKUP(A1750,'26'!$E$4:$I$4,2,FALSE),\"-\")","v":"-"},{"$f":"IFERROR(VLOOKUP(A1750,'26'!E1744:I1744,4,FALSE),\"-\")","v":"-"}]
[null,{"$f":"IFERROR(VLOOKUP(A1750,'26'!$E$5:$I$5,2,FALSE),\"-\")","v":"-"},{"$f":"IFERROR(VLOOKUP(A1750,'26'!E1745:I1745,4,FALSE),\"-\")","v":"-"}]
[null,{"$f":"IFERROR(VLOOKUP(A1750,'26'!$E$6:$I$6,2,FALSE),\"-\")","v":"-"},{"$f":"IFERROR(VLOOKUP(A1750,'26'!E1746:I1746,4,FALSE),\"-\")","v":"-"}]
[null,{"$f":"IFERROR(VLOOKUP(A1750,'26'!$E$7:$I$7,2,FALSE),\"-\")","v":"-"},{"$f":"IFERROR(VLOOKUP(A1750,'26'!E1747:I1747,4,FALSE),\"-\")","v":"-"}]
[null,{"$f":"IFERROR(VLOOKUP(A1750,'26'!$E$8:$I$8,2,FALSE),\"-\")","v":"-"},{"$f":"IFERROR(VLOOKUP(A1750,'26'!E1748:I1748,4,FALSE),\"-\")","v":"-"}]
[null,{"$f":"IFERROR(VLOOKUP(A1750,'26'!$E$9:$I$9,2,FALSE),\"-\")","v":"-"},{"$f":"IFERROR(VLOOKUP(A1750,'26'!E1749:I1749,4,FALSE),\"-\")","v":"-"}]
[null,{"$f":"IFERROR(VLOOKUP(A1750,'26'!$E$10:$I$10,2,FALSE),\"-\")","v":"-"},{"$f":"IFERROR(VLOOKUP(A1750,'26'!E1750:I1750,4,FALSE),\"-\")","v":"-"}]
[null,{"$f":"IFERROR(VLOOKUP(A1750,'26'!$E$11:$I$11,2,FALSE),\"-\")","v":"-"},{"$f":"IFERROR(VLOOKUP(A1750,'26'!E1751:I1751,4,FALSE),\"-\")","v":"-"}]
[null,{"$f":"IFERROR(VLOOKUP(A1750,'26'!$E$12:$I$12,2,FALSE),\"-\")","v":"-"},{"$f":"IFERROR(VLOOKUP(A1750,'26'!E1752:I1752,4,FALSE),\"-\")","v":"-"}]
[null,{"$f":"IFERROR(VLOOKUP(A1750,'26'!$E$13:$I$13,2,FALSE),\"-\")","v":"-"},{"$f":"IFERROR(VLOOKUP(A1750,'26'!E1753:I1753,4,FALSE),\"-\")","v":"-"}]
[null,{"$f":"IFERROR(VLOOKUP(A1750,'26'!$E$14:$I$14,2,FALSE),\"-\")","v":"-"},{"$f":"IFERROR(VLOOKUP(A1750,'26'!E1754:I1754,4,FALSE),\"-\")","v":"-"}]
[null,{"$f":"IFERROR(VLOOKUP(A1750,'26'!$E$15:$I$15,2,FALSE),\"-\")","v":"-"},{"$f":"IFERROR(VLOOKUP(A1750,'26'!E1755:I1755,4,FALSE),\"-\")","v":"-"}]
[null,{"$f":"IFERROR(VLOOKUP(A1750,'26'!$E$16:$I$16,2,FALSE),\"-\")","v":"-"},{"$f":"IFERROR(VLOOKUP(A1750,'26'!E1756:I1756,4,FALSE),\"-\")","v":"-"}]
[null,{"$f":"IFERROR(VLOOKUP(A1750,'26'!$E$17:$I$17,2,FALSE),\"-\")","v":"-"},{"$f":"IFERROR(VLOOKUP(A1750,'26'!E1757:I1757,4,FALSE),\"-\")","v":"-"}]
[null,{"$f":"IFERROR(VLOOKUP(A1750,'26'!$E$18:$I$18,2,FALSE),\"-\")","v":"-"},{"$f":"IFERROR(VLOOKUP(A1750,'26'!E1758:I1758,4,FALSE),\"-\")","v":"-"}]
[null,{"$f":"IFERROR(VLOOKUP(A1750,'26'!$E$19:$I$19,2,FALSE),\"-\")","v":"-"},{"$f":"IFERROR(VLOOKUP(A1750,'26'!E1759:I1759,4,FALSE),\"-\")","v":"-"}]
[null,{"$f":"IFERROR(VLOOKUP(A1750,'26'!$E$20:$I$20,2,FALSE),\"-\")","v":"-"},{"$f":"IFERROR(VLOOKUP(A1750,'26'!E1760:I1760,4,FALSE),\"-\")","v":"-"}]
[null,{"$f":"IFERROR(VLOOKUP(A1750,'26'!$E$21:$I$21,2,FALSE),\"-\")","v":"-"},{"$f":"IFERROR(VLOOKUP(A1750,'26'!E1761:I1761,4,FALSE),\"-\")","v":"-"}]
[null,{"$f":"IFERROR(VLOOKUP(A1750,'26'!$E$22:$I$22,2,FALSE),\"-\")","v":"-"},{"$f":"IFERROR(VLOOKUP(A1750,'26'!E1762:I1762,4,FALSE),\"-\")","v":"-"}]
[null,{"$f":"IFERROR(VLOOKUP(A1750,'26'!$E$23:$I$23,2,FALSE),\"-\")","v":"-"},{"$f":"IFERROR(VLOOKUP(A1750,'26'!E1763:I1763,4,FALSE),\"-\")","v":"-"}]
[null,{"$f":"IFERROR(VLOOKUP(A1750,'26'!$E$24:$I$24,2,FALSE),\"-\")","v":"-"},{"$f":"IFERROR(VLOOKUP(A1750,'26'!E1764:I1764,4,FALSE),\"-\")","v":"-"}]
[null,{"$f":"IFERROR(VLOOKUP(A1750,'26'!$E$25:$I$25,2,FALSE),\"-\")","v":"-"},{"$f":"IFERROR(VLOOKUP(A1750,'26'!E1765:I1765,4,FALSE),\"-\")","v":"-"}]
[null,{"$f":"IFERROR(VLOOKUP(A1750,'26'!$E$26:$I$26,2,FALSE),\"-\")","v":"-"},{"$f":"IFERROR(VLOOKUP(A1750,'26'!E1766:I1766,4,FALSE),\"-\")","v":"-"}]
[null,{"$f":"IFERROR(VLOOKUP(A1750,'26'!$E$27:$I$27,2,FALSE),\"-\")","v":"-"},{"$f":"IFERROR(VLOOKUP(A1750,'26'!E1767:I1767,4,FALSE),\"-\")","v":"-"}]
[null,{"$f":"IFERROR(VLOOKUP(A1750,'26'!$E$28:$I$28,2,FALSE),\"-\")","v":"-"},{"$f":"IFERROR(VLOOKUP(A1750,'26'!E1768:I1768,4,FALSE),\"-\")","v":"-"}]
[null,{"$f":"IFERROR(VLOOKUP(A1750,'26'!E$29:$I1769,2,FALSE),\"-\")","v":"-"},{"$f":"IFERROR(VLOOKUP(A1750,'26'!E1769:I1769,4,FALSE),\"-\")","v":"-"}]
[null,{"$f":"IFERROR(VLOOKUP(A1750,'26'!$E$30:$I$30,2,FALSE),\"-\")","v":"-"},{"$f":"IFERROR(VLOOKUP(A1750,'26'!E1770:I1770,4,FALSE),\"-\")","v":"-"}]
[null,{"$f":"IFERROR(VLOOKUP(A1750,'26'!$E$31:$I$31,2,FALSE),\"-\")","v":"-"},{"$f":"IFERROR(VLOOKUP(A1750,'26'!E1771:I1771,4,FALSE),\"-\")","v":"-"}]
[null,{"$f":"IFERROR(VLOOKUP(A1750,'27'!$E$4:$I$4,2,FALSE),\"-\")","v":"-"},{"$f":"IFERROR(VLOOKUP(A1750,'27'!E1744:I1744,4,FALSE),\"-\")","v":"-"}]
[null,{"$f":"IFERROR(VLOOKUP(A1750,'27'!$E$5:$I$5,2,FALSE),\"-\")","v":"-"},{"$f":"IFERROR(VLOOKUP(A1750,'27'!E1745:I1745,4,FALSE),\"-\")","v":"-"}]
[null,{"$f":"IFERROR(VLOOKUP(A1750,'27'!$E$6:$I$6,2,FALSE),\"-\")","v":"-"},{"$f":"IFERROR(VLOOKUP(A1750,'27'!E1746:I1746,4,FALSE),\"-\")","v":"-"}]
[null,{"$f":"IFERROR(VLOOKUP(A1750,'27'!$E$7:$I$7,2,FALSE),\"-\")","v":"-"},{"$f":"IFERROR(VLOOKUP(A1750,'27'!E1747:I1747,4,FALSE),\"-\")","v":"-"}]
[null,{"$f":"IFERROR(VLOOKUP(A1750,'27'!$E$8:$I$8,2,FALSE),\"-\")","v":"-"},{"$f":"IFERROR(VLOOKUP(A1750,'27'!E1748:I1748,4,FALSE),\"-\")","v":"-"}]
[null,{"$f":"IFERROR(VLOOKUP(A1750,'27'!$E$9:$I$9,2,FALSE),\"-\")","v":"-"},{"$f":"IFERROR(VLOOKUP(A1750,'27'!E1749:I1749,4,FALSE),\"-\")","v":"-"}]
[null,{"$f":"IFERROR(VLOOKUP(A1750,'27'!$E$10:$I$10,2,FALSE),\"-\")","v":"-"},{"$f":"IFERROR(VLOOKUP(A1750,'27'!E1750:I1750,4,FALSE),\"-\")","v":"-"}]
[null,{"$f":"IFERROR(VLOOKUP(A1750,'27'!$E$11:$I$11,2,FALSE),\"-\")","v":"-"},{"$f":"IFERROR(VLOOKUP(A1750,'27'!E1751:I1751,4,FALSE),\"-\")","v":"-"}]
[null,{"$f":"IFERROR(VLOOKUP(A1750,'27'!$E$12:$I$12,2,FALSE),\"-\")","v":"-"},{"$f":"IFERROR(VLOOKUP(A1750,'27'!E1752:I1752,4,FALSE),\"-\")","v":"-"}]
[null,{"$f":"IFERROR(VLOOKUP(A1750,'27'!$E$13:$I$13,2,FALSE),\"-\")","v":"-"},{"$f":"IFERROR(VLOOKUP(A1750,'27'!E1753:I1753,4,FALSE),\"-\")","v":"-"}]
[null,{"$f":"IFERROR(VLOOKUP(A1750,'27'!$E$14:$I$14,2,FALSE),\"-\")","v":"-"},{"$f":"IFERROR(VLOOKUP(A1750,'27'!E1754:I1754,4,FALSE),\"-\")","v":"-"}]
[null,{"$f":"IFERROR(VLOOKUP(A1750,'27'!$E$15:$I$15,2,FALSE),\"-\")","v":"-"},{"$f":"IFERROR(VLOOKUP(A1750,'27'!E1755:I1755,4,FALSE),\"-\")","v":"-"}]
[null,{"$f":"IFERROR(VLOOKUP(A1750,'27'!$E$16:$I$16,2,FALSE),\"-\")","v":"-"},{"$f":"IFERROR(VLOOKUP(A1750,'27'!E1756:I1756,4,FALSE),\"-\")","v":"-"}]
[null,{"$f":"IFERROR(VLOOKUP(A1750,'27'!$E$17:$I$17,2,FALSE),\"-\")","v":"-"},{"$f":"IFERROR(VLOOKUP(A1750,'27'!E1757:I1757,4,FALSE),\"-\")","v":"-"}]
[null,{"$f":"IFERROR(VLOOKUP(A1750,'27'!$E$18:$I$18,2,FALSE),\"-\")","v":"-"},{"$f":"IFERROR(VLOOKUP(A1750,'27'!E1758:I1758,4,FALSE),\"-\")","v":"-"}]
[null,{"$f":"IFERROR(VLOOKUP(A1750,'27'!$E$19:$I$19,2,FALSE),\"-\")","v":"-"},{"$f":"IFERROR(VLOOKUP(A1750,'27'!E1759:I1759,4,FALSE),\"-\")","v":"-"}]
[null,{"$f":"IFERROR(VLOOKUP(A1750,'27'!$E$20:$I$20,2,FALSE),\"-\")","v":"-"},{"$f":"IFERROR(VLOOKUP(A1750,'27'!E1760:I1760,4,FALSE),\"-\")","v":"-"}]
[null,{"$f":"IFERROR(VLOOKUP(A1750,'27'!$E$21:$I$21,2,FALSE),\"-\")","v":"-"},{"$f":"IFERROR(VLOOKUP(A1750,'27'!E1761:I1761,4,FALSE),\"-\")","v":"-"}]
[null,{"$f":"IFERROR(VLOOKUP(A1750,'27'!$E$22:$I$22,2,FALSE),\"-\")","v":"-"},{"$f":"IFERROR(VLOOKUP(A1750,'27'!E1762:I1762,4,FALSE),\"-\")","v":"-"}]
[null,{"$f":"IFERROR(VLOOKUP(A1750,'27'!$E$23:$I$23,2,FALSE),\"-\")","v":"-"},{"$f":"IFERROR(VLOOKUP(A1750,'27'!E1763:I1763,4,FALSE),\"-\")","v":"-"}]
[null,{"$f":"IFERROR(VLOOKUP(A1750,'27'!$E$24:$I$24,2,FALSE),\"-\")","v":"-"},{"$f":"IFERROR(VLOOKUP(A1750,'27'!E1764:I1764,4,FALSE),\"-\")","v":"-"}]
[null,{"$f":"IFERROR(VLOOKUP(A1750,'27'!$E$25:$I$25,2,FALSE),\"-\")","v":"-"},{"$f":"IFERROR(VLOOKUP(A1750,'27'!E1765:I1765,4,FALSE),\"-\")","v":"-"}]
[null,{"$f":"IFERROR(VLOOKUP(A1750,'27'!$E$26:$I$26,2,FALSE),\"-\")","v":"-"},{"$f":"IFERROR(VLOOKUP(A1750,'27'!E1766:I1766,4,FALSE),\"-\")","v":"-"}]
[null,{"$f":"IFERROR(VLOOKUP(A1750,'27'!$E$27:$I$27,2,FALSE),\"-\")","v":"-"},{"$f":"IFERROR(VLOOKUP(A1750,'27'!E1767:I1767,4,FALSE),\"-\")","v":"-"}]
[null,{"$f":"IFERROR(VLOOKUP(A1750,'27'!$E$28:$I$28,2,FALSE),\"-\")","v":"-"},{"$f":"IFERROR(VLOOKUP(A1750,'27'!E1768:I1768,4,FALSE),\"-\")","v":"-"}]
[null,{"$f":"IFERROR(VLOOKUP(A1750,'27'!$E$29:$I$29,2,FALSE),\"-\")","v":"-"},{"$f":"IFERROR(VLOOKUP(A1750,'27'!E1769:I1769,4,FALSE),\"-\")","v":"-"}]
[null,{"$f":"IFERROR(VLOOKUP(A1750,'27'!$E$30:$I$30,2,FALSE),\"-\")","v":"-"},{"$f":"IFERROR(VLOOKUP(A1750,'27'!E1770:I1770,4,FALSE),\"-\")","v":"-"}]
[null,{"$f":"IFERROR(VLOOKUP(A1750,'27'!$E$31:$I$31,2,FALSE),\"-\")","v":"-"},{"$f":"IFERROR(VLOOKUP(A1750,'27'!E1771:I1771,4,FALSE),\"-\")","v":"-"}]
[null,{"$f":"IFERROR(VLOOKUP(A1750,'28'!$E$4:$I$4,2,FALSE),\"-\")","v":"-"},{"$f":"IFERROR(VLOOKUP(A1750,'28'!E1744:I1744,4,FALSE),\"-\")","v":"-"}]
[null,{"$f":"IFERROR(VLOOKUP(A1750,'28'!$E$5:$I$5,2,FALSE),\"-\")","v":"-"},{"$f":"IFERROR(VLOOKUP(A1750,'28'!E1745:I1745,4,FALSE),\"-\")","v":"-"}]
[null,{"$f":"IFERROR(VLOOKUP(A1750,'28'!$E$6:$I$6,2,FALSE),\"-\")","v":"-"},{"$f":"IFERROR(VLOOKUP(A1750,'28'!E1746:I1746,4,FALSE),\"-\")","v":"-"}]
[null,{"$f":"IFERROR(VLOOKUP(A1750,'28'!$E$7:$I$7,2,FALSE),\"-\")","v":"-"},{"$f":"IFERROR(VLOOKUP(A1750,'28'!E1747:I1747,4,FALSE),\"-\")","v":"-"}]
[null,{"$f":"IFERROR(VLOOKUP(A1750,'28'!$E$8:$I$8,2,FALSE),\"-\")","v":"-"},{"$f":"IFERROR(VLOOKUP(A1750,'28'!E1748:I1748,4,FALSE),\"-\")","v":"-"}]
[null,{"$f":"IFERROR(VLOOKUP(A1750,'28'!$E$9:$I$9,2,FALSE),\"-\")","v":"-"},{"$f":"IFERROR(VLOOKUP(A1750,'28'!E1749:I1749,4,FALSE),\"-\")","v":"-"}]
[null,{"$f":"IFERROR(VLOOKUP(A1750,'28'!$E$10:$I$10,2,FALSE),\"-\")","v":"-"},{"$f":"IFERROR(VLOOKUP(A1750,'28'!E1750:I1750,4,FALSE),\"-\")","v":"-"}]
[null,{"$f":"IFERROR(VLOOKUP(A1750,'28'!$E$11:$I$11,2,FALSE),\"-\")","v":"-"},{"$f":"IFERROR(VLOOKUP(A1750,'28'!E1751:I1751,4,FALSE),\"-\")","v":"-"}]
[null,{"$f":"IFERROR(VLOOKUP(A1750,'28'!$E$12:$I$12,2,FALSE),\"-\")","v":"-"},{"$f":"IFERROR(VLOOKUP(A1750,'28'!E1752:I1752,4,FALSE),\"-\")","v":"-"}]
[null,{"$f":"IFERROR(VLOOKUP(A1750,'28'!$E$13:$I$13,2,FALSE),\"-\")","v":"-"},{"$f":"IFERROR(VLOOKUP(A1750,'28'!E1753:I1753,4,FALSE),\"-\")","v":"-"}]
[null,{"$f":"IFERROR(VLOOKUP(A1750,'28'!$E$14:$I$14,2,FALSE),\"-\")","v":"-"},{"$f":"IFERROR(VLOOKUP(A1750,'28'!E1754:I1754,4,FALSE),\"-\")","v":"-"}]
[null,{"$f":"IFERROR(VLOOKUP(A1750,'28'!$E$15:$I$15,2,FALSE),\"-\")","v":"-"},{"$f":"IFERROR(VLOOKUP(A1750,'28'!E1755:I1755,4,FALSE),\"-\")","v":"-"}]
[null,{"$f":"IFERROR(VLOOKUP(A1750,'28'!$E$16:$I$16,2,FALSE),\"-\")","v":"-"},{"$f":"IFERROR(VLOOKUP(A1750,'28'!E1756:I1756,4,FALSE),\"-\")","v":"-"}]
[null,{"$f":"IFERROR(VLOOKUP(A1750,'28'!$E$17:$I$17,2,FALSE),\"-\")","v":"-"},{"$f":"IFERROR(VLOOKUP(A1750,'28'!E1757:I1757,4,FALSE),\"-\")","v":"-"}]
[null,{"$f":"IFERROR(VLOOKUP(A1750,'28'!$E$18:$I$18,2,FALSE),\"-\")","v":"-"},{"$f":"IFERROR(VLOOKUP(A1750,'28'!E1758:I1758,4,FALSE),\"-\")","v":"-"}]
[null,{"$f":"IFERROR(VLOOKUP(A1750,'28'!$E$19:$I$19,2,FALSE),\"-\")","v":"-"},{"$f":"IFERROR(VLOOKUP(A1750,'28'!E1759:I1759,4,FALSE),\"-\")","v":"-"}]
[null,{"$f":"IFERROR(VLOOKUP(A1750,'28'!$E$20:$I$20,2,FALSE),\"-\")","v":"-"},{"$f":"IFERROR(VLOOKUP(A1750,'28'!E1760:I1760,4,FALSE),\"-\")","v":"-"}]
[null,{"$f":"IFERROR(VLOOKUP(A1750,'28'!$E$21:$I$21,2,FALSE),\"-\")","v":"-"},{"$f":"IFERROR(VLOOKUP(A1750,'28'!E1761:I1761,4,FALSE),\"-\")","v":"-"}]
[null,{"$f":"IFERROR(VLOOKUP(A1750,'28'!$E$22:$I$22,2,FALSE),\"-\")","v":"-"},{"$f":"IFERROR(VLOOKUP(A1750,'28'!E1762:I1762,4,FALSE),\"-\")","v":"-"}]
[null,{"$f":"IFERROR(VLOOKUP(A1750,'28'!$E$23:$I$23,2,FALSE),\"-\")","v":"-"},{"$f":"IFERROR(VLOOKUP(A1750,'28'!E1763:I1763,4,FALSE),\"-\")","v":"-"}]
[null,{"$f":"IFERROR(VLOOKUP(A1750,'28'!$E$24:$I$24,2,FALSE),\"-\")","v":"-"},{"$f":"IFERROR(VLOOKUP(A1750,'28'!E1764:I1764,4,FALSE),\"-\")","v":"-"}]
[null,{"$f":"IFERROR(VLOOKUP(A1750,'28'!$E$25:$I$25,2,FALSE),\"-\")","v":"-"},{"$f":"IFERROR(VLOOKUP(A1750,'28'!E1765:I1765,4,FALSE),\"-\")","v":"-"}]
[null,{"$f":"IFERROR(VLOOKUP(A1750,'28'!$E$26:$I$26,2,FALSE),\"-\")","v":"-"},{"$f":"IFERROR(VLOOKUP(A1750,'28'!E1766:I1766,4,FALSE),\"-\")","v":"-"}]
[null,{"$f":"IFERROR(VLOOKUP(A1750,'28'!$E$27:$I$27,2,FALSE),\"-\")","v":"-"},{"$f":"IFERROR(VLOOKUP(A1750,'28'!E1767:I1767,4,FALSE),\"-\")","v":"-"}]
[null,{"$f":"IFERROR(VLOOKUP(A1750,'28'!$E$28:$I$28,2,FALSE),\"-\")","v":"-"},{"$f":"IFERROR(VLOOKUP(A1750,'28'!E1768:I1768,4,FALSE),\"-\")","v":"-"}]
[null,{"$f":"IFERROR(VLOOKUP(A1750,'28'!$E$29:$I$29,2,FALSE),\"-\")","v":"-"},{"$f":"IFERROR(VLOOKUP(A1750,'28'!E1769:I1769,4,FALSE),\"-\")","v":"-"}]
[null,{"$f":"IFERROR(VLOOKUP(A1750,'28'!$E$30:$I$30,2,FALSE),\"-\")","v":"-"},{"$f":"IFERROR(VLOOKUP(A1750,'28'!E1770:I1770,4,FALSE),\"-\")","v":"-"}]
[null,{"$f":"IFERROR(VLOOKUP(A1750,'28'!$E$31:$I$31,2,FALSE),\"-\")","v":"-"},{"$f":"IFERROR(VLOOKUP(A1750,'28'!E1771:I1771,4,FALSE),\"-\")","v":"-"}]
[null,{"$f":"IFERROR(VLOOKUP(A1750,'29'!$E$4:$I$4,2,FALSE),\"-\")","v":"-"},{"$f":"IFERROR(VLOOKUP(A1750,'29'!E1744:I1744,4,FALSE),\"-\")","v":"-"}]
[null,{"$f":"IFERROR(VLOOKUP(A1750,'29'!$E$5:$I$5,2,FALSE),\"-\")","v":"-"},{"$f":"IFERROR(VLOOKUP(A1750,'29'!E1745:I1745,4,FALSE),\"-\")","v":"-"}]
[null,{"$f":"IFERROR(VLOOKUP(A1750,'29'!$E$6:$I$6,2,FALSE),\"-\")","v":"-"},{"$f":"IFERROR(VLOOKUP(A1750,'29'!E1746:I1746,4,FALSE),\"-\")","v":"-"}]
[null,{"$f":"IFERROR(VLOOKUP(A1750,'29'!$E$7:$I$7,2,FALSE),\"-\")","v":"-"},{"$f":"IFERROR(VLOOKUP(A1750,'29'!E1747:I1747,4,FALSE),\"-\")","v":"-"}]
[null,{"$f":"IFERROR(VLOOKUP(A1750,'29'!$E$8:$I$8,2,FALSE),\"-\")","v":"-"},{"$f":"IFERROR(VLOOKUP(A1750,'29'!E1748:I1748,4,FALSE),\"-\")","v":"-"}]
[null,{"$f":"IFERROR(VLOOKUP(A1750,'29'!$E$9:$I$9,2,FALSE),\"-\")","v":"-"},{"$f":"IFERROR(VLOOKUP(A1750,'29'!E1749:I1749,4,FALSE),\"-\")","v":"-"}]
[null,{"$f":"IFERROR(VLOOKUP(A1750,'29'!$E$10:$I$10,2,FALSE),\"-\")","v":"-"},{"$f":"IFERROR(VLOOKUP(A1750,'29'!E1750:I1750,4,FALSE),\"-\")","v":"-"}]
[null,{"$f":"IFERROR(VLOOKUP(A1750,'29'!$E$11:$I$11,2,FALSE),\"-\")","v":"-"},{"$f":"IFERROR(VLOOKUP(A1750,'29'!E1751:I1751,4,FALSE),\"-\")","v":"-"}]
[null,{"$f":"IFERROR(VLOOKUP(A1750,'29'!$E$12:$I$12,2,FALSE),\"-\")","v":"-"},{"$f":"IFERROR(VLOOKUP(A1750,'29'!E1752:I1752,4,FALSE),\"-\")","v":"-"}]
[null,{"$f":"IFERROR(VLOOKUP(A1750,'29'!$E$13:$I$13,2,FALSE),\"-\")","v":"-"},{"$f":"IFERROR(VLOOKUP(A1750,'29'!E1753:I1753,4,FALSE),\"-\")","v":"-"}]
[null,{"$f":"IFERROR(VLOOKUP(A1750,'29'!$E$14:$I$14,2,FALSE),\"-\")","v":"-"},{"$f":"IFERROR(VLOOKUP(A1750,'29'!E1754:I1754,4,FALSE),\"-\")","v":"-"}]
[null,{"$f":"IFERROR(VLOOKUP(A1750,'29'!$E$15:$I$15,2,FALSE),\"-\")","v":"-"},{"$f":"IFERROR(VLOOKUP(A1750,'29'!E1755:I1755,4,FALSE),\"-\")","v":"-"}]
[null,{"$f":"IFERROR(VLOOKUP(A1750,'29'!$E$16:$I$16,2,FALSE),\"-\")","v":"-"},{"$f":"IFERROR(VLOOKUP(A1750,'29'!E1756:I1756,4,FALSE),\"-\")","v":"-"}]
[null,{"$f":"IFERROR(VLOOKUP(A1750,'29'!$E$17:$I$17,2,FALSE),\"-\")","v":"-"},{"$f":"IFERROR(VLOOKUP(A1750,'29'!E1757:I1757,4,FALSE),\"-\")","v":"-"}]
[null,{"$f":"IFERROR(VLOOKUP(A1750,'29'!$E$18:$I$18,2,FALSE),\"-\")","v":"-"},{"$f":"IFERROR(VLOOKUP(A1750,'29'!E1758:I1758,4,FALSE),\"-\")","v":"-"}]
[null,{"$f":"IFERROR(VLOOKUP(A1750,'29'!$E$19:$I$19,2,FALSE),\"-\")","v":"-"},{"$f":"IFERROR(VLOOKUP(A1750,'29'!E1759:I1759,4,FALSE),\"-\")","v":"-"}]
[null,{"$f":"IFERROR(VLOOKUP(A1750,'29'!$E$20:$I$20,2,FALSE),\"-\")","v":"-"},{"$f":"IFERROR(VLOOKUP(A1750,'29'!E1760:I1760,4,FALSE),\"-\")","v":"-"}]
[null,{"$f":"IFERROR(VLOOKUP(A1750,'29'!$E$21:$I$21,2,FALSE),\"-\")","v":"-"},{"$f":"IFERROR(VLOOKUP(A1750,'29'!E1761:I1761,4,FALSE),\"-\")","v":"-"}]
[null,{"$f":"IFERROR(VLOOKUP(A1750,'29'!$E$22:$I$22,2,FALSE),\"-\")","v":"-"},{"$f":"IFERROR(VLOOKUP(A1750,'29'!E1762:I1762,4,FALSE),\"-\")","v":"-"}]
[null,{"$f":"IFERROR(VLOOKUP(A1750,'29'!$E$23:$I$23,2,FALSE),\"-\")","v":"-"},{"$f":"IFERROR(VLOOKUP(A1750,'29'!E1763:I1763,4,FALSE),\"-\")","v":"-"}]
[null,{"$f":"IFERROR(VLOOKUP(A1750,'29'!$E$24:$I$24,2,FALSE),\"-\")","v":"-"},{"$f":"IFERROR(VLOOKUP(A1750,'29'!E1764:I1764,4,FALSE),\"-\")","v":"-"}]
[null,{"$f":"IFERROR(VLOOKUP(A1750,'29'!$E$25:$I$25,2,FALSE),\"-\")","v":"-"},{"$f":"IFERROR(VLOOKUP(A1750,'29'!E1765:I1765,4,FALSE),\"-\")","v":"-"}]
[null,{"$f":"IFERROR(VLOOKUP(A1750,'29'!$E$26:$I$26,2,FALSE),\"-\")","v":"-"},{"$f":"IFERROR(VLOOKUP(A1750,'29'!E1766:I1766,4,FALSE),\"-\")","v":"-"}]
[null,{"$f":"IFERROR(VLOOKUP(A1750,'29'!$E$27:$I$27,2,FALSE),\"-\")","v":"-"},{"$f":"IFERROR(VLOOKUP(A1750,'29'!E1767:I1767,4,FALSE),\"-\")","v":"-"}]
[null,{"$f":"IFERROR(VLOOKUP(A1750,'29'!$E$28:$I$28,2,FALSE),\"-\")","v":"-"},{"$f":"IFERROR(VLOOKUP(A1750,'29'!E1768:I1768,4,FALSE),\"-\")","v":"-"}]
[null,{"$f":"IFERROR(VLOOKUP(A1750,'29'!$E$29:$I$29,2,FALSE),\"-\")","v":"-"},{"$f":"IFERROR(VLOOKUP(A1750,'29'!E1769:I1769,4,FALSE),\"-\")","v":"-"}]
[null,{"$f":"IFERROR(VLOOKUP(A1750,'29'!$E$30:$I$30,2,FALSE),\"-\")","v":"-"},{"$f":"IFERROR(VLOOKUP(A1750,'29'!E1770:I1770,4,FALSE),\"-\")","v":"-"}]
[null,{"$f":"IFERROR(VLOOKUP(A1750,'29'!$E$31:$I$31,2,FALSE),\"-\")","v":"-"},{"$f":"IFERROR(VLOOKUP(A1750,'29'!E1771:I1771,4,FALSE),\"-\")","v":"-"}]
[null,{"$f":"IFERROR(VLOOKUP(A1750,'30'!$E$4:$I$4,2,FALSE),\"-\")","v":"-"},{"$f":"IFERROR(VLOOKUP(A1750,'30'!E1744:I1744,4,FALSE),\"-\")","v":"-"}]
[null,{"$f":"IFERROR(VLOOKUP(A1750,'30'!$E$5:$I$5,2,FALSE),\"-\")","v":"-"},{"$f":"IFERROR(VLOOKUP(A1750,'30'!E1745:I1745,4,FALSE),\"-\")","v":"-"}]
[null,{"$f":"IFERROR(VLOOKUP(A1750,'30'!$E$6:$I$6,2,FALSE),\"-\")","v":"-"},{"$f":"IFERROR(VLOOKUP(A1750,'30'!E1746:I1746,4,FALSE),\"-\")","v":"-"}]
[null,{"$f":"IFERROR(VLOOKUP(A1750,'30'!$E$7:$I$7,2,FALSE),\"-\")","v":"-"},{"$f":"IFERROR(VLOOKUP(A1750,'30'!E1747:I1747,4,FALSE),\"-\")","v":"-"}]
[null,{"$f":"IFERROR(VLOOKUP(A1750,'30'!$E$8:$I$8,2,FALSE),\"-\")","v":"-"},{"$f":"IFERROR(VLOOKUP(A1750,'30'!E1748:I1748,4,FALSE),\"-\")","v":"-"}]
[null,{"$f":"IFERROR(VLOOKUP(A1750,'30'!$E$9:$I$9,2,FALSE),\"-\")","v":"-"},{"$f":"IFERROR(VLOOKUP(A1750,'30'!E1749:I1749,4,FALSE),\"-\")","v":"-"}]
[null,{"$f":"IFERROR(VLOOKUP(A1750,'30'!$E$10:$I$10,2,FALSE),\"-\")","v":"-"},{"$f":"IFERROR(VLOOKUP(A1750,'30'!E1750:I1750,4,FALSE),\"-\")","v":"-"}]
[null,{"$f":"IFERROR(VLOOKUP(A1750,'30'!$E$11:$I$11,2,FALSE),\"-\")","v":"-"},{"$f":"IFERROR(VLOOKUP(A1750,'30'!E1751:I1751,4,FALSE),\"-\")","v":"-"}]
[null,{"$f":"IFERROR(VLOOKUP(A1750,'30'!$E$12:$I$12,2,FALSE),\"-\")","v":"-"},{"$f":"IFERROR(VLOOKUP(A1750,'30'!E1752:I1752,4,FALSE),\"-\")","v":"-"}]
[null,{"$f":"IFERROR(VLOOKUP(A1750,'30'!$E$13:$I$13,2,FALSE),\"-\")","v":"-"},{"$f":"IFERROR(VLOOKUP(A1750,'30'!E1753:I1753,4,FALSE),\"-\")","v":"-"}]
[null,{"$f":"IFERROR(VLOOKUP(A1750,'30'!$E$14:$I$14,2,FALSE),\"-\")","v":"-"},{"$f":"IFERROR(VLOOKUP(A1750,'30'!E1754:I1754,4,FALSE),\"-\")","v":"-"}]
[null,{"$f":"IFERROR(VLOOKUP(A1750,'30'!$E$15:$I$15,2,FALSE),\"-\")","v":"-"},{"$f":"IFERROR(VLOOKUP(A1750,'30'!E1755:I1755,4,FALSE),\"-\")","v":"-"}]
[null,{"$f":"IFERROR(VLOOKUP(A1750,'30'!$E$16:$I$16,2,FALSE),\"-\")","v":"-"},{"$f":"IFERROR(VLOOKUP(A1750,'30'!E1756:I1756,4,FALSE),\"-\")","v":"-"}]
[null,{"$f":"IFERROR(VLOOKUP(A1750,'30'!$E$17:$I$17,2,FALSE),\"-\")","v":"-"},{"$f":"IFERROR(VLOOKUP(A1750,'30'!E1757:I1757,4,FALSE),\"-\")","v":"-"}]
[null,{"$f":"IFERROR(VLOOKUP(A1750,'30'!$E$18:$I$18,2,FALSE),\"-\")","v":"-"},{"$f":"IFERROR(VLOOKUP(A1750,'30'!E1758:I1758,4,FALSE),\"-\")","v":"-"}]
[null,{"$f":"IFERROR(VLOOKUP(A1750,'30'!$E$19:$I$19,2,FALSE),\"-\")","v":"-"},{"$f":"IFERROR(VLOOKUP(A1750,'30'!E1759:I1759,4,FALSE),\"-\")","v":"-"}]
[null,{"$f":"IFERROR(VLOOKUP(A1750,'30'!$E$20:$I$20,2,FALSE),\"-\")","v":"-"},{"$f":"IFERROR(VLOOKUP(A1750,'30'!E1760:I1760,4,FALSE),\"-\")","v":"-"}]
[null,{"$f":"IFERROR(VLOOKUP(A1750,'30'!$E$21:$I$21,2,FALSE),\"-\")","v":"-"},{"$f":"IFERROR(VLOOKUP(A1750,'30'!E1761:I1761,4,FALSE),\"-\")","v":"-"}]
[null,{"$f":"IFERROR(VLOOKUP(A1750,'30'!$E$22:$I$22,2,FALSE),\"-\")","v":"-"},{"$f":"IFERROR(VLOOKUP(A1750,'30'!E1762:I1762,4,FALSE),\"-\")","v":"-"}]
[null,{"$f":"IFERROR(VLOOKUP(A1750,'30'!$E$23:$I$23,2,FALSE),\"-\")","v":"-"},{"$f":"IFERROR(VLOOKUP(A1750,'30'!E1763:I1763,4,FALSE),\"-\")","v":"-"}]
[null,{"$f":"IFERROR(VLOOKUP(A1750,'30'!$E$24:$I$24,2,FALSE),\"-\")","v":"-"},{"$f":"IFERROR(VLOOKUP(A1750,'30'!E1764:I1764,4,FALSE),\"-\")","v":"-"}]
[null,{"$f":"IFERROR(VLOOKUP(A1750,'30'!$E$25:$I$25,2,FALSE),\"-\")","v":"-"},{"$f":"IFERROR(VLOOKUP(A1750,'30'!E1765:I1765,4,FALSE),\"-\")","v":"-"}]
[null,{"$f":"IFERROR(VLOOKUP(A1750,'30'!$E$26:$I$26,2,FALSE),\"-\")","v":"-"},{"$f":"IFERROR(VLOOKUP(A1750,'30'!E1766:I1766,4,FALSE),\"-\")","v":"-"}]
[null,{"$f":"IFERROR(VLOOKUP(A1750,'30'!$E$27:$I$27,2,FALSE),\"-\")","v":"-"},{"$f":"IFERROR(VLOOKUP(A1750,'30'!E1767:I1767,4,FALSE),\"-\")","v":"-"}]
[null,{"$f":"IFERROR(VLOOKUP(A1750,'30'!$E$28:$I$28,2,FALSE),\"-\")","v":"-"},{"$f":"IFERROR(VLOOKUP(A1750,'30'!E1768:I1768,4,FALSE),\"-\")","v":"-"}]
[null,{"$f":"IFERROR(VLOOKUP(A1750,'30'!$E$29:$I$29,2,FALSE),\"-\")","v":"-"},{"$f":"IFERROR(VLOOKUP(A1750,'30'!E1769:I1769,4,FALSE),\"-\")","v":"-"}]
[null,{"$f":"IFERROR(VLOOKUP(A1750,'30'!$E$30:$I$30,2,FALSE),\"-\")","v":"-"},{"$f":"IFERROR(VLOOKUP(A1750,'30'!E1770:I1770,4,FALSE),\"-\")","v":"-"}]
[null,{"$f":"IFERROR(VLOOKUP(A1750,'30'!$E$31:$I$31,2,FALSE),\"-\")","v":"-"},{"$f":"IFERROR(VLOOKUP(A1750,'30'!E1771:I1771,4,FALSE),\"-\")","v":"-"}]
[null,{"$f":"IFERROR(VLOOKUP(A1750,'31'!$E$4:$I$4,2,FALSE),\"-\")","v":"-"},{"$f":"IFERROR(VLOOKUP(A1750,'31'!E1744:I1744,4,FALSE),\"-\")","v":"-"}]
[null,{"$f":"IFERROR(VLOOKUP(A1750,'31'!$E$5:$I$5,2,FALSE),\"-\")","v":"-"},{"$f":"IFERROR(VLOOKUP(A1750,'31'!E1745:I1745,4,FALSE),\"-\")","v":"-"}]
[null,{"$f":"IFERROR(VLOOKUP(A1750,'31'!$E$6:$I$6,2,FALSE),\"-\")","v":"Fulano"},{"$f":"IFERROR(VLOOKUP(A1750,'31'!E1746:I1746,4,FALSE),\"-\")","v":"-"}]
[null,{"$f":"IFERROR(VLOOKUP(A1750,'31'!$E$7:$I$7,2,FALSE),\"-\")","v":"-"},{"$f":"IFERROR(VLOOKUP(A1750,'31'!E1747:I1747,4,FALSE),\"-\")","v":"-"}]
[null,{"$f":"IFERROR(VLOOKUP(A1750,'31'!$E$8:$I$8,2,FALSE),\"-\")","v":"-"},{"$f":"IFERROR(VLOOKUP(A1750,'31'!E1748:I1748,4,FALSE),\"-\")","v":"-"}]
[null,{"$f":"IFERROR(VLOOKUP(A1750,'31'!$E$9:$I$9,2,FALSE),\"-\")","v":"-"},{"$f":"IFERROR(VLOOKUP(A1750,'31'!E1749:I1749,4,FALSE),\"-\")","v":"-"}]
[null,{"$f":"IFERROR(VLOOKUP(A1750,'31'!$E$10:$I$10,2,FALSE),\"-\")","v":"-"},{"$f":"IFERROR(VLOOKUP(A1750,'31'!E1750:I1750,4,FALSE),\"-\")","v":"-"}]
[null,{"$f":"IFERROR(VLOOKUP(A1750,'31'!$E$11:$I$11,2,FALSE),\"-\")","v":"-"},{"$f":"IFERROR(VLOOKUP(A1750,'31'!E1751:I1751,4,FALSE),\"-\")","v":"-"}]
[null,{"$f":"IFERROR(VLOOKUP(A1750,'31'!$E$12:$I$12,2,FALSE),\"-\")","v":"-"},{"$f":"IFERROR(VLOOKUP(A1750,'31'!E1752:I1752,4,FALSE),\"-\")","v":"-"}]
[null,{"$f":"IFERROR(VLOOKUP(A1750,'31'!$E$13:$I$13,2,FALSE),\"-\")","v":"-"},{"$f":"IFERROR(VLOOKUP(A1750,'31'!E1753:I1753,4,FALSE),\"-\")","v":"-"}]
[null,{"$f":"IFERROR(VLOOKUP(A1750,'31'!$E$14:$I$14,2,FALSE),\"-\")","v":"-"},{"$f":"IFERROR(VLOOKUP(A1750,'31'!E1754:I1754,4,FALSE),\"-\")","v":"-"}]
[null,{"$f":"IFERROR(VLOOKUP(A1750,'31'!$E$15:$I$15,2,FALSE),\"-\")","v":"-"},{"$f":"IFERROR(VLOOKUP(A1750,'31'!E1755:I1755,4,FALSE),\"-\")","v":"-"}]
[null,{"$f":"IFERROR(VLOOKUP(A1750,'31'!$E$16:$I$16,2,FALSE),\"-\")","v":"-"},{"$f":"IFERROR(VLOOKUP(A1750,'31'!E1756:I1756,4,FALSE),\"-\")","v":"-"}]
[null,{"$f":"IFERROR(VLOOKUP(A1750,'31'!$E$17:$I$17,2,FALSE),\"-\")","v":"-"},{"$f":"IFERROR(VLOOKUP(A1750,'31'!E1757:I1757,4,FALSE),\"-\")","v":"-"}]
[null,{"$f":"IFERROR(VLOOKUP(A1750,'31'!$E$18:$I$18,2,FALSE),\"-\")","v":"-"},{"$f":"IFERROR(VLOOKUP(A1750,'31'!E1758:I1758,4,FALSE),\"-\")","v":"-"}]
[null,{"$f":"IFERROR(VLOOKUP(A1750,'31'!$E$19:$I$19,2,FALSE),\"-\")","v":"-"},{"$f":"IFERROR(VLOOKUP(A1750,'31'!E1759:I1759,4,FALSE),\"-\")","v":"-"}]
[null,{"$f":"IFERROR(VLOOKUP(A1750,'31'!$E$20:$I$20,2,FALSE),\"-\")","v":"-"},{"$f":"IFERROR(VLOOKUP(A1750,'31'!E1760:I1760,4,FALSE),\"-\")","v":"-"}]
[null,{"$f":"IFERROR(VLOOKUP(A1750,'31'!$E$21:$I$21,2,FALSE),\"-\")","v":"-"},{"$f":"IFERROR(VLOOKUP(A1750,'31'!E1761:I1761,4,FALSE),\"-\")","v":"-"}]
[null,{"$f":"IFERROR(VLOOKUP(A1750,'31'!$E$22:$I$22,2,FALSE),\"-\")","v":"-"},{"$f":"IFERROR(VLOOKUP(A1750,'31'!E1762:I1762,4,FALSE),\"-\")","v":"-"}]
[null,{"$f":"IFERROR(VLOOKUP(A1750,'31'!$E$23:$I$23,2,FALSE),\"-\")","v":"-"},{"$f":"IFERROR(VLOOKUP(A1750,'31'!E1763:I1763,4,FALSE),\"-\")","v":"-"}]
[null,{"$f":"IFERROR(VLOOKUP(A1750,'31'!$E$24:$I$24,2,FALSE),\"-\")","v":"-"},{"$f":"IFERROR(VLOOKUP(A1750,'31'!E1764:I1764,4,FALSE),\"-\")","v":"-"}]
[null,{"$f":"IFERROR(VLOOKUP(A1750,'31'!$E$25:$I$25,2,FALSE),\"-\")","v":"-"},{"$f":"IFERROR(VLOOKUP(A1750,'31'!E1765:I1765,4,FALSE),\"-\")","v":"-"}]
[null,{"$f":"IFERROR(VLOOKUP(A1750,'31'!$E$26:$I$26,2,FALSE),\"-\")","v":"-"},{"$f":"IFERROR(VLOOKUP(A1750,'31'!E1766:I1766,4,FALSE),\"-\")","v":"-"}]
[null,{"$f":"IFERROR(VLOOKUP(A1750,'31'!$E$27:$I$27,2,FALSE),\"-\")","v":"-"},{"$f":"IFERROR(VLOOKUP(A1750,'31'!E1767:I1767,4,FALSE),\"-\")","v":"-"}]
[null,{"$f":"IFERROR(VLOOKUP(A1750,'31'!$E$28:$I$28,2,FALSE),\"-\")","v":"-"},{"$f":"IFERROR(VLOOKUP(A1750,'31'!E1768:I1768,4,FALSE),\"-\")","v":"-"}]
[null,{"$f":"IFERROR(VLOOKUP(A1750,'31'!$E$29:$I$29,2,FALSE),\"-\")","v":"-"},{"$f":"IFERROR(VLOOKUP(A1750,'31'!E1769:I1769,4,FALSE),\"-\")","v":"-"}]
[null,{"$f":"IFERROR(VLOOKUP(A1750,'31'!$E$30:$I$30,2,FALSE),\"-\")","v":"-"},{"$f":"IFERROR(VLOOKUP(A1750,'31'!E1770:I1770,4,FALSE),\"-\")","v":"-"}]
[null,{"$f":"IFERROR(VLOOKUP(A1750,'31'!$E$31:$I$31,2,FALSE),\"-\")","v":"-"},{"$f":"IFERROR(VLOOKUP(A1750,'31'!E1771:I1771,4,FALSE),\"-\")","v":"-"}]
[]
["Codigo","Fornecedor","Valor"]
["Va",{"$f":"IFERROR(VLOOKUP(A2620,'1'!$E$4:$I$4,2,FALSE),\"-\")","v":"-"},{"$f":"IFERROR(VLOOKUP(A2620,'1'!$E$4:$I$4,4,FALSE),\"-\")","v":"-"}]
[null,{"$f":"IFERROR(VLOOKUP(A2620,'1'!$E$5:$I$5,2,FALSE),\"-\")","v":"-"},{"$f":"IFERROR(VLOOKUP(A2620,'1'!$E$5:$I$5,4,FALSE),\"-\")","v":"-"}]
[null,{"$f":"IFERROR(VLOOKUP(A2620,'1'!$E$6:$I$6,2,FALSE),\"-\")","v":"-"},{"$f":"IFERROR(VLOOKUP(A2620,'1'!$E$6:$I$6,4,FALSE),\"-\")","v":"-"}]
[null,{"$f":"IFERROR(VLOOKUP(A2620,'1'!$E$7:$I$7,2,FALSE),\"-\")","v":"-"},{"$f":"IFERROR(VLOOKUP(A2620,'1'!$E$7:$I$7,4,FALSE),\"-\")","v":"-"}]
[null,{"$f":"IFERROR(VLOOKUP(A2620,'1'!$E$8:$I$8,2,FALSE),\"-\")","v":"-"},{"$f":"IFERROR(VLOOKUP(A2620,'1'!$E$8:$I$8,4,FALSE),\"-\")","v":"-"}]
[null,{"$f":"IFERROR(VLOOKUP(A2620,'1'!$E$9:$I$9,2,FALSE),\"-\")","v":"-"},{"$f":"IFERROR(VLOOKUP(A2620,'1'!$E$9:$I$9,4,FALSE),\"-\")","v":"-"}]
[null,{"$f":"IFERROR(VLOOKUP(A2620,'1'!$E$10:$I$10,2,FALSE),\"-\")","v":"-"},{"$f":"IFERROR(VLOOKUP(A2620,'1'!$E$10:$I$10,4,FALSE),\"-\")","v":"-"}]
[null,{"$f":"IFERROR(VLOOKUP(A2620,'1'!$E$11:$I$11,2,FALSE),\"-\")","v":"-"},{"$f":"IFERROR(VLOOKUP(A2620,'1'!$E$11:$I$11,4,FALSE),\"-\")","v":"-"}]
[null,{"$f":"IFERROR(VLOOKUP(A2620,'1'!$E$12:$I$12,2,FALSE),\"-\")","v":"-"},{"$f":"IFERROR(VLOOKUP(A2620,'1'!$E$12:$I$12,4,FALSE),\"-\")","v":"-"}]
[null,{"$f":"IFERROR(VLOOKUP(A2620,'1'!$E$13:$I$13,2,FALSE),\"-\")","v":"-"},{"$f":"IFERROR(VLOOKUP(A2620,'1'!$E$13:$I$13,4,FALSE),\"-\")","v":"-"}]
[null,{"$f":"IFERROR(VLOOKUP(A2620,'1'!$E$14:$I$14,2,FALSE),\"-\")","v":"-"},{"$f":"IFERROR(VLOOKUP(A2620,'1'!$E$14:$I$14,4,FALSE),\"-\")","v":"-"}]
[null,{"$f":"IFERROR(VLOOKUP(A2620,'1'!$E$15:$I$15,2,FALSE),\"-\")","v":"-"},{"$f":"IFERROR(VLOOKUP(A2620,'1'!$E$15:$I$15,4,FALSE),\"-\")","v":"-"}]
[null,{"$f":"IFERROR(VLOOKUP(A2620,'1'!$E$16:$I$16,2,FALSE),\"-\")","v":"-"},{"$f":"IFERROR(VLOOKUP(A2620,'1'!$E$16:$I$16,4,FALSE),\"-\")","v":"-"}]
[null,{"$f":"IFERROR(VLOOKUP(A2620,'1'!$E$17:$I$17,2,FALSE),\"-\")","v":"-"},{"$f":"IFERROR(VLOOKUP(A2620,'1'!$E$17:$I$17,4,FALSE),\"-\")","v":"-"}]
[null,{"$f":"IFERROR(VLOOKUP(A2620,'1'!$E$18:$I$18,2,FALSE),\"-\")","v":"-"},{"$f":"IFERROR(VLOOKUP(A2620,'1'!$E$18:$I$18,4,FALSE),\"-\")","v":"-"}]
[null,{"$f":"IFERROR(VLOOKUP(A2620,'1'!$E$19:$I$19,2,FALSE),\"-\")","v":"-"},{"$f":"IFERROR(VLOOKUP(A2620,'1'!$E$19:$I$19,4,FALSE),\"-\")","v":"-"}]
[null,{"$f":"IFERROR(VLOOKUP(A2620,'1'!$E$20:$I$20,2,FALSE),\"-\")","v":"-"},{"$f":"IFERROR(VLOOKUP(A2620,'1'!$E$20:$I$20,4,FALSE),\"-\")","v":"-"}]
[null,{"$f":"IFERROR(VLOOKUP(A2620,'1'!$E$21:$I$21,2,FALSE),\"-\")","v":"-"},{"$f":"IFERROR(VLOOKUP(A2620,'1'!$E$21:$I$21,4,FALSE),\"-\")","v":"-"}]
[null,{"$f":"IFERROR(VLOOKUP(A2620,'1'!$E$22:$I$22,2,FALSE),\"-\")","v":"-"},{"$f":"IFERROR(VLOOKUP(A2620,'1'!$E$22:$I$22,4,FALSE),\"-\")","v":"-"}]
[null,{"$f":"IFERROR(VLOOKUP(A2620,'1'!$E$23:$I$23,2,FALSE),\"-\")","v":"-"},{"$f":"IFERROR(VLOOKUP(A2620,'1'!$E$23:$I$23,4,FALSE),\"-\")","v":"-"}]
[null,{"$f":"IFERROR(VLOOKUP(A2620,'1'!$E$24:$I$24,2,FALSE),\"-\")","v":"-"},{"$f":"IFERROR(VLOOKUP(A2620,'1'!$E$24:$I$24,4,FALSE),\"-\")","v":"-"}]
[null,{"$f":"IFERROR(VLOOKUP(A2620,'1'!$E$25:$I$25,2,FALSE),\"-\")","v":"-"},{"$f":"IFERROR(VLOOKUP(A2620,'1'!$E$25:$I$25,4,FALSE),\"-\")","v":"-"}]
[null,{"$f":"IFERROR(VLOOKUP(A2620,'1'!$E$26:$I$26,2,FALSE),\"-\")","v":"-"},{"$f":"IFERROR(VLOOKUP(A2620,'1'!$E$26:$I$26,4,FALSE),\"-\")","v":"-"}]
[null,{"$f":"IFERROR(VLOOKUP(A2620,'1'!$E$27:$I$27,2,FALSE),\"-\")","v":"-"},{"$f":"IFERROR(VLOOKUP(A2620,'1'!$E$27:$I$27,4,FALSE),\"-\")","v":"-"}]
[null,{"$f":"IFERROR(VLOOKUP(A2620,'1'!$E$28:$I$28,2,FALSE),\"-\")","v":"-"},{"$f":"IFERROR(VLOOKUP(A2620,'1'!$E$28:$I$28,4,FALSE),\"-\")","v":"-"}]
[null,{"$f":"IFERROR(VLOOKUP(A2620,'1'!$E$29:$I$29,2,FALSE),\"-\")","v":"-"},{"$f":"IFERROR(VLOOKUP(A2620,'1'!$E$29:$I$29,4,FALSE),\"-\")","v":"-"}]
[null,{"$f":"IFERROR(VLOOKUP(A2620,'1'!$E$30:$I$30,2,FALSE),\"-\")","v":"-"},{"$f":"IFERROR(VLOOKUP(A2620,'1'!$E$30:$I$30,4,FALSE),\"-\")","v":"-"}]
[null,{"$f":"IFERROR(VLOOKUP(A2620,'1'!$E$31:$I$31,2,FALSE),\"-\")","v":"-"},{"$f":"IFERROR(VLOOKUP(A2620,'1'!$E$31:$I$31,4,FALSE),\"-\")","v":"-"}]
[null,{"$f":"IFERROR(VLOOKUP(A2620,'2'!$E$4:$I$4,2,FALSE),\"-\")","v":"-"},{"$f":"IFERROR(VLOOKUP(A2620,'2'!$E$4:$I$4,4,FALSE),\"-\")","v":"-"}]
[null,{"$f":"IFERROR(VLOOKUP(A2620,'2'!$E$5:$I$5,2,FALSE),\"-\")","v":"-"},{"$f":"IFERROR(VLOOKUP(A2620,'2'!E2615:I2615,4,FALSE),\"-\")","v":"-"}]
[null,{"$f":"IFERROR(VLOOKUP(A2620,'2'!$E$6:$I$6,2,FALSE),\"-\")","v":"-"},{"$f":"IFERROR(VLOOKUP(A2620,'2'!E2616:I2616,4,FALSE),\"-\")","v":"-"}]
[null,{"$f":"IFERROR(VLOOKUP(A2620,'2'!$E$7:$I$7,2,FALSE),\"-\")","v":"-"},{"$f":"IFERROR(VLOOKUP(A2620,'2'!E2617:I2617,4,FALSE),\"-\")","v":"-"}]
[null,{"$f":"IFERROR(VLOOKUP(A2620,'2'!$E$8:$I$8,2,FALSE),\"-\")","v":"-"},{"$f":"IFERROR(VLOOKUP(A2620,'2'!E2618:I2618,4,FALSE),\"-\")","v":"-"}]
[null,{"$f":"IFERROR(VLOOKUP(A2620,'2'!$E$9:$I$9,2,FALSE),\"-\")","v":"-"},{"$f":"IFERROR(VLOOKUP(A2620,'2'!E2619:I2619,4,FALSE),\"-\")","v":"-"}]
[null,{"$f":"IFERROR(VLOOKUP(A2620,'2'!$E$10:$I$10,2,FALSE),\"-\")","v":"-"},{"$f":"IFERROR(VLOOKUP(A2620,'2'!E2620:I2620,4,FALSE),\"-\")","v":"-"}]
[null,{"$f":"IFERROR(VLOOKUP(A2620,'2'!$E$11:$I$11,2,FALSE),\"-\")","v":"-"},{"$f":"IFERROR(VLOOKUP(A2620,'2'!E2621:I2621,4,FALSE),\"-\")","v":"-"}]
[null,{"$f":"IFERROR(VLOOKUP(A2620,'2'!$E$12:$I$12,2,FALSE),\"-\")","v":"-"},{"$f":"IFERROR(VLOOKUP(A2620,'2'!E2622:I2622,4,FALSE),\"-\")","v":"-"}]
[null,{"$f":"IFERROR(VLOOKUP(A2620,'2'!$E$13:$I$13,2,FALSE),\"-\")","v":"-"},{"$f":"IFERROR(VLOOKUP(A2620,'2'!E2623:I2623,4,FALSE),\"-\")","v":"-"}]
[null,{"$f":"IFERROR(VLOOKUP(A2620,'2'!$E$14:$I$14,2,FALSE),\"-\")","v":"-"},{"$f":"IFERROR(VLOOKUP(A2620,'2'!E2624:I2624,4,FALSE),\"-\")","v":"-"}]
[null,{"$f":"IFERROR(VLOOKUP(A2620,'2'!$E$15:$I$15,2,FALSE),\"-\")","v":"-"},{"$f":"IFERROR(VLOOKUP(A2620,'2'!E2625:I2625,4,FALSE),\"-\")","v":"-"}]
[null,{"$f":"IFERROR(VLOOKUP(A2620,'2'!$E$16:$I$16,2,FALSE),\"-\")","v":"-"},{"$f":"IFERROR(VLOOKUP(A2620,'2'!E2626:I2626,4,FALSE),\"-\")","v":"-"}]
[null,{"$f":"IFERROR(VLOOKUP(A2620,'2'!$E$17:$I$17,2,FALSE),\"-\")","v":"-"},{"$f":"IFERROR(VLOOKUP(A2620,'2'!E2627:I2627,4,FALSE),\"-\")","v":"-"}]
[null,{"$f":"IFERROR(VLOOKUP(A2620,'2'!$E$18:$I$18,2,FALSE),\"-\")","v":"-"},{"$f":"IFERROR(VLOOKUP(A2620,'2'!E2628:I2628,4,FALSE),\"-\")","v":"-"}]
[null,{"$f":"IFERROR(VLOOKUP(A2620,'2'!$E$19:$I$19,2,FALSE),\"-\")","v":"-"},{"$f":"IFERROR(VLOOKUP(A2620,'2'!E2629:I2629,4,FALSE),\"-\")","v":"-"}]
[null,{"$f":"IFERROR(VLOOKUP(A2620,'2'!$E$20:$I$20,2,FALSE),\"-\")","v":"-"},{"$f":"IFERROR(VLOOKUP(A2620,'2'!E2630:I2630,4,FALSE),\"-\")","v":"-"}]
[null,{"$f":"IFERROR(VLOOKUP(A2620,'2'!$E$21:$I$21,2,FALSE),\"-\")","v":"-"},{"$f":"IFERROR(VLOOKUP(A2620,'2'!E2631:I2631,4,FALSE),\"-\")","v":"-"}]
[null,{"$f":"IFERROR(VLOOKUP(A2620,'2'!$E$22:$I$22,2,FALSE),\"-\")","v":"-"},{"$f":"IFERROR(VLOOKUP(A2620,'2'!E2632:I2632,4,FALSE),\"-\")","v":"-"}]
[null,{"$f":"IFERROR(VLOOKUP(A2620,'2'!$E$23:$I$23,2,FALSE),\"-\")","v":"-"},{"$f":"IFERROR(VLOOKUP(A2620,'2'!E2633:I2633,4,FALSE),\"-\")","v":"-"}]
[null,{"$f":"IFERROR(VLOOKUP(A2620,'2'!$E$24:$I$24,2,FALSE),\"-\")","v":"-"},{"$f":"IFERROR(VLOOKUP(A2620,'2'!E2634:I2634,4,FALSE),\"-\")","v":"-"}]
[null,{"$f":"IFERROR(VLOOKUP(A2620,'2'!$E$25:$I$25,2,FALSE),\"-\")","v":"-"},{"$f":"IFERROR(VLOOKUP(A2620,'2'!E2635:I2635,4,FALSE),\"-\")","v":"-"}]
[null,{"$f":"IFERROR(VLOOKUP(A2620,'2'!$E$26:$I$26,2,FALSE),\"-\")","v":"-"},{"$f":"IFERROR(VLOOKUP(A2620,'2'!E2636:I2636,4,FALSE),\"-\")","v":"-"}]
[null,{"$f":"IFERROR(VLOOKUP(A2620,'2'!$E$27:$I$27,2,FALSE),\"-\")","v":"-"},{"$f":"IFERROR(VLOOKUP(A2620,'2'!E2637:I2637,4,FALSE),\"-\")","v":"-"}]
[null,{"$f":"IFERROR(VLOOKUP(A2620,'2'!$E$28:$I$28,2,FALSE),\"-\")","v":"-"},{"$f":"IFERROR(VLOOKUP(A2620,'2'!E2638:I2638,4,FALSE),\"-\")","v":"-"}]
[null,{"$f":"IFERROR(VLOOKUP(A2620,'2'!$E$29:$I$29,2,FALSE),\"-\")","v":"-"},{"$f":"IFERROR(VLOOKUP(A2620,'2'!E2639:I2639,4,FALSE),\"-\")","v":"-"}]
[null,{"$f":"IFERROR(VLOOKUP(A2620,'2'!$E$30:$I$30,2,FALSE),\"-\")","v":"-"},{"$f":"IFERROR(VLOOKUP(A2620,'2'!E2640:I2640,4,FALSE),\"-\")","v":"-"}]
[null,{"$f":"IFERROR(VLOOKUP(A2620,'2'!$E$31:$I$31,2,FALSE),\"-\")","v":"-"},{"$f":"IFERROR(VLOOKUP(A2620,'2'!E2641:I2641,4,FALSE),\"-\")","v":"-"}]
[null,{"$f":"IFERROR(VLOOKUP(A2620,'3'!$E$4:$I$4,2,FALSE),\"-\")","v":"-"},{"$f":"IFERROR(VLOOKUP(A2620,'3'!E2614:I2614,4,FALSE),\"-\")","v":"-"}]
[null,{"$f":"IFERROR(VLOOKUP(A2620,'3'!$E$5:$I$5,2,FALSE),\"-\")","v":"-"},{"$f":"IFERROR(VLOOKUP(A2620,'3'!E2615:I2615,4,FALSE),\"-\")","v":"-"}]
[null,{"$f":"IFERROR(VLOOKUP(A2620,'3'!$E$6:$I$6,2,FALSE),\"-\")","v":"-"},{"$f":"IFERROR(VLOOKUP(A2620,'3'!E2616:I2616,4,FALSE),\"-\")","v":"-"}]
[null,{"$f":"IFERROR(VLOOKUP(A2620,'3'!$E$7:$I$7,2,FALSE),\"-\")","v":"-"},{"$f":"IFERROR(VLOOKUP(A2620,'3'!E2617:I2617,4,FALSE),\"-\")","v":"-"}]
[null,{"$f":"IFERROR(VLOOKUP(A2620,'3'!$E$8:$I$8,2,FALSE),\"-\")","v":"-"},{"$f":"IFERROR(VLOOKUP(A2620,'3'!E2618:I2618,4,FALSE),\"-\")","v":"-"}]
[null,{"$f":"IFERROR(VLOOKUP(A2620,'3'!$E$9:$I$9,2,FALSE),\"-\")","v":"-"},{"$f":"IFERROR(VLOOKUP(A2620,'3'!E2619:I2619,4,FALSE),\"-\")","v":"-"}]
[null,{"$f":"IFERROR(VLOOKUP(A2620,'3'!$E$10:$I$10,2,FALSE),\"-\")","v":"-"},{"$f":"IFERROR(VLOOKUP(A2620,'3'!E2620:I2620,4,FALSE),\"-\")","v":"-"}]
[null,{"$f":"IFERROR(VLOOKUP(A2620,'3'!$E$11:$I$11,2,FALSE),\"-\")","v":"-"},{"$f":"IFERROR(VLOOKUP(A2620,'3'!E2621:I2621,4,FALSE),\"-\")","v":"-"}]
[null,{"$f":"IFERROR(VLOOKUP(A2620,'3'!$E$12:$I$12,2,FALSE),\"-\")","v":"-"},{"$f":"IFERROR(VLOOKUP(A2620,'3'!E2622:I2622,4,FALSE),\"-\")","v":"-"}]
[null,{"$f":"IFERROR(VLOOKUP(A2620,'3'!$E$13:$I$13,2,FALSE),\"-\")","v":"-"},{"$f":"IFERROR(VLOOKUP(A2620,'3'!E2623:I2623,4,FALSE),\"-\")","v":"-"}]
[null,{"$f":"IFERROR(VLOOKUP(A2620,'3'!$E$14:$I$14,2,FALSE),\"-\")","v":"-"},{"$f":"IFERROR(VLOOKUP(A2620,'3'!E2624:I2624,4,FALSE),\"-\")","v":"-"}]
[null,{"$f":"IFERROR(VLOOKUP(A2620,'3'!$E$15:$I$15,2,FALSE),\"-\")","v":"-"},{"$f":"IFERROR(VLOOKUP(A2620,'3'!E2625:I2625,4,FALSE),\"-\")","v":"-"}]
[null,{"$f":"IFERROR(VLOOKUP(A2620,'3'!$E$16:$I$16,2,FALSE),\"-\")","v":"-"},{"$f":"IFERROR(VLOOKUP(A2620,'3'!E2626:I2626,4,FALSE),\"-\")","v":"-"}]
[null,{"$f":"IFERROR(VLOOKUP(A2620,'3'!$E$17:$I$17,2,FALSE),\"-\")","v":"-"},{"$f":"IFERROR(VLOOKUP(A2620,'3'!E2627:I2627,4,FALSE),\"-\")","v":"-"}]
[null,{"$f":"IFERROR(VLOOKUP(A2620,'3'!$E$18:$I$18,2,FALSE),\"-\")","v":"-"},{"$f":"IFERROR(VLOOKUP(A2620,'3'!E2628:I2628,4,FALSE),\"-\")","v":"-"}]
[null,{"$f":"IFERROR(VLOOKUP(A2620,'3'!$E$19:$I$19,2,FALSE),\"-\")","v":"-"},{"$f":"IFERROR(VLOOKUP(A2620,'3'!E2629:I2629,4,FALSE),\"-\")","v":"-"}]
[null,{"$f":"IFERROR(VLOOKUP(A2620,'3'!$E$20:$I$20,2,FALSE),\"-\")","v":"-"},{"$f":"IFERROR(VLOOKUP(A2620,'3'!E2630:I2630,4,FALSE),\"-\")","v":"-"}]
[null,{"$f":"IFERROR(VLOOKUP(A2620,'3'!$E$21:$I$21,2,FALSE),\"-\")","v":"-"},{"$f":"IFERROR(VLOOKUP(A2620,'3'!E2631:I2631,4,FALSE),\"-\")","v":"-"}]
[null,{"$f":"IFERROR(VLOOKUP(A2620,'3'!$E$22:$I$22,2,FALSE),\"-\")","v":"-"},{"$f":"IFERROR(VLOOKUP(A2620,'3'!E2632:I2632,4,FALSE),\"-\")","v":"-"}]
[null,{"$f":"IFERROR(VLOOKUP(A2620,'3'!$E$23:$I$23,2,FALSE),\"-\")","v":"-"},{"$f":"IFERROR(VLOOKUP(A2620,'3'!E2633:I2633,4,FALSE),\"-\")","v":"-"}]
[null,{"$f":"IFERROR(VLOOKUP(A2620,'3'!$E$24:$I$24,2,FALSE),\"-\")","v":"-"},{"$f":"IFERROR(VLOOKUP(A2620,'3'!E2634:I2634,4,FALSE),\"-\")","v":"-"}]
[null,{"$f":"IFERROR(VLOOKUP(A2620,'3'!$E$25:$I$25,2,FALSE),\"-\")","v":"-"},{"$f":"IFERROR(VLOOKUP(A2620,'3'!E2635:I2635,4,FALSE),\"-\")","v":"-"}]
[null,{"$f":"IFERROR(VLOOKUP(A2620,'3'!$E$26:$I$26,2,FALSE),\"-\")","v":"-"},{"$f":"IFERROR(VLOOKUP(A2620,'3'!E2636:I2636,4,FALSE),\"-\")","v":"-"}]
[null,{"$f":"IFERROR(VLOOKUP(A2620,'3'!$E$27:$I$27,2,FALSE),\"-\")","v":"-"},{"$f":"IFERROR(VLOOKUP(A2620,'3'!E2637:I2637,4,FALSE),\"-\")","v":"-"}]
[null,{"$f":"IFERROR(VLOOKUP(A2620,'3'!$E$28:$I$28,2,FALSE),\"-\")","v":"-"},{"$f":"IFERROR(VLOOKUP(A2620,'3'!E2638:I2638,4,FALSE),\"-\")","v":"-"}]
[null,{"$f":"IFERROR(VLOOKUP(A2620,'3'!$E$29:$I$29,2,FALSE),\"-\")","v":"-"},{"$f":"IFERROR(VLOOKUP(A2620,'3'!E2639:I2639,4,FALSE),\"-\")","v":"-"}]
[null,{"$f":"IFERROR(VLOOKUP(A2620,'3'!$E$30:$I$30,2,FALSE),\"-\")","v":"-"},{"$f":"IFERROR(VLOOKUP(A2620,'3'!E2640:I2640,4,FALSE),\"-\")","v":"-"}]
[null,{"$f":"IFERROR(VLOOKUP(A2620,'3'!$E$31:$I$31,2,FALSE),\"-\")","v":"-"},{"$f":"IFERROR(VLOOKUP(A2620,'3'!E2641:I2641,4,FALSE),\"-\")","v":"-"}]
[null,{"$f":"IFERROR(VLOOKUP(A2620,'4'!$E$4:$I$4,2,FALSE),\"-\")","v":"-"},{"$f":"IFERROR(VLOOKUP(A2620,'4'!E2614:I2614,4,FALSE),\"-\")","v":"-"}]
[null,{"$f":"IFERROR(VLOOKUP(A2620,'4'!$E$5:$I$5,2,FALSE),\"-\")","v":"-"},{"$f":"IFERROR(VLOOKUP(A2620,'4'!E2615:I2615,4,FALSE),\"-\")","v":"-"}]
[null,{"$f":"IFERROR(VLOOKUP(A2620,'4'!$E$6:$I$6,2,FALSE),\"-\")","v":"-"},{"$f":"IFERROR(VLOOKUP(A2620,'4'!E2616:I2616,4,FALSE),\"-\")","v":"-"}]
[null,{"$f":"IFERROR(VLOOKUP(A2620,'4'!$E$7:$I$7,2,FALSE),\"-\")","v":"-"},{"$f":"IFERROR(VLOOKUP(A2620,'4'!E2617:I2617,4,FALSE),\"-\")","v":"-"}]
[null,{"$f":"IFERROR(VLOOKUP(A2620,'4'!$E$8:$I$8,2,FALSE),\"-\")","v":"-"},{"$f":"IFERROR(VLOOKUP(A2620,'4'!E2618:I2618,4,FALSE),\"-\")","v":"-"}]
[null,{"$f":"IFERROR(VLOOKUP(A2620,'4'!$E$9:$I$9,2,FALSE),\"-\")","v":"-"},{"$f":"IFERROR(VLOOKUP(A2620,'4'!E2619:I2619,4,FALSE),\"-\")","v":"-"}]
[null,{"$f":"IFERROR(VLOOKUP(A2620,'4'!$E$10:$I$10,2,FALSE),\"-\")","v":"-"},{"$f":"IFERROR(VLOOKUP(A2620,'4'!E2620:I2620,4,FALSE),\"-\")","v":"-"}]
[null,{"$f":"IFERROR(VLOOKUP(A2620,'4'!$E$11:$I$11,2,FALSE),\"-\")","v":"-"},{"$f":"IFERROR(VLOOKUP(A2620,'4'!E2621:I2621,4,FALSE),\"-\")","v":"-"}]
[null,{"$f":"IFERROR(VLOOKUP(A2620,'4'!$E$12:$I$12,2,FALSE),\"-\")","v":"-"},{"$f":"IFERROR(VLOOKUP(A2620,'4'!E2622:I2622,4,FALSE),\"-\")","v":"-"}]
[null,{"$f":"IFERROR(VLOOKUP(A2620,'4'!$E$13:$I$13,2,FALSE),\"-\")","v":"-"},{"$f":"IFERROR(VLOOKUP(A2620,'4'!E2623:I2623,4,FALSE),\"-\")","v":"-"}]
[null,{"$f":"IFERROR(VLOOKUP(A2620,'4'!$E$14:$I$14,2,FALSE),\"-\")","v":"-"},{"$f":"IFERROR(VLOOKUP(A2620,'4'!E2624:I2624,4,FALSE),\"-\")","v":"-"}]
[null,{"$f":"IFERROR(VLOOKUP(A2620,'4'!$E$15:$I$15,2,FALSE),\"-\")","v":"-"},{"$f":"IFERROR(VLOOKUP(A2620,'4'!E2625:I2625,4,FALSE),\"-\")","v":"-"}]
[null,{"$f":"IFERROR(VLOOKUP(A2620,'4'!$E$16:$I$16,2,FALSE),\"-\")","v":"-"},{"$f":"IFERROR(VLOOKUP(A2620,'4'!E2626:I2626,4,FALSE),\"-\")","v":"-"}]
[null,{"$f":"IFERROR(VLOOKUP(A2620,'4'!$E$17:$I$17,2,FALSE),\"-\")","v":"-"},{"$f":"IFERROR(VLOOKUP(A2620,'4'!E2627:I2627,4,FALSE),\"-\")","v":"-"}]
[null,{"$f":"IFERROR(VLOOKUP(A2620,'4'!$E$18:$I$18,2,FALSE),\"-\")","v":"-"},{"$f":"IFERROR(VLOOKUP(A2620,'4'!E2628:I2628,4,FALSE),\"-\")","v":"-"}]
[null,{"$f":"IFERROR(VLOOKUP(A2620,'4'!$E$19:$I$19,2,FALSE),\"-\")","v":"-"},{"$f":"IFERROR(VLOOKUP(A2620,'4'!E2629:I2629,4,FALSE),\"-\")","v":"-"}]
[null,{"$f":"IFERROR(VLOOKUP(A2620,'4'!$E$20:$I$20,2,FALSE),\"-\")","v":"-"},{"$f":"IFERROR(VLOOKUP(A2620,'4'!E2630:I2630,4,FALSE),\"-\")","v":"-"}]
[null,{"$f":"IFERROR(VLOOKUP(A2620,'4'!$E$21:$I$21,2,FALSE),\"-\")","v":"-"},{"$f":"IFERROR(VLOOKUP(A2620,'4'!E2631:I2631,4,FALSE),\"-\")","v":"-"}]
[null,{"$f":"IFERROR(VLOOKUP(A2620,'4'!$E$22:$I$22,2,FALSE),\"-\")","v":"-"},{"$f":"IFERROR(VLOOKUP(A2620,'4'!E2632:I2632,4,FALSE),\"-\")","v":"-"}]
[null,{"$f":"IFERROR(VLOOKUP(A2620,'4'!$E$23:$I$23,2,FALSE),\"-\")","v":"-"},{"$f":"IFERROR(VLOOKUP(A2620,'4'!E2633:I2633,4,FALSE),\"-\")","v":"-"}]
[null,{"$f":"IFERROR(VLOOKUP(A2620,'4'!$E$24:$I$24,2,FALSE),\"-\")","v":"-"},{"$f":"IFERROR(VLOOKUP(A2620,'4'!E2634:I2634,4,FALSE),\"-\")","v":"-"}]
[null,{"$f":"IFERROR(VLOOKUP(A2620,'4'!$E$25:$I$25,2,FALSE),\"-\")","v":"-"},{"$f":"IFERROR(VLOOKUP(A2620,'4'!E2635:I2635,4,FALSE),\"-\")","v":"-"}]
[null,{"$f":"IFERROR(VLOOKUP(A2620,'4'!$E$26:$I$26,2,FALSE),\"-\")","v":"-"},{"$f":"IFERROR(VLOOKUP(A2620,'4'!E2636:I2636,4,FALSE),\"-\")","v":"-"}]
[null,{"$f":"IFERROR(VLOOKUP(A2620,'4'!$E$27:$I$27,2,FALSE),\"-\")","v":"-"},{"$f":"IFERROR(VLOOKUP(A2620,'4'!E2637:I2637,4,FALSE),\"-\")","v":"-"}]
[null,{"$f":"IFERROR(VLOOKUP(A2620,'4'!$E$28:$I$28,2,FALSE),\"-\")","v":"-"},{"$f":"IFERROR(VLOOKUP(A2620,'4'!E2638:I2638,4,FALSE),\"-\")","v":"-"}]
[null,{"$f":"IFERROR(VLOOKUP(A2620,'4'!$E$29:$I$29,2,FALSE),\"-\")","v":"-"},{"$f":"IFERROR(VLOOKUP(A2620,'4'!E2639:I2639,4,FALSE),\"-\")","v":"-"}]
[null,{"$f":"IFERROR(VLOOKUP(A2620,'4'!$E$30:$I$30,2,FALSE),\"-\")","v":"-"},{"$f":"IFERROR(VLOOKUP(A2620,'4'!E2640:I2640,4,FALSE),\"-\")","v":"-"}]
[null,{"$f":"IFERROR(VLOOKUP(A2620,'4'!$E$31:$I$31,2,FALSE),\"-\")","v":"-"},{"$f":"IFERROR(VLOOKUP(A2620,'4'!E2641:I2641,4,FALSE),\"-\")","v":"-"}]
[null,{"$f":"IFERROR(VLOOKUP(A2620,'5'!$E$4:$I$4,2,FALSE),\"-\")","v":"-"},{"$f":"IFERROR(VLOOKUP(A2620,'5'!E2614:I2614,4,FALSE),\"-\")","v":"-"}]
[null,{"$f":"IFERROR(VLOOKUP(A2620,'5'!$E$5:$I$5,2,FALSE),\"-\")","v":"-"},{"$f":"IFERROR(VLOOKUP(A2620,'5'!E2615:I2615,4,FALSE),\"-\")","v":"-"}]
[null,{"$f":"IFERROR(VLOOKUP(A2620,'5'!$E$6:$I$6,2,FALSE),\"-\")","v":"-"},{"$f":"IFERROR(VLOOKUP(A2620,'5'!E2616:I2616,4,FALSE),\"-\")","v":"-"}]
[null,{"$f":"IFERROR(VLOOKUP(A2620,'5'!$E$7:$I$7,2,FALSE),\"-\")","v":"-"},{"$f":"IFERROR(VLOOKUP(A2620,'5'!E2617:I2617,4,FALSE),\"-\")","v":"-"}]
[null,{"$f":"IFERROR(VLOOKUP(A2620,'5'!$E$8:$I$8,2,FALSE),\"-\")","v":"-"},{"$f":"IFERROR(VLOOKUP(A2620,'5'!E2618:I2618,4,FALSE),\"-\")","v":"-"}]
[null,{"$f":"IFERROR(VLOOKUP(A2620,'5'!$E$9:$I$9,2,FALSE),\"-\")","v":"-"},{"$f":"IFERROR(VLOOKUP(A2620,'5'!E2619:I2619,4,FALSE),\"-\")","v":"-"}]
[null,{"$f":"IFERROR(VLOOKUP(A2620,'5'!$E$10:$I$10,2,FALSE),\"-\")","v":"-"},{"$f":"IFERROR(VLOOKUP(A2620,'5'!E2620:I2620,4,FALSE),\"-\")","v":"-"}]
[null,{"$f":"IFERROR(VLOOKUP(A2620,'5'!$E$11:$I$11,2,FALSE),\"-\")","v":"-"},{"$f":"IFERROR(VLOOKUP(A2620,'5'!E2621:I2621,4,FALSE),\"-\")","v":"-"}]
[null,{"$f":"IFERROR(VLOOKUP(A2620,'5'!$E$12:$I$12,2,FALSE),\"-\")","v":"-"},{"$f":"IFERROR(VLOOKUP(A2620,'5'!E2622:I2622,4,FALSE),\"-\")","v":"-"}]
[null,{"$f":"IFERROR(VLOOKUP(A2620,'5'!$E$13:$I$13,2,FALSE),\"-\")","v":"-"},{"$f":"IFERROR(VLOOKUP(A2620,'5'!E2623:I2623,4,FALSE),\"-\")","v":"-"}]
[null,{"$f":"IFERROR(VLOOKUP(A2620,'5'!$E$14:$I$14,2,FALSE),\"-\")","v":"-"},{"$f":"IFERROR(VLOOKUP(A2620,'5'!E2624:I2624,4,FALSE),\"-\")","v":"-"}]
[null,{"$f":"IFERROR(VLOOKUP(A2620,'5'!$E$15:$I$15,2,FALSE),\"-\")","v":"-"},{"$f":"IFERROR(VLOOKUP(A2620,'5'!E2625:I2625,4,FALSE),\"-\")","v":"-"}]
[null,{"$f":"IFERROR(VLOOKUP(A2620,'5'!$E$16:$I$16,2,FALSE),\"-\")","v":"-"},{"$f":"IFERROR(VLOOKUP(A2620,'5'!E2626:I2626,4,FALSE),\"-\")","v":"-"}]
[null,{"$f":"IFERROR(VLOOKUP(A2620,'5'!$E$17:$I$17,2,FALSE),\"-\")","v":"-"},{"$f":"IFERROR(VLOOKUP(A2620,'5'!E2627:I2627,4,FALSE),\"-\")","v":"-"}]
[null,{"$f":"IFERROR(VLOOKUP(A2620,'5'!$E$18:$I$18,2,FALSE),\"-\")","v":"-"},{"$f":"IFERROR(VLOOKUP(A2620,'5'!E2628:I2628,4,FALSE),\"-\")","v":"-"}]
[null,{"$f":"IFERROR(VLOOKUP(A2620,'5'!$E$19:$I$19,2,FALSE),\"-\")","v":"-"},{"$f":"IFERROR(VLOOKUP(A2620,'5'!E2629:I2629,4,FALSE),\"-\")","v":"-"}]
[null,{"$f":"IFERROR(VLOOKUP(A2620,'5'!$E$20:$I$20,2,FALSE),\"-\")","v":"-"},{"$f":"IFERROR(VLOOKUP(A2620,'5'!E2630:I2630,4,FALSE),\"-\")","v":"-"}]
[null,{"$f":"IFERROR(VLOOKUP(A2620,'5'!$E$21:$I$21,2,FALSE),\"-\")","v":"-"},{"$f":"IFERROR(VLOOKUP(A2620,'5'!E2631:I2631,4,FALSE),\"-\")","v":"-"}]
[null,{"$f":"IFERROR(VLOOKUP(A2620,'5'!$E$22:$I$22,2,FALSE),\"-\")","v":"-"},{"$f":"IFERROR(VLOOKUP(A2620,'5'!E2632:I2632,4,FALSE),\"-\")","v":"-"}]
[null,{"$f":"IFERROR(VLOOKUP(A2620,'5'!$E$23:$I$23,2,FALSE),\"-\")","v":"-"},{"$f":"IFERROR(VLOOKUP(A2620,'5'!E2633:I2633,4,FALSE),\"-\")","v":"-"}]
[null,{"$f":"IFERROR(VLOOKUP(A2620,'5'!$E$24:$I$24,2,FALSE),\"-\")","v":"-"},{"$f":"IFERROR(VLOOKUP(A2620,'5'!E2634:I2634,4,FALSE),\"-\")","v":"-"}]
[null,{"$f":"IFERROR(VLOOKUP(A2620,'5'!$E$25:$I$25,2,FALSE),\"-\")","v":"-"},{"$f":"IFERROR(VLOOKUP(A2620,'5'!E2635:I2635,4,FALSE),\"-\")","v":"-"}]
[null,{"$f":"IFERROR(VLOOKUP(A2620,'5'!$E$26:$I$26,2,FALSE),\"-\")","v":"-"},{"$f":"IFERROR(VLOOKUP(A2620,'5'!E2636:I2636,4,FALSE),\"-\")","v":"-"}]
[null,{"$f":"IFERROR(VLOOKUP(A2620,'5'!$E$27:$I$27,2,FALSE),\"-\")","v":"-"},{"$f":"IFERROR(VLOOKUP(A2620,'5'!E2637:I2637,4,FALSE),\"-\")","v":"-"}]
[null,{"$f":"IFERROR(VLOOKUP(A2620,'5'!$E$28:$I$28,2,FALSE),\"-\")","v":"-"},{"$f":"IFERROR(VLOOKUP(A2620,'5'!E2638:I2638,4,FALSE),\"-\")","v":"-"}]
[null,{"$f":"IFERROR(VLOOKUP(A2620,'5'!$E$29:$I$29,2,FALSE),\"-\")","v":"-"},{"$f":"IFERROR(VLOOKUP(A2620,'5'!E2639:I2639,4,FALSE),\"-\")","v":"-"}]
[null,{"$f":"IFERROR(VLOOKUP(A2620,'5'!$E$30:$I$30,2,FALSE),\"-\")","v":"-"},{"$f":"IFERROR(VLOOKUP(A2620,'5'!E2640:I2640,4,FALSE),\"-\")","v":"-"}]
[null,{"$f":"IFERROR(VLOOKUP(A2620,'5'!$E$31:$I$31,2,FALSE),\"-\")","v":"-"},{"$f":"IFERROR(VLOOKUP(A2620,'5'!E2641:I2641,4,FALSE),\"-\")","v":"-"}]
[null,{"$f":"IFERROR(VLOOKUP(A2620,'6'!$E$4:$I$4,2,FALSE),\"-\")","v":"-"},{"$f":"IFERROR(VLOOKUP(A2620,'6'!E2614:I2614,4,FALSE),\"-\")","v":"-"}]
[null,{"$f":"IFERROR(VLOOKUP(A2620,'6'!$E$5:$I$5,2,FALSE),\"-\")","v":"-"},{"$f":"IFERROR(VLOOKUP(A2620,'6'!E2615:I2615,4,FALSE),\"-\")","v":"-"}]
[null,{"$f":"IFERROR(VLOOKUP(A2620,'6'!$E$6:$I$6,2,FALSE),\"-\")","v":"-"},{"$f":"IFERROR(VLOOKUP(A2620,'6'!E2616:I2616,4,FALSE),\"-\")","v":"-"}]
[null,{"$f":"IFERROR(VLOOKUP(A2620,'6'!$E$7:$I$7,2,FALSE),\"-\")","v":"-"},{"$f":"IFERROR(VLOOKUP(A2620,'6'!E2617:I2617,4,FALSE),\"-\")","v":"-"}]
[null,{"$f":"IFERROR(VLOOKUP(A2620,'6'!$E$8:$I$8,2,FALSE),\"-\")","v":"-"},{"$f":"IFERROR(VLOOKUP(A2620,'6'!E2618:I2618,4,FALSE),\"-\")","v":"-"}]
[null,{"$f":"IFERROR(VLOOKUP(A2620,'6'!$E$9:$I$9,2,FALSE),\"-\")","v":"-"},{"$f":"IFERROR(VLOOKUP(A2620,'6'!E2619:I2619,4,FALSE),\"-\")","v":"-"}]
[null,{"$f":"IFERROR(VLOOKUP(A2620,'6'!$E$10:$I$10,2,FALSE),\"-\")","v":"-"},{"$f":"IFERROR(VLOOKUP(A2620,'6'!E2620:I2620,4,FALSE),\"-\")","v":"-"}]
[null,{"$f":"IFERROR(VLOOKUP(A2620,'6'!$E$11:$I$11,2,FALSE),\"-\")","v":"-"},{"$f":"IFERROR(VLOOKUP(A2620,'6'!E2621:I2621,4,FALSE),\"-\")","v":"-"}]
[null,{"$f":"IFERROR(VLOOKUP(A2620,'6'!$E$12:$I$12,2,FALSE),\"-\")","v":"-"},{"$f":"IFERROR(VLOOKUP(A2620,'6'!E2622:I2622,4,FALSE),\"-\")","v":"-"}]
[null,{"$f":"IFERROR(VLOOKUP(A2620,'6'!$E$13:$I$13,2,FALSE),\"-\")","v":"-"},{"$f":"IFERROR(VLOOKUP(A2620,'6'!E2623:I2623,4,FALSE),\"-\")","v":"-"}]
[null,{"$f":"IFERROR(VLOOKUP(A2620,'6'!$E$14:$I$14,2,FALSE),\"-\")","v":"-"},{"$f":"IFERROR(VLOOKUP(A2620,'6'!E2624:I2624,4,FALSE),\"-\")","v":"-"}]
[null,{"$f":"IFERROR(VLOOKUP(A2620,'6'!$E$15:$I$15,2,FALSE),\"-\")","v":"-"},{"$f":"IFERROR(VLOOKUP(A2620,'6'!E2625:I2625,4,FALSE),\"-\")","v":"-"}]
[null,{"$f":"IFERROR(VLOOKUP(A2620,'6'!$E$16:$I$16,2,FALSE),\"-\")","v":"-"},{"$f":"IFERROR(VLOOKUP(A2620,'6'!E2626:I2626,4,FALSE),\"-\")","v":"-"}]
[null,{"$f":"IFERROR(VLOOKUP(A2620,'6'!$E$17:$I$17,2,FALSE),\"-\")","v":"-"},{"$f":"IFERROR(VLOOKUP(A2620,'6'!E2627:I2627,4,FALSE),\"-\")","v":"-"}]
[null,{"$f":"IFERROR(VLOOKUP(A2620,'6'!$E$18:$I$18,2,FALSE),\"-\")","v":"-"},{"$f":"IFERROR(VLOOKUP(A2620,'6'!E2628:I2628,4,FALSE),\"-\")","v":"-"}]
[null,{"$f":"IFERROR(VLOOKUP(A2620,'6'!$E$19:$I$19,2,FALSE),\"-\")","v":"-"},{"$f":"IFERROR(VLOOKUP(A2620,'6'!E2629:I2629,4,FALSE),\"-\")","v":"-"}]
[null,{"$f":"IFERROR(VLOOKUP(A2620,'6'!$E$20:$I$20,2,FALSE),\"-\")","v":"-"},{"$f":"IFERROR(VLOOKUP(A2620,'6'!E2630:I2630,4,FALSE),\"-\")","v":"-"}]
[null,{"$f":"IFERROR(VLOOKUP(A2620,'6'!$E$21:$I$21,2,FALSE),\"-\")","v":"-"},{"$f":"IFERROR(VLOOKUP(A2620,'6'!E2631:I2631,4,FALSE),\"-\")","v":"-"}]
[null,{"$f":"IFERROR(VLOOKUP(A2620,'6'!$E$22:$I$22,2,FALSE),\"-\")","v":"-"},{"$f":"IFERROR(VLOOKUP(A2620,'6'!E2632:I2632,4,FALSE),\"-\")","v":"-"}]
[null,{"$f":"IFERROR(VLOOKUP(A2620,'6'!$E$23:$I$23,2,FALSE),\"-\")","v":"-"},{"$f":"IFERROR(VLOOKUP(A2620,'6'!E2633:I2633,4,FALSE),\"-\")","v":"-"}]
[null,{"$f":"IFERROR(VLOOKUP(A2620,'6'!$E$24:$I$24,2,FALSE),\"-\")","v":"-"},{"$f":"IFERROR(VLOOKUP(A2620,'6'!E2634:I2634,4,FALSE),\"-\")","v":"-"}]
[null,{"$f":"IFERROR(VLOOKUP(A2620,'6'!$E$25:$I$25,2,FALSE),\"-\")","v":"-"},{"$f":"IFERROR(VLOOKUP(A2620,'6'!E2635:I2635,4,FALSE),\"-\")","v":"-"}]
[null,{"$f":"IFERROR(VLOOKUP(A2620,'6'!$E$26:$I$26,2,FALSE),\"-\")","v":"-"},{"$f":"IFERROR(VLOOKUP(A2620,'6'!E2636:I2636,4,FALSE),\"-\")","v":"-"}]
[null,{"$f":"IFERROR(VLOOKUP(A2620,'6'!$E$27:$I$27,2,FALSE),\"-\")","v":"-"},{"$f":"IFERROR(VLOOKUP(A2620,'6'!E2637:I2637,4,FALSE),\"-\")","v":"-"}]
[null,{"$f":"IFERROR(VLOOKUP(A2620,'6'!$E$28:$I$28,2,FALSE),\"-\")","v":"-"},{"$f":"IFERROR(VLOOKUP(A2620,'6'!E2638:I2638,4,FALSE),\"-\")","v":"-"}]
[null,{"$f":"IFERROR(VLOOKUP(A2620,'6'!$E$29:$I$29,2,FALSE),\"-\")","v":"-"},{"$f":"IFERROR(VLOOKUP(A2620,'6'!E2639:I2639,4,FALSE),\"-\")","v":"-"}]
[null,{"$f":"IFERROR(VLOOKUP(A2620,'6'!$E$30:$I$30,2,FALSE),\"-\")","v":"-"},{"$f":"IFERROR(VLOOKUP(A2620,'6'!E2640:I2640,4,FALSE),\"-\")","v":"-"}]
[null,{"$f":"IFERROR(VLOOKUP(A2620,'6'!$E$31:$I$31,2,FALSE),\"-\")","v":"-"},{"$f":"IFERROR(VLOOKUP(A2620,'6'!E2641:I2641,4,FALSE),\"-\")","v":"-"}]
[null,{"$f":"IFERROR(VLOOKUP(A2620,'7'!$E$4:$I$4,2,FALSE),\"-\")","v":"-"},{"$f":"IFERROR(VLOOKUP(A2620,'7'!E2614:I2614,4,FALSE),\"-\")","v":"-"}]
[null,{"$f":"IFERROR(VLOOKUP(A2620,'7'!$E$5:$I$5,2,FALSE),\"-\")","v":"-"},{"$f":"IFERROR(VLOOKUP(A2620,'7'!E2615:I2615,4,FALSE),\"-\")","v":"-"}]
[null,{"$f":"IFERROR(VLOOKUP(A2620,'7'!$E$6:$I$6,2,FALSE),\"-\")","v":"-"},{"$f":"IFERROR(VLOOKUP(A2620,'7'!E2616:I2616,4,FALSE),\"-\")","v":"-"}]
[null,{"$f":"IFERROR(VLOOKUP(A2620,'7'!$E$7:$I$7,2,FALSE),\"-\")","v":"-"},{"$f":"IFERROR(VLOOKUP(A2620,'7'!E2617:I2617,4,FALSE),\"-\")","v":"-"}]
[null,{"$f":"IFERROR(VLOOKUP(A2620,'7'!$E$8:$I$8,2,FALSE),\"-\")","v":"-"},{"$f":"IFERROR(VLOOKUP(A2620,'7'!E2618:I2618,4,FALSE),\"-\")","v":"-"}]
[null,{"$f":"IFERROR(VLOOKUP(A2620,'7'!$E$9:$I$9,2,FALSE),\"-\")","v":"-"},{"$f":"IFERROR(VLOOKUP(A2620,'7'!E2619:I2619,4,FALSE),\"-\")","v":"-"}]
[null,{"$f":"IFERROR(VLOOKUP(A2620,'7'!$E$10:$I$10,2,FALSE),\"-\")","v":"-"},{"$f":"IFERROR(VLOOKUP(A2620,'7'!E2620:I2620,4,FALSE),\"-\")","v":"-"}]
[null,{"$f":"IFERROR(VLOOKUP(A2620,'7'!$E$11:$I$11,2,FALSE),\"-\")","v":"-"},{"$f":"IFERROR(VLOOKUP(A2620,'7'!E2621:I2621,4,FALSE),\"-\")","v":"-"}]
[null,{"$f":"IFERROR(VLOOKUP(A2620,'7'!$E$12:$I$12,2,FALSE),\"-\")","v":"-"},{"$f":"IFERROR(VLOOKUP(A2620,'7'!E2622:I2622,4,FALSE),\"-\")","v":"-"}]
[null,{"$f":"IFERROR(VLOOKUP(A2620,'7'!$E$13:$I$13,2,FALSE),\"-\")","v":"-"},{"$f":"IFERROR(VLOOKUP(A2620,'7'!E2623:I2623,4,FALSE),\"-\")","v":"-"}]
[null,{"$f":"IFERROR(VLOOKUP(A2620,'7'!$E$14:$I$14,2,FALSE),\"-\")","v":"-"},{"$f":"IFERROR(VLOOKUP(A2620,'7'!E2624:I2624,4,FALSE),\"-\")","v":"-"}]
[null,{"$f":"IFERROR(VLOOKUP(A2620,'7'!$E$15:$I$15,2,FALSE),\"-\")","v":"-"},{"$f":"IFERROR(VLOOKUP(A2620,'7'!E2625:I2625,4,FALSE),\"-\")","v":"-"}]
[null,{"$f":"IFERROR(VLOOKUP(A2620,'7'!$E$16:$I$16,2,FALSE),\"-\")","v":"-"},{"$f":"IFERROR(VLOOKUP(A2620,'7'!E2626:I2626,4,FALSE),\"-\")","v":"-"}]
[null,{"$f":"IFERROR(VLOOKUP(A2620,'7'!$E$17:$I$17,2,FALSE),\"-\")","v":"-"},{"$f":"IFERROR(VLOOKUP(A2620,'7'!E2627:I2627,4,FALSE),\"-\")","v":"-"}]
[null,{"$f":"IFERROR(VLOOKUP(A2620,'7'!$E$18:$I$18,2,FALSE),\"-\")","v":"-"},{"$f":"IFERROR(VLOOKUP(A2620,'7'!E2628:I2628,4,FALSE),\"-\")","v":"-"}]
[null,{"$f":"IFERROR(VLOOKUP(A2620,'7'!$E$19:$I$19,2,FALSE),\"-\")","v":"-"},{"$f":"IFERROR(VLOOKUP(A2620,'7'!E2629:I2629,4,FALSE),\"-\")","v":"-"}]
[null,{"$f":"IFERROR(VLOOKUP(A2620,'7'!$E$20:$I$20,2,FALSE),\"-\")","v":"-"},{"$f":"IFERROR(VLOOKUP(A2620,'7'!E2630:I2630,4,FALSE),\"-\")","v":"-"}]
[null,{"$f":"IFERROR(VLOOKUP(A2620,'7'!$E$21:$I$21,2,FALSE),\"-\")","v":"-"},{"$f":"IFERROR(VLOOKUP(A2620,'7'!E2631:I2631,4,FALSE),\"-\")","v":"-"}]
[null,{"$f":"IFERROR(VLOOKUP(A2620,'7'!$E$22:$I$22,2,FALSE),\"-\")","v":"-"},{"$f":"IFERROR(VLOOKUP(A2620,'7'!E2632:I2632,4,FALSE),\"-\")","v":"-"}]
[null,{"$f":"IFERROR(VLOOKUP(A2620,'7'!$E$23:$I$23,2,FALSE),\"-\")","v":"-"},{"$f":"IFERROR(VLOOKUP(A2620,'7'!E2633:I2633,4,FALSE),\"-\")","v":"-"}]
[null,{"$f":"IFERROR(VLOOKUP(A2620,'7'!$E$24:$I$24,2,FALSE),\"-\")","v":"-"},{"$f":"IFERROR(VLOOKUP(A2620,'7'!E2634:I2634,4,FALSE),\"-\")","v":"-"}]
[null,{"$f":"IFERROR(VLOOKUP(A2620,'7'!$E$25:$I$25,2,FALSE),\"-\")","v":"-"},{"$f":"IFERROR(VLOOKUP(A2620,'7'!E2635:I2635,4,FALSE),\"-\")","v":"-"}]
[null,{"$f":"IFERROR(VLOOKUP(A2620,'7'!$E$26:$I$26,2,FALSE),\"-\")","v":"-"},{"$f":"IFERROR(VLOOKUP(A2620,'7'!E2636:I2636,4,FALSE),\"-\")","v":"-"}]
[null,{"$f":"IFERROR(VLOOKUP(A2620,'7'!$E$27:$I$27,2,FALSE),\"-\")","v":"-"},{"$f":"IFERROR(VLOOKUP(A2620,'7'!E2637:I2637,4,FALSE),\"-\")","v":"-"}]
[null,{"$f":"IFERROR(VLOOKUP(A2620,'7'!$E$28:$I$28,2,FALSE),\"-\")","v":"-"},{"$f":"IFERROR(VLOOKUP(A2620,'7'!E2638:I2638,4,FALSE),\"-\")","v":"-"}]
[null,{"$f":"IFERROR(VLOOKUP(A2620,'7'!$E$29:$I$29,2,FALSE),\"-\")","v":"-"},{"$f":"IFERROR(VLOOKUP(A2620,'7'!E2639:I2639,4,FALSE),\"-\")","v":"-"}]
[null,{"$f":"IFERROR(VLOOKUP(A2620,'7'!$E$30:$I$30,2,FALSE),\"-\")","v":"-"},{"$f":"IFERROR(VLOOKUP(A2620,'7'!E2640:I2640,4,FALSE),\"-\")","v":"-"}]
[null,{"$f":"IFERROR(VLOOKUP(A2620,'7'!$E$31:$I$31,2,FALSE),\"-\")","v":"-"},{"$f":"IFERROR(VLOOKUP(A2620,'7'!E2641:I2641,4,FALSE),\"-\")","v":"-"}]
[null,{"$f":"IFERROR(VLOOKUP(A2620,'8'!$E$4:$I$4,2,FALSE),\"-\")","v":"-"},{"$f":"IFERROR(VLOOKUP(A2620,'8'!E2614:I2614,4,FALSE),\"-\")","v":"-"}]
[null,{"$f":"IFERROR(VLOOKUP(A2620,'8'!$E$5:$I$5,2,FALSE),\"-\")","v":"-"},{"$f":"IFERROR(VLOOKUP(A2620,'8'!E2615:I2615,4,FALSE),\"-\")","v":"-"}]
[null,{"$f":"IFERROR(VLOOKUP(A2620,'8'!$E$6:$I$6,2,FALSE),\"-\")","v":"-"},{"$f":"IFERROR(VLOOKUP(A2620,'8'!E2616:I2616,4,FALSE),\"-\")","v":"-"}]
[null,{"$f":"IFERROR(VLOOKUP(A2620,'8'!$E$7:$I$7,2,FALSE),\"-\")","v":"-"},{"$f":"IFERROR(VLOOKUP(A2620,'8'!E2617:I2617,4,FALSE),\"-\")","v":"-"}]
[null,{"$f":"IFERROR(VLOOKUP(A2620,'8'!$E$8:$I$8,2,FALSE),\"-\")","v":"-"},{"$f":"IFERROR(VLOOKUP(A2620,'8'!E2618:I2618,4,FALSE),\"-\")","v":"-"}]
[null,{"$f":"IFERROR(VLOOKUP(A2620,'8'!$E$9:$I$9,2,FALSE),\"-\")","v":"-"},{"$f":"IFERROR(VLOOKUP(A2620,'8'!E2619:I2619,4,FALSE),\"-\")","v":"-"}]
[null,{"$f":"IFERROR(VLOOKUP(A2620,'8'!$E$10:$I$10,2,FALSE),\"-\")","v":"-"},{"$f":"IFERROR(VLOOKUP(A2620,'8'!E2620:I2620,4,FALSE),\"-\")","v":"-"}]
[null,{"$f":"IFERROR(VLOOKUP(A2620,'8'!$E$11:$I$11,2,FALSE),\"-\")","v":"-"},{"$f":"IFERROR(VLOOKUP(A2620,'8'!E2621:I2621,4,FALSE),\"-\")","v":"-"}]
[null,{"$f":"IFERROR(VLOOKUP(A2620,'8'!$E$12:$I$12,2,FALSE),\"-\")","v":"-"},{"$f":"IFERROR(VLOOKUP(A2620,'8'!E2622:I2622,4,FALSE),\"-\")","v":"-"}]
[null,{"$f":"IFERROR(VLOOKUP(A2620,'8'!$E$13:$I$13,2,FALSE),\"-\")","v":"-"},{"$f":"IFERROR(VLOOKUP(A2620,'8'!E2623:I2623,4,FALSE),\"-\")","v":"-"}]
[null,{"$f":"IFERROR(VLOOKUP(A2620,'8'!$E$14:$I$14,2,FALSE),\"-\")","v":"-"},{"$f":"IFERROR(VLOOKUP(A2620,'8'!E2624:I2624,4,FALSE),\"-\")","v":"-"}]
[null,{"$f":"IFERROR(VLOOKUP(A2620,'8'!$E$15:$I$15,2,FALSE),\"-\")","v":"-"},{"$f":"IFERROR(VLOOKUP(A2620,'8'!E2625:I2625,4,FALSE),\"-\")","v":"-"}]
[null,{"$f":"IFERROR(VLOOKUP(A2620,'8'!$E$16:$I$16,2,FALSE),\"-\")","v":"-"},{"$f":"IFERROR(VLOOKUP(A2620,'8'!E2626:I2626,4,FALSE),\"-\")","v":"-"}]
[null,{"$f":"IFERROR(VLOOKUP(A2620,'8'!$E$17:$I$17,2,FALSE),\"-\")","v":"-"},{"$f":"IFERROR(VLOOKUP(A2620,'8'!E2627:I2627,4,FALSE),\"-\")","v":"-"}]
[null,{"$f":"IFERROR(VLOOKUP(A2620,'8'!$E$18:$I$18,2,FALSE),\"-\")","v":"-"},{"$f":"IFERROR(VLOOKUP(A2620,'8'!E2628:I2628,4,FALSE),\"-\")","v":"-"}]
[null,{"$f":"IFERROR(VLOOKUP(A2620,'8'!$E$19:$I$19,2,FALSE),\"-\")","v":"-"},{"$f":"IFERROR(VLOOKUP(A2620,'8'!E2629:I2629,4,FALSE),\"-\")","v":"-"}]
[null,{"$f":"IFERROR(VLOOKUP(A2620,'8'!$E$20:$I$20,2,FALSE),\"-\")","v":"-"},{"$f":"IFERROR(VLOOKUP(A2620,'8'!E2630:I2630,4,FALSE),\"-\")","v":"-"}]
[null,{"$f":"IFERROR(VLOOKUP(A2620,'8'!$E$21:$I$21,2,FALSE),\"-\")","v":"-"},{"$f":"IFERROR(VLOOKUP(A2620,'8'!E2631:I2631,4,FALSE),\"-\")","v":"-"}]
[null,{"$f":"IFERROR(VLOOKUP(A2620,'8'!$E$22:$I$22,2,FALSE),\"-\")","v":"-"},{"$f":"IFERROR(VLOOKUP(A2620,'8'!E2632:I2632,4,FALSE),\"-\")","v":"-"}]
[null,{"$f":"IFERROR(VLOOKUP(A2620,'8'!$E$23:$I$23,2,FALSE),\"-\")","v":"-"},{"$f":"IFERROR(VLOOKUP(A2620,'8'!E2633:I2633,4,FALSE),\"-\")","v":"-"}]
[null,{"$f":"IFERROR(VLOOKUP(A2620,'8'!$E$24:$I$24,2,FALSE),\"-\")","v":"-"},{"$f":"IFERROR(VLOOKUP(A2620,'8'!E2634:I2634,4,FALSE),\"-\")","v":"-"}]
[null,{"$f":"IFERROR(VLOOKUP(A2620,'8'!$E$25:$I$25,2,FALSE),\"-\")","v":"-"},{"$f":"IFERROR(VLOOKUP(A2620,'8'!E2635:I2635,4,FALSE),\"-\")","v":"-"}]
[null,{"$f":"IFERROR(VLOOKUP(A2620,'8'!$E$26:$I$26,2,FALSE),\"-\")","v":"-"},{"$f":"IFERROR(VLOOKUP(A2620,'8'!E2636:I2636,4,FALSE),\"-\")","v":"-"}]
[null,{"$f":"IFERROR(VLOOKUP(A2620,'8'!$E$27:$I$27,2,FALSE),\"-\")","v":"-"},{"$f":"IFERROR(VLOOKUP(A2620,'8'!E2637:I2637,4,FALSE),\"-\")","v":"-"}]
[null,{"$f":"IFERROR(VLOOKUP(A2620,'8'!$E$28:$I$28,2,FALSE),\"-\")","v":"-"},{"$f":"IFERROR(VLOOKUP(A2620,'8'!E2638:I2638,4,FALSE),\"-\")","v":"-"}]
[null,{"$f":"IFERROR(VLOOKUP(A2620,'8'!$E$29:$I$29,2,FALSE),\"-\")","v":"-"},{"$f":"IFERROR(VLOOKUP(A2620,'8'!E2639:I2639,4,FALSE),\"-\")","v":"-"}]
[null,{"$f":"IFERROR(VLOOKUP(A2620,'8'!$E$30:$I$30,2,FALSE),\"-\")","v":"-"},{"$f":"IFERROR(VLOOKUP(A2620,'8'!E2640:I2640,4,FALSE),\"-\")","v":"-"}]
[null,{"$f":"IFERROR(VLOOKUP(A2620,'8'!$E$31:$I$31,2,FALSE),\"-\")","v":"-"},{"$f":"IFERROR(VLOOKUP(A2620,'8'!E2641:I2641,4,FALSE),\"-\")","v":"-"}]
[null,{"$f":"IFERROR(VLOOKUP(A2620,'9'!$E$4:$I$4,2,FALSE),\"-\")","v":"-"},{"$f":"IFERROR(VLOOKUP(A2620,'9'!E2614:I2614,4,FALSE),\"-\")","v":"-"}]
[null,{"$f":"IFERROR(VLOOKUP(A2620,'9'!$E$5:$I$5,2,FALSE),\"-\")","v":"-"},{"$f":"IFERROR(VLOOKUP(A2620,'9'!E2615:I2615,4,FALSE),\"-\")","v":"-"}]
[null,{"$f":"IFERROR(VLOOKUP(A2620,'9'!$E$6:$I$6,2,FALSE),\"-\")","v":"-"},{"$f":"IFERROR(VLOOKUP(A2620,'9'!E2616:I2616,4,FALSE),\"-\")","v":"-"}]
[null,{"$f":"IFERROR(VLOOKUP(A2620,'9'!$E$7:$I$7,2,FALSE),\"-\")","v":"-"},{"$f":"IFERROR(VLOOKUP(A2620,'9'!E2617:I2617,4,FALSE),\"-\")","v":"-"}]
[null,{"$f":"IFERROR(VLOOKUP(A2620,'9'!$E$8:$I$8,2,FALSE),\"-\")","v":"-"},{"$f":"IFERROR(VLOOKUP(A2620,'9'!E2618:I2618,4,FALSE),\"-\")","v":"-"}]
[null,{"$f":"IFERROR(VLOOKUP(A2620,'9'!$E$9:$I$9,2,FALSE),\"-\")","v":"-"},{"$f":"IFERROR(VLOOKUP(A2620,'9'!E2619:I2619,4,FALSE),\"-\")","v":"-"}]
[null,{"$f":"IFERROR(VLOOKUP(A2620,'9'!$E$10:$I$10,2,FALSE),\"-\")","v":"-"},{"$f":"IFERROR(VLOOKUP(A2620,'9'!E2620:I2620,4,FALSE),\"-\")","v":"-"}]
[null,{"$f":"IFERROR(VLOOKUP(A2620,'9'!$E$11:$I$11,2,FALSE),\"-\")","v":"-"},{"$f":"IFERROR(VLOOKUP(A2620,'9'!E2621:I2621,4,FALSE),\"-\")","v":"-"}]
[null,{"$f":"IFERROR(VLOOKUP(A2620,'9'!$E$12:$I$12,2,FALSE),\"-\")","v":"-"},{"$f":"IFERROR(VLOOKUP(A2620,'9'!E2622:I2622,4,FALSE),\"-\")","v":"-"}]
[null,{"$f":"IFERROR(VLOOKUP(A2620,'9'!$E$13:$I$13,2,FALSE),\"-\")","v":"-"},{"$f":"IFERROR(VLOOKUP(A2620,'9'!E2623:I2623,4,FALSE),\"-\")","v":"-"}]
[null,{"$f":"IFERROR(VLOOKUP(A2620,'9'!$E$14:$I$14,2,FALSE),\"-\")","v":"-"},{"$f":"IFERROR(VLOOKUP(A2620,'9'!E2624:I2624,4,FALSE),\"-\")","v":"-"}]
[null,{"$f":"IFERROR(VLOOKUP(A2620,'9'!$E$15:$I$15,2,FALSE),\"-\")","v":"-"},{"$f":"IFERROR(VLOOKUP(A2620,'9'!E2625:I2625,4,FALSE),\"-\")","v":"-"}]
[null,{"$f":"IFERROR(VLOOKUP(A2620,'9'!$E$16:$I$16,2,FALSE),\"-\")","v":"-"},{"$f":"IFERROR(VLOOKUP(A2620,'9'!E2626:I2626,4,FALSE),\"-\")","v":"-"}]
[null,{"$f":"IFERROR(VLOOKUP(A2620,'9'!$E$17:$I$17,2,FALSE),\"-\")","v":"-"},{"$f":"IFERROR(VLOOKUP(A2620,'9'!E2627:I2627,4,FALSE),\"-\")","v":"-"}]
[null,{"$f":"IFERROR(VLOOKUP(A2620,'9'!$E$18:$I$18,2,FALSE),\"-\")","v":"-"},{"$f":"IFERROR(VLOOKUP(A2620,'9'!E2628:I2628,4,FALSE),\"-\")","v":"-"}]
[null,{"$f":"IFERROR(VLOOKUP(A2620,'9'!$E$19:$I$19,2,FALSE),\"-\")","v":"-"},{"$f":"IFERROR(VLOOKUP(A2620,'9'!E2629:I2629,4,FALSE),\"-\")","v":"-"}]
[null,{"$f":"IFERROR(VLOOKUP(A2620,'9'!$E$20:$I$20,2,FALSE),\"-\")","v":"-"},{"$f":"IFERROR(VLOOKUP(A2620,'9'!E2630:I2630,4,FALSE),\"-\")","v":"-"}]
[null,{"$f":"IFERROR(VLOOKUP(A2620,'9'!$E$21:$I$21,2,FALSE),\"-\")","v":"-"},{"$f":"IFERROR(VLOOKUP(A2620,'9'!E2631:I2631,4,FALSE),\"-\")","v":"-"}]
[null,{"$f":"IFERROR(VLOOKUP(A2620,'9'!$E$22:$I$22,2,FALSE),\"-\")","v":"-"},{"$f":"IFERROR(VLOOKUP(A2620,'9'!E2632:I2632,4,FALSE),\"-\")","v":"-"}]
[null,{"$f":"IFERROR(VLOOKUP(A2620,'9'!$E$23:$I$23,2,FALSE),\"-\")","v":"-"},{"$f":"IFERROR(VLOOKUP(A2620,'9'!E2633:I2633,4,FALSE),\"-\")","v":"-"}]
[null,{"$f":"IFERROR(VLOOKUP(A2620,'9'!$E$24:$I$24,2,FALSE),\"-\")","v":"-"},{"$f":"IFERROR(VLOOKUP(A2620,'9'!E2634:I2634,4,FALSE),\"-\")","v":"-"}]
[null,{"$f":"IFERROR(VLOOKUP(A2620,'9'!$E$25:$I$25,2,FALSE),\"-\")","v":"-"},{"$f":"IFERROR(VLOOKUP(A2620,'9'!E2635:I2635,4,FALSE),\"-\")","v":"-"}]
[null,{"$f":"IFERROR(VLOOKUP(A2620,'9'!$E$26:$I$26,2,FALSE),\"-\")","v":"-"},{"$f":"IFERROR(VLOOKUP(A2620,'9'!E2636:I2636,4,FALSE),\"-\")","v":"-"}]
[null,{"$f":"IFERROR(VLOOKUP(A2620,'9'!$E$27:$I$27,2,FALSE),\"-\")","v":"-"},{"$f":"IFERROR(VLOOKUP(A2620,'9'!E2637:I2637,4,FALSE),\"-\")","v":"-"}]
[null,{"$f":"IFERROR(VLOOKUP(A2620,'9'!$E$28:$I$28,2,FALSE),\"-\")","v":"-"},{"$f":"IFERROR(VLOOKUP(A2620,'9'!E2638:I2638,4,FALSE),\"-\")","v":"-"}]
[null,{"$f":"IFERROR(VLOOKUP(A2620,'9'!$E$29:$I$29,2,FALSE),\"-\")","v":"-"},{"$f":"IFERROR(VLOOKUP(A2620,'9'!E2639:I2639,4,FALSE),\"-\")","v":"-"}]
[null,{"$f":"IFERROR(VLOOKUP(A2620,'9'!$E$30:$I$30,2,FALSE),\"-\")","v":"-"},{"$f":"IFERROR(VLOOKUP(A2620,'9'!E2640:I2640,4,FALSE),\"-\")","v":"-"}]
[null,{"$f":"IFERROR(VLOOKUP(A2620,'9'!$E$31:$I$31,2,FALSE),\"-\")","v":"-"},{"$f":"IFERROR(VLOOKUP(A2620,'9'!E2641:I2641,4,FALSE),\"-\")","v":"-"}]
[null,{"$f":"IFERROR(VLOOKUP(A2620,'10'!$E$4:$I$4,2,FALSE),\"-\")","v":"-"},{"$f":"IFERROR(VLOOKUP(A2620,'10'!E2614:I2614,4,FALSE),\"-\")","v":"-"}]
[null,{"$f":"IFERROR(VLOOKUP(A2620,'10'!$E$5:$I$5,2,FALSE),\"-\")","v":"-"},{"$f":"IFERROR(VLOOKUP(A2620,'10'!E2615:I2615,4,FALSE),\"-\")","v":"-"}]
[null,{"$f":"IFERROR(VLOOKUP(A2620,'10'!$E$6:$I$6,2,FALSE),\"-\")","v":"-"},{"$f":"IFERROR(VLOOKUP(A2620,'10'!E2616:I2616,4,FALSE),\"-\")","v":"-"}]
[null,{"$f":"IFERROR(VLOOKUP(A2620,'10'!$E$7:$I$7,2,FALSE),\"-\")","v":"-"},{"$f":"IFERROR(VLOOKUP(A2620,'10'!E2617:I2617,4,FALSE),\"-\")","v":"-"}]
[null,{"$f":"IFERROR(VLOOKUP(A2620,'10'!$E$8:$I$8,2,FALSE),\"-\")","v":"-"},{"$f":"IFERROR(VLOOKUP(A2620,'10'!E2618:I2618,4,FALSE),\"-\")","v":"-"}]
[null,{"$f":"IFERROR(VLOOKUP(A2620,'10'!$E$9:$I$9,2,FALSE),\"-\")","v":"-"},{"$f":"IFERROR(VLOOKUP(A2620,'10'!E2619:I2619,4,FALSE),\"-\")","v":"-"}]
[null,{"$f":"IFERROR(VLOOKUP(A2620,'10'!$E$10:$I$10,2,FALSE),\"-\")","v":"-"},{"$f":"IFERROR(VLOOKUP(A2620,'10'!E2620:I2620,4,FALSE),\"-\")","v":"-"}]
[null,{"$f":"IFERROR(VLOOKUP(A2620,'10'!$E$11:$I$11,2,FALSE),\"-\")","v":"-"},{"$f":"IFERROR(VLOOKUP(A2620,'10'!E2621:I2621,4,FALSE),\"-\")","v":"-"}]
[null,{"$f":"IFERROR(VLOOKUP(A2620,'10'!$E$12:$I$12,2,FALSE),\"-\")","v":"-"},{"$f":"IFERROR(VLOOKUP(A2620,'10'!E2622:I2622,4,FALSE),\"-\")","v":"-"}]
[null,{"$f":"IFERROR(VLOOKUP(A2620,'10'!$E$13:$I$13,2,FALSE),\"-\")","v":"-"},{"$f":"IFERROR(VLOOKUP(A2620,'10'!E2623:I2623,4,FALSE),\"-\")","v":"-"}]
[null,{"$f":"IFERROR(VLOOKUP(A2620,'10'!$E$14:$I$14,2,FALSE),\"-\")","v":"-"},{"$f":"IFERROR(VLOOKUP(A2620,'10'!E2624:I2624,4,FALSE),\"-\")","v":"-"}]
[null,{"$f":"IFERROR(VLOOKUP(A2620,'10'!$E$15:$I$15,2,FALSE),\"-\")","v":"-"},{"$f":"IFERROR(VLOOKUP(A2620,'10'!E2625:I2625,4,FALSE),\"-\")","v":"-"}]
[null,{"$f":"IFERROR(VLOOKUP(A2620,'10'!$E$16:$I$16,2,FALSE),\"-\")","v":"-"},{"$f":"IFERROR(VLOOKUP(A2620,'10'!E2626:I2626,4,FALSE),\"-\")","v":"-"}]
[null,{"$f":"IFERROR(VLOOKUP(A2620,'10'!$E$17:$I$17,2,FALSE),\"-\")","v":"-"},{"$f":"IFERROR(VLOOKUP(A2620,'10'!E2627:I2627,4,FALSE),\"-\")","v":"-"}]
[null,{"$f":"IFERROR(VLOOKUP(A2620,'10'!$E$18:$I$18,2,FALSE),\"-\")","v":"-"},{"$f":"IFERROR(VLOOKUP(A2620,'10'!E2628:I2628,4,FALSE),\"-\")","v":"-"}]
[null,{"$f":"IFERROR(VLOOKUP(A2620,'10'!E$19:$I2629,2,FALSE),\"-\")","v":"-"},{"$f":"IFERROR(VLOOKUP(A2620,'10'!E2629:I2629,4,FALSE),\"-\")","v":"-"}]
[null,{"$f":"IFERROR(VLOOKUP(A2620,'10'!$E$20:$I$20,2,FALSE),\"-\")","v":"-"},{"$f":"IFERROR(VLOOKUP(A2620,'10'!E2630:I2630,4,FALSE),\"-\")","v":"-"}]
[null,{"$f":"IFERROR(VLOOKUP(A2620,'10'!$E$21:$I$21,2,FALSE),\"-\")","v":"-"},{"$f":"IFERROR(VLOOKUP(A2620,'10'!E2631:I2631,4,FALSE),\"-\")","v":"-"}]
[null,{"$f":"IFERROR(VLOOKUP(A2620,'10'!$E$22:$I$22,2,FALSE),\"-\")","v":"-"},{"$f":"IFERROR(VLOOKUP(A2620,'10'!E2632:I2632,4,FALSE),\"-\")","v":"-"}]
[null,{"$f":"IFERROR(VLOOKUP(A2620,'10'!$E$23:$I$23,2,FALSE),\"-\")","v":"-"},{"$f":"IFERROR(VLOOKUP(A2620,'10'!E2633:I2633,4,FALSE),\"-\")","v":"-"}]
[null,{"$f":"IFERROR(VLOOKUP(A2620,'10'!$E$24:$I$24,2,FALSE),\"-\")","v":"-"},{"$f":"IFERROR(VLOOKUP(A2620,'10'!E2634:I2634,4,FALSE),\"-\")","v":"-"}]
[null,{"$f":"IFERROR(VLOOKUP(A2620,'10'!$E$25:$I$25,2,FALSE),\"-\")","v":"-"},{"$f":"IFERROR(VLOOKUP(A2620,'10'!E2635:I2635,4,FALSE),\"-\")","v":"-"}]
[null,{"$f":"IFERROR(VLOOKUP(A2620,'10'!$E$26:$I$26,2,FALSE),\"-\")","v":"-"},{"$f":"IFERROR(VLOOKUP(A2620,'10'!E2636:I2636,4,FALSE),\"-\")","v":"-"}]
[null,{"$f":"IFERROR(VLOOKUP(A2620,'10'!$E$27:$I$27,2,FALSE),\"-\")","v":"-"},{"$f":"IFERROR(VLOOKUP(A2620,'10'!E2637:I2637,4,FALSE),\"-\")","v":"-"}]
[null,{"$f":"IFERROR(VLOOKUP(A2620,'10'!$E$28:I2638,2,FALSE),\"-\")","v":"-"},{"$f":"IFERROR(VLOOKUP(A2620,'10'!E2638:I2638,4,FALSE),\"-\")","v":"-"}]
[null,{"$f":"IFERROR(VLOOKUP(A2620,'10'!$E$29:$I$29,2,FALSE),\"-\")","v":"-"},{"$f":"IFERROR(VLOOKUP(A2620,'10'!E2639:I2639,4,FALSE),\"-\")","v":"-"}]
[null,{"$f":"IFERROR(VLOOKUP(A2620,'10'!$E$30:$I$30,2,FALSE),\"-\")","v":"-"},{"$f":"IFERROR(VLOOKUP(A2620,'10'!E2640:I2640,4,FALSE),\"-\")","v":"-"}]
[null,{"$f":"IFERROR(VLOOKUP(A2620,'10'!$E$31:$I$31,2,FALSE),\"-\")","v":"-"},{"$f":"IFERROR(VLOOKUP(A2620,'10'!E2641:I2641,4,FALSE),\"-\")","v":"-"}]
[null,{"$f":"IFERROR(VLOOKUP(A2620,'11'!$E$4:$I$4,2,FALSE),\"-\")","v":"-"},{"$f":"IFERROR(VLOOKUP(A2620,'11'!E2614:I2614,4,FALSE),\"-\")","v":"-"}]
[null,{"$f":"IFERROR(VLOOKUP(A2620,'11'!$E$5:$I$5,2,FALSE),\"-\")","v":"-"},{"$f":"IFERROR(VLOOKUP(A2620,'11'!E2615:I2615,4,FALSE),\"-\")","v":"-"}]
[null,{"$f":"IFERROR(VLOOKUP(A2620,'11'!$E$6:$I$6,2,FALSE),\"-\")","v":"-"},{"$f":"IFERROR(VLOOKUP(A2620,'11'!E2616:I2616,4,FALSE),\"-\")","v":"-"}]
[null,{"$f":"IFERROR(VLOOKUP(A2620,'11'!$E$7:$I$7,2,FALSE),\"-\")","v":"-"},{"$f":"IFERROR(VLOOKUP(A2620,'11'!E2617:I2617,4,FALSE),\"-\")","v":"-"}]
[null,{"$f":"IFERROR(VLOOKUP(A2620,'11'!$E$8:$I$8,2,FALSE),\"-\")","v":"-"},{"$f":"IFERROR(VLOOKUP(A2620,'11'!E2618:I2618,4,FALSE),\"-\")","v":"-"}]
[null,{"$f":"IFERROR(VLOOKUP(A2620,'11'!$E$9:$I$9,2,FALSE),\"-\")","v":"-"},{"$f":"IFERROR(VLOOKUP(A2620,'11'!E2619:I2619,4,FALSE),\"-\")","v":"-"}]
[null,{"$f":"IFERROR(VLOOKUP(A2620,'11'!$E$10:$I$10,2,FALSE),\"-\")","v":"-"},{"$f":"IFERROR(VLOOKUP(A2620,'11'!E2620:I2620,4,FALSE),\"-\")","v":"-"}]
[null,{"$f":"IFERROR(VLOOKUP(A2620,'11'!$E$11:$I$11,2,FALSE),\"-\")","v":"-"},{"$f":"IFERROR(VLOOKUP(A2620,'11'!E2621:I2621,4,FALSE),\"-\")","v":"-"}]
[null,{"$f":"IFERROR(VLOOKUP(A2620,'11'!$E$12:$I$12,2,FALSE),\"-\")","v":"-"},{"$f":"IFERROR(VLOOKUP(A2620,'11'!E2622:I2622,4,FALSE),\"-\")","v":"-"}]
[null,{"$f":"IFERROR(VLOOKUP(A2620,'11'!$E$13:$I$13,2,FALSE),\"-\")","v":"-"},{"$f":"IFERROR(VLOOKUP(A2620,'11'!E2623:I2623,4,FALSE),\"-\")","v":"-"}]
[null,{"$f":"IFERROR(VLOOKUP(A2620,'11'!$E$14:$I$14,2,FALSE),\"-\")","v":"-"},{"$f":"IFERROR(VLOOKUP(A2620,'11'!E2624:I2624,4,FALSE),\"-\")","v":"-"}]
[null,{"$f":"IFERROR(VLOOKUP(A2620,'11'!$E$15:$I$15,2,FALSE),\"-\")","v":"-"},{"$f":"IFERROR(VLOOKUP(A2620,'11'!E2625:I2625,4,FALSE),\"-\")","v":"-"}]
[null,{"$f":"IFERROR(VLOOKUP(A2620,'11'!$E$16:$I$16,2,FALSE),\"-\")","v":"-"},{"$f":"IFERROR(VLOOKUP(A2620,'11'!E2626:I2626,4,FALSE),\"-\")","v":"-"}]
[null,{"$f":"IFERROR(VLOOKUP(A2620,'11'!$E$17:$I$17,2,FALSE),\"-\")","v":"-"},{"$f":"IFERROR(VLOOKUP(A2620,'11'!E2627:I2627,4,FALSE),\"-\")","v":"-"}]
[null,{"$f":"IFERROR(VLOOKUP(A2620,'11'!$E$18:$I$18,2,FALSE),\"-\")","v":"-"},{"$f":"IFERROR(VLOOKUP(A2620,'11'!E2628:I2628,4,FALSE),\"-\")","v":"-"}]
[null,{"$f":"IFERROR(VLOOKUP(A2620,'11'!$E$19:$I$19,2,FALSE),\"-\")","v":"-"},{"$f":"IFERROR(VLOOKUP(A2620,'11'!E2629:I2629,4,FALSE),\"-\")","v":"-"}]
[null,{"$f":"IFERROR(VLOOKUP(A2620,'11'!$E$20:$I$20,2,FALSE),\"-\")","v":"-"},{"$f":"IFERROR(VLOOKUP(A2620,'11'!E2630:I2630,4,FALSE),\"-\")","v":"-"}]
[null,{"$f":"IFERROR(VLOOKUP(A2620,'11'!$E$21:$I$21,2,FALSE),\"-\")","v":"-"},{"$f":"IFERROR(VLOOKUP(A2620,'11'!E2631:I2631,4,FALSE),\"-\")","v":"-"}]
[null,{"$f":"IFERROR(VLOOKUP(A2620,'11'!$E$22:$I$22,2,FALSE),\"-\")","v":"-"},{"$f":"IFERROR(VLOOKUP(A2620,'11'!E2632:I2632,4,FALSE),\"-\")","v":"-"}]
[null,{"$f":"IFERROR(VLOOKUP(A2620,'11'!$E$23:$I$23,2,FALSE),\"-\")","v":"-"},{"$f":"IFERROR(VLOOKUP(A2620,'11'!E2633:I2633,4,FALSE),\"-\")","v":"-"}]
[null,{"$f":"IFERROR(VLOOKUP(A2620,'11'!$E$24:$I$24,2,FALSE),\"-\")","v":"-"},{"$f":"IFERROR(VLOOKUP(A2620,'11'!E2634:I2634,4,FALSE),\"-\")","v":"-"}]
[null,{"$f":"IFERROR(VLOOKUP(A2620,'11'!$E$25:$I$25,2,FALSE),\"-\")","v":"-"},{"$f":"IFERROR(VLOOKUP(A2620,'11'!E2635:I2635,4,FALSE),\"-\")","v":"-"}]
[null,{"$f":"IFERROR(VLOOKUP(A2620,'11'!$E$26:$I$26,2,FALSE),\"-\")","v":"-"},{"$f":"IFERROR(VLOOKUP(A2620,'11'!E2636:I2636,4,FALSE),\"-\")","v":"-"}]
[null,{"$f":"IFERROR(VLOOKUP(A2620,'11'!$E$27:$I$27,2,FALSE),\"-\")","v":"-"},{"$f":"IFERROR(VLOOKUP(A2620,'11'!E2637:I2637,4,FALSE),\"-\")","v":"-"}]
[null,{"$f":"IFERROR(VLOOKUP(A2620,'11'!$E$28:$I$28,2,FALSE),\"-\")","v":"-"},{"$f":"IFERROR(VLOOKUP(A2620,'11'!E2638:I2638,4,FALSE),\"-\")","v":"-"}]
[null,{"$f":"IFERROR(VLOOKUP(A2620,'11'!$E$29:$I$29,2,FALSE),\"-\")","v":"-"},{"$f":"IFERROR(VLOOKUP(A2620,'11'!E2639:I2639,4,FALSE),\"-\")","v":"-"}]
[null,{"$f":"IFERROR(VLOOKUP(A2620,'11'!$E$30:$I$30,2,FALSE),\"-\")","v":"-"},{"$f":"IFERROR(VLOOKUP(A2620,'11'!E2640:I2640,4,FALSE),\"-\")","v":"-"}]
[null,{"$f":"IFERROR(VLOOKUP(A2620,'11'!$E$31:$I$31,2,FALSE),\"-\")","v":"-"},{"$f":"IFERROR(VLOOKUP(A2620,'11'!E2641:I2641,4,FALSE),\"-\")","v":"-"}]
[null,{"$f":"IFERROR(VLOOKUP(A2620,'12'!$E$4:$I$4,2,FALSE),\"-\")","v":"-"},{"$f":"IFERROR(VLOOKUP(A2620,'12'!E2614:I2614,4,FALSE),\"-\")","v":"-"}]
[null,{"$f":"IFERROR(VLOOKUP(A2620,'12'!$E$5:$I$5,2,FALSE),\"-\")","v":"-"},{"$f":"IFERROR(VLOOKUP(A2620,'12'!E2615:I2615,4,FALSE),\"-\")","v":"-"}]
[null,{"$f":"IFERROR(VLOOKUP(A2620,'12'!$E$6:$I$6,2,FALSE),\"-\")","v":"-"},{"$f":"IFERROR(VLOOKUP(A2620,'12'!E2616:I2616,4,FALSE),\"-\")","v":"-"}]
[null,{"$f":"IFERROR(VLOOKUP(A2620,'12'!$E$7:$I$7,2,FALSE),\"-\")","v":"-"},{"$f":"IFERROR(VLOOKUP(A2620,'12'!E2617:I2617,4,FALSE),\"-\")","v":"-"}]
[null,{"$f":"IFERROR(VLOOKUP(A2620,'12'!$E$8:$I$8,2,FALSE),\"-\")","v":"-"},{"$f":"IFERROR(VLOOKUP(A2620,'12'!E2618:I2618,4,FALSE),\"-\")","v":"-"}]
[null,{"$f":"IFERROR(VLOOKUP(A2620,'12'!$E$9:$I$9,2,FALSE),\"-\")","v":"-"},{"$f":"IFERROR(VLOOKUP(A2620,'12'!E2619:I2619,4,FALSE),\"-\")","v":"-"}]
[null,{"$f":"IFERROR(VLOOKUP(A2620,'12'!$E$10:$I$10,2,FALSE),\"-\")","v":"-"},{"$f":"IFERROR(VLOOKUP(A2620,'12'!E2620:I2620,4,FALSE),\"-\")","v":"-"}]
[null,{"$f":"IFERROR(VLOOKUP(A2620,'12'!$E$11:$I$11,2,FALSE),\"-\")","v":"-"},{"$f":"IFERROR(VLOOKUP(A2620,'12'!E2621:I2621,4,FALSE),\"-\")","v":"-"}]
[null,{"$f":"IFERROR(VLOOKUP(A2620,'12'!$E$12:$I$12,2,FALSE),\"-\")","v":"-"},{"$f":"IFERROR(VLOOKUP(A2620,'12'!E2622:I2622,4,FALSE),\"-\")","v":"-"}]
[null,{"$f":"IFERROR(VLOOKUP(A2620,'12'!$E$13:$I$13,2,FALSE),\"-\")","v":"-"},{"$f":"IFERROR(VLOOKUP(A2620,'12'!E2623:I2623,4,FALSE),\"-\")","v":"-"}]
[null,{"$f":"IFERROR(VLOOKUP(A2620,'12'!$E$14:$I$14,2,FALSE),\"-\")","v":"-"},{"$f":"IFERROR(VLOOKUP(A2620,'12'!E2624:I2624,4,FALSE),\"-\")","v":"-"}]
[null,{"$f":"IFERROR(VLOOKUP(A2620,'12'!$E$15:$I$15,2,FALSE),\"-\")","v":"-"},{"$f":"IFERROR(VLOOKUP(A2620,'12'!E2625:I2625,4,FALSE),\"-\")","v":"-"}]
[null,{"$f":"IFERROR(VLOOKUP(A2620,'12'!$E$16:$I$16,2,FALSE),\"-\")","v":"-"},{"$f":"IFERROR(VLOOKUP(A2620,'12'!E2626:I2626,4,FALSE),\"-\")","v":"-"}]
[null,{"$f":"IFERROR(VLOOKUP(A2620,'12'!$E$17:$I$17,2,FALSE),\"-\")","v":"-"},{"$f":"IFERROR(VLOOKUP(A2620,'12'!E2627:I2627,4,FALSE),\"-\")","v":"-"}]
[null,{"$f":"IFERROR(VLOOKUP(A2620,'12'!$E$18:$I$18,2,FALSE),\"-\")","v":"-"},{"$f":"IFERROR(VLOOKUP(A2620,'12'!E2628:I2628,4,FALSE),\"-\")","v":"-"}]
[null,{"$f":"IFERROR(VLOOKUP(A2620,'12'!$E$19:$I$19,2,FALSE),\"-\")","v":"-"},{"$f":"IFERROR(VLOOKUP(A2620,'12'!E2629:I2629,4,FALSE),\"-\")","v":"-"}]
[null,{"$f":"IFERROR(VLOOKUP(A2620,'12'!$E$20:$I$20,2,FALSE),\"-\")","v":"-"},{"$f":"IFERROR(VLOOKUP(A2620,'12'!E2630:I2630,4,FALSE),\"-\")","v":"-"}]
[null,{"$f":"IFERROR(VLOOKUP(A2620,'12'!$E$21:$I$21,2,FALSE),\"-\")","v":"-"},{"$f":"IFERROR(VLOOKUP(A2620,'12'!E2631:I2631,4,FALSE),\"-\")","v":"-"}]
[null,{"$f":"IFERROR(VLOOKUP(A2620,'12'!$E$22:$I$22,2,FALSE),\"-\")","v":"-"},{"$f":"IFERROR(VLOOKUP(A2620,'12'!E2632:I2632,4,FALSE),\"-\")","v":"-"}]
[null,{"$f":"IFERROR(VLOOKUP(A2620,'12'!$E$23:$I$23,2,FALSE),\"-\")","v":"-"},{"$f":"IFERROR(VLOOKUP(A2620,'12'!E2633:I2633,4,FALSE),\"-\")","v":"-"}]
[null,{"$f":"IFERROR(VLOOKUP(A2620,'12'!$E$24:$I$24,2,FALSE),\"-\")","v":"-"},{"$f":"IFERROR(VLOOKUP(A2620,'12'!E2634:I2634,4,FALSE),\"-\")","v":"-"}]
[null,{"$f":"IFERROR(VLOOKUP(A2620,'12'!$E$25:$I$25,2,FALSE),\"-\")","v":"-"},{"$f":"IFERROR(VLOOKUP(A2620,'12'!E2635:I2635,4,FALSE),\"-\")","v":"-"}]
[null,{"$f":"IFERROR(VLOOKUP(A2620,'12'!$E$26:$I$26,2,FALSE),\"-\")","v":"-"},{"$f":"IFERROR(VLOOKUP(A2620,'12'!E2636:I2636,4,FALSE),\"-\")","v":"-"}]
[null,{"$f":"IFERROR(VLOOKUP(A2620,'12'!$E$27:$I$27,2,FALSE),\"-\")","v":"-"},{"$f":"IFERROR(VLOOKUP(A2620,'12'!E2637:I2637,4,FALSE),\"-\")","v":"-"}]
[null,{"$f":"IFERROR(VLOOKUP(A2620,'12'!$E$28:$I$28,2,FALSE),\"-\")","v":"-"},{"$f":"IFERROR(VLOOKUP(A2620,'12'!E2638:I2638,4,FALSE),\"-\")","v":"-"}]
[null,{"$f":"IFERROR(VLOOKUP(A2620,'12'!$E$29:$I$29,2,FALSE),\"-\")","v":"-"},{"$f":"IFERROR(VLOOKUP(A2620,'12'!E2639:I2639,4,FALSE),\"-\")","v":"-"}]
[null,{"$f":"IFERROR(VLOOKUP(A2620,'12'!$E$30:$I$30,2,FALSE),\"-\")","v":"-"},{"$f":"IFERROR(VLOOKUP(A2620,'12'!E2640:I2640,4,FALSE),\"-\")","v":"-"}]
[null,{"$f":"IFERROR(VLOOKUP(A2620,'12'!$E$31:$I$31,2,FALSE),\"-\")","v":"-"},{"$f":"IFERROR(VLOOKUP(A2620,'12'!E2641:I2641,4,FALSE),\"-\")","v":"-"}]
[null,{"$f":"IFERROR(VLOOKUP(A2620,'13'!$E$4:$I$4,2,FALSE),\"-\")","v":"-"},{"$f":"IFERROR(VLOOKUP(A2620,'13'!E2614:I2614,4,FALSE),\"-\")","v":"-"}]
[null,{"$f":"IFERROR(VLOOKUP(A2620,'13'!$E$5:$I$5,2,FALSE),\"-\")","v":"-"},{"$f":"IFERROR(VLOOKUP(A2620,'13'!E2615:I2615,4,FALSE),\"-\")","v":"-"}]
[null,{"$f":"IFERROR(VLOOKUP(A2620,'13'!$E$6:$I$6,2,FALSE),\"-\")","v":"-"},{"$f":"IFERROR(VLOOKUP(A2620,'13'!E2616:I2616,4,FALSE),\"-\")","v":"-"}]
[null,{"$f":"IFERROR(VLOOKUP(A2620,'13'!$E$7:$I$7,2,FALSE),\"-\")","v":"-"},{"$f":"IFERROR(VLOOKUP(A2620,'13'!E2617:I2617,4,FALSE),\"-\")","v":"-"}]
[null,{"$f":"IFERROR(VLOOKUP(A2620,'13'!$E$8:$I$8,2,FALSE),\"-\")","v":"-"},{"$f":"IFERROR(VLOOKUP(A2620,'13'!E2618:I2618,4,FALSE),\"-\")","v":"-"}]
[null,{"$f":"IFERROR(VLOOKUP(A2620,'13'!$E$9:$I$9,2,FALSE),\"-\")","v":"-"},{"$f":"IFERROR(VLOOKUP(A2620,'13'!E2619:I2619,4,FALSE),\"-\")","v":"-"}]
[null,{"$f":"IFERROR(VLOOKUP(A2620,'13'!$E$10:$I$10,2,FALSE),\"-\")","v":"-"},{"$f":"IFERROR(VLOOKUP(A2620,'13'!E2620:I2620,4,FALSE),\"-\")","v":"-"}]
[null,{"$f":"IFERROR(VLOOKUP(A2620,'13'!$E$11:$I$11,2,FALSE),\"-\")","v":"-"},{"$f":"IFERROR(VLOOKUP(A2620,'13'!E2621:I2621,4,FALSE),\"-\")","v":"-"}]
[null,{"$f":"IFERROR(VLOOKUP(A2620,'13'!$E$12:$I$12,2,FALSE),\"-\")","v":"-"},{"$f":"IFERROR(VLOOKUP(A2620,'13'!E2622:I2622,4,FALSE),\"-\")","v":"-"}]
[null,{"$f":"IFERROR(VLOOKUP(A2620,'13'!$E$13:$I$13,2,FALSE),\"-\")","v":"-"},{"$f":"IFERROR(VLOOKUP(A2620,'13'!E2623:I2623,4,FALSE),\"-\")","v":"-"}]
[null,{"$f":"IFERROR(VLOOKUP(A2620,'13'!$E$14:$I$14,2,FALSE),\"-\")","v":"-"},{"$f":"IFERROR(VLOOKUP(A2620,'13'!E2624:I2624,4,FALSE),\"-\")","v":"-"}]
[null,{"$f":"IFERROR(VLOOKUP(A2620,'13'!$E$15:$I$15,2,FALSE),\"-\")","v":"-"},{"$f":"IFERROR(VLOOKUP(A2620,'13'!E2625:I2625,4,FALSE),\"-\")","v":"-"}]
[null,{"$f":"IFERROR(VLOOKUP(A2620,'13'!$E$16:$I$16,2,FALSE),\"-\")","v":"-"},{"$f":"IFERROR(VLOOKUP(A2620,'13'!E2626:I2626,4,FALSE),\"-\")","v":"-"}]
[null,{"$f":"IFERROR(VLOOKUP(A2620,'13'!$E$17:$I$17,2,FALSE),\"-\")","v":"-"},{"$f":"IFERROR(VLOOKUP(A2620,'13'!E2627:I2627,4,FALSE),\"-\")","v":"-"}]
[null,{"$f":"IFERROR(VLOOKUP(A2620,'13'!$E$18:$I$18,2,FALSE),\"-\")","v":"-"},{"$f":"IFERROR(VLOOKUP(A2620,'13'!E2628:I2628,4,FALSE),\"-\")","v":"-"}]
[null,{"$f":"IFERROR(VLOOKUP(A2620,'13'!$E$19:$I$19,2,FALSE),\"-\")","v":"-"},{"$f":"IFERROR(VLOOKUP(A2620,'13'!E2629:I2629,4,FALSE),\"-\")","v":"-"}]
[null,{"$f":"IFERROR(VLOOKUP(A2620,'13'!$E$20:$I$20,2,FALSE),\"-\")","v":"-"},{"$f":"IFERROR(VLOOKUP(A2620,'13'!E2630:I2630,4,FALSE),\"-\")","v":"-"}]
[null,{"$f":"IFERROR(VLOOKUP(A2620,'13'!$E$21:$I$21,2,FALSE),\"-\")","v":"-"},{"$f":"IFERROR(VLOOKUP(A2620,'13'!E2631:I2631,4,FALSE),\"-\")","v":"-"}]
[null,{"$f":"IFERROR(VLOOKUP(A2620,'13'!$E$22:$I$22,2,FALSE),\"-\")","v":"-"},{"$f":"IFERROR(VLOOKUP(A2620,'13'!E2632:I2632,4,FALSE),\"-\")","v":"-"}]
[null,{"$f":"IFERROR(VLOOKUP(A2620,'13'!$E$23:$I$23,2,FALSE),\"-\")","v":"-"},{"$f":"IFERROR(VLOOKUP(A2620,'13'!E2633:I2633,4,FALSE),\"-\")","v":"-"}]
[null,{"$f":"IFERROR(VLOOKUP(A2620,'13'!$E$24:$I$24,2,FALSE),\"-\")","v":"-"},{"$f":"IFERROR(VLOOKUP(A2620,'13'!E2634:I2634,4,FALSE),\"-\")","v":"-"}]
[null,{"$f":"IFERROR(VLOOKUP(A2620,'13'!$E$25:$I$25,2,FALSE),\"-\")","v":"-"},{"$f":"IFERROR(VLOOKUP(A2620,'13'!E2635:I2635,4,FALSE),\"-\")","v":"-"}]
[null,{"$f":"IFERROR(VLOOKUP(A2620,'13'!$E$26:$I$26,2,FALSE),\"-\")","v":"-"},{"$f":"IFERROR(VLOOKUP(A2620,'13'!E2636:I2636,4,FALSE),\"-\")","v":"-"}]
[null,{"$f":"IFERROR(VLOOKUP(A2620,'13'!$E$27:$I$27,2,FALSE),\"-\")","v":"-"},{"$f":"IFERROR(VLOOKUP(A2620,'13'!E2637:I2637,4,FALSE),\"-\")","v":"-"}]
[null,{"$f":"IFERROR(VLOOKUP(A2620,'13'!$E$28:$I$28,2,FALSE),\"-\")","v":"-"},{"$f":"IFERROR(VLOOKUP(A2620,'13'!E2638:I2638,4,FALSE),\"-\")","v":"-"}]
[null,{"$f":"IFERROR(VLOOKUP(A2620,'13'!$E$29:$I$29,2,FALSE),\"-\")","v":"-"},{"$f":"IFERROR(VLOOKUP(A2620,'13'!E2639:I2639,4,FALSE),\"-\")","v":"-"}]
[null,{"$f":"IFERROR(VLOOKUP(A2620,'13'!$E$30:$I$30,2,FALSE),\"-\")","v":"-"},{"$f":"IFERROR(VLOOKUP(A2620,'13'!E2640:I2640,4,FALSE),\"-\")","v":"-"}]
[null,{"$f":"IFERROR(VLOOKUP(A2620,'13'!$E$31:$I$31,2,FALSE),\"-\")","v":"-"},{"$f":"IFERROR(VLOOKUP(A2620,'13'!E2641:I2641,4,FALSE),\"-\")","v":"-"}]
[null,{"$f":"IFERROR(VLOOKUP(A2620,'14'!$E$4:$I$4,2,FALSE),\"-\")","v":"-"},{"$f":"IFERROR(VLOOKUP(A2620,'14'!E2614:I2614,4,FALSE),\"-\")","v":"-"}]
[null,{"$f":"IFERROR(VLOOKUP(A2620,'14'!$E$5:$I$5,2,FALSE),\"-\")","v":"-"},{"$f":"IFERROR(VLOOKUP(A2620,'14'!E2615:I2615,4,FALSE),\"-\")","v":"-"}]
[null,{"$f":"IFERROR(VLOOKUP(A2620,'14'!$E$6:$I$6,2,FALSE),\"-\")","v":"-"},{"$f":"IFERROR(VLOOKUP(A2620,'14'!E2616:I2616,4,FALSE),\"-\")","v":"-"}]
[null,{"$f":"IFERROR(VLOOKUP(A2620,'14'!$E$7:$I$7,2,FALSE),\"-\")","v":"-"},{"$f":"IFERROR(VLOOKUP(A2620,'14'!E2617:I2617,4,FALSE),\"-\")","v":"-"}]
[null,{"$f":"IFERROR(VLOOKUP(A2620,'14'!$E$8:$I$8,2,FALSE),\"-\")","v":"-"},{"$f":"IFERROR(VLOOKUP(A2620,'14'!E2618:I2618,4,FALSE),\"-\")","v":"-"}]
[null,{"$f":"IFERROR(VLOOKUP(A2620,'14'!$E$9:$I$9,2,FALSE),\"-\")","v":"-"},{"$f":"IFERROR(VLOOKUP(A2620,'14'!E2619:I2619,4,FALSE),\"-\")","v":"-"}]
[null,{"$f":"IFERROR(VLOOKUP(A2620,'14'!$E$10:$I$10,2,FALSE),\"-\")","v":"-"},{"$f":"IFERROR(VLOOKUP(A2620,'14'!E2620:I2620,4,FALSE),\"-\")","v":"-"}]
[null,{"$f":"IFERROR(VLOOKUP(A2620,'14'!$E$11:$I$11,2,FALSE),\"-\")","v":"-"},{"$f":"IFERROR(VLOOKUP(A2620,'14'!E2621:I2621,4,FALSE),\"-\")","v":"-"}]
[null,{"$f":"IFERROR(VLOOKUP(A2620,'14'!$E$12:$I$12,2,FALSE),\"-\")","v":"-"},{"$f":"IFERROR(VLOOKUP(A2620,'14'!E2622:I2622,4,FALSE),\"-\")","v":"-"}]
[null,{"$f":"IFERROR(VLOOKUP(A2620,'14'!$E$13:$I$13,2,FALSE),\"-\")","v":"-"},{"$f":"IFERROR(VLOOKUP(A2620,'14'!E2623:I2623,4,FALSE),\"-\")","v":"-"}]
[null,{"$f":"IFERROR(VLOOKUP(A2620,'14'!$E$14:$I$14,2,FALSE),\"-\")","v":"-"},{"$f":"IFERROR(VLOOKUP(A2620,'14'!E2624:I2624,4,FALSE),\"-\")","v":"-"}]
[null,{"$f":"IFERROR(VLOOKUP(A2620,'14'!$E$15:$I$15,2,FALSE),\"-\")","v":"-"},{"$f":"IFERROR(VLOOKUP(A2620,'14'!E2625:I2625,4,FALSE),\"-\")","v":"-"}]
[null,{"$f":"IFERROR(VLOOKUP(A2620,'14'!$E$16:$I$16,2,FALSE),\"-\")","v":"-"},{"$f":"IFERROR(VLOOKUP(A2620,'14'!E2626:I2626,4,FALSE),\"-\")","v":"-"}]
[null,{"$f":"IFERROR(VLOOKUP(A2620,'14'!$E$17:$I$17,2,FALSE),\"-\")","v":"-"},{"$f":"IFERROR(VLOOKUP(A2620,'14'!E2627:I2627,4,FALSE),\"-\")","v":"-"}]
[null,{"$f":"IFERROR(VLOOKUP(A2620,'14'!$E$18:$I$18,2,FALSE),\"-\")","v":"-"},{"$f":"IFERROR(VLOOKUP(A2620,'14'!E2628:I2628,4,FALSE),\"-\")","v":"-"}]
[null,{"$f":"IFERROR(VLOOKUP(A2620,'14'!$E$19:$I$19,2,FALSE),\"-\")","v":"-"},{"$f":"IFERROR(VLOOKUP(A2620,'14'!E2629:I2629,4,FALSE),\"-\")","v":"-"}]
[null,{"$f":"IFERROR(VLOOKUP(A2620,'14'!$E$20:$I$20,2,FALSE),\"-\")","v":"-"},{"$f":"IFERROR(VLOOKUP(A2620,'14'!E2630:I2630,4,FALSE),\"-\")","v":"-"}]
[null,{"$f":"IFERROR(VLOOKUP(A2620,'14'!$E$21:$I$21,2,FALSE),\"-\")","v":"-"},{"$f":"IFERROR(VLOOKUP(A2620,'14'!E2631:I2631,4,FALSE),\"-\")","v":"-"}]
[null,{"$f":"IFERROR(VLOOKUP(A2620,'14'!$E$22:$I$22,2,FALSE),\"-\")","v":"-"},{"$f":"IFERROR(VLOOKUP(A2620,'14'!E2632:I2632,4,FALSE),\"-\")","v":"-"}]
[null,{"$f":"IFERROR(VLOOKUP(A2620,'14'!$E$23:$I$23,2,FALSE),\"-\")","v":"-"},{"$f":"IFERROR(VLOOKUP(A2620,'14'!E2633:I2633,4,FALSE),\"-\")","v":"-"}]
[null,{"$f":"IFERROR(VLOOKUP(A2620,'14'!$E$24:$I$24,2,FALSE),\"-\")","v":"-"},{"$f":"IFERROR(VLOOKUP(A2620,'14'!E2634:I2634,4,FALSE),\"-\")","v":"-"}]
[null,{"$f":"IFERROR(VLOOKUP(A2620,'14'!$E$25:I2635,2,FALSE),\"-\")","v":"-"},{"$f":"IFERROR(VLOOKUP(A2620,'14'!E2635:I2635,4,FALSE),\"-\")","v":"-"}]
[null,{"$f":"IFERROR(VLOOKUP(A2620,'14'!$E$26:$I$26,2,FALSE),\"-\")","v":"-"},{"$f":"IFERROR(VLOOKUP(A2620,'14'!E2636:I2636,4,FALSE),\"-\")","v":"-"}]
[null,{"$f":"IFERROR(VLOOKUP(A2620,'14'!$E$27:$I$27,2,FALSE),\"-\")","v":"-"},{"$f":"IFERROR(VLOOKUP(A2620,'14'!E2637:I2637,4,FALSE),\"-\")","v":"-"}]
[null,{"$f":"IFERROR(VLOOKUP(A2620,'14'!$E$28:$I$28,2,FALSE),\"-\")","v":"-"},{"$f":"IFERROR(VLOOKUP(A2620,'14'!E2638:I2638,4,FALSE),\"-\")","v":"-"}]
[null,{"$f":"IFERROR(VLOOKUP(A2620,'14'!$E$29:$I$29,2,FALSE),\"-\")","v":"-"},{"$f":"IFERROR(VLOOKUP(A2620,'14'!E2639:I2639,4,FALSE),\"-\")","v":"-"}]
[null,{"$f":"IFERROR(VLOOKUP(A2620,'14'!$E$30:$I$30,2,FALSE),\"-\")","v":"-"},{"$f":"IFERROR(VLOOKUP(A2620,'14'!E2640:I2640,4,FALSE),\"-\")","v":"-"}]
[null,{"$f":"IFERROR(VLOOKUP(A2620,'14'!$E$31:$I$31,2,FALSE),\"-\")","v":"-"},{"$f":"IFERROR(VLOOKUP(A2620,'14'!E2641:I2641,4,FALSE),\"-\")","v":"-"}]
[null,{"$f":"IFERROR(VLOOKUP(A2620,'15'!$E$4:$I$4,2,FALSE),\"-\")","v":"-"},{"$f":"IFERROR(VLOOKUP(A2620,'15'!E2614:I2614,4,FALSE),\"-\")","v":"-"}]
[null,{"$f":"IFERROR(VLOOKUP(A2620,'15'!$E$5:$I$5,2,FALSE),\"-\")","v":"-"},{"$f":"IFERROR(VLOOKUP(A2620,'15'!E2615:I2615,4,FALSE),\"-\")","v":"-"}]
[null,{"$f":"IFERROR(VLOOKUP(A2620,'15'!$E$6:$I$6,2,FALSE),\"-\")","v":"-"},{"$f":"IFERROR(VLOOKUP(A2620,'15'!E2616:I2616,4,FALSE),\"-\")","v":"-"}]
[null,{"$f":"IFERROR(VLOOKUP(A2620,'15'!$E$7:$I$7,2,FALSE),\"-\")","v":"-"},{"$f":"IFERROR(VLOOKUP(A2620,'15'!E2617:I2617,4,FALSE),\"-\")","v":"-"}]
[null,{"$f":"IFERROR(VLOOKUP(A2620,'15'!$E$8:$I$8,2,FALSE),\"-\")","v":"-"},{"$f":"IFERROR(VLOOKUP(A2620,'15'!E2618:I2618,4,FALSE),\"-\")","v":"-"}]
[null,{"$f":"IFERROR(VLOOKUP(A2620,'15'!$E$9:$I$9,2,FALSE),\"-\")","v":"-"},{"$f":"IFERROR(VLOOKUP(A2620,'15'!E2619:I2619,4,FALSE),\"-\")","v":"-"}]
[null,{"$f":"IFERROR(VLOOKUP(A2620,'15'!$E$10:$I$10,2,FALSE),\"-\")","v":"-"},{"$f":"IFERROR(VLOOKUP(A2620,'15'!E2620:I2620,4,FALSE),\"-\")","v":"-"}]
[null,{"$f":"IFERROR(VLOOKUP(A2620,'15'!$E$11:$I$11,2,FALSE),\"-\")","v":"-"},{"$f":"IFERROR(VLOOKUP(A2620,'15'!E2621:I2621,4,FALSE),\"-\")","v":"-"}]
[null,{"$f":"IFERROR(VLOOKUP(A2620,'15'!$E$12:$I$12,2,FALSE),\"-\")","v":"-"},{"$f":"IFERROR(VLOOKUP(A2620,'15'!E2622:I2622,4,FALSE),\"-\")","v":"-"}]
[null,{"$f":"IFERROR(VLOOKUP(A2620,'15'!$E$13:$I$13,2,FALSE),\"-\")","v":"-"},{"$f":"IFERROR(VLOOKUP(A2620,'15'!E2623:I2623,4,FALSE),\"-\")","v":"-"}]
[null,{"$f":"IFERROR(VLOOKUP(A2620,'15'!$E$14:$I$14,2,FALSE),\"-\")","v":"-"},{"$f":"IFERROR(VLOOKUP(A2620,'15'!E2624:I2624,4,FALSE),\"-\")","v":"-"}]
[null,{"$f":"IFERROR(VLOOKUP(A2620,'15'!$E$15:$I$15,2,FALSE),\"-\")","v":"-"},{"$f":"IFERROR(VLOOKUP(A2620,'15'!E2625:I2625,4,FALSE),\"-\")","v":"-"}]
[null,{"$f":"IFERROR(VLOOKUP(A2620,'15'!$E$16:$I$16,2,FALSE),\"-\")","v":"-"},{"$f":"IFERROR(VLOOKUP(A2620,'15'!E2626:I2626,4,FALSE),\"-\")","v":"-"}]
[null,{"$f":"IFERROR(VLOOKUP(A2620,'15'!$E$17:$I$17,2,FALSE),\"-\")","v":"-"},{"$f":"IFERROR(VLOOKUP(A2620,'15'!E2627:I2627,4,FALSE),\"-\")","v":"-"}]
[null,{"$f":"IFERROR(VLOOKUP(A2620,'15'!$E$18:$I$18,2,FALSE),\"-\")","v":"-"},{"$f":"IFERROR(VLOOKUP(A2620,'15'!E2628:I2628,4,FALSE),\"-\")","v":"-"}]
[null,{"$f":"IFERROR(VLOOKUP(A2620,'15'!$E$19:$I$19,2,FALSE),\"-\")","v":"-"},{"$f":"IFERROR(VLOOKUP(A2620,'15'!E2629:I2629,4,FALSE),\"-\")","v":"-"}]
[null,{"$f":"IFERROR(VLOOKUP(A2620,'15'!$E$20:$I$20,2,FALSE),\"-\")","v":"-"},{"$f":"IFERROR(VLOOKUP(A2620,'15'!E2630:I2630,4,FALSE),\"-\")","v":"-"}]
[null,{"$f":"IFERROR(VLOOKUP(A2620,'15'!$E$21:$I$21,2,FALSE),\"-\")","v":"-"},{"$f":"IFERROR(VLOOKUP(A2620,'15'!E2631:I2631,4,FALSE),\"-\")","v":"-"}]
[null,{"$f":"IFERROR(VLOOKUP(A2620,'15'!$E$22:$I$22,2,FALSE),\"-\")","v":"-"},{"$f":"IFERROR(VLOOKUP(A2620,'15'!E2632:I2632,4,FALSE),\"-\")","v":"-"}]
[null,{"$f":"IFERROR(VLOOKUP(A2620,'15'!$E$23:$I$23,2,FALSE),\"-\")","v":"-"},{"$f":"IFERROR(VLOOKUP(A2620,'15'!E2633:I2633,4,FALSE),\"-\")","v":"-"}]
[null,{"$f":"IFERROR(VLOOKUP(A2620,'15'!$E$24:$I$24,2,FALSE),\"-\")","v":"-"},{"$f":"IFERROR(VLOOKUP(A2620,'15'!E2634:I2634,4,FALSE),\"-\")","v":"-"}]
[null,{"$f":"IFERROR(VLOOKUP(A2620,'15'!$E$25:$I$25,2,FALSE),\"-\")","v":"-"},{"$f":"IFERROR(VLOOKUP(A2620,'15'!E2635:I2635,4,FALSE),\"-\")","v":"-"}]
[null,{"$f":"IFERROR(VLOOKUP(A2620,'15'!$E$26:$I$26,2,FALSE),\"-\")","v":"-"},{"$f":"IFERROR(VLOOKUP(A2620,'15'!E2636:I2636,4,FALSE),\"-\")","v":"-"}]
[null,{"$f":"IFERROR(VLOOKUP(A2620,'15'!$E$27:$I$27,2,FALSE),\"-\")","v":"-"},{"$f":"IFERROR(VLOOKUP(A2620,'15'!E2637:I2637,4,FALSE),\"-\")","v":"-"}]
[null,{"$f":"IFERROR(VLOOKUP(A2620,'15'!$E$28:$I$28,2,FALSE),\"-\")","v":"-"},{"$f":"IFERROR(VLOOKUP(A2620,'15'!E2638:I2638,4,FALSE),\"-\")","v":"-"}]
[null,{"$f":"IFERROR(VLOOKUP(A2620,'15'!$E$29:$I$29,2,FALSE),\"-\")","v":"-"},{"$f":"IFERROR(VLOOKUP(A2620,'15'!E2639:I2639,4,FALSE),\"-\")","v":"-"}]
[null,{"$f":"IFERROR(VLOOKUP(A2620,'15'!$E$30:$I$30,2,FALSE),\"-\")","v":"-"},{"$f":"IFERROR(VLOOKUP(A2620,'15'!E2640:I2640,4,FALSE),\"-\")","v":"-"}]
[null,{"$f":"IFERROR(VLOOKUP(A2620,'15'!$E$31:$I$31,2,FALSE),\"-\")","v":"-"},{"$f":"IFERROR(VLOOKUP(A2620,'15'!E2641:I2641,4,FALSE),\"-\")","v":"-"}]
[null,{"$f":"IFERROR(VLOOKUP(A2620,'16'!$E$4:$I$4,2,FALSE),\"-\")","v":"-"},{"$f":"IFERROR(VLOOKUP(A2620,'16'!E2614:I2614,4,FALSE),\"-\")","v":"-"}]
[null,{"$f":"IFERROR(VLOOKUP(A2620,'16'!$E$5:$I$5,2,FALSE),\"-\")","v":"-"},{"$f":"IFERROR(VLOOKUP(A2620,'16'!E2615:I2615,4,FALSE),\"-\")","v":"-"}]
[null,{"$f":"IFERROR(VLOOKUP(A2620,'16'!$E$6:$I$6,2,FALSE),\"-\")","v":"-"},{"$f":"IFERROR(VLOOKUP(A2620,'16'!E2616:I2616,4,FALSE),\"-\")","v":"-"}]
[null,{"$f":"IFERROR(VLOOKUP(A2620,'16'!$E$7:$I$7,2,FALSE),\"-\")","v":"-"},{"$f":"IFERROR(VLOOKUP(A2620,'16'!E2617:I2617,4,FALSE),\"-\")","v":"-"}]
[null,{"$f":"IFERROR(VLOOKUP(A2620,'16'!$E$8:$I$8,2,FALSE),\"-\")","v":"-"},{"$f":"IFERROR(VLOOKUP(A2620,'16'!E2618:I2618,4,FALSE),\"-\")","v":"-"}]
[null,{"$f":"IFERROR(VLOOKUP(A2620,'16'!$E$9:$I$9,2,FALSE),\"-\")","v":"-"},{"$f":"IFERROR(VLOOKUP(A2620,'16'!E2619:I2619,4,FALSE),\"-\")","v":"-"}]
[null,{"$f":"IFERROR(VLOOKUP(A2620,'16'!$E$10:$I$10,2,FALSE),\"-\")","v":"-"},{"$f":"IFERROR(VLOOKUP(A2620,'16'!E2620:I2620,4,FALSE),\"-\")","v":"-"}]
[null,{"$f":"IFERROR(VLOOKUP(A2620,'16'!$E$11:$I$11,2,FALSE),\"-\")","v":"-"},{"$f":"IFERROR(VLOOKUP(A2620,'16'!E2621:I2621,4,FALSE),\"-\")","v":"-"}]
[null,{"$f":"IFERROR(VLOOKUP(A2620,'16'!$E$12:$I$12,2,FALSE),\"-\")","v":"-"},{"$f":"IFERROR(VLOOKUP(A2620,'16'!E2622:I2622,4,FALSE),\"-\")","v":"-"}]
[null,{"$f":"IFERROR(VLOOKUP(A2620,'16'!$E$13:$I$13,2,FALSE),\"-\")","v":"-"},{"$f":"IFERROR(VLOOKUP(A2620,'16'!E2623:I2623,4,FALSE),\"-\")","v":"-"}]
[null,{"$f":"IFERROR(VLOOKUP(A2620,'16'!$E$14:$I$14,2,FALSE),\"-\")","v":"-"},{"$f":"IFERROR(VLOOKUP(A2620,'16'!E2624:I2624,4,FALSE),\"-\")","v":"-"}]
[null,{"$f":"IFERROR(VLOOKUP(A2620,'16'!$E$15:$I$15,2,FALSE),\"-\")","v":"-"},{"$f":"IFERROR(VLOOKUP(A2620,'16'!E2625:I2625,4,FALSE),\"-\")","v":"-"}]
[null,{"$f":"IFERROR(VLOOKUP(A2620,'16'!$E$16:$I$16,2,FALSE),\"-\")","v":"-"},{"$f":"IFERROR(VLOOKUP(A2620,'16'!E2626:I2626,4,FALSE),\"-\")","v":"-"}]
[null,{"$f":"IFERROR(VLOOKUP(A2620,'16'!$E$17:$I$17,2,FALSE),\"-\")","v":"-"},{"$f":"IFERROR(VLOOKUP(A2620,'16'!E2627:I2627,4,FALSE),\"-\")","v":"-"}]
[null,{"$f":"IFERROR(VLOOKUP(A2620,'16'!$E$18:$I$18,2,FALSE),\"-\")","v":"-"},{"$f":"IFERROR(VLOOKUP(A2620,'16'!E2628:I2628,4,FALSE),\"-\")","v":"-"}]
[null,{"$f":"IFERROR(VLOOKUP(A2620,'16'!$E$19:$I$19,2,FALSE),\"-\")","v":"-"},{"$f":"IFERROR(VLOOKUP(A2620,'16'!E2629:I2629,4,FALSE),\"-\")","v":"-"}]
[null,{"$f":"IFERROR(VLOOKUP(A2620,'16'!$E$20:$I$20,2,FALSE),\"-\")","v":"-"},{"$f":"IFERROR(VLOOKUP(A2620,'16'!E2630:I2630,4,FALSE),\"-\")","v":"-"}]
[null,{"$f":"IFERROR(VLOOKUP(A2620,'16'!$E$21:$I$21,2,FALSE),\"-\")","v":"-"},{"$f":"IFERROR(VLOOKUP(A2620,'16'!E2631:I2631,4,FALSE),\"-\")","v":"-"}]
[null,{"$f":"IFERROR(VLOOKUP(A2620,'16'!$E$22:$I$22,2,FALSE),\"-\")","v":"-"},{"$f":"IFERROR(VLOOKUP(A2620,'16'!E2632:I2632,4,FALSE),\"-\")","v":"-"}]
[null,{"$f":"IFERROR(VLOOKUP(A2620,'16'!$E$23:$I$23,2,FALSE),\"-\")","v":"-"},{"$f":"IFERROR(VLOOKUP(A2620,'16'!E2633:I2633,4,FALSE),\"-\")","v":"-"}]
[null,{"$f":"IFERROR(VLOOKUP(A2620,'16'!$E$24:$I$24,2,FALSE),\"-\")","v":"-"},{"$f":"IFERROR(VLOOKUP(A2620,'16'!E2634:I2634,4,FALSE),\"-\")","v":"-"}]
[null,{"$f":"IFERROR(VLOOKUP(A2620,'16'!$E$25:$I$25,2,FALSE),\"-\")","v":"-"},{"$f":"IFERROR(VLOOKUP(A2620,'16'!E2635:I2635,4,FALSE),\"-\")","v":"-"}]
[null,{"$f":"IFERROR(VLOOKUP(A2620,'16'!$E$26:$I$26,2,FALSE),\"-\")","v":"-"},{"$f":"IFERROR(VLOOKUP(A2620,'16'!E2636:I2636,4,FALSE),\"-\")","v":"-"}]
[null,{"$f":"IFERROR(VLOOKUP(A2620,'16'!$E$27:$I$27,2,FALSE),\"-\")","v":"-"},{"$f":"IFERROR(VLOOKUP(A2620,'16'!E2637:I2637,4,FALSE),\"-\")","v":"-"}]
[null,{"$f":"IFERROR(VLOOKUP(A2620,'16'!$E$28:$I$28,2,FALSE),\"-\")","v":"-"},{"$f":"IFERROR(VLOOKUP(A2620,'16'!E2638:I2638,4,FALSE),\"-\")","v":"-"}]
[null,{"$f":"IFERROR(VLOOKUP(A2620,'16'!$E$29:$I$29,2,FALSE),\"-\")","v":"-"},{"$f":"IFERROR(VLOOKUP(A2620,'16'!E2639:I2639,4,FALSE),\"-\")","v":"-"}]
[null,{"$f":"IFERROR(VLOOKUP(A2620,'16'!$E$30:$I$30,2,FALSE),\"-\")","v":"-"},{"$f":"IFERROR(VLOOKUP(A2620,'16'!E2640:I2640,4,FALSE),\"-\")","v":"-"}]
[null,{"$f":"IFERROR(VLOOKUP(A2620,'16'!$E$31:$I$31,2,FALSE),\"-\")","v":"-"},{"$f":"IFERROR(VLOOKUP(A2620,'16'!E2641:I2641,4,FALSE),\"-\")","v":"-"}]
[null,{"$f":"IFERROR(VLOOKUP(A2620,'17'!$E$4:$I$4,2,FALSE),\"-\")","v":"-"},{"$f":"IFERROR(VLOOKUP(A2620,'17'!E2614:I2614,4,FALSE),\"-\")","v":"-"}]
[null,{"$f":"IFERROR(VLOOKUP(A2620,'17'!$E$5:$I$5,2,FALSE),\"-\")","v":"-"},{"$f":"IFERROR(VLOOKUP(A2620,'17'!E2615:I2615,4,FALSE),\"-\")","v":"-"}]
[null,{"$f":"IFERROR(VLOOKUP(A2620,'17'!$E$6:$I$6,2,FALSE),\"-\")","v":"-"},{"$f":"IFERROR(VLOOKUP(A2620,'17'!E2616:I2616,4,FALSE),\"-\")","v":"-"}]
[null,{"$f":"IFERROR(VLOOKUP(A2620,'17'!$E$7:$I$7,2,FALSE),\"-\")","v":"-"},{"$f":"IFERROR(VLOOKUP(A2620,'17'!E2617:I2617,4,FALSE),\"-\")","v":"-"}]
[null,{"$f":"IFERROR(VLOOKUP(A2620,'17'!$E$8:$I$8,2,FALSE),\"-\")","v":"-"},{"$f":"IFERROR(VLOOKUP(A2620,'17'!E2618:I2618,4,FALSE),\"-\")","v":"-"}]
[null,{"$f":"IFERROR(VLOOKUP(A2620,'17'!$E$9:$I$9,2,FALSE),\"-\")","v":"-"},{"$f":"IFERROR(VLOOKUP(A2620,'17'!E2619:I2619,4,FALSE),\"-\")","v":"-"}]
[null,{"$f":"IFERROR(VLOOKUP(A2620,'17'!$E$10:$I$10,2,FALSE),\"-\")","v":"-"},{"$f":"IFERROR(VLOOKUP(A2620,'17'!E2620:I2620,4,FALSE),\"-\")","v":"-"}]
[null,{"$f":"IFERROR(VLOOKUP(A2620,'17'!$E$11:$I$11,2,FALSE),\"-\")","v":"-"},{"$f":"IFERROR(VLOOKUP(A2620,'17'!E2621:I2621,4,FALSE),\"-\")","v":"-"}]
[null,{"$f":"IFERROR(VLOOKUP(A2620,'17'!$E$12:$I$12,2,FALSE),\"-\")","v":"-"},{"$f":"IFERROR(VLOOKUP(A2620,'17'!E2622:I2622,4,FALSE),\"-\")","v":"-"}]
[null,{"$f":"IFERROR(VLOOKUP(A2620,'17'!$E$13:$I$13,2,FALSE),\"-\")","v":"-"},{"$f":"IFERROR(VLOOKUP(A2620,'17'!E2623:I2623,4,FALSE),\"-\")","v":"-"}]
[null,{"$f":"IFERROR(VLOOKUP(A2620,'17'!$E$14:$I$14,2,FALSE),\"-\")","v":"-"},{"$f":"IFERROR(VLOOKUP(A2620,'17'!E2624:I2624,4,FALSE),\"-\")","v":"-"}]
[null,{"$f":"IFERROR(VLOOKUP(A2620,'17'!$E$15:$I$15,2,FALSE),\"-\")","v":"-"},{"$f":"IFERROR(VLOOKUP(A2620,'17'!E2625:I2625,4,FALSE),\"-\")","v":"-"}]
[null,{"$f":"IFERROR(VLOOKUP(A2620,'17'!$E$16:$I$16,2,FALSE),\"-\")","v":"-"},{"$f":"IFERROR(VLOOKUP(A2620,'17'!E2626:I2626,4,FALSE),\"-\")","v":"-"}]
[null,{"$f":"IFERROR(VLOOKUP(A2620,'17'!$E$17:$I$17,2,FALSE),\"-\")","v":"-"},{"$f":"IFERROR(VLOOKUP(A2620,'17'!E2627:I2627,4,FALSE),\"-\")","v":"-"}]
[null,{"$f":"IFERROR(VLOOKUP(A2620,'17'!$E$18:$I$18,2,FALSE),\"-\")","v":"-"},{"$f":"IFERROR(VLOOKUP(A2620,'17'!E2628:I2628,4,FALSE),\"-\")","v":"-"}]
[null,{"$f":"IFERROR(VLOOKUP(A2620,'17'!$E$19:$I$19,2,FALSE),\"-\")","v":"-"},{"$f":"IFERROR(VLOOKUP(A2620,'17'!E2629:I2629,4,FALSE),\"-\")","v":"-"}]
[null,{"$f":"IFERROR(VLOOKUP(A2620,'17'!$E$20:$I$20,2,FALSE),\"-\")","v":"-"},{"$f":"IFERROR(VLOOKUP(A2620,'17'!E2630:I2630,4,FALSE),\"-\")","v":"-"}]
[null,{"$f":"IFERROR(VLOOKUP(A2620,'17'!E$21:$I2631,2,FALSE),\"-\")","v":"-"},{"$f":"IFERROR(VLOOKUP(A2620,'17'!E2631:I2631,4,FALSE),\"-\")","v":"-"}]
[null,{"$f":"IFERROR(VLOOKUP(A2620,'17'!$E$22:$I$22,2,FALSE),\"-\")","v":"-"},{"$f":"IFERROR(VLOOKUP(A2620,'17'!E2632:I2632,4,FALSE),\"-\")","v":"-"}]
[null,{"$f":"IFERROR(VLOOKUP(A2620,'17'!$E$23:$I$23,2,FALSE),\"-\")","v":"-"},{"$f":"IFERROR(VLOOKUP(A2620,'17'!E2633:I2633,4,FALSE),\"-\")","v":"-"}]
[null,{"$f":"IFERROR(VLOOKUP(A2620,'17'!$E$24:$I$24,2,FALSE),\"-\")","v":"-"},{"$f":"IFERROR(VLOOKUP(A2620,'17'!E2634:I2634,4,FALSE),\"-\")","v":"-"}]
[null,{"$f":"IFERROR(VLOOKUP(A2620,'17'!$E$25:$I$25,2,FALSE),\"-\")","v":"-"},{"$f":"IFERROR(VLOOKUP(A2620,'17'!E2635:I2635,4,FALSE),\"-\")","v":"-"}]
[null,{"$f":"IFERROR(VLOOKUP(A2620,'17'!$E$26:$I$26,2,FALSE),\"-\")","v":"-"},{"$f":"IFERROR(VLOOKUP(A2620,'17'!E2636:I2636,4,FALSE),\"-\")","v":"-"}]
[null,{"$f":"IFERROR(VLOOKUP(A2620,'17'!$E$27:$I$27,2,FALSE),\"-\")","v":"-"},{"$f":"IFERROR(VLOOKUP(A2620,'17'!E2637:I2637,4,FALSE),\"-\")","v":"-"}]
[null,{"$f":"IFERROR(VLOOKUP(A2620,'17'!$E$28:$I$28,2,FALSE),\"-\")","v":"-"},{"$f":"IFERROR(VLOOKUP(A2620,'17'!E2638:I2638,4,FALSE),\"-\")","v":"-"}]
[null,{"$f":"IFERROR(VLOOKUP(A2620,'17'!$E$29:$I$29,2,FALSE),\"-\")","v":"-"},{"$f":"IFERROR(VLOOKUP(A2620,'17'!E2639:I2639,4,FALSE),\"-\")","v":"-"}]
[null,{"$f":"IFERROR(VLOOKUP(A2620,'17'!$E$30:$I$30,2,FALSE),\"-\")","v":"-"},{"$f":"IFERROR(VLOOKUP(A2620,'17'!E2640:I2640,4,FALSE),\"-\")","v":"-"}]
[null,{"$f":"IFERROR(VLOOKUP(A2620,'17'!$E$31:$I$31,2,FALSE),\"-\")","v":"-"},{"$f":"IFERROR(VLOOKUP(A2620,'17'!E2641:I2641,4,FALSE),\"-\")","v":"-"}]
[null,{"$f":"IFERROR(VLOOKUP(A2620,'18'!$E$4:$I$4,2,FALSE),\"-\")","v":"-"},{"$f":"IFERROR(VLOOKUP(A2620,'18'!E2614:I2614,4,FALSE),\"-\")","v":"-"}]
[null,{"$f":"IFERROR(VLOOKUP(A2620,'18'!$E$5:$I$5,2,FALSE),\"-\")","v":"-"},{"$f":"IFERROR(VLOOKUP(A2620,'18'!E2615:I2615,4,FALSE),\"-\")","v":"-"}]
[null,{"$f":"IFERROR(VLOOKUP(A2620,'18'!$E$6:$I$6,2,FALSE),\"-\")","v":"-"},{"$f":"IFERROR(VLOOKUP(A2620,'18'!E2616:I2616,4,FALSE),\"-\")","v":"-"}]
[null,{"$f":"IFERROR(VLOOKUP(A2620,'18'!$E$7:$I$7,2,FALSE),\"-\")","v":"-"},{"$f":"IFERROR(VLOOKUP(A2620,'18'!E2617:I2617,4,FALSE),\"-\")","v":"-"}]
[null,{"$f":"IFERROR(VLOOKUP(A2620,'18'!$E$8:$I$8,2,FALSE),\"-\")","v":"-"},{"$f":"IFERROR(VLOOKUP(A2620,'18'!E2618:I2618,4,FALSE),\"-\")","v":"-"}]
[null,{"$f":"IFERROR(VLOOKUP(A2620,'18'!$E$9:$I$9,2,FALSE),\"-\")","v":"-"},{"$f":"IFERROR(VLOOKUP(A2620,'18'!E2619:I2619,4,FALSE),\"-\")","v":"-"}]
[null,{"$f":"IFERROR(VLOOKUP(A2620,'18'!$E$10:$I$10,2,FALSE),\"-\")","v":"-"},{"$f":"IFERROR(VLOOKUP(A2620,'18'!E2620:I2620,4,FALSE),\"-\")","v":"-"}]
[null,{"$f":"IFERROR(VLOOKUP(A2620,'18'!$E$11:$I$11,2,FALSE),\"-\")","v":"-"},{"$f":"IFERROR(VLOOKUP(A2620,'18'!E2621:I2621,4,FALSE),\"-\")","v":"-"}]
[null,{"$f":"IFERROR(VLOOKUP(A2620,'18'!$E$12:$I$12,2,FALSE),\"-\")","v":"-"},{"$f":"IFERROR(VLOOKUP(A2620,'18'!E2622:I2622,4,FALSE),\"-\")","v":"-"}]
[null,{"$f":"IFERROR(VLOOKUP(A2620,'18'!$E$13:$I$13,2,FALSE),\"-\")","v":"-"},{"$f":"IFERROR(VLOOKUP(A2620,'18'!E2623:I2623,4,FALSE),\"-\")","v":"-"}]
[null,{"$f":"IFERROR(VLOOKUP(A2620,'18'!$E$14:$I$14,2,FALSE),\"-\")","v":"-"},{"$f":"IFERROR(VLOOKUP(A2620,'18'!E2624:I2624,4,FALSE),\"-\")","v":"-"}]
[null,{"$f":"IFERROR(VLOOKUP(A2620,'18'!$E$15:$I$15,2,FALSE),\"-\")","v":"-"},{"$f":"IFERROR(VLOOKUP(A2620,'18'!E2625:I2625,4,FALSE),\"-\")","v":"-"}]
[null,{"$f":"IFERROR(VLOOKUP(A2620,'18'!$E$16:$I$16,2,FALSE),\"-\")","v":"-"},{"$f":"IFERROR(VLOOKUP(A2620,'18'!E2626:I2626,4,FALSE),\"-\")","v":"-"}]
[null,{"$f":"IFERROR(VLOOKUP(A2620,'18'!$E$17:$I$17,2,FALSE),\"-\")","v":"-"},{"$f":"IFERROR(VLOOKUP(A2620,'18'!E2627:I2627,4,FALSE),\"-\")","v":"-"}]
[null,{"$f":"IFERROR(VLOOKUP(A2620,'18'!$E$18:$I$18,2,FALSE),\"-\")","v":"-"},{"$f":"IFERROR(VLOOKUP(A2620,'18'!E2628:I2628,4,FALSE),\"-\")","v":"-"}]
[null,{"$f":"IFERROR(VLOOKUP(A2620,'18'!$E$19:$I$19,2,FALSE),\"-\")","v":"-"},{"$f":"IFERROR(VLOOKUP(A2620,'18'!E2629:I2629,4,FALSE),\"-\")","v":"-"}]
[null,{"$f":"IFERROR(VLOOKUP(A2620,'18'!$E$20:$I$20,2,FALSE),\"-\")","v":"-"},{"$f":"IFERROR(VLOOKUP(A2620,'18'!E2630:I2630,4,FALSE),\"-\")","v":"-"}]
[null,{"$f":"IFERROR(VLOOKUP(A2620,'18'!$E$21:$I$21,2,FALSE),\"-\")","v":"-"},{"$f":"IFERROR(VLOOKUP(A2620,'18'!E2631:I2631,4,FALSE),\"-\")","v":"-"}]
[null,{"$f":"IFERROR(VLOOKUP(A2620,'18'!$E$22:$I$22,2,FALSE),\"-\")","v":"-"},{"$f":"IFERROR(VLOOKUP(A2620,'18'!E2632:I2632,4,FALSE),\"-\")","v":"-"}]
[null,{"$f":"IFERROR(VLOOKUP(A2620,'18'!$E$23:$I$23,2,FALSE),\"-\")","v":"-"},{"$f":"IFERROR(VLOOKUP(A2620,'18'!E2633:I2633,4,FALSE),\"-\")","v":"-"}]
[null,{"$f":"IFERROR(VLOOKUP(A2620,'18'!$E$24:$I$24,2,FALSE),\"-\")","v":"-"},{"$f":"IFERROR(VLOOKUP(A2620,'18'!E2634:I2634,4,FALSE),\"-\")","v":"-"}]
[null,{"$f":"IFERROR(VLOOKUP(A2620,'18'!$E$25:$I$25,2,FALSE),\"-\")","v":"-"},{"$f":"IFERROR(VLOOKUP(A2620,'18'!E2635:I2635,4,FALSE),\"-\")","v":"-"}]
[null,{"$f":"IFERROR(VLOOKUP(A2620,'18'!$E$26:$I$26,2,FALSE),\"-\")","v":"-"},{"$f":"IFERROR(VLOOKUP(A2620,'18'!E2636:I2636,4,FALSE),\"-\")","v":"-"}]
[null,{"$f":"IFERROR(VLOOKUP(A2620,'18'!$E$27:$I$27,2,FALSE),\"-\")","v":"-"},{"$f":"IFERROR(VLOOKUP(A2620,'18'!E2637:I2637,4,FALSE),\"-\")","v":"-"}]
[null,{"$f":"IFERROR(VLOOKUP(A2620,'18'!$E$28:$I$28,2,FALSE),\"-\")","v":"-"},{"$f":"IFERROR(VLOOKUP(A2620,'18'!E2638:I2638,4,FALSE),\"-\")","v":"-"}]
[null,{"$f":"IFERROR(VLOOKUP(A2620,'18'!$E$29:$I$29,2,FALSE),\"-\")","v":"-"},{"$f":"IFERROR(VLOOKUP(A2620,'18'!E2639:I2639,4,FALSE),\"-\")","v":"-"}]
[null,{"$f":"IFERROR(VLOOKUP(A2620,'18'!$E$30:$I$30,2,FALSE),\"-\")","v":"-"},{"$f":"IFERROR(VLOOKUP(A2620,'18'!E2640:I2640,4,FALSE),\"-\")","v":"-"}]
[null,{"$f":"IFERROR(VLOOKUP(A2620,'18'!$E$31:$I$31,2,FALSE),\"-\")","v":"-"},{"$f":"IFERROR(VLOOKUP(A2620,'18'!E2641:I2641,4,FALSE),\"-\")","v":"-"}]
[null,{"$f":"IFERROR(VLOOKUP(A2620,'19'!$E$4:$I$4,2,FALSE),\"-\")","v":"-"},{"$f":"IFERROR(VLOOKUP(A2620,'19'!E2614:I2614,4,FALSE),\"-\")","v":"-"}]
[null,{"$f":"IFERROR(VLOOKUP(A2620,'19'!$E$5:$I$5,2,FALSE),\"-\")","v":"-"},{"$f":"IFERROR(VLOOKUP(A2620,'19'!E2615:I2615,4,FALSE),\"-\")","v":"-"}]
[null,{"$f":"IFERROR(VLOOKUP(A2620,'19'!$E$6:$I$6,2,FALSE),\"-\")","v":"-"},{"$f":"IFERROR(VLOOKUP(A2620,'19'!E2616:I2616,4,FALSE),\"-\")","v":"-"}]
[null,{"$f":"IFERROR(VLOOKUP(A2620,'19'!$E$7:$I$7,2,FALSE),\"-\")","v":"-"},{"$f":"IFERROR(VLOOKUP(A2620,'19'!E2617:I2617,4,FALSE),\"-\")","v":"-"}]
[null,{"$f":"IFERROR(VLOOKUP(A2620,'19'!$E$8:$I$8,2,FALSE),\"-\")","v":"-"},{"$f":"IFERROR(VLOOKUP(A2620,'19'!E2618:I2618,4,FALSE),\"-\")","v":"-"}]
[null,{"$f":"IFERROR(VLOOKUP(A2620,'19'!$E$9:$I$9,2,FALSE),\"-\")","v":"-"},{"$f":"IFERROR(VLOOKUP(A2620,'19'!E2619:I2619,4,FALSE),\"-\")","v":"-"}]
[null,{"$f":"IFERROR(VLOOKUP(A2620,'19'!$E$10:$I$10,2,FALSE),\"-\")","v":"-"},{"$f":"IFERROR(VLOOKUP(A2620,'19'!E2620:I2620,4,FALSE),\"-\")","v":"-"}]
[null,{"$f":"IFERROR(VLOOKUP(A2620,'19'!$E$11:$I$11,2,FALSE),\"-\")","v":"-"},{"$f":"IFERROR(VLOOKUP(A2620,'19'!E2621:I2621,4,FALSE),\"-\")","v":"-"}]
[null,{"$f":"IFERROR(VLOOKUP(A2620,'19'!$E$12:$I$12,2,FALSE),\"-\")","v":"-"},{"$f":"IFERROR(VLOOKUP(A2620,'19'!E2622:I2622,4,FALSE),\"-\")","v":"-"}]
[null,{"$f":"IFERROR(VLOOKUP(A2620,'19'!$E$13:$I$13,2,FALSE),\"-\")","v":"-"},{"$f":"IFERROR(VLOOKUP(A2620,'19'!E2623:I2623,4,FALSE),\"-\")","v":"-"}]
[null,{"$f":"IFERROR(VLOOKUP(A2620,'19'!$E$14:$I$14,2,FALSE),\"-\")","v":"-"},{"$f":"IFERROR(VLOOKUP(A2620,'19'!E2624:I2624,4,FALSE),\"-\")","v":"-"}]
[null,{"$f":"IFERROR(VLOOKUP(A2620,'19'!$E$15:$I$15,2,FALSE),\"-\")","v":"-"},{"$f":"IFERROR(VLOOKUP(A2620,'19'!E2625:I2625,4,FALSE),\"-\")","v":"-"}]
[null,{"$f":"IFERROR(VLOOKUP(A2620,'19'!$E$16:$I$16,2,FALSE),\"-\")","v":"-"},{"$f":"IFERROR(VLOOKUP(A2620,'19'!E2626:I2626,4,FALSE),\"-\")","v":"-"}]
[null,{"$f":"IFERROR(VLOOKUP(A2620,'19'!$E$17:$I$17,2,FALSE),\"-\")","v":"-"},{"$f":"IFERROR(VLOOKUP(A2620,'19'!E2627:I2627,4,FALSE),\"-\")","v":"-"}]
[null,{"$f":"IFERROR(VLOOKUP(A2620,'19'!$E$18:$I$18,2,FALSE),\"-\")","v":"-"},{"$f":"IFERROR(VLOOKUP(A2620,'19'!E2628:I2628,4,FALSE),\"-\")","v":"-"}]
[null,{"$f":"IFERROR(VLOOKUP(A2620,'19'!$E$19:$I$19,2,FALSE),\"-\")","v":"-"},{"$f":"IFERROR(VLOOKUP(A2620,'19'!E2629:I2629,4,FALSE),\"-\")","v":"-"}]
[null,{"$f":"IFERROR(VLOOKUP(A2620,'19'!$E$20:$I$20,2,FALSE),\"-\")","v":"-"},{"$f":"IFERROR(VLOOKUP(A2620,'19'!E2630:I2630,4,FALSE),\"-\")","v":"-"}]
[null,{"$f":"IFERROR(VLOOKUP(A2620,'19'!$E$21:$I$21,2,FALSE),\"-\")","v":"-"},{"$f":"IFERROR(VLOOKUP(A2620,'19'!E2631:I2631,4,FALSE),\"-\")","v":"-"}]
[null,{"$f":"IFERROR(VLOOKUP(A2620,'19'!$E$22:$I$22,2,FALSE),\"-\")","v":"-"},{"$f":"IFERROR(VLOOKUP(A2620,'19'!E2632:I2632,4,FALSE),\"-\")","v":"-"}]
[null,{"$f":"IFERROR(VLOOKUP(A2620,'19'!$E$23:$I$23,2,FALSE),\"-\")","v":"-"},{"$f":"IFERROR(VLOOKUP(A2620,'19'!E2633:I2633,4,FALSE),\"-\")","v":"-"}]
[null,{"$f":"IFERROR(VLOOKUP(A2620,'19'!$E$24:$I$24,2,FALSE),\"-\")","v":"-"},{"$f":"IFERROR(VLOOKUP(A2620,'19'!E2634:I2634,4,FALSE),\"-\")","v":"-"}]
[null,{"$f":"IFERROR(VLOOKUP(A2620,'19'!$E$25:$I$25,2,FALSE),\"-\")","v":"-"},{"$f":"IFERROR(VLOOKUP(A2620,'19'!E2635:I2635,4,FALSE),\"-\")","v":"-"}]
[null,{"$f":"IFERROR(VLOOKUP(A2620,'19'!$E$26:$I$26,2,FALSE),\"-\")","v":"-"},{"$f":"IFERROR(VLOOKUP(A2620,'19'!E2636:I2636,4,FALSE),\"-\")","v":"-"}]
[null,{"$f":"IFERROR(VLOOKUP(A2620,'19'!$E$27:$I$27,2,FALSE),\"-\")","v":"-"},{"$f":"IFERROR(VLOOKUP(A2620,'19'!E2637:I2637,4,FALSE),\"-\")","v":"-"}]
[null,{"$f":"IFERROR(VLOOKUP(A2620,'19'!$E$28:$I$28,2,FALSE),\"-\")","v":"-"},{"$f":"IFERROR(VLOOKUP(A2620,'19'!E2638:I2638,4,FALSE),\"-\")","v":"-"}]
[null,{"$f":"IFERROR(VLOOKUP(A2620,'19'!$E$29:$I$29,2,FALSE),\"-\")","v":"-"},{"$f":"IFERROR(VLOOKUP(A2620,'19'!E2639:I2639,4,FALSE),\"-\")","v":"-"}]
[null,{"$f":"IFERROR(VLOOKUP(A2620,'19'!$E$30:$I$30,2,FALSE),\"-\")","v":"-"},{"$f":"IFERROR(VLOOKUP(A2620,'19'!E2640:I2640,4,FALSE),\"-\")","v":"-"}]
[null,{"$f":"IFERROR(VLOOKUP(A2620,'19'!$E$31:$I$31,2,FALSE),\"-\")","v":"-"},{"$f":"IFERROR(VLOOKUP(A2620,'19'!E2641:I2641,4,FALSE),\"-\")","v":"-"}]
[null,{"$f":"IFERROR(VLOOKUP(A2620,'20'!$E$4:$I$4,2,FALSE),\"-\")","v":"-"},{"$f":"IFERROR(VLOOKUP(A2620,'20'!E2614:I2614,4,FALSE),\"-\")","v":"-"}]
[null,{"$f":"IFERROR(VLOOKUP(A2620,'20'!$E$5:$I$5,2,FALSE),\"-\")","v":"-"},{"$f":"IFERROR(VLOOKUP(A2620,'20'!E2615:I2615,4,FALSE),\"-\")","v":"-"}]
[null,{"$f":"IFERROR(VLOOKUP(A2620,'20'!$E$6:$I$6,2,FALSE),\"-\")","v":"-"},{"$f":"IFERROR(VLOOKUP(A2620,'20'!E2616:I2616,4,FALSE),\"-\")","v":"-"}]
[null,{"$f":"IFERROR(VLOOKUP(A2620,'20'!$E$7:$I$7,2,FALSE),\"-\")","v":"-"},{"$f":"IFERROR(VLOOKUP(A2620,'20'!E2617:I2617,4,FALSE),\"-\")","v":"-"}]
[null,{"$f":"IFERROR(VLOOKUP(A2620,'20'!$E$8:I2618,2,FALSE),\"-\")","v":"-"},{"$f":"IFERROR(VLOOKUP(A2620,'20'!E2618:I2618,4,FALSE),\"-\")","v":"-"}]
[null,{"$f":"IFERROR(VLOOKUP(A2620,'20'!$E$9:$I$9,2,FALSE),\"-\")","v":"-"},{"$f":"IFERROR(VLOOKUP(A2620,'20'!E2619:I2619,4,FALSE),\"-\")","v":"-"}]
[null,{"$f":"IFERROR(VLOOKUP(A2620,'20'!$E$10:$I$10,2,FALSE),\"-\")","v":"-"},{"$f":"IFERROR(VLOOKUP(A2620,'20'!E2620:I2620,4,FALSE),\"-\")","v":"-"}]
[null,{"$f":"IFERROR(VLOOKUP(A2620,'20'!$E$11:$I$11,2,FALSE),\"-\")","v":"-"},{"$f":"IFERROR(VLOOKUP(A2620,'20'!E2621:I2621,4,FALSE),\"-\")","v":"-"}]
[null,{"$f":"IFERROR(VLOOKUP(A2620,'20'!$E$12:$I$12,2,FALSE),\"-\")","v":"-"},{"$f":"IFERROR(VLOOKUP(A2620,'20'!E2622:I2622,4,FALSE),\"-\")","v":"-"}]
[null,{"$f":"IFERROR(VLOOKUP(A2620,'20'!$E$13:$I$13,2,FALSE),\"-\")","v":"-"},{"$f":"IFERROR(VLOOKUP(A2620,'20'!E2623:I2623,4,FALSE),\"-\")","v":"-"}]
[null,{"$f":"IFERROR(VLOOKUP(A2620,'20'!$E$14:$I$14,2,FALSE),\"-\")","v":"-"},{"$f":"IFERROR(VLOOKUP(A2620,'20'!E2624:I2624,4,FALSE),\"-\")","v":"-"}]
[null,{"$f":"IFERROR(VLOOKUP(A2620,'20'!$E$15:$I$15,2,FALSE),\"-\")","v":"-"},{"$f":"IFERROR(VLOOKUP(A2620,'20'!E2625:I2625,4,FALSE),\"-\")","v":"-"}]
[null,{"$f":"IFERROR(VLOOKUP(A2620,'20'!$E$16:$I$16,2,FALSE),\"-\")","v":"-"},{"$f":"IFERROR(VLOOKUP(A2620,'20'!E2626:I2626,4,FALSE),\"-\")","v":"-"}]
[null,{"$f":"IFERROR(VLOOKUP(A2620,'20'!$E$17:$I$17,2,FALSE),\"-\")","v":"-"},{"$f":"IFERROR(VLOOKUP(A2620,'20'!E2627:I2627,4,FALSE),\"-\")","v":"-"}]
[null,{"$f":"IFERROR(VLOOKUP(A2620,'20'!$E$18:$I$18,2,FALSE),\"-\")","v":"-"},{"$f":"IFERROR(VLOOKUP(A2620,'20'!E2628:I2628,4,FALSE),\"-\")","v":"-"}]
[null,{"$f":"IFERROR(VLOOKUP(A2620,'20'!$E$19:$I$19,2,FALSE),\"-\")","v":"-"},{"$f":"IFERROR(VLOOKUP(A2620,'20'!E2629:I2629,4,FALSE),\"-\")","v":"-"}]
[null,{"$f":"IFERROR(VLOOKUP(A2620,'20'!$E$20:$I$20,2,FALSE),\"-\")","v":"-"},{"$f":"IFERROR(VLOOKUP(A2620,'20'!E2630:I2630,4,FALSE),\"-\")","v":"-"}]
[null,{"$f":"IFERROR(VLOOKUP(A2620,'20'!$E$21:$I$21,2,FALSE),\"-\")","v":"-"},{"$f":"IFERROR(VLOOKUP(A2620,'20'!E2631:I2631,4,FALSE),\"-\")","v":"-"}]
[null,{"$f":"IFERROR(VLOOKUP(A2620,'20'!$E$22:$I$22,2,FALSE),\"-\")","v":"-"},{"$f":"IFERROR(VLOOKUP(A2620,'20'!E2632:I2632,4,FALSE),\"-\")","v":"-"}]
[null,{"$f":"IFERROR(VLOOKUP(A2620,'20'!$E$23:$I$23,2,FALSE),\"-\")","v":"-"},{"$f":"IFERROR(VLOOKUP(A2620,'20'!E2633:I2633,4,FALSE),\"-\")","v":"-"}]
[null,{"$f":"IFERROR(VLOOKUP(A2620,'20'!$E$24:$I$24,2,FALSE),\"-\")","v":"-"},{"$f":"IFERROR(VLOOKUP(A2620,'20'!E2634:I2634,4,FALSE),\"-\")","v":"-"}]
[null,{"$f":"IFERROR(VLOOKUP(A2620,'20'!$E$25:$I$25,2,FALSE),\"-\")","v":"-"},{"$f":"IFERROR(VLOOKUP(A2620,'20'!E2635:I2635,4,FALSE),\"-\")","v":"-"}]
[null,{"$f":"IFERROR(VLOOKUP(A2620,'20'!$E$26:$I$26,2,FALSE),\"-\")","v":"-"},{"$f":"IFERROR(VLOOKUP(A2620,'20'!E2636:I2636,4,FALSE),\"-\")","v":"-"}]
[null,{"$f":"IFERROR(VLOOKUP(A2620,'20'!$E$27:$I$27,2,FALSE),\"-\")","v":"-"},{"$f":"IFERROR(VLOOKUP(A2620,'20'!E2637:I2637,4,FALSE),\"-\")","v":"-"}]
[null,{"$f":"IFERROR(VLOOKUP(A2620,'20'!$E$28:$I$28,2,FALSE),\"-\")","v":"-"},{"$f":"IFERROR(VLOOKUP(A2620,'20'!E2638:I2638,4,FALSE),\"-\")","v":"-"}]
[null,{"$f":"IFERROR(VLOOKUP(A2620,'20'!$E$29:$I$29,2,FALSE),\"-\")","v":"-"},{"$f":"IFERROR(VLOOKUP(A2620,'20'!E2639:I2639,4,FALSE),\"-\")","v":"-"}]
[null,{"$f":"IFERROR(VLOOKUP(A2620,'20'!$E$30:$I$30,2,FALSE),\"-\")","v":"-"},{"$f":"IFERROR(VLOOKUP(A2620,'20'!E2640:I2640,4,FALSE),\"-\")","v":"-"}]
[null,{"$f":"IFERROR(VLOOKUP(A2620,'20'!$E$31:$I$31,2,FALSE),\"-\")","v":"-"},{"$f":"IFERROR(VLOOKUP(A2620,'20'!E2641:I2641,4,FALSE),\"-\")","v":"-"}]
[null,{"$f":"IFERROR(VLOOKUP(A2620,'21'!$E$4:$I$4,2,FALSE),\"-\")","v":"-"},{"$f":"IFERROR(VLOOKUP(A2620,'21'!E2614:I2614,4,FALSE),\"-\")","v":"-"}]
[null,{"$f":"IFERROR(VLOOKUP(A2620,'21'!$E$5:$I$5,2,FALSE),\"-\")","v":"-"},{"$f":"IFERROR(VLOOKUP(A2620,'21'!E2615:I2615,4,FALSE),\"-\")","v":"-"}]
[null,{"$f":"IFERROR(VLOOKUP(A2620,'21'!$E$6:$I$6,2,FALSE),\"-\")","v":"-"},{"$f":"IFERROR(VLOOKUP(A2620,'21'!E2616:I2616,4,FALSE),\"-\")","v":"-"}]
[null,{"$f":"IFERROR(VLOOKUP(A2620,'21'!$E$7:$I$7,2,FALSE),\"-\")","v":"-"},{"$f":"IFERROR(VLOOKUP(A2620,'21'!E2617:I2617,4,FALSE),\"-\")","v":"-"}]
[null,{"$f":"IFERROR(VLOOKUP(A2620,'21'!$E$8:$I$8,2,FALSE),\"-\")","v":"-"},{"$f":"IFERROR(VLOOKUP(A2620,'21'!E2618:I2618,4,FALSE),\"-\")","v":"-"}]
[null,{"$f":"IFERROR(VLOOKUP(A2620,'21'!$E$9:$I$9,2,FALSE),\"-\")","v":"-"},{"$f":"IFERROR(VLOOKUP(A2620,'21'!E2619:I2619,4,FALSE),\"-\")","v":"-"}]
[null,{"$f":"IFERROR(VLOOKUP(A2620,'21'!$E$10:$I$10,2,FALSE),\"-\")","v":"-"},{"$f":"IFERROR(VLOOKUP(A2620,'21'!E2620:I2620,4,FALSE),\"-\")","v":"-"}]
[null,{"$f":"IFERROR(VLOOKUP(A2620,'21'!$E$11:$I$11,2,FALSE),\"-\")","v":"-"},{"$f":"IFERROR(VLOOKUP(A2620,'21'!E2621:I2621,4,FALSE),\"-\")","v":"-"}]
[null,{"$f":"IFERROR(VLOOKUP(A2620,'21'!$E$12:$I$12,2,FALSE),\"-\")","v":"-"},{"$f":"IFERROR(VLOOKUP(A2620,'21'!E2622:I2622,4,FALSE),\"-\")","v":"-"}]
[null,{"$f":"IFERROR(VLOOKUP(A2620,'21'!$E$13:$I$13,2,FALSE),\"-\")","v":"-"},{"$f":"IFERROR(VLOOKUP(A2620,'21'!E2623:I2623,4,FALSE),\"-\")","v":"-"}]
[null,{"$f":"IFERROR(VLOOKUP(A2620,'21'!$E$14:$I$14,2,FALSE),\"-\")","v":"-"},{"$f":"IFERROR(VLOOKUP(A2620,'21'!E2624:I2624,4,FALSE),\"-\")","v":"-"}]
[null,{"$f":"IFERROR(VLOOKUP(A2620,'21'!$E$15:$I$15,2,FALSE),\"-\")","v":"-"},{"$f":"IFERROR(VLOOKUP(A2620,'21'!E2625:I2625,4,FALSE),\"-\")","v":"-"}]
[null,{"$f":"IFERROR(VLOOKUP(A2620,'21'!$E$16:$I$16,2,FALSE),\"-\")","v":"-"},{"$f":"IFERROR(VLOOKUP(A2620,'21'!E2626:I2626,4,FALSE),\"-\")","v":"-"}]
[null,{"$f":"IFERROR(VLOOKUP(A2620,'21'!$E$17:$I$17,2,FALSE),\"-\")","v":"-"},{"$f":"IFERROR(VLOOKUP(A2620,'21'!E2627:I2627,4,FALSE),\"-\")","v":"-"}]
[null,{"$f":"IFERROR(VLOOKUP(A2620,'21'!$E$18:$I$18,2,FALSE),\"-\")","v":"-"},{"$f":"IFERROR(VLOOKUP(A2620,'21'!E2628:I2628,4,FALSE),\"-\")","v":"-"}]
[null,{"$f":"IFERROR(VLOOKUP(A2620,'21'!$E$19:$I$19,2,FALSE),\"-\")","v":"-"},{"$f":"IFERROR(VLOOKUP(A2620,'21'!E2629:I2629,4,FALSE),\"-\")","v":"-"}]
[null,{"$f":"IFERROR(VLOOKUP(A2620,'21'!$E$20:$I$20,2,FALSE),\"-\")","v":"-"},{"$f":"IFERROR(VLOOKUP(A2620,'21'!E2630:I2630,4,FALSE),\"-\")","v":"-"}]
[null,{"$f":"IFERROR(VLOOKUP(A2620,'21'!$E$21:$I$21,2,FALSE),\"-\")","v":"-"},{"$f":"IFERROR(VLOOKUP(A2620,'21'!E2631:I2631,4,FALSE),\"-\")","v":"-"}]
[null,{"$f":"IFERROR(VLOOKUP(A2620,'21'!$E$22:$I$22,2,FALSE),\"-\")","v":"-"},{"$f":"IFERROR(VLOOKUP(A2620,'21'!E2632:I2632,4,FALSE),\"-\")","v":"-"}]
[null,{"$f":"IFERROR(VLOOKUP(A2620,'21'!$E$23:$I$23,2,FALSE),\"-\")","v":"-"},{"$f":"IFERROR(VLOOKUP(A2620,'21'!E2633:I2633,4,FALSE),\"-\")","v":"-"}]
[null,{"$f":"IFERROR(VLOOKUP(A2620,'21'!$E$24:$I$24,2,FALSE),\"-\")","v":"-"},{"$f":"IFERROR(VLOOKUP(A2620,'21'!E2634:I2634,4,FALSE),\"-\")","v":"-"}]
[null,{"$f":"IFERROR(VLOOKUP(A2620,'21'!$E$25:$I$25,2,FALSE),\"-\")","v":"-"},{"$f":"IFERROR(VLOOKUP(A2620,'21'!E2635:I2635,4,FALSE),\"-\")","v":"-"}]
[null,{"$f":"IFERROR(VLOOKUP(A2620,'21'!$E$26:$I$26,2,FALSE),\"-\")","v":"-"},{"$f":"IFERROR(VLOOKUP(A2620,'21'!E2636:I2636,4,FALSE),\"-\")","v":"-"}]
[null,{"$f":"IFERROR(VLOOKUP(A2620,'21'!$E$27:$I$27,2,FALSE),\"-\")","v":"-"},{"$f":"IFERROR(VLOOKUP(A2620,'21'!E2637:I2637,4,FALSE),\"-\")","v":"-"}]
[null,{"$f":"IFERROR(VLOOKUP(A2620,'21'!$E$28:$I$28,2,FALSE),\"-\")","v":"-"},{"$f":"IFERROR(VLOOKUP(A2620,'21'!E2638:I2638,4,FALSE),\"-\")","v":"-"}]
[null,{"$f":"IFERROR(VLOOKUP(A2620,'21'!$E$29:$I$29,2,FALSE),\"-\")","v":"-"},{"$f":"IFERROR(VLOOKUP(A2620,'21'!E2639:I2639,4,FALSE),\"-\")","v":"-"}]
[null,{"$f":"IFERROR(VLOOKUP(A2620,'21'!$E$30:$I$30,2,FALSE),\"-\")","v":"-"},{"$f":"IFERROR(VLOOKUP(A2620,'21'!E2640:I2640,4,FALSE),\"-\")","v":"-"}]
[null,{"$f":"IFERROR(VLOOKUP(A2620,'21'!$E$31:$I$31,2,FALSE),\"-\")","v":"-"},{"$f":"IFERROR(VLOOKUP(A2620,'21'!E2641:I2641,4,FALSE),\"-\")","v":"-"}]
[null,{"$f":"IFERROR(VLOOKUP(A2620,'22'!$E$4:$I$4,2,FALSE),\"-\")","v":"-"},{"$f":"IFERROR(VLOOKUP(A2620,'22'!E2614:I2614,4,FALSE),\"-\")","v":"-"}]
[null,{"$f":"IFERROR(VLOOKUP(A2620,'22'!$E$5:$I$5,2,FALSE),\"-\")","v":"-"},{"$f":"IFERROR(VLOOKUP(A2620,'22'!E2615:I2615,4,FALSE),\"-\")","v":"-"}]
[null,{"$f":"IFERROR(VLOOKUP(A2620,'22'!$E$6:$I$6,2,FALSE),\"-\")","v":"-"},{"$f":"IFERROR(VLOOKUP(A2620,'22'!E2616:I2616,4,FALSE),\"-\")","v":"-"}]
[null,{"$f":"IFERROR(VLOOKUP(A2620,'22'!$E$7:$I$7,2,FALSE),\"-\")","v":"-"},{"$f":"IFERROR(VLOOKUP(A2620,'22'!E2617:I2617,4,FALSE),\"-\")","v":"-"}]
[null,{"$f":"IFERROR(VLOOKUP(A2620,'22'!$E$8:$I$8,2,FALSE),\"-\")","v":"-"},{"$f":"IFERROR(VLOOKUP(A2620,'22'!E2618:I2618,4,FALSE),\"-\")","v":"-"}]
[null,{"$f":"IFERROR(VLOOKUP(A2620,'22'!$E$9:$I$9,2,FALSE),\"-\")","v":"-"},{"$f":"IFERROR(VLOOKUP(A2620,'22'!E2619:I2619,4,FALSE),\"-\")","v":"-"}]
[null,{"$f":"IFERROR(VLOOKUP(A2620,'22'!$E$10:$I$10,2,FALSE),\"-\")","v":"-"},{"$f":"IFERROR(VLOOKUP(A2620,'22'!E2620:I2620,4,FALSE),\"-\")","v":"-"}]
[null,{"$f":"IFERROR(VLOOKUP(A2620,'22'!$E$11:$I$11,2,FALSE),\"-\")","v":"-"},{"$f":"IFERROR(VLOOKUP(A2620,'22'!E2621:I2621,4,FALSE),\"-\")","v":"-"}]
[null,{"$f":"IFERROR(VLOOKUP(A2620,'22'!$E$12:$I$12,2,FALSE),\"-\")","v":"-"},{"$f":"IFERROR(VLOOKUP(A2620,'22'!E2622:I2622,4,FALSE),\"-\")","v":"-"}]
[null,{"$f":"IFERROR(VLOOKUP(A2620,'22'!$E$13:$I$13,2,FALSE),\"-\")","v":"-"},{"$f":"IFERROR(VLOOKUP(A2620,'22'!E2623:I2623,4,FALSE),\"-\")","v":"-"}]
[null,{"$f":"IFERROR(VLOOKUP(A2620,'22'!$E$14:$I$14,2,FALSE),\"-\")","v":"-"},{"$f":"IFERROR(VLOOKUP(A2620,'22'!E2624:I2624,4,FALSE),\"-\")","v":"-"}]
[null,{"$f":"IFERROR(VLOOKUP(A2620,'22'!$E$15:$I$15,2,FALSE),\"-\")","v":"-"},{"$f":"IFERROR(VLOOKUP(A2620,'22'!E2625:I2625,4,FALSE),\"-\")","v":"-"}]
[null,{"$f":"IFERROR(VLOOKUP(A2620,'22'!$E$16:$I$16,2,FALSE),\"-\")","v":"-"},{"$f":"IFERROR(VLOOKUP(A2620,'22'!E2626:I2626,4,FALSE),\"-\")","v":"-"}]
[null,{"$f":"IFERROR(VLOOKUP(A2620,'22'!$E$17:$I$17,2,FALSE),\"-\")","v":"-"},{"$f":"IFERROR(VLOOKUP(A2620,'22'!E2627:I2627,4,FALSE),\"-\")","v":"-"}]
[null,{"$f":"IFERROR(VLOOKUP(A2620,'22'!$E$18:$I$18,2,FALSE),\"-\")","v":"-"},{"$f":"IFERROR(VLOOKUP(A2620,'22'!E2628:I2628,4,FALSE),\"-\")","v":"-"}]
[null,{"$f":"IFERROR(VLOOKUP(A2620,'22'!$E$19:$I$19,2,FALSE),\"-\")","v":"-"},{"$f":"IFERROR(VLOOKUP(A2620,'22'!E2629:I2629,4,FALSE),\"-\")","v":"-"}]
[null,{"$f":"IFERROR(VLOOKUP(A2620,'22'!$E$20:$I$20,2,FALSE),\"-\")","v":"-"},{"$f":"IFERROR(VLOOKUP(A2620,'22'!E2630:I2630,4,FALSE),\"-\")","v":"-"}]
[null,{"$f":"IFERROR(VLOOKUP(A2620,'22'!$E$21:$I$21,2,FALSE),\"-\")","v":"-"},{"$f":"IFERROR(VLOOKUP(A2620,'22'!E2631:I2631,4,FALSE),\"-\")","v":"-"}]
[null,{"$f":"IFERROR(VLOOKUP(A2620,'22'!$E$22:$I$22,2,FALSE),\"-\")","v":"-"},{"$f":"IFERROR(VLOOKUP(A2620,'22'!E2632:I2632,4,FALSE),\"-\")","v":"-"}]
[null,{"$f":"IFERROR(VLOOKUP(A2620,'22'!$E$23:$I$23,2,FALSE),\"-\")","v":"-"},{"$f":"IFERROR(VLOOKUP(A2620,'22'!E2633:I2633,4,FALSE),\"-\")","v":"-"}]
[null,{"$f":"IFERROR(VLOOKUP(A2620,'22'!$E$24:$I$24,2,FALSE),\"-\")","v":"-"},{"$f":"IFERROR(VLOOKUP(A2620,'22'!E2634:I2634,4,FALSE),\"-\")","v":"-"}]
[null,{"$f":"IFERROR(VLOOKUP(A2620,'22'!$E$25:$I$25,2,FALSE),\"-\")","v":"-"},{"$f":"IFERROR(VLOOKUP(A2620,'22'!E2635:I2635,4,FALSE),\"-\")","v":"-"}]
[null,{"$f":"IFERROR(VLOOKUP(A2620,'22'!$E$26:$I$26,2,FALSE),\"-\")","v":"-"},{"$f":"IFERROR(VLOOKUP(A2620,'22'!E2636:I2636,4,FALSE),\"-\")","v":"-"}]
[null,{"$f":"IFERROR(VLOOKUP(A2620,'22'!$E$27:$I$27,2,FALSE),\"-\")","v":"-"},{"$f":"IFERROR(VLOOKUP(A2620,'22'!E2637:I2637,4,FALSE),\"-\")","v":"-"}]
[null,{"$f":"IFERROR(VLOOKUP(A2620,'22'!$E$28:$I$28,2,FALSE),\"-\")","v":"-"},{"$f":"IFERROR(VLOOKUP(A2620,'22'!E2638:I2638,4,FALSE),\"-\")","v":"-"}]
[null,{"$f":"IFERROR(VLOOKUP(A2620,'22'!$E$29:$I$29,2,FALSE),\"-\")","v":"-"},{"$f":"IFERROR(VLOOKUP(A2620,'22'!E2639:I2639,4,FALSE),\"-\")","v":"-"}]
[null,{"$f":"IFERROR(VLOOKUP(A2620,'22'!$E$30:$I$30,2,FALSE),\"-\")","v":"-"},{"$f":"IFERROR(VLOOKUP(A2620,'22'!E2640:I2640,4,FALSE),\"-\")","v":"-"}]
[null,{"$f":"IFERROR(VLOOKUP(A2620,'22'!$E$31:$I$31,2,FALSE),\"-\")","v":"-"},{"$f":"IFERROR(VLOOKUP(A2620,'22'!E2641:I2641,4,FALSE),\"-\")","v":"-"}]
[null,{"$f":"IFERROR(VLOOKUP(A2620,'23'!$E$4:$I$4,2,FALSE),\"-\")","v":"-"},{"$f":"IFERROR(VLOOKUP(A2620,'23'!E2614:I2614,4,FALSE),\"-\")","v":"-"}]
[null,{"$f":"IFERROR(VLOOKUP(A2620,'23'!$E$5:$I$5,2,FALSE),\"-\")","v":"-"},{"$f":"IFERROR(VLOOKUP(A2620,'23'!E2615:I2615,4,FALSE),\"-\")","v":"-"}]
[null,{"$f":"IFERROR(VLOOKUP(A2620,'23'!$E$6:$I$6,2,FALSE),\"-\")","v":"-"},{"$f":"IFERROR(VLOOKUP(A2620,'23'!E2616:I2616,4,FALSE),\"-\")","v":"-"}]
[null,{"$f":"IFERROR(VLOOKUP(A2620,'23'!$E$7:$I$7,2,FALSE),\"-\")","v":"-"},{"$f":"IFERROR(VLOOKUP(A2620,'23'!E2617:I2617,4,FALSE),\"-\")","v":"-"}]
[null,{"$f":"IFERROR(VLOOKUP(A2620,'23'!$E$8:$I$8,2,FALSE),\"-\")","v":"-"},{"$f":"IFERROR(VLOOKUP(A2620,'23'!E2618:I2618,4,FALSE),\"-\")","v":"-"}]
[null,{"$f":"IFERROR(VLOOKUP(A2620,'23'!$E$9:$I$9,2,FALSE),\"-\")","v":"-"},{"$f":"IFERROR(VLOOKUP(A2620,'23'!E2619:I2619,4,FALSE),\"-\")","v":"-"}]
[null,{"$f":"IFERROR(VLOOKUP(A2620,'23'!$E$10:$I$10,2,FALSE),\"-\")","v":"-"},{"$f":"IFERROR(VLOOKUP(A2620,'23'!E2620:I2620,4,FALSE),\"-\")","v":"-"}]
[null,{"$f":"IFERROR(VLOOKUP(A2620,'23'!$E$11:$I$11,2,FALSE),\"-\")","v":"-"},{"$f":"IFERROR(VLOOKUP(A2620,'23'!E2621:I2621,4,FALSE),\"-\")","v":"-"}]
[null,{"$f":"IFERROR(VLOOKUP(A2620,'23'!$E$12:$I$12,2,FALSE),\"-\")","v":"-"},{"$f":"IFERROR(VLOOKUP(A2620,'23'!E2622:I2622,4,FALSE),\"-\")","v":"-"}]
[null,{"$f":"IFERROR(VLOOKUP(A2620,'23'!$E$13:$I$13,2,FALSE),\"-\")","v":"-"},{"$f":"IFERROR(VLOOKUP(A2620,'23'!E2623:I2623,4,FALSE),\"-\")","v":"-"}]
[null,{"$f":"IFERROR(VLOOKUP(A2620,'23'!$E$14:$I$14,2,FALSE),\"-\")","v":"-"},{"$f":"IFERROR(VLOOKUP(A2620,'23'!E2624:I2624,4,FALSE),\"-\")","v":"-"}]
[null,{"$f":"IFERROR(VLOOKUP(A2620,'23'!$E$15:$I$15,2,FALSE),\"-\")","v":"-"},{"$f":"IFERROR(VLOOKUP(A2620,'23'!E2625:I2625,4,FALSE),\"-\")","v":"-"}]
[null,{"$f":"IFERROR(VLOOKUP(A2620,'23'!$E$16:$I$16,2,FALSE),\"-\")","v":"-"},{"$f":"IFERROR(VLOOKUP(A2620,'23'!E2626:I2626,4,FALSE),\"-\")","v":"-"}]
[null,{"$f":"IFERROR(VLOOKUP(A2620,'23'!$E$17:$I$17,2,FALSE),\"-\")","v":"-"},{"$f":"IFERROR(VLOOKUP(A2620,'23'!E2627:I2627,4,FALSE),\"-\")","v":"-"}]
[null,{"$f":"IFERROR(VLOOKUP(A2620,'23'!$E$18:$I$18,2,FALSE),\"-\")","v":"-"},{"$f":"IFERROR(VLOOKUP(A2620,'23'!E2628:I2628,4,FALSE),\"-\")","v":"-"}]
[null,{"$f":"IFERROR(VLOOKUP(A2620,'23'!$E$19:$I$19,2,FALSE),\"-\")","v":"-"},{"$f":"IFERROR(VLOOKUP(A2620,'23'!E2629:I2629,4,FALSE),\"-\")","v":"-"}]
[null,{"$f":"IFERROR(VLOOKUP(A2620,'23'!$E$20:$I$20,2,FALSE),\"-\")","v":"-"},{"$f":"IFERROR(VLOOKUP(A2620,'23'!E2630:I2630,4,FALSE),\"-\")","v":"-"}]
[null,{"$f":"IFERROR(VLOOKUP(A2620,'23'!$E$21:$I$21,2,FALSE),\"-\")","v":"-"},{"$f":"IFERROR(VLOOKUP(A2620,'23'!E2631:I2631,4,FALSE),\"-\")","v":"-"}]
[null,{"$f":"IFERROR(VLOOKUP(A2620,'23'!$E$22:$I$22,2,FALSE),\"-\")","v":"-"},{"$f":"IFERROR(VLOOKUP(A2620,'23'!E2632:I2632,4,FALSE),\"-\")","v":"-"}]
[null,{"$f":"IFERROR(VLOOKUP(A2620,'23'!$E$23:$I$23,2,FALSE),\"-\")","v":"-"},{"$f":"IFERROR(VLOOKUP(A2620,'23'!E2633:I2633,4,FALSE),\"-\")","v":"-"}]
[null,{"$f":"IFERROR(VLOOKUP(A2620,'23'!$E$24:$I$24,2,FALSE),\"-\")","v":"-"},{"$f":"IFERROR(VLOOKUP(A2620,'23'!E2634:I2634,4,FALSE),\"-\")","v":"-"}]
[null,{"$f":"IFERROR(VLOOKUP(A2620,'23'!$E$25:$I$25,2,FALSE),\"-\")","v":"-"},{"$f":"IFERROR(VLOOKUP(A2620,'23'!E2635:I2635,4,FALSE),\"-\")","v":"-"}]
[null,{"$f":"IFERROR(VLOOKUP(A2620,'23'!$E$26:$I$26,2,FALSE),\"-\")","v":"-"},{"$f":"IFERROR(VLOOKUP(A2620,'23'!E2636:I2636,4,FALSE),\"-\")","v":"-"}]
[null,{"$f":"IFERROR(VLOOKUP(A2620,'23'!$E$27:$I$27,2,FALSE),\"-\")","v":"-"},{"$f":"IFERROR(VLOOKUP(A2620,'23'!E2637:I2637,4,FALSE),\"-\")","v":"-"}]
[null,{"$f":"IFERROR(VLOOKUP(A2620,'23'!$E$28:$I$28,2,FALSE),\"-\")","v":"-"},{"$f":"IFERROR(VLOOKUP(A2620,'23'!E2638:I2638,4,FALSE),\"-\")","v":"-"}]
[null,{"$f":"IFERROR(VLOOKUP(A2620,'23'!$E$29:$I$29,2,FALSE),\"-\")","v":"-"},{"$f":"IFERROR(VLOOKUP(A2620,'23'!E2639:I2639,4,FALSE),\"-\")","v":"-"}]
[null,{"$f":"IFERROR(VLOOKUP(A2620,'23'!$E$30:$I$30,2,FALSE),\"-\")","v":"-"},{"$f":"IFERROR(VLOOKUP(A2620,'23'!E2640:I2640,4,FALSE),\"-\")","v":"-"}]
[null,{"$f":"IFERROR(VLOOKUP(A2620,'23'!$E$31:$I$31,2,FALSE),\"-\")","v":"-"},{"$f":"IFERROR(VLOOKUP(A2620,'23'!E2641:I2641,4,FALSE),\"-\")","v":"-"}]
[null,{"$f":"IFERROR(VLOOKUP(A2620,'24'!$E$4:$I$4,2,FALSE),\"-\")","v":"-"},{"$f":"IFERROR(VLOOKUP(A2620,'24'!E2614:I2614,4,FALSE),\"-\")","v":"-"}]
[null,{"$f":"IFERROR(VLOOKUP(A2620,'24'!$E$5:$I$5,2,FALSE),\"-\")","v":"-"},{"$f":"IFERROR(VLOOKUP(A2620,'24'!E2615:I2615,4,FALSE),\"-\")","v":"-"}]
[null,{"$f":"IFERROR(VLOOKUP(A2620,'24'!$E$6:$I$6,2,FALSE),\"-\")","v":"-"},{"$f":"IFERROR(VLOOKUP(A2620,'24'!E2616:I2616,4,FALSE),\"-\")","v":"-"}]
[null,{"$f":"IFERROR(VLOOKUP(A2620,'24'!$E$7:$I$7,2,FALSE),\"-\")","v":"-"},{"$f":"IFERROR(VLOOKUP(A2620,'24'!E2617:I2617,4,FALSE),\"-\")","v":"-"}]
[null,{"$f":"IFERROR(VLOOKUP(A2620,'24'!$E$8:$I$8,2,FALSE),\"-\")","v":"-"},{"$f":"IFERROR(VLOOKUP(A2620,'24'!E2618:I2618,4,FALSE),\"-\")","v":"-"}]
[null,{"$f":"IFERROR(VLOOKUP(A2620,'24'!$E$9:$I$9,2,FALSE),\"-\")","v":"-"},{"$f":"IFERROR(VLOOKUP(A2620,'24'!E2619:I2619,4,FALSE),\"-\")","v":"-"}]
[null,{"$f":"IFERROR(VLOOKUP(A2620,'24'!$E$10:$I$10,2,FALSE),\"-\")","v":"-"},{"$f":"IFERROR(VLOOKUP(A2620,'24'!E2620:I2620,4,FALSE),\"-\")","v":"-"}]
[null,{"$f":"IFERROR(VLOOKUP(A2620,'24'!$E$11:$I$11,2,FALSE),\"-\")","v":"-"},{"$f":"IFERROR(VLOOKUP(A2620,'24'!E2621:I2621,4,FALSE),\"-\")","v":"-"}]
[null,{"$f":"IFERROR(VLOOKUP(A2620,'24'!$E$12:$I$12,2,FALSE),\"-\")","v":"-"},{"$f":"IFERROR(VLOOKUP(A2620,'24'!E2622:I2622,4,FALSE),\"-\")","v":"-"}]
[null,{"$f":"IFERROR(VLOOKUP(A2620,'24'!$E$13:$I$13,2,FALSE),\"-\")","v":"-"},{"$f":"IFERROR(VLOOKUP(A2620,'24'!E2623:I2623,4,FALSE),\"-\")","v":"-"}]
[null,{"$f":"IFERROR(VLOOKUP(A2620,'24'!$E$14:$I$14,2,FALSE),\"-\")","v":"-"},{"$f":"IFERROR(VLOOKUP(A2620,'24'!E2624:I2624,4,FALSE),\"-\")","v":"-"}]
[null,{"$f":"IFERROR(VLOOKUP(A2620,'24'!$E$15:$I$15,2,FALSE),\"-\")","v":"-"},{"$f":"IFERROR(VLOOKUP(A2620,'24'!E2625:I2625,4,FALSE),\"-\")","v":"-"}]
[null,{"$f":"IFERROR(VLOOKUP(A2620,'24'!$E$16:$I$16,2,FALSE),\"-\")","v":"-"},{"$f":"IFERROR(VLOOKUP(A2620,'24'!E2626:I2626,4,FALSE),\"-\")","v":"-"}]
[null,{"$f":"IFERROR(VLOOKUP(A2620,'24'!$E$17:$I$17,2,FALSE),\"-\")","v":"-"},{"$f":"IFERROR(VLOOKUP(A2620,'24'!E2627:I2627,4,FALSE),\"-\")","v":"-"}]
[null,{"$f":"IFERROR(VLOOKUP(A2620,'24'!$E$18:$I$18,2,FALSE),\"-\")","v":"-"},{"$f":"IFERROR(VLOOKUP(A2620,'24'!E2628:I2628,4,FALSE),\"-\")","v":"-"}]
[null,{"$f":"IFERROR(VLOOKUP(A2620,'24'!$E$19:$I$19,2,FALSE),\"-\")","v":"-"},{"$f":"IFERROR(VLOOKUP(A2620,'24'!E2629:I2629,4,FALSE),\"-\")","v":"-"}]
[null,{"$f":"IFERROR(VLOOKUP(A2620,'24'!$E$20:$I$20,2,FALSE),\"-\")","v":"-"},{"$f":"IFERROR(VLOOKUP(A2620,'24'!E2630:I2630,4,FALSE),\"-\")","v":"-"}]
[null,{"$f":"IFERROR(VLOOKUP(A2620,'24'!$E$21:$I$21,2,FALSE),\"-\")","v":"-"},{"$f":"IFERROR(VLOOKUP(A2620,'24'!E2631:I2631,4,FALSE),\"-\")","v":"-"}]
[null,{"$f":"IFERROR(VLOOKUP(A2620,'24'!$E$22:$I$22,2,FALSE),\"-\")","v":"-"},{"$f":"IFERROR(VLOOKUP(A2620,'24'!E2632:I2632,4,FALSE),\"-\")","v":"-"}]
[null,{"$f":"IFERROR(VLOOKUP(A2620,'24'!$E$23:$I$23,2,FALSE),\"-\")","v":"-"},{"$f":"IFERROR(VLOOKUP(A2620,'24'!E2633:I2633,4,FALSE),\"-\")","v":"-"}]
[null,{"$f":"IFERROR(VLOOKUP(A2620,'24'!$E$24:$I$24,2,FALSE),\"-\")","v":"-"},{"$f":"IFERROR(VLOOKUP(A2620,'24'!E2634:I2634,4,FALSE),\"-\")","v":"-"}]
[null,{"$f":"IFERROR(VLOOKUP(A2620,'24'!$E$25:$I$25,2,FALSE),\"-\")","v":"-"},{"$f":"IFERROR(VLOOKUP(A2620,'24'!E2635:I2635,4,FALSE),\"-\")","v":"-"}]
[null,{"$f":"IFERROR(VLOOKUP(A2620,'24'!$E$26:$I$26,2,FALSE),\"-\")","v":"-"},{"$f":"IFERROR(VLOOKUP(A2620,'24'!E2636:I2636,4,FALSE),\"-\")","v":"-"}]
[null,{"$f":"IFERROR(VLOOKUP(A2620,'24'!$E$27:$I$27,2,FALSE),\"-\")","v":"-"},{"$f":"IFERROR(VLOOKUP(A2620,'24'!E2637:I2637,4,FALSE),\"-\")","v":"-"}]
[null,{"$f":"IFERROR(VLOOKUP(A2620,'24'!$E$28:$I$28,2,FALSE),\"-\")","v":"-"},{"$f":"IFERROR(VLOOKUP(A2620,'24'!E2638:I2638,4,FALSE),\"-\")","v":"-"}]
[null,{"$f":"IFERROR(VLOOKUP(A2620,'24'!$E$29:$I$29,2,FALSE),\"-\")","v":"-"},{"$f":"IFERROR(VLOOKUP(A2620,'24'!E2639:I2639,4,FALSE),\"-\")","v":"-"}]
[null,{"$f":"IFERROR(VLOOKUP(A2620,'24'!$E$30:$I$30,2,FALSE),\"-\")","v":"-"},{"$f":"IFERROR(VLOOKUP(A2620,'24'!E2640:I2640,4,FALSE),\"-\")","v":"-"}]
[null,{"$f":"IFERROR(VLOOKUP(A2620,'24'!$E$31:$I$31,2,FALSE),\"-\")","v":"-"},{"$f":"IFERROR(VLOOKUP(A2620,'24'!E2641:I2641,4,FALSE),\"-\")","v":"-"}]
[null,{"$f":"IFERROR(VLOOKUP(A2620,'25'!$E$4:$I$4,2,FALSE),\"-\")","v":"-"},{"$f":"IFERROR(VLOOKUP(A2620,'25'!E2614:I2614,4,FALSE),\"-\")","v":"-"}]
[null,{"$f":"IFERROR(VLOOKUP(A2620,'25'!$E$5:$I$5,2,FALSE),\"-\")","v":"-"},{"$f":"IFERROR(VLOOKUP(A2620,'25'!E2615:I2615,4,FALSE),\"-\")","v":"-"}]
[null,{"$f":"IFERROR(VLOOKUP(A2620,'25'!$E$6:$I$6,2,FALSE),\"-\")","v":"-"},{"$f":"IFERROR(VLOOKUP(A2620,'25'!E2616:I2616,4,FALSE),\"-\")","v":"-"}]
[null,{"$f":"IFERROR(VLOOKUP(A2620,'25'!$E$7:$I$7,2,FALSE),\"-\")","v":"-"},{"$f":"IFERROR(VLOOKUP(A2620,'25'!E2617:I2617,4,FALSE),\"-\")","v":"-"}]
[null,{"$f":"IFERROR(VLOOKUP(A2620,'25'!$E$8:$I$8,2,FALSE),\"-\")","v":"-"},{"$f":"IFERROR(VLOOKUP(A2620,'25'!E2618:I2618,4,FALSE),\"-\")","v":"-"}]
[null,{"$f":"IFERROR(VLOOKUP(A2620,'25'!$E$9:$I$9,2,FALSE),\"-\")","v":"-"},{"$f":"IFERROR(VLOOKUP(A2620,'25'!E2619:I2619,4,FALSE),\"-\")","v":"-"}]
[null,{"$f":"IFERROR(VLOOKUP(A2620,'25'!$E$10:$I$10,2,FALSE),\"-\")","v":"-"},{"$f":"IFERROR(VLOOKUP(A2620,'25'!E2620:I2620,4,FALSE),\"-\")","v":"-"}]
[null,{"$f":"IFERROR(VLOOKUP(A2620,'25'!$E$11:$I$11,2,FALSE),\"-\")","v":"-"},{"$f":"IFERROR(VLOOKUP(A2620,'25'!E2621:I2621,4,FALSE),\"-\")","v":"-"}]
[null,{"$f":"IFERROR(VLOOKUP(A2620,'25'!$E$12:$I$12,2,FALSE),\"-\")","v":"-"},{"$f":"IFERROR(VLOOKUP(A2620,'25'!E2622:I2622,4,FALSE),\"-\")","v":"-"}]
[null,{"$f":"IFERROR(VLOOKUP(A2620,'25'!$E$13:$I$13,2,FALSE),\"-\")","v":"-"},{"$f":"IFERROR(VLOOKUP(A2620,'25'!E2623:I2623,4,FALSE),\"-\")","v":"-"}]
[null,{"$f":"IFERROR(VLOOKUP(A2620,'25'!$E$14:$I$14,2,FALSE),\"-\")","v":"-"},{"$f":"IFERROR(VLOOKUP(A2620,'25'!E2624:I2624,4,FALSE),\"-\")","v":"-"}]
[null,{"$f":"IFERROR(VLOOKUP(A2620,'25'!$E$15:I2625,2,FALSE),\"-\")","v":"-"},{"$f":"IFERROR(VLOOKUP(A2620,'25'!E2625:I2625,4,FALSE),\"-\")","v":"-"}]
[null,{"$f":"IFERROR(VLOOKUP(A2620,'25'!$E$16:$I$16,2,FALSE),\"-\")","v":"-"},{"$f":"IFERROR(VLOOKUP(A2620,'25'!E2626:I2626,4,FALSE),\"-\")","v":"-"}]
[null,{"$f":"IFERROR(VLOOKUP(A2620,'25'!$E$17:$I$17,2,FALSE),\"-\")","v":"-"},{"$f":"IFERROR(VLOOKUP(A2620,'25'!E2627:I2627,4,FALSE),\"-\")","v":"-"}]
[null,{"$f":"IFERROR(VLOOKUP(A2620,'25'!$E$18:$I$18,2,FALSE),\"-\")","v":"-"},{"$f":"IFERROR(VLOOKUP(A2620,'25'!E2628:I2628,4,FALSE),\"-\")","v":"-"}]
[null,{"$f":"IFERROR(VLOOKUP(A2620,'25'!$E$19:$I$19,2,FALSE),\"-\")","v":"-"},{"$f":"IFERROR(VLOOKUP(A2620,'25'!E2629:I2629,4,FALSE),\"-\")","v":"-"}]
[null,{"$f":"IFERROR(VLOOKUP(A2620,'25'!$E$20:$I$20,2,FALSE),\"-\")","v":"-"},{"$f":"IFERROR(VLOOKUP(A2620,'25'!E2630:I2630,4,FALSE),\"-\")","v":"-"}]
[null,{"$f":"IFERROR(VLOOKUP(A2620,'25'!$E$21:$I$21,2,FALSE),\"-\")","v":"-"},{"$f":"IFERROR(VLOOKUP(A2620,'25'!E2631:I2631,4,FALSE),\"-\")","v":"-"}]
[null,{"$f":"IFERROR(VLOOKUP(A2620,'25'!$E$22:$I$22,2,FALSE),\"-\")","v":"-"},{"$f":"IFERROR(VLOOKUP(A2620,'25'!E2632:I2632,4,FALSE),\"-\")","v":"-"}]
[null,{"$f":"IFERROR(VLOOKUP(A2620,'25'!$E$23:$I$23,2,FALSE),\"-\")","v":"-"},{"$f":"IFERROR(VLOOKUP(A2620,'25'!E2633:I2633,4,FALSE),\"-\")","v":"-"}]
[null,{"$f":"IFERROR(VLOOKUP(A2620,'25'!$E$24:$I$24,2,FALSE),\"-\")","v":"-"},{"$f":"IFERROR(VLOOKUP(A2620,'25'!E2634:I2634,4,FALSE),\"-\")","v":"-"}]
[null,{"$f":"IFERROR(VLOOKUP(A2620,'25'!$E$25:$I$25,2,FALSE),\"-\")","v":"-"},{"$f":"IFERROR(VLOOKUP(A2620,'25'!E2635:I2635,4,FALSE),\"-\")","v":"-"}]
[null,{"$f":"IFERROR(VLOOKUP(A2620,'25'!$E$26:$I$26,2,FALSE),\"-\")","v":"-"},{"$f":"IFERROR(VLOOKUP(A2620,'25'!E2636:I2636,4,FALSE),\"-\")","v":"-"}]
[null,{"$f":"IFERROR(VLOOKUP(A2620,'25'!$E$27:$I$27,2,FALSE),\"-\")","v":"-"},{"$f":"IFERROR(VLOOKUP(A2620,'25'!E2637:I2637,4,FALSE),\"-\")","v":"-"}]
[null,{"$f":"IFERROR(VLOOKUP(A2620,'25'!$E$28:$I$28,2,FALSE),\"-\")","v":"-"},{"$f":"IFERROR(VLOOKUP(A2620,'25'!E2638:I2638,4,FALSE),\"-\")","v":"-"}]
[null,{"$f":"IFERROR(VLOOKUP(A2620,'25'!$E$29:$I$29,2,FALSE),\"-\")","v":"-"},{"$f":"IFERROR(VLOOKUP(A2620,'25'!E2639:I2639,4,FALSE),\"-\")","v":"-"}]
[null,{"$f":"IFERROR(VLOOKUP(A2620,'25'!$E$30:$I$30,2,FALSE),\"-\")","v":"-"},{"$f":"IFERROR(VLOOKUP(A2620,'25'!E2640:I2640,4,FALSE),\"-\")","v":"-"}]
[null,{"$f":"IFERROR(VLOOKUP(A2620,'25'!$E$31:$I$31,2,FALSE),\"-\")","v":"-"},{"$f":"IFERROR(VLOOKUP(A2620,'25'!E2641:I2641,4,FALSE),\"-\")","v":"-"}]
[null,{"$f":"IFERROR(VLOOKUP(A2620,'26'!$E$4:$I$4,2,FALSE),\"-\")","v":"-"},{"$f":"IFERROR(VLOOKUP(A2620,'26'!E2614:I2614,4,FALSE),\"-\")","v":"-"}]
[null,{"$f":"IFERROR(VLOOKUP(A2620,'26'!$E$5:$I$5,2,FALSE),\"-\")","v":"-"},{"$f":"IFERROR(VLOOKUP(A2620,'26'!E2615:I2615,4,FALSE),\"-\")","v":"-"}]
[null,{"$f":"IFERROR(VLOOKUP(A2620,'26'!$E$6:$I$6,2,FALSE),\"-\")","v":"-"},{"$f":"IFERROR(VLOOKUP(A2620,'26'!E2616:I2616,4,FALSE),\"-\")","v":"-"}]
[null,{"$f":"IFERROR(VLOOKUP(A2620,'26'!$E$7:$I$7,2,FALSE),\"-\")","v":"-"},{"$f":"IFERROR(VLOOKUP(A2620,'26'!E2617:I2617,4,FALSE),\"-\")","v":"-"}]
[null,{"$f":"IFERROR(VLOOKUP(A2620,'26'!$E$8:$I$8,2,FALSE),\"-\")","v":"-"},{"$f":"IFERROR(VLOOKUP(A2620,'26'!E2618:I2618,4,FALSE),\"-\")","v":"-"}]
[null,{"$f":"IFERROR(VLOOKUP(A2620,'26'!$E$9:$I$9,2,FALSE),\"-\")","v":"-"},{"$f":"IFERROR(VLOOKUP(A2620,'26'!E2619:I2619,4,FALSE),\"-\")","v":"-"}]
[null,{"$f":"IFERROR(VLOOKUP(A2620,'26'!$E$10:$I$10,2,FALSE),\"-\")","v":"-"},{"$f":"IFERROR(VLOOKUP(A2620,'26'!E2620:I2620,4,FALSE),\"-\")","v":"-"}]
[null,{"$f":"IFERROR(VLOOKUP(A2620,'26'!$E$11:$I$11,2,FALSE),\"-\")","v":"-"},{"$f":"IFERROR(VLOOKUP(A2620,'26'!E2621:I2621,4,FALSE),\"-\")","v":"-"}]
[null,{"$f":"IFERROR(VLOOKUP(A2620,'26'!$E$12:$I$12,2,FALSE),\"-\")","v":"-"},{"$f":"IFERROR(VLOOKUP(A2620,'26'!E2622:I2622,4,FALSE),\"-\")","v":"-"}]
[null,{"$f":"IFERROR(VLOOKUP(A2620,'26'!$E$13:$I$13,2,FALSE),\"-\")","v":"-"},{"$f":"IFERROR(VLOOKUP(A2620,'26'!E2623:I2623,4,FALSE),\"-\")","v":"-"}]
[null,{"$f":"IFERROR(VLOOKUP(A2620,'26'!$E$14:$I$14,2,FALSE),\"-\")","v":"-"},{"$f":"IFERROR(VLOOKUP(A2620,'26'!E2624:I2624,4,FALSE),\"-\")","v":"-"}]
[null,{"$f":"IFERROR(VLOOKUP(A2620,'26'!$E$15:$I$15,2,FALSE),\"-\")","v":"-"},{"$f":"IFERROR(VLOOKUP(A2620,'26'!E2625:I2625,4,FALSE),\"-\")","v":"-"}]
[null,{"$f":"IFERROR(VLOOKUP(A2620,'26'!$E$16:$I$16,2,FALSE),\"-\")","v":"-"},{"$f":"IFERROR(VLOOKUP(A2620,'26'!E2626:I2626,4,FALSE),\"-\")","v":"-"}]
[null,{"$f":"IFERROR(VLOOKUP(A2620,'26'!$E$17:$I$17,2,FALSE),\"-\")","v":"-"},{"$f":"IFERROR(VLOOKUP(A2620,'26'!E2627:I2627,4,FALSE),\"-\")","v":"-"}]
[null,{"$f":"IFERROR(VLOOKUP(A2620,'26'!$E$18:$I$18,2,FALSE),\"-\")","v":"-"},{"$f":"IFERROR(VLOOKUP(A2620,'26'!E2628:I2628,4,FALSE),\"-\")","v":"-"}]
[null,{"$f":"IFERROR(VLOOKUP(A2620,'26'!$E$19:$I$19,2,FALSE),\"-\")","v":"-"},{"$f":"IFERROR(VLOOKUP(A2620,'26'!E2629:I2629,4,FALSE),\"-\")","v":"-"}]
[null,{"$f":"IFERROR(VLOOKUP(A2620,'26'!$E$20:$I$20,2,FALSE),\"-\")","v":"-"},{"$f":"IFERROR(VLOOKUP(A2620,'26'!E2630:I2630,4,FALSE),\"-\")","v":"-"}]
[null,{"$f":"IFERROR(VLOOKUP(A2620,'26'!$E$21:$I$21,2,FALSE),\"-\")","v":"-"},{"$f":"IFERROR(VLOOKUP(A2620,'26'!E2631:I2631,4,FALSE),\"-\")","v":"-"}]
[null,{"$f":"IFERROR(VLOOKUP(A2620,'26'!$E$22:$I$22,2,FALSE),\"-\")","v":"-"},{"$f":"IFERROR(VLOOKUP(A2620,'26'!E2632:I2632,4,FALSE),\"-\")","v":"-"}]
[null,{"$f":"IFERROR(VLOOKUP(A2620,'26'!$E$23:$I$23,2,FALSE),\"-\")","v":"-"},{"$f":"IFERROR(VLOOKUP(A2620,'26'!E2633:I2633,4,FALSE),\"-\")","v":"-"}]
[null,{"$f":"IFERROR(VLOOKUP(A2620,'26'!$E$24:$I$24,2,FALSE),\"-\")","v":"-"},{"$f":"IFERROR(VLOOKUP(A2620,'26'!E2634:I2634,4,FALSE),\"-\")","v":"-"}]
[null,{"$f":"IFERROR(VLOOKUP(A2620,'26'!$E$25:$I$25,2,FALSE),\"-\")","v":"-"},{"$f":"IFERROR(VLOOKUP(A2620,'26'!E2635:I2635,4,FALSE),\"-\")","v":"-"}]
[null,{"$f":"IFERROR(VLOOKUP(A2620,'26'!$E$26:$I$26,2,FALSE),\"-\")","v":"-"},{"$f":"IFERROR(VLOOKUP(A2620,'26'!E2636:I2636,4,FALSE),\"-\")","v":"-"}]
[null,{"$f":"IFERROR(VLOOKUP(A2620,'26'!$E$27:$I$27,2,FALSE),\"-\")","v":"-"},{"$f":"IFERROR(VLOOKUP(A2620,'26'!E2637:I2637,4,FALSE),\"-\")","v":"-"}]
[null,{"$f":"IFERROR(VLOOKUP(A2620,'26'!$E$28:$I$28,2,FALSE),\"-\")","v":"-"},{"$f":"IFERROR(VLOOKUP(A2620,'26'!E2638:I2638,4,FALSE),\"-\")","v":"-"}]
[null,{"$f":"IFERROR(VLOOKUP(A2620,'26'!E$29:$I2639,2,FALSE),\"-\")","v":"-"},{"$f":"IFERROR(VLOOKUP(A2620,'26'!E2639:I2639,4,FALSE),\"-\")","v":"-"}]
[null,{"$f":"IFERROR(VLOOKUP(A2620,'26'!$E$30:$I$30,2,FALSE),\"-\")","v":"-"},{"$f":"IFERROR(VLOOKUP(A2620,'26'!E2640:I2640,4,FALSE),\"-\")","v":"-"}]
[null,{"$f":"IFERROR(VLOOKUP(A2620,'26'!$E$31:$I$31,2,FALSE),\"-\")","v":"-"},{"$f":"IFERROR(VLOOKUP(A2620,'26'!E2641:I2641,4,FALSE),\"-\")","v":"-"}]
[null,{"$f":"IFERROR(VLOOKUP(A2620,'27'!$E$4:$I$4,2,FALSE),\"-\")","v":"-"},{"$f":"IFERROR(VLOOKUP(A2620,'27'!E2614:I2614,4,FALSE),\"-\")","v":"-"}]
[null,{"$f":"IFERROR(VLOOKUP(A2620,'27'!$E$5:$I$5,2,FALSE),\"-\")","v":"-"},{"$f":"IFERROR(VLOOKUP(A2620,'27'!E2615:I2615,4,FALSE),\"-\")","v":"-"}]
[null,{"$f":"IFERROR(VLOOKUP(A2620,'27'!$E$6:$I$6,2,FALSE),\"-\")","v":"-"},{"$f":"IFERROR(VLOOKUP(A2620,'27'!E2616:I2616,4,FALSE),\"-\")","v":"-"}]
[null,{"$f":"IFERROR(VLOOKUP(A2620,'27'!$E$7:$I$7,2,FALSE),\"-\")","v":"-"},{"$f":"IFERROR(VLOOKUP(A2620,'27'!E2617:I2617,4,FALSE),\"-\")","v":"-"}]
[null,{"$f":"IFERROR(VLOOKUP(A2620,'27'!$E$8:$I$8,2,FALSE),\"-\")","v":"-"},{"$f":"IFERROR(VLOOKUP(A2620,'27'!E2618:I2618,4,FALSE),\"-\")","v":"-"}]
[null,{"$f":"IFERROR(VLOOKUP(A2620,'27'!$E$9:$I$9,2,FALSE),\"-\")","v":"-"},{"$f":"IFERROR(VLOOKUP(A2620,'27'!E2619:I2619,4,FALSE),\"-\")","v":"-"}]
[null,{"$f":"IFERROR(VLOOKUP(A2620,'27'!$E$10:$I$10,2,FALSE),\"-\")","v":"-"},{"$f":"IFERROR(VLOOKUP(A2620,'27'!E2620:I2620,4,FALSE),\"-\")","v":"-"}]
[null,{"$f":"IFERROR(VLOOKUP(A2620,'27'!$E$11:$I$11,2,FALSE),\"-\")","v":"-"},{"$f":"IFERROR(VLOOKUP(A2620,'27'!E2621:I2621,4,FALSE),\"-\")","v":"-"}]
[null,{"$f":"IFERROR(VLOOKUP(A2620,'27'!$E$12:$I$12,2,FALSE),\"-\")","v":"-"},{"$f":"IFERROR(VLOOKUP(A2620,'27'!E2622:I2622,4,FALSE),\"-\")","v":"-"}]
[null,{"$f":"IFERROR(VLOOKUP(A2620,'27'!$E$13:$I$13,2,FALSE),\"-\")","v":"-"},{"$f":"IFERROR(VLOOKUP(A2620,'27'!E2623:I2623,4,FALSE),\"-\")","v":"-"}]
[null,{"$f":"IFERROR(VLOOKUP(A2620,'27'!$E$14:$I$14,2,FALSE),\"-\")","v":"-"},{"$f":"IFERROR(VLOOKUP(A2620,'27'!E2624:I2624,4,FALSE),\"-\")","v":"-"}]
[null,{"$f":"IFERROR(VLOOKUP(A2620,'27'!$E$15:$I$15,2,FALSE),\"-\")","v":"-"},{"$f":"IFERROR(VLOOKUP(A2620,'27'!E2625:I2625,4,FALSE),\"-\")","v":"-"}]
[null,{"$f":"IFERROR(VLOOKUP(A2620,'27'!$E$16:$I$16,2,FALSE),\"-\")","v":"-"},{"$f":"IFERROR(VLOOKUP(A2620,'27'!E2626:I2626,4,FALSE),\"-\")","v":"-"}]
[null,{"$f":"IFERROR(VLOOKUP(A2620,'27'!$E$17:$I$17,2,FALSE),\"-\")","v":"-"},{"$f":"IFERROR(VLOOKUP(A2620,'27'!E2627:I2627,4,FALSE),\"-\")","v":"-"}]
[null,{"$f":"IFERROR(VLOOKUP(A2620,'27'!$E$18:$I$18,2,FALSE),\"-\")","v":"-"},{"$f":"IFERROR(VLOOKUP(A2620,'27'!E2628:I2628,4,FALSE),\"-\")","v":"-"}]
[null,{"$f":"IFERROR(VLOOKUP(A2620,'27'!$E$19:$I$19,2,FALSE),\"-\")","v":"-"},{"$f":"IFERROR(VLOOKUP(A2620,'27'!E2629:I2629,4,FALSE),\"-\")","v":"-"}]
[null,{"$f":"IFERROR(VLOOKUP(A2620,'27'!$E$20:$I$20,2,FALSE),\"-\")","v":"-"},{"$f":"IFERROR(VLOOKUP(A2620,'27'!E2630:I2630,4,FALSE),\"-\")","v":"-"}]
[null,{"$f":"IFERROR(VLOOKUP(A2620,'27'!$E$21:$I$21,2,FALSE),\"-\")","v":"-"},{"$f":"IFERROR(VLOOKUP(A2620,'27'!E2631:I2631,4,FALSE),\"-\")","v":"-"}]
[null,{"$f":"IFERROR(VLOOKUP(A2620,'27'!$E$22:$I$22,2,FALSE),\"-\")","v":"-"},{"$f":"IFERROR(VLOOKUP(A2620,'27'!E2632:I2632,4,FALSE),\"-\")","v":"-"}]
[null,{"$f":"IFERROR(VLOOKUP(A2620,'27'!$E$23:$I$23,2,FALSE),\"-\")","v":"-"},{"$f":"IFERROR(VLOOKUP(A2620,'27'!E2633:I2633,4,FALSE),\"-\")","v":"-"}]
[null,{"$f":"IFERROR(VLOOKUP(A2620,'27'!$E$24:$I$24,2,FALSE),\"-\")","v":"-"},{"$f":"IFERROR(VLOOKUP(A2620,'27'!E2634:I2634,4,FALSE),\"-\")","v":"-"}]
[null,{"$f":"IFERROR(VLOOKUP(A2620,'27'!$E$25:$I$25,2,FALSE),\"-\")","v":"-"},{"$f":"IFERROR(VLOOKUP(A2620,'27'!E2635:I2635,4,FALSE),\"-\")","v":"-"}]
[null,{"$f":"IFERROR(VLOOKUP(A2620,'27'!$E$26:$I$26,2,FALSE),\"-\")","v":"-"},{"$f":"IFERROR(VLOOKUP(A2620,'27'!E2636:I2636,4,FALSE),\"-\")","v":"-"}]
[null,{"$f":"IFERROR(VLOOKUP(A2620,'27'!$E$27:$I$27,2,FALSE),\"-\")","v":"-"},{"$f":"IFERROR(VLOOKUP(A2620,'27'!E2637:I2637,4,FALSE),\"-\")","v":"-"}]
[null,{"$f":"IFERROR(VLOOKUP(A2620,'27'!$E$28:$I$28,2,FALSE),\"-\")","v":"-"},{"$f":"IFERROR(VLOOKUP(A2620,'27'!E2638:I2638,4,FALSE),\"-\")","v":"-"}]
[null,{"$f":"IFERROR(VLOOKUP(A2620,'27'!$E$29:$I$29,2,FALSE),\"-\")","v":"-"},{"$f":"IFERROR(VLOOKUP(A2620,'27'!E2639:I2639,4,FALSE),\"-\")","v":"-"}]
[null,{"$f":"IFERROR(VLOOKUP(A2620,'27'!$E$30:$I$30,2,FALSE),\"-\")","v":"-"},{"$f":"IFERROR(VLOOKUP(A2620,'27'!E2640:I2640,4,FALSE),\"-\")","v":"-"}]
[null,{"$f":"IFERROR(VLOOKUP(A2620,'27'!$E$31:$I$31,2,FALSE),\"-\")","v":"-"},{"$f":"IFERROR(VLOOKUP(A2620,'27'!E2641:I2641,4,FALSE),\"-\")","v":"-"}]
[null,{"$f":"IFERROR(VLOOKUP(A2620,'28'!$E$4:$I$4,2,FALSE),\"-\")","v":"-"},{"$f":"IFERROR(VLOOKUP(A2620,'28'!E2614:I2614,4,FALSE),\"-\")","v":"-"}]
[null,{"$f":"IFERROR(VLOOKUP(A2620,'28'!$E$5:$I$5,2,FALSE),\"-\")","v":"-"},{"$f":"IFERROR(VLOOKUP(A2620,'28'!E2615:I2615,4,FALSE),\"-\")","v":"-"}]
[null,{"$f":"IFERROR(VLOOKUP(A2620,'28'!$E$6:$I$6,2,FALSE),\"-\")","v":"-"},{"$f":"IFERROR(VLOOKUP(A2620,'28'!E2616:I2616,4,FALSE),\"-\")","v":"-"}]
[null,{"$f":"IFERROR(VLOOKUP(A2620,'28'!$E$7:$I$7,2,FALSE),\"-\")","v":"-"},{"$f":"IFERROR(VLOOKUP(A2620,'28'!E2617:I2617,4,FALSE),\"-\")","v":"-"}]
[null,{"$f":"IFERROR(VLOOKUP(A2620,'28'!$E$8:$I$8,2,FALSE),\"-\")","v":"-"},{"$f":"IFERROR(VLOOKUP(A2620,'28'!E2618:I2618,4,FALSE),\"-\")","v":"-"}]
[null,{"$f":"IFERROR(VLOOKUP(A2620,'28'!$E$9:$I$9,2,FALSE),\"-\")","v":"-"},{"$f":"IFERROR(VLOOKUP(A2620,'28'!E2619:I2619,4,FALSE),\"-\")","v":"-"}]
[null,{"$f":"IFERROR(VLOOKUP(A2620,'28'!$E$10:$I$10,2,FALSE),\"-\")","v":"-"},{"$f":"IFERROR(VLOOKUP(A2620,'28'!E2620:I2620,4,FALSE),\"-\")","v":"-"}]
[null,{"$f":"IFERROR(VLOOKUP(A2620,'28'!$E$11:$I$11,2,FALSE),\"-\")","v":"-"},{"$f":"IFERROR(VLOOKUP(A2620,'28'!E2621:I2621,4,FALSE),\"-\")","v":"-"}]
[null,{"$f":"IFERROR(VLOOKUP(A2620,'28'!$E$12:$I$12,2,FALSE),\"-\")","v":"-"},{"$f":"IFERROR(VLOOKUP(A2620,'28'!E2622:I2622,4,FALSE),\"-\")","v":"-"}]
[null,{"$f":"IFERROR(VLOOKUP(A2620,'28'!$E$13:$I$13,2,FALSE),\"-\")","v":"-"},{"$f":"IFERROR(VLOOKUP(A2620,'28'!E2623:I2623,4,FALSE),\"-\")","v":"-"}]
[null,{"$f":"IFERROR(VLOOKUP(A2620,'28'!$E$14:$I$14,2,FALSE),\"-\")","v":"-"},{"$f":"IFERROR(VLOOKUP(A2620,'28'!E2624:I2624,4,FALSE),\"-\")","v":"-"}]
[null,{"$f":"IFERROR(VLOOKUP(A2620,'28'!$E$15:$I$15,2,FALSE),\"-\")","v":"-"},{"$f":"IFERROR(VLOOKUP(A2620,'28'!E2625:I2625,4,FALSE),\"-\")","v":"-"}]
[null,{"$f":"IFERROR(VLOOKUP(A2620,'28'!$E$16:$I$16,2,FALSE),\"-\")","v":"-"},{"$f":"IFERROR(VLOOKUP(A2620,'28'!E2626:I2626,4,FALSE),\"-\")","v":"-"}]
[null,{"$f":"IFERROR(VLOOKUP(A2620,'28'!$E$17:$I$17,2,FALSE),\"-\")","v":"-"},{"$f":"IFERROR(VLOOKUP(A2620,'28'!E2627:I2627,4,FALSE),\"-\")","v":"-"}]
[null,{"$f":"IFERROR(VLOOKUP(A2620,'28'!$E$18:$I$18,2,FALSE),\"-\")","v":"-"},{"$f":"IFERROR(VLOOKUP(A2620,'28'!E2628:I2628,4,FALSE),\"-\")","v":"-"}]
[null,{"$f":"IFERROR(VLOOKUP(A2620,'28'!$E$19:$I$19,2,FALSE),\"-\")","v":"-"},{"$f":"IFERROR(VLOOKUP(A2620,'28'!E2629:I2629,4,FALSE),\"-\")","v":"-"}]
[null,{"$f":"IFERROR(VLOOKUP(A2620,'28'!$E$20:$I$20,2,FALSE),\"-\")","v":"-"},{"$f":"IFERROR(VLOOKUP(A2620,'28'!E2630:I2630,4,FALSE),\"-\")","v":"-"}]
[null,{"$f":"IFERROR(VLOOKUP(A2620,'28'!$E$21:$I$21,2,FALSE),\"-\")","v":"-"},{"$f":"IFERROR(VLOOKUP(A2620,'28'!E2631:I2631,4,FALSE),\"-\")","v":"-"}]
[null,{"$f":"IFERROR(VLOOKUP(A2620,'28'!$E$22:$I$22,2,FALSE),\"-\")","v":"-"},{"$f":"IFERROR(VLOOKUP(A2620,'28'!E2632:I2632,4,FALSE),\"-\")","v":"-"}]
[null,{"$f":"IFERROR(VLOOKUP(A2620,'28'!$E$23:$I$23,2,FALSE),\"-\")","v":"-"},{"$f":"IFERROR(VLOOKUP(A2620,'28'!E2633:I2633,4,FALSE),\"-\")","v":"-"}]
[null,{"$f":"IFERROR(VLOOKUP(A2620,'28'!$E$24:$I$24,2,FALSE),\"-\")","v":"-"},{"$f":"IFERROR(VLOOKUP(A2620,'28'!E2634:I2634,4,FALSE),\"-\")","v":"-"}]
[null,{"$f":"IFERROR(VLOOKUP(A2620,'28'!$E$25:$I$25,2,FALSE),\"-\")","v":"-"},{"$f":"IFERROR(VLOOKUP(A2620,'28'!E2635:I2635,4,FALSE),\"-\")","v":"-"}]
[null,{"$f":"IFERROR(VLOOKUP(A2620,'28'!$E$26:$I$26,2,FALSE),\"-\")","v":"-"},{"$f":"IFERROR(VLOOKUP(A2620,'28'!E2636:I2636,4,FALSE),\"-\")","v":"-"}]
[null,{"$f":"IFERROR(VLOOKUP(A2620,'28'!$E$27:$I$27,2,FALSE),\"-\")","v":"-"},{"$f":"IFERROR(VLOOKUP(A2620,'28'!E2637:I2637,4,FALSE),\"-\")","v":"-"}]
[null,{"$f":"IFERROR(VLOOKUP(A2620,'28'!$E$28:$I$28,2,FALSE),\"-\")","v":"-"},{"$f":"IFERROR(VLOOKUP(A2620,'28'!E2638:I2638,4,FALSE),\"-\")","v":"-"}]
[null,{"$f":"IFERROR(VLOOKUP(A2620,'28'!$E$29:$I$29,2,FALSE),\"-\")","v":"-"},{"$f":"IFERROR(VLOOKUP(A2620,'28'!E2639:I2639,4,FALSE),\"-\")","v":"-"}]
[null,{"$f":"IFERROR(VLOOKUP(A2620,'28'!$E$30:$I$30,2,FALSE),\"-\")","v":"-"},{"$f":"IFERROR(VLOOKUP(A2620,'28'!E2640:I2640,4,FALSE),\"-\")","v":"-"}]
[null,{"$f":"IFERROR(VLOOKUP(A2620,'28'!$E$31:$I$31,2,FALSE),\"-\")","v":"-"},{"$f":"IFERROR(VLOOKUP(A2620,'28'!E2641:I2641,4,FALSE),\"-\")","v":"-"}]
[null,{"$f":"IFERROR(VLOOKUP(A2620,'29'!$E$4:$I$4,2,FALSE),\"-\")","v":"-"},{"$f":"IFERROR(VLOOKUP(A2620,'29'!E2614:I2614,4,FALSE),\"-\")","v":"-"}]
[null,{"$f":"IFERROR(VLOOKUP(A2620,'29'!$E$5:$I$5,2,FALSE),\"-\")","v":"-"},{"$f":"IFERROR(VLOOKUP(A2620,'29'!E2615:I2615,4,FALSE),\"-\")","v":"-"}]
[null,{"$f":"IFERROR(VLOOKUP(A2620,'29'!$E$6:$I$6,2,FALSE),\"-\")","v":"-"},{"$f":"IFERROR(VLOOKUP(A2620,'29'!E2616:I2616,4,FALSE),\"-\")","v":"-"}]
[null,{"$f":"IFERROR(VLOOKUP(A2620,'29'!$E$7:$I$7,2,FALSE),\"-\")","v":"-"},{"$f":"IFERROR(VLOOKUP(A2620,'29'!E2617:I2617,4,FALSE),\"-\")","v":"-"}]
[null,{"$f":"IFERROR(VLOOKUP(A2620,'29'!$E$8:$I$8,2,FALSE),\"-\")","v":"-"},{"$f":"IFERROR(VLOOKUP(A2620,'29'!E2618:I2618,4,FALSE),\"-\")","v":"-"}]
[null,{"$f":"IFERROR(VLOOKUP(A2620,'29'!$E$9:$I$9,2,FALSE),\"-\")","v":"-"},{"$f":"IFERROR(VLOOKUP(A2620,'29'!E2619:I2619,4,FALSE),\"-\")","v":"-"}]
[null,{"$f":"IFERROR(VLOOKUP(A2620,'29'!$E$10:$I$10,2,FALSE),\"-\")","v":"-"},{"$f":"IFERROR(VLOOKUP(A2620,'29'!E2620:I2620,4,FALSE),\"-\")","v":"-"}]
[null,{"$f":"IFERROR(VLOOKUP(A2620,'29'!$E$11:$I$11,2,FALSE),\"-\")","v":"-"},{"$f":"IFERROR(VLOOKUP(A2620,'29'!E2621:I2621,4,FALSE),\"-\")","v":"-"}]
[null,{"$f":"IFERROR(VLOOKUP(A2620,'29'!$E$12:$I$12,2,FALSE),\"-\")","v":"-"},{"$f":"IFERROR(VLOOKUP(A2620,'29'!E2622:I2622,4,FALSE),\"-\")","v":"-"}]
[null,{"$f":"IFERROR(VLOOKUP(A2620,'29'!$E$13:$I$13,2,FALSE),\"-\")","v":"-"},{"$f":"IFERROR(VLOOKUP(A2620,'29'!E2623:I2623,4,FALSE),\"-\")","v":"-"}]
[null,{"$f":"IFERROR(VLOOKUP(A2620,'29'!$E$14:$I$14,2,FALSE),\"-\")","v":"-"},{"$f":"IFERROR(VLOOKUP(A2620,'29'!E2624:I2624,4,FALSE),\"-\")","v":"-"}]
[null,{"$f":"IFERROR(VLOOKUP(A2620,'29'!$E$15:$I$15,2,FALSE),\"-\")","v":"-"},{"$f":"IFERROR(VLOOKUP(A2620,'29'!E2625:I2625,4,FALSE),\"-\")","v":"-"}]
[null,{"$f":"IFERROR(VLOOKUP(A2620,'29'!$E$16:$I$16,2,FALSE),\"-\")","v":"-"},{"$f":"IFERROR(VLOOKUP(A2620,'29'!E2626:I2626,4,FALSE),\"-\")","v":"-"}]
[null,{"$f":"IFERROR(VLOOKUP(A2620,'29'!$E$17:$I$17,2,FALSE),\"-\")","v":"-"},{"$f":"IFERROR(VLOOKUP(A2620,'29'!E2627:I2627,4,FALSE),\"-\")","v":"-"}]
[null,{"$f":"IFERROR(VLOOKUP(A2620,'29'!$E$18:$I$18,2,FALSE),\"-\")","v":"-"},{"$f":"IFERROR(VLOOKUP(A2620,'29'!E2628:I2628,4,FALSE),\"-\")","v":"-"}]
[null,{"$f":"IFERROR(VLOOKUP(A2620,'29'!$E$19:$I$19,2,FALSE),\"-\")","v":"-"},{"$f":"IFERROR(VLOOKUP(A2620,'29'!E2629:I2629,4,FALSE),\"-\")","v":"-"}]
[null,{"$f":"IFERROR(VLOOKUP(A2620,'29'!$E$20:$I$20,2,FALSE),\"-\")","v":"-"},{"$f":"IFERROR(VLOOKUP(A2620,'29'!E2630:I2630,4,FALSE),\"-\")","v":"-"}]
[null,{"$f":"IFERROR(VLOOKUP(A2620,'29'!$E$21:$I$21,2,FALSE),\"-\")","v":"-"},{"$f":"IFERROR(VLOOKUP(A2620,'29'!E2631:I2631,4,FALSE),\"-\")","v":"-"}]
[null,{"$f":"IFERROR(VLOOKUP(A2620,'29'!$E$22:$I$22,2,FALSE),\"-\")","v":"-"},{"$f":"IFERROR(VLOOKUP(A2620,'29'!E2632:I2632,4,FALSE),\"-\")","v":"-"}]
[null,{"$f":"IFERROR(VLOOKUP(A2620,'29'!$E$23:$I$23,2,FALSE),\"-\")","v":"-"},{"$f":"IFERROR(VLOOKUP(A2620,'29'!E2633:I2633,4,FALSE),\"-\")","v":"-"}]
[null,{"$f":"IFERROR(VLOOKUP(A2620,'29'!$E$24:$I$24,2,FALSE),\"-\")","v":"-"},{"$f":"IFERROR(VLOOKUP(A2620,'29'!E2634:I2634,4,FALSE),\"-\")","v":"-"}]
[null,{"$f":"IFERROR(VLOOKUP(A2620,'29'!$E$25:$I$25,2,FALSE),\"-\")","v":"-"},{"$f":"IFERROR(VLOOKUP(A2620,'29'!E2635:I2635,4,FALSE),\"-\")","v":"-"}]
[null,{"$f":"IFERROR(VLOOKUP(A2620,'29'!$E$26:$I$26,2,FALSE),\"-\")","v":"-"},{"$f":"IFERROR(VLOOKUP(A2620,'29'!E2636:I2636,4,FALSE),\"-\")","v":"-"}]
[null,{"$f":"IFERROR(VLOOKUP(A2620,'29'!$E$27:$I$27,2,FALSE),\"-\")","v":"-"},{"$f":"IFERROR(VLOOKUP(A2620,'29'!E2637:I2637,4,FALSE),\"-\")","v":"-"}]
[null,{"$f":"IFERROR(VLOOKUP(A2620,'29'!$E$28:$I$28,2,FALSE),\"-\")","v":"-"},{"$f":"IFERROR(VLOOKUP(A2620,'29'!E2638:I2638,4,FALSE),\"-\")","v":"-"}]
[null,{"$f":"IFERROR(VLOOKUP(A2620,'29'!$E$29:$I$29,2,FALSE),\"-\")","v":"-"},{"$f":"IFERROR(VLOOKUP(A2620,'29'!E2639:I2639,4,FALSE),\"-\")","v":"-"}]
[null,{"$f":"IFERROR(VLOOKUP(A2620,'29'!$E$30:$I$30,2,FALSE),\"-\")","v":"-"},{"$f":"IFERROR(VLOOKUP(A2620,'29'!E2640:I2640,4,FALSE),\"-\")","v":"-"}]
[null,{"$f":"IFERROR(VLOOKUP(A2620,'29'!$E$31:$I$31,2,FALSE),\"-\")","v":"-"},{"$f":"IFERROR(VLOOKUP(A2620,'29'!E2641:I2641,4,FALSE),\"-\")","v":"-"}]
[null,{"$f":"IFERROR(VLOOKUP(A2620,'30'!$E$4:$I$4,2,FALSE),\"-\")","v":"-"},{"$f":"IFERROR(VLOOKUP(A2620,'30'!E2614:I2614,4,FALSE),\"-\")","v":"-"}]
[null,{"$f":"IFERROR(VLOOKUP(A2620,'30'!$E$5:$I$5,2,FALSE),\"-\")","v":"-"},{"$f":"IFERROR(VLOOKUP(A2620,'30'!E2615:I2615,4,FALSE),\"-\")","v":"-"}]
[null,{"$f":"IFERROR(VLOOKUP(A2620,'30'!$E$6:$I$6,2,FALSE),\"-\")","v":"-"},{"$f":"IFERROR(VLOOKUP(A2620,'30'!E2616:I2616,4,FALSE),\"-\")","v":"-"}]
[null,{"$f":"IFERROR(VLOOKUP(A2620,'30'!$E$7:$I$7,2,FALSE),\"-\")","v":"-"},{"$f":"IFERROR(VLOOKUP(A2620,'30'!E2617:I2617,4,FALSE),\"-\")","v":"-"}]
[null,{"$f":"IFERROR(VLOOKUP(A2620,'30'!$E$8:$I$8,2,FALSE),\"-\")","v":"-"},{"$f":"IFERROR(VLOOKUP(A2620,'30'!E2618:I2618,4,FALSE),\"-\")","v":"-"}]
[null,{"$f":"IFERROR(VLOOKUP(A2620,'30'!$E$9:$I$9,2,FALSE),\"-\")","v":"-"},{"$f":"IFERROR(VLOOKUP(A2620,'30'!E2619:I2619,4,FALSE),\"-\")","v":"-"}]
[null,{"$f":"IFERROR(VLOOKUP(A2620,'30'!$E$10:$I$10,2,FALSE),\"-\")","v":"-"},{"$f":"IFERROR(VLOOKUP(A2620,'30'!E2620:I2620,4,FALSE),\"-\")","v":"-"}]
[null,{"$f":"IFERROR(VLOOKUP(A2620,'30'!$E$11:$I$11,2,FALSE),\"-\")","v":"-"},{"$f":"IFERROR(VLOOKUP(A2620,'30'!E2621:I2621,4,FALSE),\"-\")","v":"-"}]
[null,{"$f":"IFERROR(VLOOKUP(A2620,'30'!$E$12:$I$12,2,FALSE),\"-\")","v":"-"},{"$f":"IFERROR(VLOOKUP(A2620,'30'!E2622:I2622,4,FALSE),\"-\")","v":"-"}]
[null,{"$f":"IFERROR(VLOOKUP(A2620,'30'!$E$13:$I$13,2,FALSE),\"-\")","v":"-"},{"$f":"IFERROR(VLOOKUP(A2620,'30'!E2623:I2623,4,FALSE),\"-\")","v":"-"}]
[null,{"$f":"IFERROR(VLOOKUP(A2620,'30'!$E$14:$I$14,2,FALSE),\"-\")","v":"-"},{"$f":"IFERROR(VLOOKUP(A2620,'30'!E2624:I2624,4,FALSE),\"-\")","v":"-"}]
[null,{"$f":"IFERROR(VLOOKUP(A2620,'30'!$E$15:$I$15,2,FALSE),\"-\")","v":"-"},{"$f":"IFERROR(VLOOKUP(A2620,'30'!E2625:I2625,4,FALSE),\"-\")","v":"-"}]
[null,{"$f":"IFERROR(VLOOKUP(A2620,'30'!$E$16:$I$16,2,FALSE),\"-\")","v":"-"},{"$f":"IFERROR(VLOOKUP(A2620,'30'!E2626:I2626,4,FALSE),\"-\")","v":"-"}]
[null,{"$f":"IFERROR(VLOOKUP(A2620,'30'!$E$17:$I$17,2,FALSE),\"-\")","v":"-"},{"$f":"IFERROR(VLOOKUP(A2620,'30'!E2627:I2627,4,FALSE),\"-\")","v":"-"}]
[null,{"$f":"IFERROR(VLOOKUP(A2620,'30'!$E$18:$I$18,2,FALSE),\"-\")","v":"-"},{"$f":"IFERROR(VLOOKUP(A2620,'30'!E2628:I2628,4,FALSE),\"-\")","v":"-"}]
[null,{"$f":"IFERROR(VLOOKUP(A2620,'30'!$E$19:$I$19,2,FALSE),\"-\")","v":"-"},{"$f":"IFERROR(VLOOKUP(A2620,'30'!E2629:I2629,4,FALSE),\"-\")","v":"-"}]
[null,{"$f":"IFERROR(VLOOKUP(A2620,'30'!$E$20:$I$20,2,FALSE),\"-\")","v":"-"},{"$f":"IFERROR(VLOOKUP(A2620,'30'!E2630:I2630,4,FALSE),\"-\")","v":"-"}]
[null,{"$f":"IFERROR(VLOOKUP(A2620,'30'!$E$21:$I$21,2,FALSE),\"-\")","v":"-"},{"$f":"IFERROR(VLOOKUP(A2620,'30'!E2631:I2631,4,FALSE),\"-\")","v":"-"}]
[null,{"$f":"IFERROR(VLOOKUP(A2620,'30'!$E$22:$I$22,2,FALSE),\"-\")","v":"-"},{"$f":"IFERROR(VLOOKUP(A2620,'30'!E2632:I2632,4,FALSE),\"-\")","v":"-"}]
[null,{"$f":"IFERROR(VLOOKUP(A2620,'30'!$E$23:$I$23,2,FALSE),\"-\")","v":"-"},{"$f":"IFERROR(VLOOKUP(A2620,'30'!E2633:I2633,4,FALSE),\"-\")","v":"-"}]
[null,{"$f":"IFERROR(VLOOKUP(A2620,'30'!$E$24:$I$24,2,FALSE),\"-\")","v":"-"},{"$f":"IFERROR(VLOOKUP(A2620,'30'!E2634:I2634,4,FALSE),\"-\")","v":"-"}]
[null,{"$f":"IFERROR(VLOOKUP(A2620,'30'!$E$25:$I$25,2,FALSE),\"-\")","v":"-"},{"$f":"IFERROR(VLOOKUP(A2620,'30'!E2635:I2635,4,FALSE),\"-\")","v":"-"}]
[null,{"$f":"IFERROR(VLOOKUP(A2620,'30'!$E$26:$I$26,2,FALSE),\"-\")","v":"-"},{"$f":"IFERROR(VLOOKUP(A2620,'30'!E2636:I2636,4,FALSE),\"-\")","v":"-"}]
[null,{"$f":"IFERROR(VLOOKUP(A2620,'30'!$E$27:$I$27,2,FALSE),\"-\")","v":"-"},{"$f":"IFERROR(VLOOKUP(A2620,'30'!E2637:I2637,4,FALSE),\"-\")","v":"-"}]
[null,{"$f":"IFERROR(VLOOKUP(A2620,'30'!$E$28:$I$28,2,FALSE),\"-\")","v":"-"},{"$f":"IFERROR(VLOOKUP(A2620,'30'!E2638:I2638,4,FALSE),\"-\")","v":"-"}]
[null,{"$f":"IFERROR(VLOOKUP(A2620,'30'!$E$29:$I$29,2,FALSE),\"-\")","v":"-"},{"$f":"IFERROR(VLOOKUP(A2620,'30'!E2639:I2639,4,FALSE),\"-\")","v":"-"}]
[null,{"$f":"IFERROR(VLOOKUP(A2620,'30'!$E$30:$I$30,2,FALSE),\"-\")","v":"-"},{"$f":"IFERROR(VLOOKUP(A2620,'30'!E2640:I2640,4,FALSE),\"-\")","v":"-"}]
[null,{"$f":"IFERROR(VLOOKUP(A2620,'30'!$E$31:$I$31,2,FALSE),\"-\")","v":"-"},{"$f":"IFERROR(VLOOKUP(A2620,'30'!E2641:I2641,4,FALSE),\"-\")","v":"-"}]
[null,{"$f":"IFERROR(VLOOKUP(A2620,'31'!$E$4:$I$4,2,FALSE),\"-\")","v":"-"},{"$f":"IFERROR(VLOOKUP(A2620,'31'!E2614:I2614,4,FALSE),\"-\")","v":"-"}]
[null,{"$f":"IFERROR(VLOOKUP(A2620,'31'!$E$5:$I$5,2,FALSE),\"-\")","v":"-"},{"$f":"IFERROR(VLOOKUP(A2620,'31'!E2615:I2615,4,FALSE),\"-\")","v":"-"}]
[null,{"$f":"IFERROR(VLOOKUP(A2620,'31'!$E$6:$I$6,2,FALSE),\"-\")","v":"-"},{"$f":"IFERROR(VLOOKUP(A2620,'31'!E2616:I2616,4,FALSE),\"-\")","v":"-"}]
[null,{"$f":"IFERROR(VLOOKUP(A2620,'31'!$E$7:$I$7,2,FALSE),\"-\")","v":"Fulano"},{"$f":"IFERROR(VLOOKUP(A2620,'31'!E2617:I2617,4,FALSE),\"-\")","v":"-"}]
[null,{"$f":"IFERROR(VLOOKUP(A2620,'31'!$E$8:$I$8,2,FALSE),\"-\")","v":"-"},{"$f":"IFERROR(VLOOKUP(A2620,'31'!E2618:I2618,4,FALSE),\"-\")","v":"-"}]
[null,{"$f":"IFERROR(VLOOKUP(A2620,'31'!$E$9:$I$9,2,FALSE),\"-\")","v":"-"},{"$f":"IFERROR(VLOOKUP(A2620,'31'!E2619:I2619,4,FALSE),\"-\")","v":"-"}]
[null,{"$f":"IFERROR(VLOOKUP(A2620,'31'!$E$10:$I$10,2,FALSE),\"-\")","v":"-"},{"$f":"IFERROR(VLOOKUP(A2620,'31'!E2620:I2620,4,FALSE),\"-\")","v":"-"}]
[null,{"$f":"IFERROR(VLOOKUP(A2620,'31'!$E$11:$I$11,2,FALSE),\"-\")","v":"-"},{"$f":"IFERROR(VLOOKUP(A2620,'31'!E2621:I2621,4,FALSE),\"-\")","v":"-"}]
[null,{"$f":"IFERROR(VLOOKUP(A2620,'31'!$E$12:$I$12,2,FALSE),\"-\")","v":"-"},{"$f":"IFERROR(VLOOKUP(A2620,'31'!E2622:I2622,4,FALSE),\"-\")","v":"-"}]
[null,{"$f":"IFERROR(VLOOKUP(A2620,'31'!$E$13:$I$13,2,FALSE),\"-\")","v":"-"},{"$f":"IFERROR(VLOOKUP(A2620,'31'!E2623:I2623,4,FALSE),\"-\")","v":"-"}]
[null,{"$f":"IFERROR(VLOOKUP(A2620,'31'!$E$14:$I$14,2,FALSE),\"-\")","v":"-"},{"$f":"IFERROR(VLOOKUP(A2620,'31'!E2624:I2624,4,FALSE),\"-\")","v":"-"}]
[null,{"$f":"IFERROR(VLOOKUP(A2620,'31'!$E$15:$I$15,2,FALSE),\"-\")","v":"-"},{"$f":"IFERROR(VLOOKUP(A2620,'31'!E2625:I2625,4,FALSE),\"-\")","v":"-"}]
[null,{"$f":"IFERROR(VLOOKUP(A2620,'31'!$E$16:$I$16,2,FALSE),\"-\")","v":"-"},{"$f":"IFERROR(VLOOKUP(A2620,'31'!E2626:I2626,4,FALSE),\"-\")","v":"-"}]
[null,{"$f":"IFERROR(VLOOKUP(A2620,'31'!$E$17:$I$17,2,FALSE),\"-\")","v":"-"},{"$f":"IFERROR(VLOOKUP(A2620,'31'!E2627:I2627,4,FALSE),\"-\")","v":"-"}]
[null,{"$f":"IFERROR(VLOOKUP(A2620,'31'!$E$18:$I$18,2,FALSE),\"-\")","v":"-"},{"$f":"IFERROR(VLOOKUP(A2620,'31'!E2628:I2628,4,FALSE),\"-\")","v":"-"}]
[null,{"$f":"IFERROR(VLOOKUP(A2620,'31'!$E$19:$I$19,2,FALSE),\"-\")","v":"-"},{"$f":"IFERROR(VLOOKUP(A2620,'31'!E2629:I2629,4,FALSE),\"-\")","v":"-"}]
[null,{"$f":"IFERROR(VLOOKUP(A2620,'31'!$E$20:$I$20,2,FALSE),\"-\")","v":"-"},{"$f":"IFERROR(VLOOKUP(A2620,'31'!E2630:I2630,4,FALSE),\"-\")","v":"-"}]
[null,{"$f":"IFERROR(VLOOKUP(A2620,'31'!$E$21:$I$21,2,FALSE),\"-\")","v":"-"},{"$f":"IFERROR(VLOOKUP(A2620,'31'!E2631:I2631,4,FALSE),\"-\")","v":"-"}]
[null,{"$f":"IFERROR(VLOOKUP(A2620,'31'!$E$22:$I$22,2,FALSE),\"-\")","v":"-"},{"$f":"IFERROR(VLOOKUP(A2620,'31'!E2632:I2632,4,FALSE),\"-\")","v":"-"}]
[null,{"$f":"IFERROR(VLOOKUP(A2620,'31'!$E$23:$I$23,2,FALSE),\"-\")","v":"-"},{"$f":"IFERROR(VLOOKUP(A2620,'31'!E2633:I2633,4,FALSE),\"-\")","v":"-"}]
[null,{"$f":"IFERROR(VLOOKUP(A2620,'31'!$E$24:$I$24,2,FALSE),\"-\")","v":"-"},{"$f":"IFERROR(VLOOKUP(A2620,'31'!E2634:I2634,4,FALSE),\"-\")","v":"-"}]
[null,{"$f":"IFERROR(VLOOKUP(A2620,'31'!$E$25:$I$25,2,FALSE),\"-\")","v":"-"},{"$f":"IFERROR(VLOOKUP(A2620,'31'!E2635:I2635,4,FALSE),\"-\")","v":"-"}]
[null,{"$f":"IFERROR(VLOOKUP(A2620,'31'!$E$26:$I$26,2,FALSE),\"-\")","v":"-"},{"$f":"IFERROR(VLOOKUP(A2620,'31'!E2636:I2636,4,FALSE),\"-\")","v":"-"}]
[null,{"$f":"IFERROR(VLOOKUP(A2620,'31'!$E$27:$I$27,2,FALSE),\"-\")","v":"-"},{"$f":"IFERROR(VLOOKUP(A2620,'31'!E2637:I2637,4,FALSE),\"-\")","v":"-"}]
[null,{"$f":"IFERROR(VLOOKUP(A2620,'31'!$E$28:$I$28,2,FALSE),\"-\")","v":"-"},{"$f":"IFERROR(VLOOKUP(A2620,'31'!E2638:I2638,4,FALSE),\"-\")","v":"-"}]
[null,{"$f":"IFERROR(VLOOKUP(A2620,'31'!$E$29:$I$29,2,FALSE),\"-\")","v":"-"},{"$f":"IFERROR(VLOOKUP(A2620,'31'!E2639:I2639,4,FALSE),\"-\")","v":"-"}]
[null,{"$f":"IFERROR(VLOOKUP(A2620,'31'!$E$30:$I$30,2,FALSE),\"-\")","v":"-"},{"$f":"IFERROR(VLOOKUP(A2620,'31'!E2640:I2640,4,FALSE),\"-\")","v":"-"}]
[null,{"$f":"IFERROR(VLOOKUP(A2620,'31'!$E$31:$I$31,2,FALSE),\"-\")","v":"-"},{"$f":"IFERROR(VLOOKUP(A2620,'31'!E2641:I2641,4,FALSE),\"-\")","v":"-"}]
[]
["Codigo","Fornecedor","Valor"]
["TX",{"$f":"IFERROR(VLOOKUP(A3490,'1'!$E$4:$I$4,2,FALSE),\"-\")","v":"-"},{"$f":"IFERROR(VLOOKUP(A3490,'1'!$E$4:$I$4,4,FALSE),\"-\")","v":"-"}]
[null,{"$f":"IFERROR(VLOOKUP(A3490,'1'!$E$5:$I$5,2,FALSE),\"-\")","v":"-"},{"$f":"IFERROR(VLOOKUP(A3490,'1'!$E$5:$I$5,4,FALSE),\"-\")","v":"-"}]
[null,{"$f":"IFERROR(VLOOKUP(A3490,'1'!$E$6:$I$6,2,FALSE),\"-\")","v":"-"},{"$f":"IFERROR(VLOOKUP(A3490,'1'!$E$6:$I$6,4,FALSE),\"-\")","v":"-"}]
[null,{"$f":"IFERROR(VLOOKUP(A3490,'1'!$E$7:$I$7,2,FALSE),\"-\")","v":"-"},{"$f":"IFERROR(VLOOKUP(A3490,'1'!$E$7:$I$7,4,FALSE),\"-\")","v":"-"}]
[null,{"$f":"IFERROR(VLOOKUP(A3490,'1'!$E$8:$I$8,2,FALSE),\"-\")","v":"-"},{"$f":"IFERROR(VLOOKUP(A3490,'1'!$E$8:$I$8,4,FALSE),\"-\")","v":"-"}]
[null,{"$f":"IFERROR(VLOOKUP(A3490,'1'!$E$9:$I$9,2,FALSE),\"-\")","v":"-"},{"$f":"IFERROR(VLOOKUP(A3490,'1'!$E$9:$I$9,4,FALSE),\"-\")","v":"-"}]
[null,{"$f":"IFERROR(VLOOKUP(A3490,'1'!$E$10:$I$10,2,FALSE),\"-\")","v":"-"},{"$f":"IFERROR(VLOOKUP(A3490,'1'!$E$10:$I$10,4,FALSE),\"-\")","v":"-"}]
[null,{"$f":"IFERROR(VLOOKUP(A3490,'1'!$E$11:$I$11,2,FALSE),\"-\")","v":"-"},{"$f":"IFERROR(VLOOKUP(A3490,'1'!$E$11:$I$11,4,FALSE),\"-\")","v":"-"}]
[null,{"$f":"IFERROR(VLOOKUP(A3490,'1'!$E$12:$I$12,2,FALSE),\"-\")","v":"-"},{"$f":"IFERROR(VLOOKUP(A3490,'1'!$E$12:$I$12,4,FALSE),\"-\")","v":"-"}]
[null,{"$f":"IFERROR(VLOOKUP(A3490,'1'!$E$13:$I$13,2,FALSE),\"-\")","v":"-"},{"$f":"IFERROR(VLOOKUP(A3490,'1'!$E$13:$I$13,4,FALSE),\"-\")","v":"-"}]
[null,{"$f":"IFERROR(VLOOKUP(A3490,'1'!$E$14:$I$14,2,FALSE),\"-\")","v":"-"},{"$f":"IFERROR(VLOOKUP(A3490,'1'!$E$14:$I$14,4,FALSE),\"-\")","v":"-"}]
[null,{"$f":"IFERROR(VLOOKUP(A3490,'1'!$E$15:$I$15,2,FALSE),\"-\")","v":"-"},{"$f":"IFERROR(VLOOKUP(A3490,'1'!$E$15:$I$15,4,FALSE),\"-\")","v":"-"}]
[null,{"$f":"IFERROR(VLOOKUP(A3490,'1'!$E$16:$I$16,2,FALSE),\"-\")","v":"-"},{"$f":"IFERROR(VLOOKUP(A3490,'1'!$E$16:$I$16,4,FALSE),\"-\")","v":"-"}]
[null,{"$f":"IFERROR(VLOOKUP(A3490,'1'!$E$17:$I$17,2,FALSE),\"-\")","v":"-"},{"$f":"IFERROR(VLOOKUP(A3490,'1'!$E$17:$I$17,4,FALSE),\"-\")","v":"-"}]
[null,{"$f":"IFERROR(VLOOKUP(A3490,'1'!$E$18:$I$18,2,FALSE),\"-\")","v":"-"},{"$f":"IFERROR(VLOOKUP(A3490,'1'!$E$18:$I$18,4,FALSE),\"-\")","v":"-"}]
[null,{"$f":"IFERROR(VLOOKUP(A3490,'1'!$E$19:$I$19,2,FALSE),\"-\")","v":"-"},{"$f":"IFERROR(VLOOKUP(A3490,'1'!$E$19:$I$19,4,FALSE),\"-\")","v":"-"}]
[null,{"$f":"IFERROR(VLOOKUP(A3490,'1'!$E$20:$I$20,2,FALSE),\"-\")","v":"-"},{"$f":"IFERROR(VLOOKUP(A3490,'1'!$E$20:$I$20,4,FALSE),\"-\")","v":"-"}]
[null,{"$f":"IFERROR(VLOOKUP(A3490,'1'!$E$21:$I$21,2,FALSE),\"-\")","v":"-"},{"$f":"IFERROR(VLOOKUP(A3490,'1'!$E$21:$I$21,4,FALSE),\"-\")","v":"-"}]
[null,{"$f":"IFERROR(VLOOKUP(A3490,'1'!$E$22:$I$22,2,FALSE),\"-\")","v":"-"},{"$f":"IFERROR(VLOOKUP(A3490,'1'!$E$22:$I$22,4,FALSE),\"-\")","v":"-"}]
[null,{"$f":"IFERROR(VLOOKUP(A3490,'1'!$E$23:$I$23,2,FALSE),\"-\")","v":"-"},{"$f":"IFERROR(VLOOKUP(A3490,'1'!$E$23:$I$23,4,FALSE),\"-\")","v":"-"}]
[null,{"$f":"IFERROR(VLOOKUP(A3490,'1'!$E$24:$I$24,2,FALSE),\"-\")","v":"-"},{"$f":"IFERROR(VLOOKUP(A3490,'1'!$E$24:$I$24,4,FALSE),\"-\")","v":"-"}]
[null,{"$f":"IFERROR(VLOOKUP(A3490,'1'!$E$25:$I$25,2,FALSE),\"-\")","v":"-"},{"$f":"IFERROR(VLOOKUP(A3490,'1'!$E$25:$I$25,4,FALSE),\"-\")","v":"-"}]
[null,{"$f":"IFERROR(VLOOKUP(A3490,'1'!$E$26:$I$26,2,FALSE),\"-\")","v":"-"},{"$f":"IFERROR(VLOOKUP(A3490,'1'!$E$26:$I$26,4,FALSE),\"-\")","v":"-"}]
[null,{"$f":"IFERROR(VLOOKUP(A3490,'1'!$E$27:$I$27,2,FALSE),\"-\")","v":"-"},{"$f":"IFERROR(VLOOKUP(A3490,'1'!$E$27:$I$27,4,FALSE),\"-\")","v":"-"}]
[null,{"$f":"IFERROR(VLOOKUP(A3490,'1'!$E$28:$I$28,2,FALSE),\"-\")","v":"-"},{"$f":"IFERROR(VLOOKUP(A3490,'1'!$E$28:$I$28,4,FALSE),\"-\")","v":"-"}]
[null,{"$f":"IFERROR(VLOOKUP(A3490,'1'!$E$29:$I$29,2,FALSE),\"-\")","v":"-"},{"$f":"IFERROR(VLOOKUP(A3490,'1'!$E$29:$I$29,4,FALSE),\"-\")","v":"-"}]
[null,{"$f":"IFERROR(VLOOKUP(A3490,'1'!$E$30:$I$30,2,FALSE),\"-\")","v":"-"},{"$f":"IFERROR(VLOOKUP(A3490,'1'!$E$30:$I$30,4,FALSE),\"-\")","v":"-"}]
[null,{"$f":"IFERROR(VLOOKUP(A3490,'1'!$E$31:$I$31,2,FALSE),\"-\")","v":"-"},{"$f":"IFERROR(VLOOKUP(A3490,'1'!$E$31:$I$31,4,FALSE),\"-\")","v":"-"}]
[null,{"$f":"IFERROR(VLOOKUP(A3490,'2'!$E$4:$I$4,2,FALSE),\"-\")","v":"-"},{"$f":"IFERROR(VLOOKUP(A3490,'2'!$E$4:$I$4,4,FALSE),\"-\")","v":"-"}]
[null,{"$f":"IFERROR(VLOOKUP(A3490,'2'!$E$5:$I$5,2,FALSE),\"-\")","v":"-"},{"$f":"IFERROR(VLOOKUP(A3490,'2'!E3485:I3485,4,FALSE),\"-\")","v":"-"}]
[null,{"$f":"IFERROR(VLOOKUP(A3490,'2'!$E$6:$I$6,2,FALSE),\"-\")","v":"-"},{"$f":"IFERROR(VLOOKUP(A3490,'2'!E3486:I3486,4,FALSE),\"-\")","v":"-"}]
[null,{"$f":"IFERROR(VLOOKUP(A3490,'2'!$E$7:$I$7,2,FALSE),\"-\")","v":"-"},{"$f":"IFERROR(VLOOKUP(A3490,'2'!E3487:I3487,4,FALSE),\"-\")","v":"-"}]
[null,{"$f":"IFERROR(VLOOKUP(A3490,'2'!$E$8:$I$8,2,FALSE),\"-\")","v":"-"},{"$f":"IFERROR(VLOOKUP(A3490,'2'!E3488:I3488,4,FALSE),\"-\")","v":"-"}]
[null,{"$f":"IFERROR(VLOOKUP(A3490,'2'!$E$9:$I$9,2,FALSE),\"-\")","v":"-"},{"$f":"IFERROR(VLOOKUP(A3490,'2'!E3489:I3489,4,FALSE),\"-\")","v":"-"}]
[null,{"$f":"IFERROR(VLOOKUP(A3490,'2'!$E$10:$I$10,2,FALSE),\"-\")","v":"-"},{"$f":"IFERROR(VLOOKUP(A3490,'2'!E3490:I3490,4,FALSE),\"-\")","v":"-"}]
[null,{"$f":"IFERROR(VLOOKUP(A3490,'2'!$E$11:$I$11,2,FALSE),\"-\")","v":"-"},{"$f":"IFERROR(VLOOKUP(A3490,'2'!E3491:I3491,4,FALSE),\"-\")","v":"-"}]
[null,{"$f":"IFERROR(VLOOKUP(A3490,'2'!$E$12:$I$12,2,FALSE),\"-\")","v":"-"},{"$f":"IFERROR(VLOOKUP(A3490,'2'!E3492:I3492,4,FALSE),\"-\")","v":"-"}]
[null,{"$f":"IFERROR(VLOOKUP(A3490,'2'!$E$13:$I$13,2,FALSE),\"-\")","v":"-"},{"$f":"IFERROR(VLOOKUP(A3490,'2'!E3493:I3493,4,FALSE),\"-\")","v":"-"}]
[null,{"$f":"IFERROR(VLOOKUP(A3490,'2'!$E$14:$I$14,2,FALSE),\"-\")","v":"-"},{"$f":"IFERROR(VLOOKUP(A3490,'2'!E3494:I3494,4,FALSE),\"-\")","v":"-"}]
[null,{"$f":"IFERROR(VLOOKUP(A3490,'2'!$E$15:$I$15,2,FALSE),\"-\")","v":"-"},{"$f":"IFERROR(VLOOKUP(A3490,'2'!E3495:I3495,4,FALSE),\"-\")","v":"-"}]
[null,{"$f":"IFERROR(VLOOKUP(A3490,'2'!$E$16:$I$16,2,FALSE),\"-\")","v":"-"},{"$f":"IFERROR(VLOOKUP(A3490,'2'!E3496:I3496,4,FALSE),\"-\")","v":"-"}]
[null,{"$f":"IFERROR(VLOOKUP(A3490,'2'!$E$17:$I$17,2,FALSE),\"-\")","v":"-"},{"$f":"IFERROR(VLOOKUP(A3490,'2'!E3497:I3497,4,FALSE),\"-\")","v":"-"}]
[null,{"$f":"IFERROR(VLOOKUP(A3490,'2'!$E$18:$I$18,2,FALSE),\"-\")","v":"-"},{"$f":"IFERROR(VLOOKUP(A3490,'2'!E3498:I3498,4,FALSE),\"-\")","v":"-"}]
[null,{"$f":"IFERROR(VLOOKUP(A3490,'2'!$E$19:$I$19,2,FALSE),\"-\")","v":"-"},{"$f":"IFERROR(VLOOKUP(A3490,'2'!E3499:I3499,4,FALSE),\"-\")","v":"-"}]
[null,{"$f":"IFERROR(VLOOKUP(A3490,'2'!$E$20:$I$20,2,FALSE),\"-\")","v":"-"},{"$f":"IFERROR(VLOOKUP(A3490,'2'!E3500:I3500,4,FALSE),\"-\")","v":"-"}]
[null,{"$f":"IFERROR(VLOOKUP(A3490,'2'!$E$21:$I$21,2,FALSE),\"-\")","v":"-"},{"$f":"IFERROR(VLOOKUP(A3490,'2'!E3501:I3501,4,FALSE),\"-\")","v":"-"}]
[null,{"$f":"IFERROR(VLOOKUP(A3490,'2'!$E$22:$I$22,2,FALSE),\"-\")","v":"-"},{"$f":"IFERROR(VLOOKUP(A3490,'2'!E3502:I3502,4,FALSE),\"-\")","v":"-"}]
[null,{"$f":"IFERROR(VLOOKUP(A3490,'2'!$E$23:$I$23,2,FALSE),\"-\")","v":"-"},{"$f":"IFERROR(VLOOKUP(A3490,'2'!E3503:I3503,4,FALSE),\"-\")","v":"-"}]
[null,{"$f":"IFERROR(VLOOKUP(A3490,'2'!$E$24:$I$24,2,FALSE),\"-\")","v":"-"},{"$f":"IFERROR(VLOOKUP(A3490,'2'!E3504:I3504,4,FALSE),\"-\")","v":"-"}]
[null,{"$f":"IFERROR(VLOOKUP(A3490,'2'!$E$25:$I$25,2,FALSE),\"-\")","v":"-"},{"$f":"IFERROR(VLOOKUP(A3490,'2'!E3505:I3505,4,FALSE),\"-\")","v":"-"}]
[null,{"$f":"IFERROR(VLOOKUP(A3490,'2'!$E$26:$I$26,2,FALSE),\"-\")","v":"-"},{"$f":"IFERROR(VLOOKUP(A3490,'2'!E3506:I3506,4,FALSE),\"-\")","v":"-"}]
[null,{"$f":"IFERROR(VLOOKUP(A3490,'2'!$E$27:$I$27,2,FALSE),\"-\")","v":"-"},{"$f":"IFERROR(VLOOKUP(A3490,'2'!E3507:I3507,4,FALSE),\"-\")","v":"-"}]
[null,{"$f":"IFERROR(VLOOKUP(A3490,'2'!$E$28:$I$28,2,FALSE),\"-\")","v":"-"},{"$f":"IFERROR(VLOOKUP(A3490,'2'!E3508:I3508,4,FALSE),\"-\")","v":"-"}]
[null,{"$f":"IFERROR(VLOOKUP(A3490,'2'!$E$29:$I$29,2,FALSE),\"-\")","v":"-"},{"$f":"IFERROR(VLOOKUP(A3490,'2'!E3509:I3509,4,FALSE),\"-\")","v":"-"}]
[null,{"$f":"IFERROR(VLOOKUP(A3490,'2'!$E$30:$I$30,2,FALSE),\"-\")","v":"-"},{"$f":"IFERROR(VLOOKUP(A3490,'2'!E3510:I3510,4,FALSE),\"-\")","v":"-"}]
[null,{"$f":"IFERROR(VLOOKUP(A3490,'2'!$E$31:$I$31,2,FALSE),\"-\")","v":"-"},{"$f":"IFERROR(VLOOKUP(A3490,'2'!E3511:I3511,4,FALSE),\"-\")","v":"-"}]
[null,{"$f":"IFERROR(VLOOKUP(A3490,'3'!$E$4:$I$4,2,FALSE),\"-\")","v":"-"},{"$f":"IFERROR(VLOOKUP(A3490,'3'!E3484:I3484,4,FALSE),\"-\")","v":"-"}]
[null,{"$f":"IFERROR(VLOOKUP(A3490,'3'!$E$5:$I$5,2,FALSE),\"-\")","v":"-"},{"$f":"IFERROR(VLOOKUP(A3490,'3'!E3485:I3485,4,FALSE),\"-\")","v":"-"}]
[null,{"$f":"IFERROR(VLOOKUP(A3490,'3'!$E$6:$I$6,2,FALSE),\"-\")","v":"-"},{"$f":"IFERROR(VLOOKUP(A3490,'3'!E3486:I3486,4,FALSE),\"-\")","v":"-"}]
[null,{"$f":"IFERROR(VLOOKUP(A3490,'3'!$E$7:$I$7,2,FALSE),\"-\")","v":"-"},{"$f":"IFERROR(VLOOKUP(A3490,'3'!E3487:I3487,4,FALSE),\"-\")","v":"-"}]
[null,{"$f":"IFERROR(VLOOKUP(A3490,'3'!$E$8:$I$8,2,FALSE),\"-\")","v":"-"},{"$f":"IFERROR(VLOOKUP(A3490,'3'!E3488:I3488,4,FALSE),\"-\")","v":"-"}]
[null,{"$f":"IFERROR(VLOOKUP(A3490,'3'!$E$9:$I$9,2,FALSE),\"-\")","v":"-"},{"$f":"IFERROR(VLOOKUP(A3490,'3'!E3489:I3489,4,FALSE),\"-\")","v":"-"}]
[null,{"$f":"IFERROR(VLOOKUP(A3490,'3'!$E$10:$I$10,2,FALSE),\"-\")","v":"-"},{"$f":"IFERROR(VLOOKUP(A3490,'3'!E3490:I3490,4,FALSE),\"-\")","v":"-"}]
[null,{"$f":"IFERROR(VLOOKUP(A3490,'3'!$E$11:$I$11,2,FALSE),\"-\")","v":"-"},{"$f":"IFERROR(VLOOKUP(A3490,'3'!E3491:I3491,4,FALSE),\"-\")","v":"-"}]
[null,{"$f":"IFERROR(VLOOKUP(A3490,'3'!$E$12:$I$12,2,FALSE),\"-\")","v":"-"},{"$f":"IFERROR(VLOOKUP(A3490,'3'!E3492:I3492,4,FALSE),\"-\")","v":"-"}]
[null,{"$f":"IFERROR(VLOOKUP(A3490,'3'!$E$13:$I$13,2,FALSE),\"-\")","v":"-"},{"$f":"IFERROR(VLOOKUP(A3490,'3'!E3493:I3493,4,FALSE),\"-\")","v":"-"}]
[null,{"$f":"IFERROR(VLOOKUP(A3490,'3'!$E$14:$I$14,2,FALSE),\"-\")","v":"-"},{"$f":"IFERROR(VLOOKUP(A3490,'3'!E3494:I3494,4,FALSE),\"-\")","v":"-"}]
[null,{"$f":"IFERROR(VLOOKUP(A3490,'3'!$E$15:$I$15,2,FALSE),\"-\")","v":"-"},{"$f":"IFERROR(VLOOKUP(A3490,'3'!E3495:I3495,4,FALSE),\"-\")","v":"-"}]
[null,{"$f":"IFERROR(VLOOKUP(A3490,'3'!$E$16:$I$16,2,FALSE),\"-\")","v":"-"},{"$f":"IFERROR(VLOOKUP(A3490,'3'!E3496:I3496,4,FALSE),\"-\")","v":"-"}]
[null,{"$f":"IFERROR(VLOOKUP(A3490,'3'!$E$17:$I$17,2,FALSE),\"-\")","v":"-"},{"$f":"IFERROR(VLOOKUP(A3490,'3'!E3497:I3497,4,FALSE),\"-\")","v":"-"}]
[null,{"$f":"IFERROR(VLOOKUP(A3490,'3'!$E$18:$I$18,2,FALSE),\"-\")","v":"-"},{"$f":"IFERROR(VLOOKUP(A3490,'3'!E3498:I3498,4,FALSE),\"-\")","v":"-"}]
[null,{"$f":"IFERROR(VLOOKUP(A3490,'3'!$E$19:$I$19,2,FALSE),\"-\")","v":"-"},{"$f":"IFERROR(VLOOKUP(A3490,'3'!E3499:I3499,4,FALSE),\"-\")","v":"-"}]
[null,{"$f":"IFERROR(VLOOKUP(A3490,'3'!$E$20:$I$20,2,FALSE),\"-\")","v":"-"},{"$f":"IFERROR(VLOOKUP(A3490,'3'!E3500:I3500,4,FALSE),\"-\")","v":"-"}]
[null,{"$f":"IFERROR(VLOOKUP(A3490,'3'!$E$21:$I$21,2,FALSE),\"-\")","v":"-"},{"$f":"IFERROR(VLOOKUP(A3490,'3'!E3501:I3501,4,FALSE),\"-\")","v":"-"}]
[null,{"$f":"IFERROR(VLOOKUP(A3490,'3'!$E$22:$I$22,2,FALSE),\"-\")","v":"-"},{"$f":"IFERROR(VLOOKUP(A3490,'3'!E3502:I3502,4,FALSE),\"-\")","v":"-"}]
[null,{"$f":"IFERROR(VLOOKUP(A3490,'3'!$E$23:$I$23,2,FALSE),\"-\")","v":"-"},{"$f":"IFERROR(VLOOKUP(A3490,'3'!E3503:I3503,4,FALSE),\"-\")","v":"-"}]
[null,{"$f":"IFERROR(VLOOKUP(A3490,'3'!$E$24:$I$24,2,FALSE),\"-\")","v":"-"},{"$f":"IFERROR(VLOOKUP(A3490,'3'!E3504:I3504,4,FALSE),\"-\")","v":"-"}]
[null,{"$f":"IFERROR(VLOOKUP(A3490,'3'!$E$25:$I$25,2,FALSE),\"-\")","v":"-"},{"$f":"IFERROR(VLOOKUP(A3490,'3'!E3505:I3505,4,FALSE),\"-\")","v":"-"}]
[null,{"$f":"IFERROR(VLOOKUP(A3490,'3'!$E$26:$I$26,2,FALSE),\"-\")","v":"-"},{"$f":"IFERROR(VLOOKUP(A3490,'3'!E3506:I3506,4,FALSE),\"-\")","v":"-"}]
[null,{"$f":"IFERROR(VLOOKUP(A3490,'3'!$E$27:$I$27,2,FALSE),\"-\")","v":"-"},{"$f":"IFERROR(VLOOKUP(A3490,'3'!E3507:I3507,4,FALSE),\"-\")","v":"-"}]
[null,{"$f":"IFERROR(VLOOKUP(A3490,'3'!$E$28:$I$28,2,FALSE),\"-\")","v":"-"},{"$f":"IFERROR(VLOOKUP(A3490,'3'!E3508:I3508,4,FALSE),\"-\")","v":"-"}]
[null,{"$f":"IFERROR(VLOOKUP(A3490,'3'!$E$29:$I$29,2,FALSE),\"-\")","v":"-"},{"$f":"IFERROR(VLOOKUP(A3490,'3'!E3509:I3509,4,FALSE),\"-\")","v":"-"}]
[null,{"$f":"IFERROR(VLOOKUP(A3490,'3'!$E$30:$I$30,2,FALSE),\"-\")","v":"-"},{"$f":"IFERROR(VLOOKUP(A3490,'3'!E3510:I3510,4,FALSE),\"-\")","v":"-"}]
[null,{"$f":"IFERROR(VLOOKUP(A3490,'3'!$E$31:$I$31,2,FALSE),\"-\")","v":"-"},{"$f":"IFERROR(VLOOKUP(A3490,'3'!E3511:I3511,4,FALSE),\"-\")","v":"-"}]
[null,{"$f":"IFERROR(VLOOKUP(A3490,'4'!$E$4:$I$4,2,FALSE),\"-\")","v":"-"},{"$f":"IFERROR(VLOOKUP(A3490,'4'!E3484:I3484,4,FALSE),\"-\")","v":"-"}]
[null,{"$f":"IFERROR(VLOOKUP(A3490,'4'!$E$5:$I$5,2,FALSE),\"-\")","v":"-"},{"$f":"IFERROR(VLOOKUP(A3490,'4'!E3485:I3485,4,FALSE),\"-\")","v":"-"}]
[null,{"$f":"IFERROR(VLOOKUP(A3490,'4'!$E$6:$I$6,2,FALSE),\"-\")","v":"-"},{"$f":"IFERROR(VLOOKUP(A3490,'4'!E3486:I3486,4,FALSE),\"-\")","v":"-"}]
[null,{"$f":"IFERROR(VLOOKUP(A3490,'4'!$E$7:$I$7,2,FALSE),\"-\")","v":"-"},{"$f":"IFERROR(VLOOKUP(A3490,'4'!E3487:I3487,4,FALSE),\"-\")","v":"-"}]
[null,{"$f":"IFERROR(VLOOKUP(A3490,'4'!$E$8:$I$8,2,FALSE),\"-\")","v":"-"},{"$f":"IFERROR(VLOOKUP(A3490,'4'!E3488:I3488,4,FALSE),\"-\")","v":"-"}]
[null,{"$f":"IFERROR(VLOOKUP(A3490,'4'!$E$9:$I$9,2,FALSE),\"-\")","v":"-"},{"$f":"IFERROR(VLOOKUP(A3490,'4'!E3489:I3489,4,FALSE),\"-\")","v":"-"}]
[null,{"$f":"IFERROR(VLOOKUP(A3490,'4'!$E$10:$I$10,2,FALSE),\"-\")","v":"-"},{"$f":"IFERROR(VLOOKUP(A3490,'4'!E3490:I3490,4,FALSE),\"-\")","v":"-"}]
[null,{"$f":"IFERROR(VLOOKUP(A3490,'4'!$E$11:$I$11,2,FALSE),\"-\")","v":"-"},{"$f":"IFERROR(VLOOKUP(A3490,'4'!E3491:I3491,4,FALSE),\"-\")","v":"-"}]
[null,{"$f":"IFERROR(VLOOKUP(A3490,'4'!$E$12:$I$12,2,FALSE),\"-\")","v":"-"},{"$f":"IFERROR(VLOOKUP(A3490,'4'!E3492:I3492,4,FALSE),\"-\")","v":"-"}]
[null,{"$f":"IFERROR(VLOOKUP(A3490,'4'!$E$13:$I$13,2,FALSE),\"-\")","v":"-"},{"$f":"IFERROR(VLOOKUP(A3490,'4'!E3493:I3493,4,FALSE),\"-\")","v":"-"}]
[null,{"$f":"IFERROR(VLOOKUP(A3490,'4'!$E$14:$I$14,2,FALSE),\"-\")","v":"-"},{"$f":"IFERROR(VLOOKUP(A3490,'4'!E3494:I3494,4,FALSE),\"-\")","v":"-"}]
[null,{"$f":"IFERROR(VLOOKUP(A3490,'4'!$E$15:$I$15,2,FALSE),\"-\")","v":"-"},{"$f":"IFERROR(VLOOKUP(A3490,'4'!E3495:I3495,4,FALSE),\"-\")","v":"-"}]
[null,{"$f":"IFERROR(VLOOKUP(A3490,'4'!$E$16:$I$16,2,FALSE),\"-\")","v":"-"},{"$f":"IFERROR(VLOOKUP(A3490,'4'!E3496:I3496,4,FALSE),\"-\")","v":"-"}]
[null,{"$f":"IFERROR(VLOOKUP(A3490,'4'!$E$17:$I$17,2,FALSE),\"-\")","v":"-"},{"$f":"IFERROR(VLOOKUP(A3490,'4'!E3497:I3497,4,FALSE),\"-\")","v":"-"}]
[null,{"$f":"IFERROR(VLOOKUP(A3490,'4'!$E$18:$I$18,2,FALSE),\"-\")","v":"-"},{"$f":"IFERROR(VLOOKUP(A3490,'4'!E3498:I3498,4,FALSE),\"-\")","v":"-"}]
[null,{"$f":"IFERROR(VLOOKUP(A3490,'4'!$E$19:$I$19,2,FALSE),\"-\")","v":"-"},{"$f":"IFERROR(VLOOKUP(A3490,'4'!E3499:I3499,4,FALSE),\"-\")","v":"-"}]
[null,{"$f":"IFERROR(VLOOKUP(A3490,'4'!$E$20:$I$20,2,FALSE),\"-\")","v":"-"},{"$f":"IFERROR(VLOOKUP(A3490,'4'!E3500:I3500,4,FALSE),\"-\")","v":"-"}]
[null,{"$f":"IFERROR(VLOOKUP(A3490,'4'!$E$21:$I$21,2,FALSE),\"-\")","v":"-"},{"$f":"IFERROR(VLOOKUP(A3490,'4'!E3501:I3501,4,FALSE),\"-\")","v":"-"}]
[null,{"$f":"IFERROR(VLOOKUP(A3490,'4'!$E$22:$I$22,2,FALSE),\"-\")","v":"-"},{"$f":"IFERROR(VLOOKUP(A3490,'4'!E3502:I3502,4,FALSE),\"-\")","v":"-"}]
[null,{"$f":"IFERROR(VLOOKUP(A3490,'4'!$E$23:$I$23,2,FALSE),\"-\")","v":"-"},{"$f":"IFERROR(VLOOKUP(A3490,'4'!E3503:I3503,4,FALSE),\"-\")","v":"-"}]
[null,{"$f":"IFERROR(VLOOKUP(A3490,'4'!$E$24:$I$24,2,FALSE),\"-\")","v":"-"},{"$f":"IFERROR(VLOOKUP(A3490,'4'!E3504:I3504,4,FALSE),\"-\")","v":"-"}]
[null,{"$f":"IFERROR(VLOOKUP(A3490,'4'!$E$25:$I$25,2,FALSE),\"-\")","v":"-"},{"$f":"IFERROR(VLOOKUP(A3490,'4'!E3505:I3505,4,FALSE),\"-\")","v":"-"}]
[null,{"$f":"IFERROR(VLOOKUP(A3490,'4'!$E$26:$I$26,2,FALSE),\"-\")","v":"-"},{"$f":"IFERROR(VLOOKUP(A3490,'4'!E3506:I3506,4,FALSE),\"-\")","v":"-"}]
[null,{"$f":"IFERROR(VLOOKUP(A3490,'4'!$E$27:$I$27,2,FALSE),\"-\")","v":"-"},{"$f":"IFERROR(VLOOKUP(A3490,'4'!E3507:I3507,4,FALSE),\"-\")","v":"-"}]
[null,{"$f":"IFERROR(VLOOKUP(A3490,'4'!$E$28:$I$28,2,FALSE),\"-\")","v":"-"},{"$f":"IFERROR(VLOOKUP(A3490,'4'!E3508:I3508,4,FALSE),\"-\")","v":"-"}]
[null,{"$f":"IFERROR(VLOOKUP(A3490,'4'!$E$29:$I$29,2,FALSE),\"-\")","v":"-"},{"$f":"IFERROR(VLOOKUP(A3490,'4'!E3509:I3509,4,FALSE),\"-\")","v":"-"}]
[null,{"$f":"IFERROR(VLOOKUP(A3490,'4'!$E$30:$I$30,2,FALSE),\"-\")","v":"-"},{"$f":"IFERROR(VLOOKUP(A3490,'4'!E3510:I3510,4,FALSE),\"-\")","v":"-"}]
[null,{"$f":"IFERROR(VLOOKUP(A3490,'4'!$E$31:$I$31,2,FALSE),\"-\")","v":"-"},{"$f":"IFERROR(VLOOKUP(A3490,'4'!E3511:I3511,4,FALSE),\"-\")","v":"-"}]
[null,{"$f":"IFERROR(VLOOKUP(A3490,'5'!$E$4:$I$4,2,FALSE),\"-\")","v":"-"},{"$f":"IFERROR(VLOOKUP(A3490,'5'!E3484:I3484,4,FALSE),\"-\")","v":"-"}]
[null,{"$f":"IFERROR(VLOOKUP(A3490,'5'!$E$5:$I$5,2,FALSE),\"-\")","v":"-"},{"$f":"IFERROR(VLOOKUP(A3490,'5'!E3485:I3485,4,FALSE),\"-\")","v":"-"}]
[null,{"$f":"IFERROR(VLOOKUP(A3490,'5'!$E$6:$I$6,2,FALSE),\"-\")","v":"-"},{"$f":"IFERROR(VLOOKUP(A3490,'5'!E3486:I3486,4,FALSE),\"-\")","v":"-"}]
[null,{"$f":"IFERROR(VLOOKUP(A3490,'5'!$E$7:$I$7,2,FALSE),\"-\")","v":"-"},{"$f":"IFERROR(VLOOKUP(A3490,'5'!E3487:I3487,4,FALSE),\"-\")","v":"-"}]
[null,{"$f":"IFERROR(VLOOKUP(A3490,'5'!$E$8:$I$8,2,FALSE),\"-\")","v":"-"},{"$f":"IFERROR(VLOOKUP(A3490,'5'!E3488:I3488,4,FALSE),\"-\")","v":"-"}]
[null,{"$f":"IFERROR(VLOOKUP(A3490,'5'!$E$9:$I$9,2,FALSE),\"-\")","v":"-"},{"$f":"IFERROR(VLOOKUP(A3490,'5'!E3489:I3489,4,FALSE),\"-\")","v":"-"}]
[null,{"$f":"IFERROR(VLOOKUP(A3490,'5'!$E$10:$I$10,2,FALSE),\"-\")","v":"-"},{"$f":"IFERROR(VLOOKUP(A3490,'5'!E3490:I3490,4,FALSE),\"-\")","v":"-"}]
[null,{"$f":"IFERROR(VLOOKUP(A3490,'5'!$E$11:$I$11,2,FALSE),\"-\")","v":"-"},{"$f":"IFERROR(VLOOKUP(A3490,'5'!E3491:I3491,4,FALSE),\"-\")","v":"-"}]
[null,{"$f":"IFERROR(VLOOKUP(A3490,'5'!$E$12:$I$12,2,FALSE),\"-\")","v":"-"},{"$f":"IFERROR(VLOOKUP(A3490,'5'!E3492:I3492,4,FALSE),\"-\")","v":"-"}]
[null,{"$f":"IFERROR(VLOOKUP(A3490,'5'!$E$13:$I$13,2,FALSE),\"-\")","v":"-"},{"$f":"IFERROR(VLOOKUP(A3490,'5'!E3493:I3493,4,FALSE),\"-\")","v":"-"}]
[null,{"$f":"IFERROR(VLOOKUP(A3490,'5'!$E$14:$I$14,2,FALSE),\"-\")","v":"-"},{"$f":"IFERROR(VLOOKUP(A3490,'5'!E3494:I3494,4,FALSE),\"-\")","v":"-"}]
[null,{"$f":"IFERROR(VLOOKUP(A3490,'5'!$E$15:$I$15,2,FALSE),\"-\")","v":"-"},{"$f":"IFERROR(VLOOKUP(A3490,'5'!E3495:I3495,4,FALSE),\"-\")","v":"-"}]
[null,{"$f":"IFERROR(VLOOKUP(A3490,'5'!$E$16:$I$16,2,FALSE),\"-\")","v":"-"},{"$f":"IFERROR(VLOOKUP(A3490,'5'!E3496:I3496,4,FALSE),\"-\")","v":"-"}]
[null,{"$f":"IFERROR(VLOOKUP(A3490,'5'!$E$17:$I$17,2,FALSE),\"-\")","v":"-"},{"$f":"IFERROR(VLOOKUP(A3490,'5'!E3497:I3497,4,FALSE),\"-\")","v":"-"}]
[null,{"$f":"IFERROR(VLOOKUP(A3490,'5'!$E$18:$I$18,2,FALSE),\"-\")","v":"-"},{"$f":"IFERROR(VLOOKUP(A3490,'5'!E3498:I3498,4,FALSE),\"-\")","v":"-"}]
[null,{"$f":"IFERROR(VLOOKUP(A3490,'5'!$E$19:$I$19,2,FALSE),\"-\")","v":"-"},{"$f":"IFERROR(VLOOKUP(A3490,'5'!E3499:I3499,4,FALSE),\"-\")","v":"-"}]
[null,{"$f":"IFERROR(VLOOKUP(A3490,'5'!$E$20:$I$20,2,FALSE),\"-\")","v":"-"},{"$f":"IFERROR(VLOOKUP(A3490,'5'!E3500:I3500,4,FALSE),\"-\")","v":"-"}]
[null,{"$f":"IFERROR(VLOOKUP(A3490,'5'!$E$21:$I$21,2,FALSE),\"-\")","v":"-"},{"$f":"IFERROR(VLOOKUP(A3490,'5'!E3501:I3501,4,FALSE),\"-\")","v":"-"}]
[null,{"$f":"IFERROR(VLOOKUP(A3490,'5'!$E$22:$I$22,2,FALSE),\"-\")","v":"-"},{"$f":"IFERROR(VLOOKUP(A3490,'5'!E3502:I3502,4,FALSE),\"-\")","v":"-"}]
[null,{"$f":"IFERROR(VLOOKUP(A3490,'5'!$E$23:$I$23,2,FALSE),\"-\")","v":"-"},{"$f":"IFERROR(VLOOKUP(A3490,'5'!E3503:I3503,4,FALSE),\"-\")","v":"-"}]
[null,{"$f":"IFERROR(VLOOKUP(A3490,'5'!$E$24:$I$24,2,FALSE),\"-\")","v":"-"},{"$f":"IFERROR(VLOOKUP(A3490,'5'!E3504:I3504,4,FALSE),\"-\")","v":"-"}]
[null,{"$f":"IFERROR(VLOOKUP(A3490,'5'!$E$25:$I$25,2,FALSE),\"-\")","v":"-"},{"$f":"IFERROR(VLOOKUP(A3490,'5'!E3505:I3505,4,FALSE),\"-\")","v":"-"}]
[null,{"$f":"IFERROR(VLOOKUP(A3490,'5'!$E$26:$I$26,2,FALSE),\"-\")","v":"-"},{"$f":"IFERROR(VLOOKUP(A3490,'5'!E3506:I3506,4,FALSE),\"-\")","v":"-"}]
[null,{"$f":"IFERROR(VLOOKUP(A3490,'5'!$E$27:$I$27,2,FALSE),\"-\")","v":"-"},{"$f":"IFERROR(VLOOKUP(A3490,'5'!E3507:I3507,4,FALSE),\"-\")","v":"-"}]
[null,{"$f":"IFERROR(VLOOKUP(A3490,'5'!$E$28:$I$28,2,FALSE),\"-\")","v":"-"},{"$f":"IFERROR(VLOOKUP(A3490,'5'!E3508:I3508,4,FALSE),\"-\")","v":"-"}]
[null,{"$f":"IFERROR(VLOOKUP(A3490,'5'!$E$29:$I$29,2,FALSE),\"-\")","v":"-"},{"$f":"IFERROR(VLOOKUP(A3490,'5'!E3509:I3509,4,FALSE),\"-\")","v":"-"}]
[null,{"$f":"IFERROR(VLOOKUP(A3490,'5'!$E$30:$I$30,2,FALSE),\"-\")","v":"-"},{"$f":"IFERROR(VLOOKUP(A3490,'5'!E3510:I3510,4,FALSE),\"-\")","v":"-"}]
[null,{"$f":"IFERROR(VLOOKUP(A3490,'5'!$E$31:$I$31,2,FALSE),\"-\")","v":"-"},{"$f":"IFERROR(VLOOKUP(A3490,'5'!E3511:I3511,4,FALSE),\"-\")","v":"-"}]
[null,{"$f":"IFERROR(VLOOKUP(A3490,'6'!$E$4:$I$4,2,FALSE),\"-\")","v":"-"},{"$f":"IFERROR(VLOOKUP(A3490,'6'!E3484:I3484,4,FALSE),\"-\")","v":"-"}]
[null,{"$f":"IFERROR(VLOOKUP(A3490,'6'!$E$5:$I$5,2,FALSE),\"-\")","v":"-"},{"$f":"IFERROR(VLOOKUP(A3490,'6'!E3485:I3485,4,FALSE),\"-\")","v":"-"}]
[null,{"$f":"IFERROR(VLOOKUP(A3490,'6'!$E$6:$I$6,2,FALSE),\"-\")","v":"-"},{"$f":"IFERROR(VLOOKUP(A3490,'6'!E3486:I3486,4,FALSE),\"-\")","v":"-"}]
[null,{"$f":"IFERROR(VLOOKUP(A3490,'6'!$E$7:$I$7,2,FALSE),\"-\")","v":"-"},{"$f":"IFERROR(VLOOKUP(A3490,'6'!E3487:I3487,4,FALSE),\"-\")","v":"-"}]
[null,{"$f":"IFERROR(VLOOKUP(A3490,'6'!$E$8:$I$8,2,FALSE),\"-\")","v":"-"},{"$f":"IFERROR(VLOOKUP(A3490,'6'!E3488:I3488,4,FALSE),\"-\")","v":"-"}]
[null,{"$f":"IFERROR(VLOOKUP(A3490,'6'!$E$9:$I$9,2,FALSE),\"-\")","v":"-"},{"$f":"IFERROR(VLOOKUP(A3490,'6'!E3489:I3489,4,FALSE),\"-\")","v":"-"}]
[null,{"$f":"IFERROR(VLOOKUP(A3490,'6'!$E$10:$I$10,2,FALSE),\"-\")","v":"-"},{"$f":"IFERROR(VLOOKUP(A3490,'6'!E3490:I3490,4,FALSE),\"-\")","v":"-"}]
[null,{"$f":"IFERROR(VLOOKUP(A3490,'6'!$E$11:$I$11,2,FALSE),\"-\")","v":"-"},{"$f":"IFERROR(VLOOKUP(A3490,'6'!E3491:I3491,4,FALSE),\"-\")","v":"-"}]
[null,{"$f":"IFERROR(VLOOKUP(A3490,'6'!$E$12:$I$12,2,FALSE),\"-\")","v":"-"},{"$f":"IFERROR(VLOOKUP(A3490,'6'!E3492:I3492,4,FALSE),\"-\")","v":"-"}]
[null,{"$f":"IFERROR(VLOOKUP(A3490,'6'!$E$13:$I$13,2,FALSE),\"-\")","v":"-"},{"$f":"IFERROR(VLOOKUP(A3490,'6'!E3493:I3493,4,FALSE),\"-\")","v":"-"}]
[null,{"$f":"IFERROR(VLOOKUP(A3490,'6'!$E$14:$I$14,2,FALSE),\"-\")","v":"-"},{"$f":"IFERROR(VLOOKUP(A3490,'6'!E3494:I3494,4,FALSE),\"-\")","v":"-"}]
[null,{"$f":"IFERROR(VLOOKUP(A3490,'6'!$E$15:$I$15,2,FALSE),\"-\")","v":"-"},{"$f":"IFERROR(VLOOKUP(A3490,'6'!E3495:I3495,4,FALSE),\"-\")","v":"-"}]
[null,{"$f":"IFERROR(VLOOKUP(A3490,'6'!$E$16:$I$16,2,FALSE),\"-\")","v":"-"},{"$f":"IFERROR(VLOOKUP(A3490,'6'!E3496:I3496,4,FALSE),\"-\")","v":"-"}]
[null,{"$f":"IFERROR(VLOOKUP(A3490,'6'!$E$17:$I$17,2,FALSE),\"-\")","v":"-"},{"$f":"IFERROR(VLOOKUP(A3490,'6'!E3497:I3497,4,FALSE),\"-\")","v":"-"}]
[null,{"$f":"IFERROR(VLOOKUP(A3490,'6'!$E$18:$I$18,2,FALSE),\"-\")","v":"-"},{"$f":"IFERROR(VLOOKUP(A3490,'6'!E3498:I3498,4,FALSE),\"-\")","v":"-"}]
[null,{"$f":"IFERROR(VLOOKUP(A3490,'6'!$E$19:$I$19,2,FALSE),\"-\")","v":"-"},{"$f":"IFERROR(VLOOKUP(A3490,'6'!E3499:I3499,4,FALSE),\"-\")","v":"-"}]
[null,{"$f":"IFERROR(VLOOKUP(A3490,'6'!$E$20:$I$20,2,FALSE),\"-\")","v":"-"},{"$f":"IFERROR(VLOOKUP(A3490,'6'!E3500:I3500,4,FALSE),\"-\")","v":"-"}]
[null,{"$f":"IFERROR(VLOOKUP(A3490,'6'!$E$21:$I$21,2,FALSE),\"-\")","v":"-"},{"$f":"IFERROR(VLOOKUP(A3490,'6'!E3501:I3501,4,FALSE),\"-\")","v":"-"}]
[null,{"$f":"IFERROR(VLOOKUP(A3490,'6'!$E$22:$I$22,2,FALSE),\"-\")","v":"-"},{"$f":"IFERROR(VLOOKUP(A3490,'6'!E3502:I3502,4,FALSE),\"-\")","v":"-"}]
[null,{"$f":"IFERROR(VLOOKUP(A3490,'6'!$E$23:$I$23,2,FALSE),\"-\")","v":"-"},{"$f":"IFERROR(VLOOKUP(A3490,'6'!E3503:I3503,4,FALSE),\"-\")","v":"-"}]
[null,{"$f":"IFERROR(VLOOKUP(A3490,'6'!$E$24:$I$24,2,FALSE),\"-\")","v":"-"},{"$f":"IFERROR(VLOOKUP(A3490,'6'!E3504:I3504,4,FALSE),\"-\")","v":"-"}]
[null,{"$f":"IFERROR(VLOOKUP(A3490,'6'!$E$25:$I$25,2,FALSE),\"-\")","v":"-"},{"$f":"IFERROR(VLOOKUP(A3490,'6'!E3505:I3505,4,FALSE),\"-\")","v":"-"}]
[null,{"$f":"IFERROR(VLOOKUP(A3490,'6'!$E$26:$I$26,2,FALSE),\"-\")","v":"-"},{"$f":"IFERROR(VLOOKUP(A3490,'6'!E3506:I3506,4,FALSE),\"-\")","v":"-"}]
[null,{"$f":"IFERROR(VLOOKUP(A3490,'6'!$E$27:$I$27,2,FALSE),\"-\")","v":"-"},{"$f":"IFERROR(VLOOKUP(A3490,'6'!E3507:I3507,4,FALSE),\"-\")","v":"-"}]
[null,{"$f":"IFERROR(VLOOKUP(A3490,'6'!$E$28:$I$28,2,FALSE),\"-\")","v":"-"},{"$f":"IFERROR(VLOOKUP(A3490,'6'!E3508:I3508,4,FALSE),\"-\")","v":"-"}]
[null,{"$f":"IFERROR(VLOOKUP(A3490,'6'!$E$29:$I$29,2,FALSE),\"-\")","v":"-"},{"$f":"IFERROR(VLOOKUP(A3490,'6'!E3509:I3509,4,FALSE),\"-\")","v":"-"}]
[null,{"$f":"IFERROR(VLOOKUP(A3490,'6'!$E$30:$I$30,2,FALSE),\"-\")","v":"-"},{"$f":"IFERROR(VLOOKUP(A3490,'6'!E3510:I3510,4,FALSE),\"-\")","v":"-"}]
[null,{"$f":"IFERROR(VLOOKUP(A3490,'6'!$E$31:$I$31,2,FALSE),\"-\")","v":"-"},{"$f":"IFERROR(VLOOKUP(A3490,'6'!E3511:I3511,4,FALSE),\"-\")","v":"-"}]
[null,{"$f":"IFERROR(VLOOKUP(A3490,'7'!$E$4:$I$4,2,FALSE),\"-\")","v":"-"},{"$f":"IFERROR(VLOOKUP(A3490,'7'!E3484:I3484,4,FALSE),\"-\")","v":"-"}]
[null,{"$f":"IFERROR(VLOOKUP(A3490,'7'!$E$5:$I$5,2,FALSE),\"-\")","v":"-"},{"$f":"IFERROR(VLOOKUP(A3490,'7'!E3485:I3485,4,FALSE),\"-\")","v":"-"}]
[null,{"$f":"IFERROR(VLOOKUP(A3490,'7'!$E$6:$I$6,2,FALSE),\"-\")","v":"-"},{"$f":"IFERROR(VLOOKUP(A3490,'7'!E3486:I3486,4,FALSE),\"-\")","v":"-"}]
[null,{"$f":"IFERROR(VLOOKUP(A3490,'7'!$E$7:$I$7,2,FALSE),\"-\")","v":"-"},{"$f":"IFERROR(VLOOKUP(A3490,'7'!E3487:I3487,4,FALSE),\"-\")","v":"-"}]
[null,{"$f":"IFERROR(VLOOKUP(A3490,'7'!$E$8:$I$8,2,FALSE),\"-\")","v":"-"},{"$f":"IFERROR(VLOOKUP(A3490,'7'!E3488:I3488,4,FALSE),\"-\")","v":"-"}]
[null,{"$f":"IFERROR(VLOOKUP(A3490,'7'!$E$9:$I$9,2,FALSE),\"-\")","v":"-"},{"$f":"IFERROR(VLOOKUP(A3490,'7'!E3489:I3489,4,FALSE),\"-\")","v":"-"}]
[null,{"$f":"IFERROR(VLOOKUP(A3490,'7'!$E$10:$I$10,2,FALSE),\"-\")","v":"-"},{"$f":"IFERROR(VLOOKUP(A3490,'7'!E3490:I3490,4,FALSE),\"-\")","v":"-"}]
[null,{"$f":"IFERROR(VLOOKUP(A3490,'7'!$E$11:$I$11,2,FALSE),\"-\")","v":"-"},{"$f":"IFERROR(VLOOKUP(A3490,'7'!E3491:I3491,4,FALSE),\"-\")","v":"-"}]
[null,{"$f":"IFERROR(VLOOKUP(A3490,'7'!$E$12:$I$12,2,FALSE),\"-\")","v":"-"},{"$f":"IFERROR(VLOOKUP(A3490,'7'!E3492:I3492,4,FALSE),\"-\")","v":"-"}]
[null,{"$f":"IFERROR(VLOOKUP(A3490,'7'!$E$13:$I$13,2,FALSE),\"-\")","v":"-"},{"$f":"IFERROR(VLOOKUP(A3490,'7'!E3493:I3493,4,FALSE),\"-\")","v":"-"}]
[null,{"$f":"IFERROR(VLOOKUP(A3490,'7'!$E$14:$I$14,2,FALSE),\"-\")","v":"-"},{"$f":"IFERROR(VLOOKUP(A3490,'7'!E3494:I3494,4,FALSE),\"-\")","v":"-"}]
[null,{"$f":"IFERROR(VLOOKUP(A3490,'7'!$E$15:$I$15,2,FALSE),\"-\")","v":"-"},{"$f":"IFERROR(VLOOKUP(A3490,'7'!E3495:I3495,4,FALSE),\"-\")","v":"-"}]
[null,{"$f":"IFERROR(VLOOKUP(A3490,'7'!$E$16:$I$16,2,FALSE),\"-\")","v":"-"},{"$f":"IFERROR(VLOOKUP(A3490,'7'!E3496:I3496,4,FALSE),\"-\")","v":"-"}]
[null,{"$f":"IFERROR(VLOOKUP(A3490,'7'!$E$17:$I$17,2,FALSE),\"-\")","v":"-"},{"$f":"IFERROR(VLOOKUP(A3490,'7'!E3497:I3497,4,FALSE),\"-\")","v":"-"}]
[null,{"$f":"IFERROR(VLOOKUP(A3490,'7'!$E$18:$I$18,2,FALSE),\"-\")","v":"-"},{"$f":"IFERROR(VLOOKUP(A3490,'7'!E3498:I3498,4,FALSE),\"-\")","v":"-"}]
[null,{"$f":"IFERROR(VLOOKUP(A3490,'7'!$E$19:$I$19,2,FALSE),\"-\")","v":"-"},{"$f":"IFERROR(VLOOKUP(A3490,'7'!E3499:I3499,4,FALSE),\"-\")","v":"-"}]
[null,{"$f":"IFERROR(VLOOKUP(A3490,'7'!$E$20:$I$20,2,FALSE),\"-\")","v":"-"},{"$f":"IFERROR(VLOOKUP(A3490,'7'!E3500:I3500,4,FALSE),\"-\")","v":"-"}]
[null,{"$f":"IFERROR(VLOOKUP(A3490,'7'!$E$21:$I$21,2,FALSE),\"-\")","v":"-"},{"$f":"IFERROR(VLOOKUP(A3490,'7'!E3501:I3501,4,FALSE),\"-\")","v":"-"}]
[null,{"$f":"IFERROR(VLOOKUP(A3490,'7'!$E$22:$I$22,2,FALSE),\"-\")","v":"-"},{"$f":"IFERROR(VLOOKUP(A3490,'7'!E3502:I3502,4,FALSE),\"-\")","v":"-"}]
[null,{"$f":"IFERROR(VLOOKUP(A3490,'7'!$E$23:$I$23,2,FALSE),\"-\")","v":"-"},{"$f":"IFERROR(VLOOKUP(A3490,'7'!E3503:I3503,4,FALSE),\"-\")","v":"-"}]
[null,{"$f":"IFERROR(VLOOKUP(A3490,'7'!$E$24:$I$24,2,FALSE),\"-\")","v":"-"},{"$f":"IFERROR(VLOOKUP(A3490,'7'!E3504:I3504,4,FALSE),\"-\")","v":"-"}]
[null,{"$f":"IFERROR(VLOOKUP(A3490,'7'!$E$25:$I$25,2,FALSE),\"-\")","v":"-"},{"$f":"IFERROR(VLOOKUP(A3490,'7'!E3505:I3505,4,FALSE),\"-\")","v":"-"}]
[null,{"$f":"IFERROR(VLOOKUP(A3490,'7'!$E$26:$I$26,2,FALSE),\"-\")","v":"-"},{"$f":"IFERROR(VLOOKUP(A3490,'7'!E3506:I3506,4,FALSE),\"-\")","v":"-"}]
[null,{"$f":"IFERROR(VLOOKUP(A3490,'7'!$E$27:$I$27,2,FALSE),\"-\")","v":"-"},{"$f":"IFERROR(VLOOKUP(A3490,'7'!E3507:I3507,4,FALSE),\"-\")","v":"-"}]
[null,{"$f":"IFERROR(VLOOKUP(A3490,'7'!$E$28:$I$28,2,FALSE),\"-\")","v":"-"},{"$f":"IFERROR(VLOOKUP(A3490,'7'!E3508:I3508,4,FALSE),\"-\")","v":"-"}]
[null,{"$f":"IFERROR(VLOOKUP(A3490,'7'!$E$29:$I$29,2,FALSE),\"-\")","v":"-"},{"$f":"IFERROR(VLOOKUP(A3490,'7'!E3509:I3509,4,FALSE),\"-\")","v":"-"}]
[null,{"$f":"IFERROR(VLOOKUP(A3490,'7'!$E$30:$I$30,2,FALSE),\"-\")","v":"-"},{"$f":"IFERROR(VLOOKUP(A3490,'7'!E3510:I3510,4,FALSE),\"-\")","v":"-"}]
[null,{"$f":"IFERROR(VLOOKUP(A3490,'7'!$E$31:$I$31,2,FALSE),\"-\")","v":"-"},{"$f":"IFERROR(VLOOKUP(A3490,'7'!E3511:I3511,4,FALSE),\"-\")","v":"-"}]
[null,{"$f":"IFERROR(VLOOKUP(A3490,'8'!$E$4:$I$4,2,FALSE),\"-\")","v":"-"},{"$f":"IFERROR(VLOOKUP(A3490,'8'!E3484:I3484,4,FALSE),\"-\")","v":"-"}]
[null,{"$f":"IFERROR(VLOOKUP(A3490,'8'!$E$5:$I$5,2,FALSE),\"-\")","v":"-"},{"$f":"IFERROR(VLOOKUP(A3490,'8'!E3485:I3485,4,FALSE),\"-\")","v":"-"}]
[null,{"$f":"IFERROR(VLOOKUP(A3490,'8'!$E$6:$I$6,2,FALSE),\"-\")","v":"-"},{"$f":"IFERROR(VLOOKUP(A3490,'8'!E3486:I3486,4,FALSE),\"-\")","v":"-"}]
[null,{"$f":"IFERROR(VLOOKUP(A3490,'8'!$E$7:$I$7,2,FALSE),\"-\")","v":"-"},{"$f":"IFERROR(VLOOKUP(A3490,'8'!E3487:I3487,4,FALSE),\"-\")","v":"-"}]
[null,{"$f":"IFERROR(VLOOKUP(A3490,'8'!$E$8:$I$8,2,FALSE),\"-\")","v":"-"},{"$f":"IFERROR(VLOOKUP(A3490,'8'!E3488:I3488,4,FALSE),\"-\")","v":"-"}]
[null,{"$f":"IFERROR(VLOOKUP(A3490,'8'!$E$9:$I$9,2,FALSE),\"-\")","v":"-"},{"$f":"IFERROR(VLOOKUP(A3490,'8'!E3489:I3489,4,FALSE),\"-\")","v":"-"}]
[null,{"$f":"IFERROR(VLOOKUP(A3490,'8'!$E$10:$I$10,2,FALSE),\"-\")","v":"-"},{"$f":"IFERROR(VLOOKUP(A3490,'8'!E3490:I3490,4,FALSE),\"-\")","v":"-"}]
[null,{"$f":"IFERROR(VLOOKUP(A3490,'8'!$E$11:$I$11,2,FALSE),\"-\")","v":"-"},{"$f":"IFERROR(VLOOKUP(A3490,'8'!E3491:I3491,4,FALSE),\"-\")","v":"-"}]
[null,{"$f":"IFERROR(VLOOKUP(A3490,'8'!$E$12:$I$12,2,FALSE),\"-\")","v":"-"},{"$f":"IFERROR(VLOOKUP(A3490,'8'!E3492:I3492,4,FALSE),\"-\")","v":"-"}]
[null,{"$f":"IFERROR(VLOOKUP(A3490,'8'!$E$13:$I$13,2,FALSE),\"-\")","v":"-"},{"$f":"IFERROR(VLOOKUP(A3490,'8'!E3493:I3493,4,FALSE),\"-\")","v":"-"}]
[null,{"$f":"IFERROR(VLOOKUP(A3490,'8'!$E$14:$I$14,2,FALSE),\"-\")","v":"-"},{"$f":"IFERROR(VLOOKUP(A3490,'8'!E3494:I3494,4,FALSE),\"-\")","v":"-"}]
[null,{"$f":"IFERROR(VLOOKUP(A3490,'8'!$E$15:$I$15,2,FALSE),\"-\")","v":"-"},{"$f":"IFERROR(VLOOKUP(A3490,'8'!E3495:I3495,4,FALSE),\"-\")","v":"-"}]
[null,{"$f":"IFERROR(VLOOKUP(A3490,'8'!$E$16:$I$16,2,FALSE),\"-\")","v":"-"},{"$f":"IFERROR(VLOOKUP(A3490,'8'!E3496:I3496,4,FALSE),\"-\")","v":"-"}]
[null,{"$f":"IFERROR(VLOOKUP(A3490,'8'!$E$17:$I$17,2,FALSE),\"-\")","v":"-"},{"$f":"IFERROR(VLOOKUP(A3490,'8'!E3497:I3497,4,FALSE),\"-\")","v":"-"}]
[null,{"$f":"IFERROR(VLOOKUP(A3490,'8'!$E$18:$I$18,2,FALSE),\"-\")","v":"-"},{"$f":"IFERROR(VLOOKUP(A3490,'8'!E3498:I3498,4,FALSE),\"-\")","v":"-"}]
[null,{"$f":"IFERROR(VLOOKUP(A3490,'8'!$E$19:$I$19,2,FALSE),\"-\")","v":"-"},{"$f":"IFERROR(VLOOKUP(A3490,'8'!E3499:I3499,4,FALSE),\"-\")","v":"-"}]
[null,{"$f":"IFERROR(VLOOKUP(A3490,'8'!$E$20:$I$20,2,FALSE),\"-\")","v":"-"},{"$f":"IFERROR(VLOOKUP(A3490,'8'!E3500:I3500,4,FALSE),\"-\")","v":"-"}]
[null,{"$f":"IFERROR(VLOOKUP(A3490,'8'!$E$21:$I$21,2,FALSE),\"-\")","v":"-"},{"$f":"IFERROR(VLOOKUP(A3490,'8'!E3501:I3501,4,FALSE),\"-\")","v":"-"}]
[null,{"$f":"IFERROR(VLOOKUP(A3490,'8'!$E$22:$I$22,2,FALSE),\"-\")","v":"-"},{"$f":"IFERROR(VLOOKUP(A3490,'8'!E3502:I3502,4,FALSE),\"-\")","v":"-"}]
[null,{"$f":"IFERROR(VLOOKUP(A3490,'8'!$E$23:$I$23,2,FALSE),\"-\")","v":"-"},{"$f":"IFERROR(VLOOKUP(A3490,'8'!E3503:I3503,4,FALSE),\"-\")","v":"-"}]
[null,{"$f":"IFERROR(VLOOKUP(A3490,'8'!$E$24:$I$24,2,FALSE),\"-\")","v":"-"},{"$f":"IFERROR(VLOOKUP(A3490,'8'!E3504:I3504,4,FALSE),\"-\")","v":"-"}]
[null,{"$f":"IFERROR(VLOOKUP(A3490,'8'!$E$25:$I$25,2,FALSE),\"-\")","v":"-"},{"$f":"IFERROR(VLOOKUP(A3490,'8'!E3505:I3505,4,FALSE),\"-\")","v":"-"}]
[null,{"$f":"IFERROR(VLOOKUP(A3490,'8'!$E$26:$I$26,2,FALSE),\"-\")","v":"-"},{"$f":"IFERROR(VLOOKUP(A3490,'8'!E3506:I3506,4,FALSE),\"-\")","v":"-"}]
[null,{"$f":"IFERROR(VLOOKUP(A3490,'8'!$E$27:$I$27,2,FALSE),\"-\")","v":"-"},{"$f":"IFERROR(VLOOKUP(A3490,'8'!E3507:I3507,4,FALSE),\"-\")","v":"-"}]
[null,{"$f":"IFERROR(VLOOKUP(A3490,'8'!$E$28:$I$28,2,FALSE),\"-\")","v":"-"},{"$f":"IFERROR(VLOOKUP(A3490,'8'!E3508:I3508,4,FALSE),\"-\")","v":"-"}]
[null,{"$f":"IFERROR(VLOOKUP(A3490,'8'!$E$29:$I$29,2,FALSE),\"-\")","v":"-"},{"$f":"IFERROR(VLOOKUP(A3490,'8'!E3509:I3509,4,FALSE),\"-\")","v":"-"}]
[null,{"$f":"IFERROR(VLOOKUP(A3490,'8'!$E$30:$I$30,2,FALSE),\"-\")","v":"-"},{"$f":"IFERROR(VLOOKUP(A3490,'8'!E3510:I3510,4,FALSE),\"-\")","v":"-"}]
[null,{"$f":"IFERROR(VLOOKUP(A3490,'8'!$E$31:$I$31,2,FALSE),\"-\")","v":"-"},{"$f":"IFERROR(VLOOKUP(A3490,'8'!E3511:I3511,4,FALSE),\"-\")","v":"-"}]
[null,{"$f":"IFERROR(VLOOKUP(A3490,'9'!$E$4:$I$4,2,FALSE),\"-\")","v":"-"},{"$f":"IFERROR(VLOOKUP(A3490,'9'!E3484:I3484,4,FALSE),\"-\")","v":"-"}]
[null,{"$f":"IFERROR(VLOOKUP(A3490,'9'!$E$5:$I$5,2,FALSE),\"-\")","v":"-"},{"$f":"IFERROR(VLOOKUP(A3490,'9'!E3485:I3485,4,FALSE),\"-\")","v":"-"}]
[null,{"$f":"IFERROR(VLOOKUP(A3490,'9'!$E$6:$I$6,2,FALSE),\"-\")","v":"-"},{"$f":"IFERROR(VLOOKUP(A3490,'9'!E3486:I3486,4,FALSE),\"-\")","v":"-"}]
[null,{"$f":"IFERROR(VLOOKUP(A3490,'9'!$E$7:$I$7,2,FALSE),\"-\")","v":"-"},{"$f":"IFERROR(VLOOKUP(A3490,'9'!E3487:I3487,4,FALSE),\"-\")","v":"-"}]
[null,{"$f":"IFERROR(VLOOKUP(A3490,'9'!$E$8:$I$8,2,FALSE),\"-\")","v":"-"},{"$f":"IFERROR(VLOOKUP(A3490,'9'!E3488:I3488,4,FALSE),\"-\")","v":"-"}]
[null,{"$f":"IFERROR(VLOOKUP(A3490,'9'!$E$9:$I$9,2,FALSE),\"-\")","v":"-"},{"$f":"IFERROR(VLOOKUP(A3490,'9'!E3489:I3489,4,FALSE),\"-\")","v":"-"}]
[null,{"$f":"IFERROR(VLOOKUP(A3490,'9'!$E$10:$I$10,2,FALSE),\"-\")","v":"-"},{"$f":"IFERROR(VLOOKUP(A3490,'9'!E3490:I3490,4,FALSE),\"-\")","v":"-"}]
[null,{"$f":"IFERROR(VLOOKUP(A3490,'9'!$E$11:$I$11,2,FALSE),\"-\")","v":"-"},{"$f":"IFERROR(VLOOKUP(A3490,'9'!E3491:I3491,4,FALSE),\"-\")","v":"-"}]
[null,{"$f":"IFERROR(VLOOKUP(A3490,'9'!$E$12:$I$12,2,FALSE),\"-\")","v":"-"},{"$f":"IFERROR(VLOOKUP(A3490,'9'!E3492:I3492,4,FALSE),\"-\")","v":"-"}]
[null,{"$f":"IFERROR(VLOOKUP(A3490,'9'!$E$13:$I$13,2,FALSE),\"-\")","v":"-"},{"$f":"IFERROR(VLOOKUP(A3490,'9'!E3493:I3493,4,FALSE),\"-\")","v":"-"}]
[null,{"$f":"IFERROR(VLOOKUP(A3490,'9'!$E$14:$I$14,2,FALSE),\"-\")","v":"-"},{"$f":"IFERROR(VLOOKUP(A3490,'9'!E3494:I3494,4,FALSE),\"-\")","v":"-"}]
[null,{"$f":"IFERROR(VLOOKUP(A3490,'9'!$E$15:$I$15,2,FALSE),\"-\")","v":"-"},{"$f":"IFERROR(VLOOKUP(A3490,'9'!E3495:I3495,4,FALSE),\"-\")","v":"-"}]
[null,{"$f":"IFERROR(VLOOKUP(A3490,'9'!$E$16:$I$16,2,FALSE),\"-\")","v":"-"},{"$f":"IFERROR(VLOOKUP(A3490,'9'!E3496:I3496,4,FALSE),\"-\")","v":"-"}]
[null,{"$f":"IFERROR(VLOOKUP(A3490,'9'!$E$17:$I$17,2,FALSE),\"-\")","v":"-"},{"$f":"IFERROR(VLOOKUP(A3490,'9'!E3497:I3497,4,FALSE),\"-\")","v":"-"}]
[null,{"$f":"IFERROR(VLOOKUP(A3490,'9'!$E$18:$I$18,2,FALSE),\"-\")","v":"-"},{"$f":"IFERROR(VLOOKUP(A3490,'9'!E3498:I3498,4,FALSE),\"-\")","v":"-"}]
[null,{"$f":"IFERROR(VLOOKUP(A3490,'9'!$E$19:$I$19,2,FALSE),\"-\")","v":"-"},{"$f":"IFERROR(VLOOKUP(A3490,'9'!E3499:I3499,4,FALSE),\"-\")","v":"-"}]
[null,{"$f":"IFERROR(VLOOKUP(A3490,'9'!$E$20:$I$20,2,FALSE),\"-\")","v":"-"},{"$f":"IFERROR(VLOOKUP(A3490,'9'!E3500:I3500,4,FALSE),\"-\")","v":"-"}]
[null,{"$f":"IFERROR(VLOOKUP(A3490,'9'!$E$21:$I$21,2,FALSE),\"-\")","v":"-"},{"$f":"IFERROR(VLOOKUP(A3490,'9'!E3501:I3501,4,FALSE),\"-\")","v":"-"}]
[null,{"$f":"IFERROR(VLOOKUP(A3490,'9'!$E$22:$I$22,2,FALSE),\"-\")","v":"-"},{"$f":"IFERROR(VLOOKUP(A3490,'9'!E3502:I3502,4,FALSE),\"-\")","v":"-"}]
[null,{"$f":"IFERROR(VLOOKUP(A3490,'9'!$E$23:$I$23,2,FALSE),\"-\")","v":"-"},{"$f":"IFERROR(VLOOKUP(A3490,'9'!E3503:I3503,4,FALSE),\"-\")","v":"-"}]
[null,{"$f":"IFERROR(VLOOKUP(A3490,'9'!$E$24:$I$24,2,FALSE),\"-\")","v":"-"},{"$f":"IFERROR(VLOOKUP(A3490,'9'!E3504:I3504,4,FALSE),\"-\")","v":"-"}]
[null,{"$f":"IFERROR(VLOOKUP(A3490,'9'!$E$25:$I$25,2,FALSE),\"-\")","v":"-"},{"$f":"IFERROR(VLOOKUP(A3490,'9'!E3505:I3505,4,FALSE),\"-\")","v":"-"}]
[null,{"$f":"IFERROR(VLOOKUP(A3490,'9'!$E$26:$I$26,2,FALSE),\"-\")","v":"-"},{"$f":"IFERROR(VLOOKUP(A3490,'9'!E3506:I3506,4,FALSE),\"-\")","v":"-"}]
[null,{"$f":"IFERROR(VLOOKUP(A3490,'9'!$E$27:$I$27,2,FALSE),\"-\")","v":"-"},{"$f":"IFERROR(VLOOKUP(A3490,'9'!E3507:I3507,4,FALSE),\"-\")","v":"-"}]
[null,{"$f":"IFERROR(VLOOKUP(A3490,'9'!$E$28:$I$28,2,FALSE),\"-\")","v":"-"},{"$f":"IFERROR(VLOOKUP(A3490,'9'!E3508:I3508,4,FALSE),\"-\")","v":"-"}]
[null,{"$f":"IFERROR(VLOOKUP(A3490,'9'!$E$29:$I$29,2,FALSE),\"-\")","v":"-"},{"$f":"IFERROR(VLOOKUP(A3490,'9'!E3509:I3509,4,FALSE),\"-\")","v":"-"}]
[null,{"$f":"IFERROR(VLOOKUP(A3490,'9'!$E$30:$I$30,2,FALSE),\"-\")","v":"-"},{"$f":"IFERROR(VLOOKUP(A3490,'9'!E3510:I3510,4,FALSE),\"-\")","v":"-"}]
[null,{"$f":"IFERROR(VLOOKUP(A3490,'9'!$E$31:$I$31,2,FALSE),\"-\")","v":"-"},{"$f":"IFERROR(VLOOKUP(A3490,'9'!E3511:I3511,4,FALSE),\"-\")","v":"-"}]
[null,{"$f":"IFERROR(VLOOKUP(A3490,'10'!$E$4:$I$4,2,FALSE),\"-\")","v":"-"},{"$f":"IFERROR(VLOOKUP(A3490,'10'!E3484:I3484,4,FALSE),\"-\")","v":"-"}]
[null,{"$f":"IFERROR(VLOOKUP(A3490,'10'!$E$5:$I$5,2,FALSE),\"-\")","v":"-"},{"$f":"IFERROR(VLOOKUP(A3490,'10'!E3485:I3485,4,FALSE),\"-\")","v":"-"}]
[null,{"$f":"IFERROR(VLOOKUP(A3490,'10'!$E$6:$I$6,2,FALSE),\"-\")","v":"-"},{"$f":"IFERROR(VLOOKUP(A3490,'10'!E3486:I3486,4,FALSE),\"-\")","v":"-"}]
[null,{"$f":"IFERROR(VLOOKUP(A3490,'10'!$E$7:$I$7,2,FALSE),\"-\")","v":"-"},{"$f":"IFERROR(VLOOKUP(A3490,'10'!E3487:I3487,4,FALSE),\"-\")","v":"-"}]
[null,{"$f":"IFERROR(VLOOKUP(A3490,'10'!$E$8:$I$8,2,FALSE),\"-\")","v":"-"},{"$f":"IFERROR(VLOOKUP(A3490,'10'!E3488:I3488,4,FALSE),\"-\")","v":"-"}]
[null,{"$f":"IFERROR(VLOOKUP(A3490,'10'!$E$9:$I$9,2,FALSE),\"-\")","v":"-"},{"$f":"IFERROR(VLOOKUP(A3490,'10'!E3489:I3489,4,FALSE),\"-\")","v":"-"}]
[null,{"$f":"IFERROR(VLOOKUP(A3490,'10'!$E$10:$I$10,2,FALSE),\"-\")","v":"-"},{"$f":"IFERROR(VLOOKUP(A3490,'10'!E3490:I3490,4,FALSE),\"-\")","v":"-"}]
[null,{"$f":"IFERROR(VLOOKUP(A3490,'10'!$E$11:$I$11,2,FALSE),\"-\")","v":"-"},{"$f":"IFERROR(VLOOKUP(A3490,'10'!E3491:I3491,4,FALSE),\"-\")","v":"-"}]
[null,{"$f":"IFERROR(VLOOKUP(A3490,'10'!$E$12:$I$12,2,FALSE),\"-\")","v":"-"},{"$f":"IFERROR(VLOOKUP(A3490,'10'!E3492:I3492,4,FALSE),\"-\")","v":"-"}]
[null,{"$f":"IFERROR(VLOOKUP(A3490,'10'!$E$13:$I$13,2,FALSE),\"-\")","v":"-"},{"$f":"IFERROR(VLOOKUP(A3490,'10'!E3493:I3493,4,FALSE),\"-\")","v":"-"}]
[null,{"$f":"IFERROR(VLOOKUP(A3490,'10'!$E$14:$I$14,2,FALSE),\"-\")","v":"-"},{"$f":"IFERROR(VLOOKUP(A3490,'10'!E3494:I3494,4,FALSE),\"-\")","v":"-"}]
[null,{"$f":"IFERROR(VLOOKUP(A3490,'10'!$E$15:$I$15,2,FALSE),\"-\")","v":"-"},{"$f":"IFERROR(VLOOKUP(A3490,'10'!E3495:I3495,4,FALSE),\"-\")","v":"-"}]
[null,{"$f":"IFERROR(VLOOKUP(A3490,'10'!$E$16:$I$16,2,FALSE),\"-\")","v":"-"},{"$f":"IFERROR(VLOOKUP(A3490,'10'!E3496:I3496,4,FALSE),\"-\")","v":"-"}]
[null,{"$f":"IFERROR(VLOOKUP(A3490,'10'!$E$17:$I$17,2,FALSE),\"-\")","v":"-"},{"$f":"IFERROR(VLOOKUP(A3490,'10'!E3497:I3497,4,FALSE),\"-\")","v":"-"}]
[null,{"$f":"IFERROR(VLOOKUP(A3490,'10'!$E$18:$I$18,2,FALSE),\"-\")","v":"-"},{"$f":"IFERROR(VLOOKUP(A3490,'10'!E3498:I3498,4,FALSE),\"-\")","v":"-"}]
[null,{"$f":"IFERROR(VLOOKUP(A3490,'10'!E$19:$I3499,2,FALSE),\"-\")","v":"-"},{"$f":"IFERROR(VLOOKUP(A3490,'10'!E3499:I3499,4,FALSE),\"-\")","v":"-"}]
[null,{"$f":"IFERROR(VLOOKUP(A3490,'10'!$E$20:$I$20,2,FALSE),\"-\")","v":"-"},{"$f":"IFERROR(VLOOKUP(A3490,'10'!E3500:I3500,4,FALSE),\"-\")","v":"-"}]
[null,{"$f":"IFERROR(VLOOKUP(A3490,'10'!$E$21:$I$21,2,FALSE),\"-\")","v":"-"},{"$f":"IFERROR(VLOOKUP(A3490,'10'!E3501:I3501,4,FALSE),\"-\")","v":"-"}]
[null,{"$f":"IFERROR(VLOOKUP(A3490,'10'!$E$22:$I$22,2,FALSE),\"-\")","v":"-"},{"$f":"IFERROR(VLOOKUP(A3490,'10'!E3502:I3502,4,FALSE),\"-\")","v":"-"}]
[null,{"$f":"IFERROR(VLOOKUP(A3490,'10'!$E$23:$I$23,2,FALSE),\"-\")","v":"-"},{"$f":"IFERROR(VLOOKUP(A3490,'10'!E3503:I3503,4,FALSE),\"-\")","v":"-"}]
[null,{"$f":"IFERROR(VLOOKUP(A3490,'10'!$E$24:$I$24,2,FALSE),\"-\")","v":"-"},{"$f":"IFERROR(VLOOKUP(A3490,'10'!E3504:I3504,4,FALSE),\"-\")","v":"-"}]
[null,{"$f":"IFERROR(VLOOKUP(A3490,'10'!$E$25:$I$25,2,FALSE),\"-\")","v":"-"},{"$f":"IFERROR(VLOOKUP(A3490,'10'!E3505:I3505,4,FALSE),\"-\")","v":"-"}]
[null,{"$f":"IFERROR(VLOOKUP(A3490,'10'!$E$26:$I$26,2,FALSE),\"-\")","v":"-"},{"$f":"IFERROR(VLOOKUP(A3490,'10'!E3506:I3506,4,FALSE),\"-\")","v":"-"}]
[null,{"$f":"IFERROR(VLOOKUP(A3490,'10'!$E$27:$I$27,2,FALSE),\"-\")","v":"-"},{"$f":"IFERROR(VLOOKUP(A3490,'10'!E3507:I3507,4,FALSE),\"-\")","v":"-"}]
[null,{"$f":"IFERROR(VLOOKUP(A3490,'10'!$E$28:I3508,2,FALSE),\"-\")","v":"-"},{"$f":"IFERROR(VLOOKUP(A3490,'10'!E3508:I3508,4,FALSE),\"-\")","v":"-"}]
[null,{"$f":"IFERROR(VLOOKUP(A3490,'10'!$E$29:$I$29,2,FALSE),\"-\")","v":"-"},{"$f":"IFERROR(VLOOKUP(A3490,'10'!E3509:I3509,4,FALSE),\"-\")","v":"-"}]
[null,{"$f":"IFERROR(VLOOKUP(A3490,'10'!$E$30:$I$30,2,FALSE),\"-\")","v":"-"},{"$f":"IFERROR(VLOOKUP(A3490,'10'!E3510:I3510,4,FALSE),\"-\")","v":"-"}]
[null,{"$f":"IFERROR(VLOOKUP(A3490,'10'!$E$31:$I$31,2,FALSE),\"-\")","v":"-"},{"$f":"IFERROR(VLOOKUP(A3490,'10'!E3511:I3511,4,FALSE),\"-\")","v":"-"}]
[null,{"$f":"IFERROR(VLOOKUP(A3490,'11'!$E$4:$I$4,2,FALSE),\"-\")","v":"-"},{"$f":"IFERROR(VLOOKUP(A3490,'11'!E3484:I3484,4,FALSE),\"-\")","v":"-"}]
[null,{"$f":"IFERROR(VLOOKUP(A3490,'11'!$E$5:$I$5,2,FALSE),\"-\")","v":"-"},{"$f":"IFERROR(VLOOKUP(A3490,'11'!E3485:I3485,4,FALSE),\"-\")","v":"-"}]
[null,{"$f":"IFERROR(VLOOKUP(A3490,'11'!$E$6:$I$6,2,FALSE),\"-\")","v":"-"},{"$f":"IFERROR(VLOOKUP(A3490,'11'!E3486:I3486,4,FALSE),\"-\")","v":"-"}]
[null,{"$f":"IFERROR(VLOOKUP(A3490,'11'!$E$7:$I$7,2,FALSE),\"-\")","v":"-"},{"$f":"IFERROR(VLOOKUP(A3490,'11'!E3487:I3487,4,FALSE),\"-\")","v":"-"}]
[null,{"$f":"IFERROR(VLOOKUP(A3490,'11'!$E$8:$I$8,2,FALSE),\"-\")","v":"-"},{"$f":"IFERROR(VLOOKUP(A3490,'11'!E3488:I3488,4,FALSE),\"-\")","v":"-"}]
[null,{"$f":"IFERROR(VLOOKUP(A3490,'11'!$E$9:$I$9,2,FALSE),\"-\")","v":"-"},{"$f":"IFERROR(VLOOKUP(A3490,'11'!E3489:I3489,4,FALSE),\"-\")","v":"-"}]
[null,{"$f":"IFERROR(VLOOKUP(A3490,'11'!$E$10:$I$10,2,FALSE),\"-\")","v":"-"},{"$f":"IFERROR(VLOOKUP(A3490,'11'!E3490:I3490,4,FALSE),\"-\")","v":"-"}]
[null,{"$f":"IFERROR(VLOOKUP(A3490,'11'!$E$11:$I$11,2,FALSE),\"-\")","v":"-"},{"$f":"IFERROR(VLOOKUP(A3490,'11'!E3491:I3491,4,FALSE),\"-\")","v":"-"}]
[null,{"$f":"IFERROR(VLOOKUP(A3490,'11'!$E$12:$I$12,2,FALSE),\"-\")","v":"-"},{"$f":"IFERROR(VLOOKUP(A3490,'11'!E3492:I3492,4,FALSE),\"-\")","v":"-"}]
[null,{"$f":"IFERROR(VLOOKUP(A3490,'11'!$E$13:$I$13,2,FALSE),\"-\")","v":"-"},{"$f":"IFERROR(VLOOKUP(A3490,'11'!E3493:I3493,4,FALSE),\"-\")","v":"-"}]
[null,{"$f":"IFERROR(VLOOKUP(A3490,'11'!$E$14:$I$14,2,FALSE),\"-\")","v":"-"},{"$f":"IFERROR(VLOOKUP(A3490,'11'!E3494:I3494,4,FALSE),\"-\")","v":"-"}]
[null,{"$f":"IFERROR(VLOOKUP(A3490,'11'!$E$15:$I$15,2,FALSE),\"-\")","v":"-"},{"$f":"IFERROR(VLOOKUP(A3490,'11'!E3495:I3495,4,FALSE),\"-\")","v":"-"}]
[null,{"$f":"IFERROR(VLOOKUP(A3490,'11'!$E$16:$I$16,2,FALSE),\"-\")","v":"-"},{"$f":"IFERROR(VLOOKUP(A3490,'11'!E3496:I3496,4,FALSE),\"-\")","v":"-"}]
[null,{"$f":"IFERROR(VLOOKUP(A3490,'11'!$E$17:$I$17,2,FALSE),\"-\")","v":"-"},{"$f":"IFERROR(VLOOKUP(A3490,'11'!E3497:I3497,4,FALSE),\"-\")","v":"-"}]
[null,{"$f":"IFERROR(VLOOKUP(A3490,'11'!$E$18:$I$18,2,FALSE),\"-\")","v":"-"},{"$f":"IFERROR(VLOOKUP(A3490,'11'!E3498:I3498,4,FALSE),\"-\")","v":"-"}]
[null,{"$f":"IFERROR(VLOOKUP(A3490,'11'!$E$19:$I$19,2,FALSE),\"-\")","v":"-"},{"$f":"IFERROR(VLOOKUP(A3490,'11'!E3499:I3499,4,FALSE),\"-\")","v":"-"}]
[null,{"$f":"IFERROR(VLOOKUP(A3490,'11'!$E$20:$I$20,2,FALSE),\"-\")","v":"-"},{"$f":"IFERROR(VLOOKUP(A3490,'11'!E3500:I3500,4,FALSE),\"-\")","v":"-"}]
[null,{"$f":"IFERROR(VLOOKUP(A3490,'11'!$E$21:$I$21,2,FALSE),\"-\")","v":"-"},{"$f":"IFERROR(VLOOKUP(A3490,'11'!E3501:I3501,4,FALSE),\"-\")","v":"-"}]
[null,{"$f":"IFERROR(VLOOKUP(A3490,'11'!$E$22:$I$22,2,FALSE),\"-\")","v":"-"},{"$f":"IFERROR(VLOOKUP(A3490,'11'!E3502:I3502,4,FALSE),\"-\")","v":"-"}]
[null,{"$f":"IFERROR(VLOOKUP(A3490,'11'!$E$23:$I$23,2,FALSE),\"-\")","v":"-"},{"$f":"IFERROR(VLOOKUP(A3490,'11'!E3503:I3503,4,FALSE),\"-\")","v":"-"}]
[null,{"$f":"IFERROR(VLOOKUP(A3490,'11'!$E$24:$I$24,2,FALSE),\"-\")","v":"-"},{"$f":"IFERROR(VLOOKUP(A3490,'11'!E3504:I3504,4,FALSE),\"-\")","v":"-"}]
[null,{"$f":"IFERROR(VLOOKUP(A3490,'11'!$E$25:$I$25,2,FALSE),\"-\")","v":"-"},{"$f":"IFERROR(VLOOKUP(A3490,'11'!E3505:I3505,4,FALSE),\"-\")","v":"-"}]
[null,{"$f":"IFERROR(VLOOKUP(A3490,'11'!$E$26:$I$26,2,FALSE),\"-\")","v":"-"},{"$f":"IFERROR(VLOOKUP(A3490,'11'!E3506:I3506,4,FALSE),\"-\")","v":"-"}]
[null,{"$f":"IFERROR(VLOOKUP(A3490,'11'!$E$27:$I$27,2,FALSE),\"-\")","v":"-"},{"$f":"IFERROR(VLOOKUP(A3490,'11'!E3507:I3507,4,FALSE),\"-\")","v":"-"}]
[null,{"$f":"IFERROR(VLOOKUP(A3490,'11'!$E$28:$I$28,2,FALSE),\"-\")","v":"-"},{"$f":"IFERROR(VLOOKUP(A3490,'11'!E3508:I3508,4,FALSE),\"-\")","v":"-"}]
[null,{"$f":"IFERROR(VLOOKUP(A3490,'11'!$E$29:$I$29,2,FALSE),\"-\")","v":"-"},{"$f":"IFERROR(VLOOKUP(A3490,'11'!E3509:I3509,4,FALSE),\"-\")","v":"-"}]
[null,{"$f":"IFERROR(VLOOKUP(A3490,'11'!$E$30:$I$30,2,FALSE),\"-\")","v":"-"},{"$f":"IFERROR(VLOOKUP(A3490,'11'!E3510:I3510,4,FALSE),\"-\")","v":"-"}]
[null,{"$f":"IFERROR(VLOOKUP(A3490,'11'!$E$31:$I$31,2,FALSE),\"-\")","v":"-"},{"$f":"IFERROR(VLOOKUP(A3490,'11'!E3511:I3511,4,FALSE),\"-\")","v":"-"}]
[null,{"$f":"IFERROR(VLOOKUP(A3490,'12'!$E$4:$I$4,2,FALSE),\"-\")","v":"-"},{"$f":"IFERROR(VLOOKUP(A3490,'12'!E3484:I3484,4,FALSE),\"-\")","v":"-"}]
[null,{"$f":"IFERROR(VLOOKUP(A3490,'12'!$E$5:$I$5,2,FALSE),\"-\")","v":"-"},{"$f":"IFERROR(VLOOKUP(A3490,'12'!E3485:I3485,4,FALSE),\"-\")","v":"-"}]
[null,{"$f":"IFERROR(VLOOKUP(A3490,'12'!$E$6:$I$6,2,FALSE),\"-\")","v":"-"},{"$f":"IFERROR(VLOOKUP(A3490,'12'!E3486:I3486,4,FALSE),\"-\")","v":"-"}]
[null,{"$f":"IFERROR(VLOOKUP(A3490,'12'!$E$7:$I$7,2,FALSE),\"-\")","v":"-"},{"$f":"IFERROR(VLOOKUP(A3490,'12'!E3487:I3487,4,FALSE),\"-\")","v":"-"}]
[null,{"$f":"IFERROR(VLOOKUP(A3490,'12'!$E$8:$I$8,2,FALSE),\"-\")","v":"-"},{"$f":"IFERROR(VLOOKUP(A3490,'12'!E3488:I3488,4,FALSE),\"-\")","v":"-"}]
[null,{"$f":"IFERROR(VLOOKUP(A3490,'12'!$E$9:$I$9,2,FALSE),\"-\")","v":"-"},{"$f":"IFERROR(VLOOKUP(A3490,'12'!E3489:I3489,4,FALSE),\"-\")","v":"-"}]
[null,{"$f":"IFERROR(VLOOKUP(A3490,'12'!$E$10:$I$10,2,FALSE),\"-\")","v":"-"},{"$f":"IFERROR(VLOOKUP(A3490,'12'!E3490:I3490,4,FALSE),\"-\")","v":"-"}]
[null,{"$f":"IFERROR(VLOOKUP(A3490,'12'!$E$11:$I$11,2,FALSE),\"-\")","v":"-"},{"$f":"IFERROR(VLOOKUP(A3490,'12'!E3491:I3491,4,FALSE),\"-\")","v":"-"}]
[null,{"$f":"IFERROR(VLOOKUP(A3490,'12'!$E$12:$I$12,2,FALSE),\"-\")","v":"-"},{"$f":"IFERROR(VLOOKUP(A3490,'12'!E3492:I3492,4,FALSE),\"-\")","v":"-"}]
[null,{"$f":"IFERROR(VLOOKUP(A3490,'12'!$E$13:$I$13,2,FALSE),\"-\")","v":"-"},{"$f":"IFERROR(VLOOKUP(A3490,'12'!E3493:I3493,4,FALSE),\"-\")","v":"-"}]
[null,{"$f":"IFERROR(VLOOKUP(A3490,'12'!$E$14:$I$14,2,FALSE),\"-\")","v":"-"},{"$f":"IFERROR(VLOOKUP(A3490,'12'!E3494:I3494,4,FALSE),\"-\")","v":"-"}]
[null,{"$f":"IFERROR(VLOOKUP(A3490,'12'!$E$15:$I$15,2,FALSE),\"-\")","v":"-"},{"$f":"IFERROR(VLOOKUP(A3490,'12'!E3495:I3495,4,FALSE),\"-\")","v":"-"}]
[null,{"$f":"IFERROR(VLOOKUP(A3490,'12'!$E$16:$I$16,2,FALSE),\"-\")","v":"-"},{"$f":"IFERROR(VLOOKUP(A3490,'12'!E3496:I3496,4,FALSE),\"-\")","v":"-"}]
[null,{"$f":"IFERROR(VLOOKUP(A3490,'12'!$E$17:$I$17,2,FALSE),\"-\")","v":"-"},{"$f":"IFERROR(VLOOKUP(A3490,'12'!E3497:I3497,4,FALSE),\"-\")","v":"-"}]
[null,{"$f":"IFERROR(VLOOKUP(A3490,'12'!$E$18:$I$18,2,FALSE),\"-\")","v":"-"},{"$f":"IFERROR(VLOOKUP(A3490,'12'!E3498:I3498,4,FALSE),\"-\")","v":"-"}]
[null,{"$f":"IFERROR(VLOOKUP(A3490,'12'!$E$19:$I$19,2,FALSE),\"-\")","v":"-"},{"$f":"IFERROR(VLOOKUP(A3490,'12'!E3499:I3499,4,FALSE),\"-\")","v":"-"}]
[null,{"$f":"IFERROR(VLOOKUP(A3490,'12'!$E$20:$I$20,2,FALSE),\"-\")","v":"-"},{"$f":"IFERROR(VLOOKUP(A3490,'12'!E3500:I3500,4,FALSE),\"-\")","v":"-"}]
[null,{"$f":"IFERROR(VLOOKUP(A3490,'12'!$E$21:$I$21,2,FALSE),\"-\")","v":"-"},{"$f":"IFERROR(VLOOKUP(A3490,'12'!E3501:I3501,4,FALSE),\"-\")","v":"-"}]
[null,{"$f":"IFERROR(VLOOKUP(A3490,'12'!$E$22:$I$22,2,FALSE),\"-\")","v":"-"},{"$f":"IFERROR(VLOOKUP(A3490,'12'!E3502:I3502,4,FALSE),\"-\")","v":"-"}]
[null,{"$f":"IFERROR(VLOOKUP(A3490,'12'!$E$23:$I$23,2,FALSE),\"-\")","v":"-"},{"$f":"IFERROR(VLOOKUP(A3490,'12'!E3503:I3503,4,FALSE),\"-\")","v":"-"}]
[null,{"$f":"IFERROR(VLOOKUP(A3490,'12'!$E$24:$I$24,2,FALSE),\"-\")","v":"-"},{"$f":"IFERROR(VLOOKUP(A3490,'12'!E3504:I3504,4,FALSE),\"-\")","v":"-"}]
[null,{"$f":"IFERROR(VLOOKUP(A3490,'12'!$E$25:$I$25,2,FALSE),\"-\")","v":"-"},{"$f":"IFERROR(VLOOKUP(A3490,'12'!E3505:I3505,4,FALSE),\"-\")","v":"-"}]
[null,{"$f":"IFERROR(VLOOKUP(A3490,'12'!$E$26:$I$26,2,FALSE),\"-\")","v":"-"},{"$f":"IFERROR(VLOOKUP(A3490,'12'!E3506:I3506,4,FALSE),\"-\")","v":"-"}]
[null,{"$f":"IFERROR(VLOOKUP(A3490,'12'!$E$27:$I$27,2,FALSE),\"-\")","v":"-"},{"$f":"IFERROR(VLOOKUP(A3490,'12'!E3507:I3507,4,FALSE),\"-\")","v":"-"}]
[null,{"$f":"IFERROR(VLOOKUP(A3490,'12'!$E$28:$I$28,2,FALSE),\"-\")","v":"-"},{"$f":"IFERROR(VLOOKUP(A3490,'12'!E3508:I3508,4,FALSE),\"-\")","v":"-"}]
[null,{"$f":"IFERROR(VLOOKUP(A3490,'12'!$E$29:$I$29,2,FALSE),\"-\")","v":"-"},{"$f":"IFERROR(VLOOKUP(A3490,'12'!E3509:I3509,4,FALSE),\"-\")","v":"-"}]
[null,{"$f":"IFERROR(VLOOKUP(A3490,'12'!$E$30:$I$30,2,FALSE),\"-\")","v":"-"},{"$f":"IFERROR(VLOOKUP(A3490,'12'!E3510:I3510,4,FALSE),\"-\")","v":"-"}]
[null,{"$f":"IFERROR(VLOOKUP(A3490,'12'!$E$31:$I$31,2,FALSE),\"-\")","v":"-"},{"$f":"IFERROR(VLOOKUP(A3490,'12'!E3511:I3511,4,FALSE),\"-\")","v":"-"}]
[null,{"$f":"IFERROR(VLOOKUP(A3490,'13'!$E$4:$I$4,2,FALSE),\"-\")","v":"-"},{"$f":"IFERROR(VLOOKUP(A3490,'13'!E3484:I3484,4,FALSE),\"-\")","v":"-"}]
[null,{"$f":"IFERROR(VLOOKUP(A3490,'13'!$E$5:$I$5,2,FALSE),\"-\")","v":"-"},{"$f":"IFERROR(VLOOKUP(A3490,'13'!E3485:I3485,4,FALSE),\"-\")","v":"-"}]
[null,{"$f":"IFERROR(VLOOKUP(A3490,'13'!$E$6:$I$6,2,FALSE),\"-\")","v":"-"},{"$f":"IFERROR(VLOOKUP(A3490,'13'!E3486:I3486,4,FALSE),\"-\")","v":"-"}]
[null,{"$f":"IFERROR(VLOOKUP(A3490,'13'!$E$7:$I$7,2,FALSE),\"-\")","v":"-"},{"$f":"IFERROR(VLOOKUP(A3490,'13'!E3487:I3487,4,FALSE),\"-\")","v":"-"}]
[null,{"$f":"IFERROR(VLOOKUP(A3490,'13'!$E$8:$I$8,2,FALSE),\"-\")","v":"-"},{"$f":"IFERROR(VLOOKUP(A3490,'13'!E3488:I3488,4,FALSE),\"-\")","v":"-"}]
[null,{"$f":"IFERROR(VLOOKUP(A3490,'13'!$E$9:$I$9,2,FALSE),\"-\")","v":"-"},{"$f":"IFERROR(VLOOKUP(A3490,'13'!E3489:I3489,4,FALSE),\"-\")","v":"-"}]
[null,{"$f":"IFERROR(VLOOKUP(A3490,'13'!$E$10:$I$10,2,FALSE),\"-\")","v":"-"},{"$f":"IFERROR(VLOOKUP(A3490,'13'!E3490:I3490,4,FALSE),\"-\")","v":"-"}]
[null,{"$f":"IFERROR(VLOOKUP(A3490,'13'!$E$11:$I$11,2,FALSE),\"-\")","v":"-"},{"$f":"IFERROR(VLOOKUP(A3490,'13'!E3491:I3491,4,FALSE),\"-\")","v":"-"}]
[null,{"$f":"IFERROR(VLOOKUP(A3490,'13'!$E$12:$I$12,2,FALSE),\"-\")","v":"-"},{"$f":"IFERROR(VLOOKUP(A3490,'13'!E3492:I3492,4,FALSE),\"-\")","v":"-"}]
[null,{"$f":"IFERROR(VLOOKUP(A3490,'13'!$E$13:$I$13,2,FALSE),\"-\")","v":"-"},{"$f":"IFERROR(VLOOKUP(A3490,'13'!E3493:I3493,4,FALSE),\"-\")","v":"-"}]
[null,{"$f":"IFERROR(VLOOKUP(A3490,'13'!$E$14:$I$14,2,FALSE),\"-\")","v":"-"},{"$f":"IFERROR(VLOOKUP(A3490,'13'!E3494:I3494,4,FALSE),\"-\")","v":"-"}]
[null,{"$f":"IFERROR(VLOOKUP(A3490,'13'!$E$15:$I$15,2,FALSE),\"-\")","v":"-"},{"$f":"IFERROR(VLOOKUP(A3490,'13'!E3495:I3495,4,FALSE),\"-\")","v":"-"}]
[null,{"$f":"IFERROR(VLOOKUP(A3490,'13'!$E$16:$I$16,2,FALSE),\"-\")","v":"-"},{"$f":"IFERROR(VLOOKUP(A3490,'13'!E3496:I3496,4,FALSE),\"-\")","v":"-"}]
[null,{"$f":"IFERROR(VLOOKUP(A3490,'13'!$E$17:$I$17,2,FALSE),\"-\")","v":"-"},{"$f":"IFERROR(VLOOKUP(A3490,'13'!E3497:I3497,4,FALSE),\"-\")","v":"-"}]
[null,{"$f":"IFERROR(VLOOKUP(A3490,'13'!$E$18:$I$18,2,FALSE),\"-\")","v":"-"},{"$f":"IFERROR(VLOOKUP(A3490,'13'!E3498:I3498,4,FALSE),\"-\")","v":"-"}]
[null,{"$f":"IFERROR(VLOOKUP(A3490,'13'!$E$19:$I$19,2,FALSE),\"-\")","v":"-"},{"$f":"IFERROR(VLOOKUP(A3490,'13'!E3499:I3499,4,FALSE),\"-\")","v":"-"}]
[null,{"$f":"IFERROR(VLOOKUP(A3490,'13'!$E$20:$I$20,2,FALSE),\"-\")","v":"-"},{"$f":"IFERROR(VLOOKUP(A3490,'13'!E3500:I3500,4,FALSE),\"-\")","v":"-"}]
[null,{"$f":"IFERROR(VLOOKUP(A3490,'13'!$E$21:$I$21,2,FALSE),\"-\")","v":"-"},{"$f":"IFERROR(VLOOKUP(A3490,'13'!E3501:I3501,4,FALSE),\"-\")","v":"-"}]
[null,{"$f":"IFERROR(VLOOKUP(A3490,'13'!$E$22:$I$22,2,FALSE),\"-\")","v":"-"},{"$f":"IFERROR(VLOOKUP(A3490,'13'!E3502:I3502,4,FALSE),\"-\")","v":"-"}]
[null,{"$f":"IFERROR(VLOOKUP(A3490,'13'!$E$23:$I$23,2,FALSE),\"-\")","v":"-"},{"$f":"IFERROR(VLOOKUP(A3490,'13'!E3503:I3503,4,FALSE),\"-\")","v":"-"}]
[null,{"$f":"IFERROR(VLOOKUP(A3490,'13'!$E$24:$I$24,2,FALSE),\"-\")","v":"-"},{"$f":"IFERROR(VLOOKUP(A3490,'13'!E3504:I3504,4,FALSE),\"-\")","v":"-"}]
[null,{"$f":"IFERROR(VLOOKUP(A3490,'13'!$E$25:$I$25,2,FALSE),\"-\")","v":"-"},{"$f":"IFERROR(VLOOKUP(A3490,'13'!E3505:I3505,4,FALSE),\"-\")","v":"-"}]
[null,{"$f":"IFERROR(VLOOKUP(A3490,'13'!$E$26:$I$26,2,FALSE),\"-\")","v":"-"},{"$f":"IFERROR(VLOOKUP(A3490,'13'!E3506:I3506,4,FALSE),\"-\")","v":"-"}]
[null,{"$f":"IFERROR(VLOOKUP(A3490,'13'!$E$27:$I$27,2,FALSE),\"-\")","v":"-"},{"$f":"IFERROR(VLOOKUP(A3490,'13'!E3507:I3507,4,FALSE),\"-\")","v":"-"}]
[null,{"$f":"IFERROR(VLOOKUP(A3490,'13'!$E$28:$I$28,2,FALSE),\"-\")","v":"-"},{"$f":"IFERROR(VLOOKUP(A3490,'13'!E3508:I3508,4,FALSE),\"-\")","v":"-"}]
[null,{"$f":"IFERROR(VLOOKUP(A3490,'13'!$E$29:$I$29,2,FALSE),\"-\")","v":"-"},{"$f":"IFERROR(VLOOKUP(A3490,'13'!E3509:I3509,4,FALSE),\"-\")","v":"-"}]
[null,{"$f":"IFERROR(VLOOKUP(A3490,'13'!$E$30:$I$30,2,FALSE),\"-\")","v":"-"},{"$f":"IFERROR(VLOOKUP(A3490,'13'!E3510:I3510,4,FALSE),\"-\")","v":"-"}]
[null,{"$f":"IFERROR(VLOOKUP(A3490,'13'!$E$31:$I$31,2,FALSE),\"-\")","v":"-"},{"$f":"IFERROR(VLOOKUP(A3490,'13'!E3511:I3511,4,FALSE),\"-\")","v":"-"}]
[null,{"$f":"IFERROR(VLOOKUP(A3490,'14'!$E$4:$I$4,2,FALSE),\"-\")","v":"-"},{"$f":"IFERROR(VLOOKUP(A3490,'14'!E3484:I3484,4,FALSE),\"-\")","v":"-"}]
[null,{"$f":"IFERROR(VLOOKUP(A3490,'14'!$E$5:$I$5,2,FALSE),\"-\")","v":"-"},{"$f":"IFERROR(VLOOKUP(A3490,'14'!E3485:I3485,4,FALSE),\"-\")","v":"-"}]
[null,{"$f":"IFERROR(VLOOKUP(A3490,'14'!$E$6:$I$6,2,FALSE),\"-\")","v":"-"},{"$f":"IFERROR(VLOOKUP(A3490,'14'!E3486:I3486,4,FALSE),\"-\")","v":"-"}]
[null,{"$f":"IFERROR(VLOOKUP(A3490,'14'!$E$7:$I$7,2,FALSE),\"-\")","v":"-"},{"$f":"IFERROR(VLOOKUP(A3490,'14'!E3487:I3487,4,FALSE),\"-\")","v":"-"}]
[null,{"$f":"IFERROR(VLOOKUP(A3490,'14'!$E$8:$I$8,2,FALSE),\"-\")","v":"-"},{"$f":"IFERROR(VLOOKUP(A3490,'14'!E3488:I3488,4,FALSE),\"-\")","v":"-"}]
[null,{"$f":"IFERROR(VLOOKUP(A3490,'14'!$E$9:$I$9,2,FALSE),\"-\")","v":"-"},{"$f":"IFERROR(VLOOKUP(A3490,'14'!E3489:I3489,4,FALSE),\"-\")","v":"-"}]
[null,{"$f":"IFERROR(VLOOKUP(A3490,'14'!$E$10:$I$10,2,FALSE),\"-\")","v":"-"},{"$f":"IFERROR(VLOOKUP(A3490,'14'!E3490:I3490,4,FALSE),\"-\")","v":"-"}]
[null,{"$f":"IFERROR(VLOOKUP(A3490,'14'!$E$11:$I$11,2,FALSE),\"-\")","v":"-"},{"$f":"IFERROR(VLOOKUP(A3490,'14'!E3491:I3491,4,FALSE),\"-\")","v":"-"}]
[null,{"$f":"IFERROR(VLOOKUP(A3490,'14'!$E$12:$I$12,2,FALSE),\"-\")","v":"-"},{"$f":"IFERROR(VLOOKUP(A3490,'14'!E3492:I3492,4,FALSE),\"-\")","v":"-"}]
[null,{"$f":"IFERROR(VLOOKUP(A3490,'14'!$E$13:$I$13,2,FALSE),\"-\")","v":"-"},{"$f":"IFERROR(VLOOKUP(A3490,'14'!E3493:I3493,4,FALSE),\"-\")","v":"-"}]
[null,{"$f":"IFERROR(VLOOKUP(A3490,'14'!$E$14:$I$14,2,FALSE),\"-\")","v":"-"},{"$f":"IFERROR(VLOOKUP(A3490,'14'!E3494:I3494,4,FALSE),\"-\")","v":"-"}]
[null,{"$f":"IFERROR(VLOOKUP(A3490,'14'!$E$15:$I$15,2,FALSE),\"-\")","v":"-"},{"$f":"IFERROR(VLOOKUP(A3490,'14'!E3495:I3495,4,FALSE),\"-\")","v":"-"}]
[null,{"$f":"IFERROR(VLOOKUP(A3490,'14'!$E$16:$I$16,2,FALSE),\"-\")","v":"-"},{"$f":"IFERROR(VLOOKUP(A3490,'14'!E3496:I3496,4,FALSE),\"-\")","v":"-"}]
[null,{"$f":"IFERROR(VLOOKUP(A3490,'14'!$E$17:$I$17,2,FALSE),\"-\")","v":"-"},{"$f":"IFERROR(VLOOKUP(A3490,'14'!E3497:I3497,4,FALSE),\"-\")","v":"-"}]
[null,{"$f":"IFERROR(VLOOKUP(A3490,'14'!$E$18:$I$18,2,FALSE),\"-\")","v":"-"},{"$f":"IFERROR(VLOOKUP(A3490,'14'!E3498:I3498,4,FALSE),\"-\")","v":"-"}]
[null,{"$f":"IFERROR(VLOOKUP(A3490,'14'!$E$19:$I$19,2,FALSE),\"-\")","v":"-"},{"$f":"IFERROR(VLOOKUP(A3490,'14'!E3499:I3499,4,FALSE),\"-\")","v":"-"}]
[null,{"$f":"IFERROR(VLOOKUP(A3490,'14'!$E$20:$I$20,2,FALSE),\"-\")","v":"-"},{"$f":"IFERROR(VLOOKUP(A3490,'14'!E3500:I3500,4,FALSE),\"-\")","v":"-"}]
[null,{"$f":"IFERROR(VLOOKUP(A3490,'14'!$E$21:$I$21,2,FALSE),\"-\")","v":"-"},{"$f":"IFERROR(VLOOKUP(A3490,'14'!E3501:I3501,4,FALSE),\"-\")","v":"-"}]
[null,{"$f":"IFERROR(VLOOKUP(A3490,'14'!$E$22:$I$22,2,FALSE),\"-\")","v":"-"},{"$f":"IFERROR(VLOOKUP(A3490,'14'!E3502:I3502,4,FALSE),\"-\")","v":"-"}]
[null,{"$f":"IFERROR(VLOOKUP(A3490,'14'!$E$23:$I$23,2,FALSE),\"-\")","v":"-"},{"$f":"IFERROR(VLOOKUP(A3490,'14'!E3503:I3503,4,FALSE),\"-\")","v":"-"}]
[null,{"$f":"IFERROR(VLOOKUP(A3490,'14'!$E$24:$I$24,2,FALSE),\"-\")","v":"-"},{"$f":"IFERROR(VLOOKUP(A3490,'14'!E3504:I3504,4,FALSE),\"-\")","v":"-"}]
[null,{"$f":"IFERROR(VLOOKUP(A3490,'14'!$E$25:I3505,2,FALSE),\"-\")","v":"-"},{"$f":"IFERROR(VLOOKUP(A3490,'14'!E3505:I3505,4,FALSE),\"-\")","v":"-"}]
[null,{"$f":"IFERROR(VLOOKUP(A3490,'14'!$E$26:$I$26,2,FALSE),\"-\")","v":"-"},{"$f":"IFERROR(VLOOKUP(A3490,'14'!E3506:I3506,4,FALSE),\"-\")","v":"-"}]
[null,{"$f":"IFERROR(VLOOKUP(A3490,'14'!$E$27:$I$27,2,FALSE),\"-\")","v":"-"},{"$f":"IFERROR(VLOOKUP(A3490,'14'!E3507:I3507,4,FALSE),\"-\")","v":"-"}]
[null,{"$f":"IFERROR(VLOOKUP(A3490,'14'!$E$28:$I$28,2,FALSE),\"-\")","v":"-"},{"$f":"IFERROR(VLOOKUP(A3490,'14'!E3508:I3508,4,FALSE),\"-\")","v":"-"}]
[null,{"$f":"IFERROR(VLOOKUP(A3490,'14'!$E$29:$I$29,2,FALSE),\"-\")","v":"-"},{"$f":"IFERROR(VLOOKUP(A3490,'14'!E3509:I3509,4,FALSE),\"-\")","v":"-"}]
[null,{"$f":"IFERROR(VLOOKUP(A3490,'14'!$E$30:$I$30,2,FALSE),\"-\")","v":"-"},{"$f":"IFERROR(VLOOKUP(A3490,'14'!E3510:I3510,4,FALSE),\"-\")","v":"-"}]
[null,{"$f":"IFERROR(VLOOKUP(A3490,'14'!$E$31:$I$31,2,FALSE),\"-\")","v":"-"},{"$f":"IFERROR(VLOOKUP(A3490,'14'!E3511:I3511,4,FALSE),\"-\")","v":"-"}]
[null,{"$f":"IFERROR(VLOOKUP(A3490,'15'!$E$4:$I$4,2,FALSE),\"-\")","v":"-"},{"$f":"IFERROR(VLOOKUP(A3490,'15'!E3484:I3484,4,FALSE),\"-\")","v":"-"}]
[null,{"$f":"IFERROR(VLOOKUP(A3490,'15'!$E$5:$I$5,2,FALSE),\"-\")","v":"-"},{"$f":"IFERROR(VLOOKUP(A3490,'15'!E3485:I3485,4,FALSE),\"-\")","v":"-"}]
[null,{"$f":"IFERROR(VLOOKUP(A3490,'15'!$E$6:$I$6,2,FALSE),\"-\")","v":"-"},{"$f":"IFERROR(VLOOKUP(A3490,'15'!E3486:I3486,4,FALSE),\"-\")","v":"-"}]
[null,{"$f":"IFERROR(VLOOKUP(A3490,'15'!$E$7:$I$7,2,FALSE),\"-\")","v":"-"},{"$f":"IFERROR(VLOOKUP(A3490,'15'!E3487:I3487,4,FALSE),\"-\")","v":"-"}]
[null,{"$f":"IFERROR(VLOOKUP(A3490,'15'!$E$8:$I$8,2,FALSE),\"-\")","v":"-"},{"$f":"IFERROR(VLOOKUP(A3490,'15'!E3488:I3488,4,FALSE),\"-\")","v":"-"}]
[null,{"$f":"IFERROR(VLOOKUP(A3490,'15'!$E$9:$I$9,2,FALSE),\"-\")","v":"-"},{"$f":"IFERROR(VLOOKUP(A3490,'15'!E3489:I3489,4,FALSE),\"-\")","v":"-"}]
[null,{"$f":"IFERROR(VLOOKUP(A3490,'15'!$E$10:$I$10,2,FALSE),\"-\")","v":"-"},{"$f":"IFERROR(VLOOKUP(A3490,'15'!E3490:I3490,4,FALSE),\"-\")","v":"-"}]
[null,{"$f":"IFERROR(VLOOKUP(A3490,'15'!$E$11:$I$11,2,FALSE),\"-\")","v":"-"},{"$f":"IFERROR(VLOOKUP(A3490,'15'!E3491:I3491,4,FALSE),\"-\")","v":"-"}]
[null,{"$f":"IFERROR(VLOOKUP(A3490,'15'!$E$12:$I$12,2,FALSE),\"-\")","v":"-"},{"$f":"IFERROR(VLOOKUP(A3490,'15'!E3492:I3492,4,FALSE),\"-\")","v":"-"}]
[null,{"$f":"IFERROR(VLOOKUP(A3490,'15'!$E$13:$I$13,2,FALSE),\"-\")","v":"-"},{"$f":"IFERROR(VLOOKUP(A3490,'15'!E3493:I3493,4,FALSE),\"-\")","v":"-"}]
[null,{"$f":"IFERROR(VLOOKUP(A3490,'15'!$E$14:$I$14,2,FALSE),\"-\")","v":"-"},{"$f":"IFERROR(VLOOKUP(A3490,'15'!E3494:I3494,4,FALSE),\"-\")","v":"-"}]
[null,{"$f":"IFERROR(VLOOKUP(A3490,'15'!$E$15:$I$15,2,FALSE),\"-\")","v":"-"},{"$f":"IFERROR(VLOOKUP(A3490,'15'!E3495:I3495,4,FALSE),\"-\")","v":"-"}]
[null,{"$f":"IFERROR(VLOOKUP(A3490,'15'!$E$16:$I$16,2,FALSE),\"-\")","v":"-"},{"$f":"IFERROR(VLOOKUP(A3490,'15'!E3496:I3496,4,FALSE),\"-\")","v":"-"}]
[null,{"$f":"IFERROR(VLOOKUP(A3490,'15'!$E$17:$I$17,2,FALSE),\"-\")","v":"-"},{"$f":"IFERROR(VLOOKUP(A3490,'15'!E3497:I3497,4,FALSE),\"-\")","v":"-"}]
[null,{"$f":"IFERROR(VLOOKUP(A3490,'15'!$E$18:$I$18,2,FALSE),\"-\")","v":"-"},{"$f":"IFERROR(VLOOKUP(A3490,'15'!E3498:I3498,4,FALSE),\"-\")","v":"-"}]
[null,{"$f":"IFERROR(VLOOKUP(A3490,'15'!$E$19:$I$19,2,FALSE),\"-\")","v":"-"},{"$f":"IFERROR(VLOOKUP(A3490,'15'!E3499:I3499,4,FALSE),\"-\")","v":"-"}]
[null,{"$f":"IFERROR(VLOOKUP(A3490,'15'!$E$20:$I$20,2,FALSE),\"-\")","v":"-"},{"$f":"IFERROR(VLOOKUP(A3490,'15'!E3500:I3500,4,FALSE),\"-\")","v":"-"}]
[null,{"$f":"IFERROR(VLOOKUP(A3490,'15'!$E$21:$I$21,2,FALSE),\"-\")","v":"-"},{"$f":"IFERROR(VLOOKUP(A3490,'15'!E3501:I3501,4,FALSE),\"-\")","v":"-"}]
[null,{"$f":"IFERROR(VLOOKUP(A3490,'15'!$E$22:$I$22,2,FALSE),\"-\")","v":"-"},{"$f":"IFERROR(VLOOKUP(A3490,'15'!E3502:I3502,4,FALSE),\"-\")","v":"-"}]
[null,{"$f":"IFERROR(VLOOKUP(A3490,'15'!$E$23:$I$23,2,FALSE),\"-\")","v":"-"},{"$f":"IFERROR(VLOOKUP(A3490,'15'!E3503:I3503,4,FALSE),\"-\")","v":"-"}]
[null,{"$f":"IFERROR(VLOOKUP(A3490,'15'!$E$24:$I$24,2,FALSE),\"-\")","v":"-"},{"$f":"IFERROR(VLOOKUP(A3490,'15'!E3504:I3504,4,FALSE),\"-\")","v":"-"}]
[null,{"$f":"IFERROR(VLOOKUP(A3490,'15'!$E$25:$I$25,2,FALSE),\"-\")","v":"-"},{"$f":"IFERROR(VLOOKUP(A3490,'15'!E3505:I3505,4,FALSE),\"-\")","v":"-"}]
[null,{"$f":"IFERROR(VLOOKUP(A3490,'15'!$E$26:$I$26,2,FALSE),\"-\")","v":"-"},{"$f":"IFERROR(VLOOKUP(A3490,'15'!E3506:I3506,4,FALSE),\"-\")","v":"-"}]
[null,{"$f":"IFERROR(VLOOKUP(A3490,'15'!$E$27:$I$27,2,FALSE),\"-\")","v":"-"},{"$f":"IFERROR(VLOOKUP(A3490,'15'!E3507:I3507,4,FALSE),\"-\")","v":"-"}]
[null,{"$f":"IFERROR(VLOOKUP(A3490,'15'!$E$28:$I$28,2,FALSE),\"-\")","v":"-"},{"$f":"IFERROR(VLOOKUP(A3490,'15'!E3508:I3508,4,FALSE),\"-\")","v":"-"}]
[null,{"$f":"IFERROR(VLOOKUP(A3490,'15'!$E$29:$I$29,2,FALSE),\"-\")","v":"-"},{"$f":"IFERROR(VLOOKUP(A3490,'15'!E3509:I3509,4,FALSE),\"-\")","v":"-"}]
[null,{"$f":"IFERROR(VLOOKUP(A3490,'15'!$E$30:$I$30,2,FALSE),\"-\")","v":"-"},{"$f":"IFERROR(VLOOKUP(A3490,'15'!E3510:I3510,4,FALSE),\"-\")","v":"-"}]
[null,{"$f":"IFERROR(VLOOKUP(A3490,'15'!$E$31:$I$31,2,FALSE),\"-\")","v":"-"},{"$f":"IFERROR(VLOOKUP(A3490,'15'!E3511:I3511,4,FALSE),\"-\")","v":"-"}]
[null,{"$f":"IFERROR(VLOOKUP(A3490,'16'!$E$4:$I$4,2,FALSE),\"-\")","v":"-"},{"$f":"IFERROR(VLOOKUP(A3490,'16'!E3484:I3484,4,FALSE),\"-\")","v":"-"}]
[null,{"$f":"IFERROR(VLOOKUP(A3490,'16'!$E$5:$I$5,2,FALSE),\"-\")","v":"-"},{"$f":"IFERROR(VLOOKUP(A3490,'16'!E3485:I3485,4,FALSE),\"-\")","v":"-"}]
[null,{"$f":"IFERROR(VLOOKUP(A3490,'16'!$E$6:$I$6,2,FALSE),\"-\")","v":"-"},{"$f":"IFERROR(VLOOKUP(A3490,'16'!E3486:I3486,4,FALSE),\"-\")","v":"-"}]
[null,{"$f":"IFERROR(VLOOKUP(A3490,'16'!$E$7:$I$7,2,FALSE),\"-\")","v":"-"},{"$f":"IFERROR(VLOOKUP(A3490,'16'!E3487:I3487,4,FALSE),\"-\")","v":"-"}]
[null,{"$f":"IFERROR(VLOOKUP(A3490,'16'!$E$8:$I$8,2,FALSE),\"-\")","v":"-"},{"$f":"IFERROR(VLOOKUP(A3490,'16'!E3488:I3488,4,FALSE),\"-\")","v":"-"}]
[null,{"$f":"IFERROR(VLOOKUP(A3490,'16'!$E$9:$I$9,2,FALSE),\"-\")","v":"-"},{"$f":"IFERROR(VLOOKUP(A3490,'16'!E3489:I3489,4,FALSE),\"-\")","v":"-"}]
[null,{"$f":"IFERROR(VLOOKUP(A3490,'16'!$E$10:$I$10,2,FALSE),\"-\")","v":"-"},{"$f":"IFERROR(VLOOKUP(A3490,'16'!E3490:I3490,4,FALSE),\"-\")","v":"-"}]
[null,{"$f":"IFERROR(VLOOKUP(A3490,'16'!$E$11:$I$11,2,FALSE),\"-\")","v":"-"},{"$f":"IFERROR(VLOOKUP(A3490,'16'!E3491:I3491,4,FALSE),\"-\")","v":"-"}]
[null,{"$f":"IFERROR(VLOOKUP(A3490,'16'!$E$12:$I$12,2,FALSE),\"-\")","v":"-"},{"$f":"IFERROR(VLOOKUP(A3490,'16'!E3492:I3492,4,FALSE),\"-\")","v":"-"}]
[null,{"$f":"IFERROR(VLOOKUP(A3490,'16'!$E$13:$I$13,2,FALSE),\"-\")","v":"-"},{"$f":"IFERROR(VLOOKUP(A3490,'16'!E3493:I3493,4,FALSE),\"-\")","v":"-"}]
[null,{"$f":"IFERROR(VLOOKUP(A3490,'16'!$E$14:$I$14,2,FALSE),\"-\")","v":"-"},{"$f":"IFERROR(VLOOKUP(A3490,'16'!E3494:I3494,4,FALSE),\"-\")","v":"-"}]
[null,{"$f":"IFERROR(VLOOKUP(A3490,'16'!$E$15:$I$15,2,FALSE),\"-\")","v":"-"},{"$f":"IFERROR(VLOOKUP(A3490,'16'!E3495:I3495,4,FALSE),\"-\")","v":"-"}]
[null,{"$f":"IFERROR(VLOOKUP(A3490,'16'!$E$16:$I$16,2,FALSE),\"-\")","v":"-"},{"$f":"IFERROR(VLOOKUP(A3490,'16'!E3496:I3496,4,FALSE),\"-\")","v":"-"}]
[null,{"$f":"IFERROR(VLOOKUP(A3490,'16'!$E$17:$I$17,2,FALSE),\"-\")","v":"-"},{"$f":"IFERROR(VLOOKUP(A3490,'16'!E3497:I3497,4,FALSE),\"-\")","v":"-"}]
[null,{"$f":"IFERROR(VLOOKUP(A3490,'16'!$E$18:$I$18,2,FALSE),\"-\")","v":"-"},{"$f":"IFERROR(VLOOKUP(A3490,'16'!E3498:I3498,4,FALSE),\"-\")","v":"-"}]
[null,{"$f":"IFERROR(VLOOKUP(A3490,'16'!$E$19:$I$19,2,FALSE),\"-\")","v":"-"},{"$f":"IFERROR(VLOOKUP(A3490,'16'!E3499:I3499,4,FALSE),\"-\")","v":"-"}]
[null,{"$f":"IFERROR(VLOOKUP(A3490,'16'!$E$20:$I$20,2,FALSE),\"-\")","v":"-"},{"$f":"IFERROR(VLOOKUP(A3490,'16'!E3500:I3500,4,FALSE),\"-\")","v":"-"}]
[null,{"$f":"IFERROR(VLOOKUP(A3490,'16'!$E$21:$I$21,2,FALSE),\"-\")","v":"-"},{"$f":"IFERROR(VLOOKUP(A3490,'16'!E3501:I3501,4,FALSE),\"-\")","v":"-"}]
[null,{"$f":"IFERROR(VLOOKUP(A3490,'16'!$E$22:$I$22,2,FALSE),\"-\")","v":"-"},{"$f":"IFERROR(VLOOKUP(A3490,'16'!E3502:I3502,4,FALSE),\"-\")","v":"-"}]
[null,{"$f":"IFERROR(VLOOKUP(A3490,'16'!$E$23:$I$23,2,FALSE),\"-\")","v":"-"},{"$f":"IFERROR(VLOOKUP(A3490,'16'!E3503:I3503,4,FALSE),\"-\")","v":"-"}]
[null,{"$f":"IFERROR(VLOOKUP(A3490,'16'!$E$24:$I$24,2,FALSE),\"-\")","v":"-"},{"$f":"IFERROR(VLOOKUP(A3490,'16'!E3504:I3504,4,FALSE),\"-\")","v":"-"}]
[null,{"$f":"IFERROR(VLOOKUP(A3490,'16'!$E$25:$I$25,2,FALSE),\"-\")","v":"-"},{"$f":"IFERROR(VLOOKUP(A3490,'16'!E3505:I3505,4,FALSE),\"-\")","v":"-"}]
[null,{"$f":"IFERROR(VLOOKUP(A3490,'16'!$E$26:$I$26,2,FALSE),\"-\")","v":"-"},{"$f":"IFERROR(VLOOKUP(A3490,'16'!E3506:I3506,4,FALSE),\"-\")","v":"-"}]
[null,{"$f":"IFERROR(VLOOKUP(A3490,'16'!$E$27:$I$27,2,FALSE),\"-\")","v":"-"},{"$f":"IFERROR(VLOOKUP(A3490,'16'!E3507:I3507,4,FALSE),\"-\")","v":"-"}]
[null,{"$f":"IFERROR(VLOOKUP(A3490,'16'!$E$28:$I$28,2,FALSE),\"-\")","v":"-"},{"$f":"IFERROR(VLOOKUP(A3490,'16'!E3508:I3508,4,FALSE),\"-\")","v":"-"}]
[null,{"$f":"IFERROR(VLOOKUP(A3490,'16'!$E$29:$I$29,2,FALSE),\"-\")","v":"-"},{"$f":"IFERROR(VLOOKUP(A3490,'16'!E3509:I3509,4,FALSE),\"-\")","v":"-"}]
[null,{"$f":"IFERROR(VLOOKUP(A3490,'16'!$E$30:$I$30,2,FALSE),\"-\")","v":"-"},{"$f":"IFERROR(VLOOKUP(A3490,'16'!E3510:I3510,4,FALSE),\"-\")","v":"-"}]
[null,{"$f":"IFERROR(VLOOKUP(A3490,'16'!$E$31:$I$31,2,FALSE),\"-\")","v":"-"},{"$f":"IFERROR(VLOOKUP(A3490,'16'!E3511:I3511,4,FALSE),\"-\")","v":"-"}]
[null,{"$f":"IFERROR(VLOOKUP(A3490,'17'!$E$4:$I$4,2,FALSE),\"-\")","v":"-"},{"$f":"IFERROR(VLOOKUP(A3490,'17'!E3484:I3484,4,FALSE),\"-\")","v":"-"}]
[null,{"$f":"IFERROR(VLOOKUP(A3490,'17'!$E$5:$I$5,2,FALSE),\"-\")","v":"-"},{"$f":"IFERROR(VLOOKUP(A3490,'17'!E3485:I3485,4,FALSE),\"-\")","v":"-"}]
[null,{"$f":"IFERROR(VLOOKUP(A3490,'17'!$E$6:$I$6,2,FALSE),\"-\")","v":"-"},{"$f":"IFERROR(VLOOKUP(A3490,'17'!E3486:I3486,4,FALSE),\"-\")","v":"-"}]
[null,{"$f":"IFERROR(VLOOKUP(A3490,'17'!$E$7:$I$7,2,FALSE),\"-\")","v":"-"},{"$f":"IFERROR(VLOOKUP(A3490,'17'!E3487:I3487,4,FALSE),\"-\")","v":"-"}]
[null,{"$f":"IFERROR(VLOOKUP(A3490,'17'!$E$8:$I$8,2,FALSE),\"-\")","v":"-"},{"$f":"IFERROR(VLOOKUP(A3490,'17'!E3488:I3488,4,FALSE),\"-\")","v":"-"}]
[null,{"$f":"IFERROR(VLOOKUP(A3490,'17'!$E$9:$I$9,2,FALSE),\"-\")","v":"-"},{"$f":"IFERROR(VLOOKUP(A3490,'17'!E3489:I3489,4,FALSE),\"-\")","v":"-"}]
[null,{"$f":"IFERROR(VLOOKUP(A3490,'17'!$E$10:$I$10,2,FALSE),\"-\")","v":"-"},{"$f":"IFERROR(VLOOKUP(A3490,'17'!E3490:I3490,4,FALSE),\"-\")","v":"-"}]
[null,{"$f":"IFERROR(VLOOKUP(A3490,'17'!$E$11:$I$11,2,FALSE),\"-\")","v":"-"},{"$f":"IFERROR(VLOOKUP(A3490,'17'!E3491:I3491,4,FALSE),\"-\")","v":"-"}]
[null,{"$f":"IFERROR(VLOOKUP(A3490,'17'!$E$12:$I$12,2,FALSE),\"-\")","v":"-"},{"$f":"IFERROR(VLOOKUP(A3490,'17'!E3492:I3492,4,FALSE),\"-\")","v":"-"}]
[null,{"$f":"IFERROR(VLOOKUP(A3490,'17'!$E$13:$I$13,2,FALSE),\"-\")","v":"-"},{"$f":"IFERROR(VLOOKUP(A3490,'17'!E3493:I3493,4,FALSE),\"-\")","v":"-"}]
[null,{"$f":"IFERROR(VLOOKUP(A3490,'17'!$E$14:$I$14,2,FALSE),\"-\")","v":"-"},{"$f":"IFERROR(VLOOKUP(A3490,'17'!E3494:I3494,4,FALSE),\"-\")","v":"-"}]
[null,{"$f":"IFERROR(VLOOKUP(A3490,'17'!$E$15:$I$15,2,FALSE),\"-\")","v":"-"},{"$f":"IFERROR(VLOOKUP(A3490,'17'!E3495:I3495,4,FALSE),\"-\")","v":"-"}]
[null,{"$f":"IFERROR(VLOOKUP(A3490,'17'!$E$16:$I$16,2,FALSE),\"-\")","v":"-"},{"$f":"IFERROR(VLOOKUP(A3490,'17'!E3496:I3496,4,FALSE),\"-\")","v":"-"}]
[null,{"$f":"IFERROR(VLOOKUP(A3490,'17'!$E$17:$I$17,2,FALSE),\"-\")","v":"-"},{"$f":"IFERROR(VLOOKUP(A3490,'17'!E3497:I3497,4,FALSE),\"-\")","v":"-"}]
[null,{"$f":"IFERROR(VLOOKUP(A3490,'17'!$E$18:$I$18,2,FALSE),\"-\")","v":"-"},{"$f":"IFERROR(VLOOKUP(A3490,'17'!E3498:I3498,4,FALSE),\"-\")","v":"-"}]
[null,{"$f":"IFERROR(VLOOKUP(A3490,'17'!$E$19:$I$19,2,FALSE),\"-\")","v":"-"},{"$f":"IFERROR(VLOOKUP(A3490,'17'!E3499:I3499,4,FALSE),\"-\")","v":"-"}]
[null,{"$f":"IFERROR(VLOOKUP(A3490,'17'!$E$20:$I$20,2,FALSE),\"-\")","v":"-"},{"$f":"IFERROR(VLOOKUP(A3490,'17'!E3500:I3500,4,FALSE),\"-\")","v":"-"}]
[null,{"$f":"IFERROR(VLOOKUP(A3490,'17'!E$21:$I3501,2,FALSE),\"-\")","v":"-"},{"$f":"IFERROR(VLOOKUP(A3490,'17'!E3501:I3501,4,FALSE),\"-\")","v":"-"}]
[null,{"$f":"IFERROR(VLOOKUP(A3490,'17'!$E$22:$I$22,2,FALSE),\"-\")","v":"-"},{"$f":"IFERROR(VLOOKUP(A3490,'17'!E3502:I3502,4,FALSE),\"-\")","v":"-"}]
[null,{"$f":"IFERROR(VLOOKUP(A3490,'17'!$E$23:$I$23,2,FALSE),\"-\")","v":"-"},{"$f":"IFERROR(VLOOKUP(A3490,'17'!E3503:I3503,4,FALSE),\"-\")","v":"-"}]
[null,{"$f":"IFERROR(VLOOKUP(A3490,'17'!$E$24:$I$24,2,FALSE),\"-\")","v":"-"},{"$f":"IFERROR(VLOOKUP(A3490,'17'!E3504:I3504,4,FALSE),\"-\")","v":"-"}]
[null,{"$f":"IFERROR(VLOOKUP(A3490,'17'!$E$25:$I$25,2,FALSE),\"-\")","v":"-"},{"$f":"IFERROR(VLOOKUP(A3490,'17'!E3505:I3505,4,FALSE),\"-\")","v":"-"}]
[null,{"$f":"IFERROR(VLOOKUP(A3490,'17'!$E$26:$I$26,2,FALSE),\"-\")","v":"-"},{"$f":"IFERROR(VLOOKUP(A3490,'17'!E3506:I3506,4,FALSE),\"-\")","v":"-"}]
[null,{"$f":"IFERROR(VLOOKUP(A3490,'17'!$E$27:$I$27,2,FALSE),\"-\")","v":"-"},{"$f":"IFERROR(VLOOKUP(A3490,'17'!E3507:I3507,4,FALSE),\"-\")","v":"-"}]
[null,{"$f":"IFERROR(VLOOKUP(A3490,'17'!$E$28:$I$28,2,FALSE),\"-\")","v":"-"},{"$f":"IFERROR(VLOOKUP(A3490,'17'!E3508:I3508,4,FALSE),\"-\")","v":"-"}]
[null,{"$f":"IFERROR(VLOOKUP(A3490,'17'!$E$29:$I$29,2,FALSE),\"-\")","v":"-"},{"$f":"IFERROR(VLOOKUP(A3490,'17'!E3509:I3509,4,FALSE),\"-\")","v":"-"}]
[null,{"$f":"IFERROR(VLOOKUP(A3490,'17'!$E$30:$I$30,2,FALSE),\"-\")","v":"-"},{"$f":"IFERROR(VLOOKUP(A3490,'17'!E3510:I3510,4,FALSE),\"-\")","v":"-"}]
[null,{"$f":"IFERROR(VLOOKUP(A3490,'17'!$E$31:$I$31,2,FALSE),\"-\")","v":"-"},{"$f":"IFERROR(VLOOKUP(A3490,'17'!E3511:I3511,4,FALSE),\"-\")","v":"-"}]
[null,{"$f":"IFERROR(VLOOKUP(A3490,'18'!$E$4:$I$4,2,FALSE),\"-\")","v":"-"},{"$f":"IFERROR(VLOOKUP(A3490,'18'!E3484:I3484,4,FALSE),\"-\")","v":"-"}]
[null,{"$f":"IFERROR(VLOOKUP(A3490,'18'!$E$5:$I$5,2,FALSE),\"-\")","v":"-"},{"$f":"IFERROR(VLOOKUP(A3490,'18'!E3485:I3485,4,FALSE),\"-\")","v":"-"}]
[null,{"$f":"IFERROR(VLOOKUP(A3490,'18'!$E$6:$I$6,2,FALSE),\"-\")","v":"-"},{"$f":"IFERROR(VLOOKUP(A3490,'18'!E3486:I3486,4,FALSE),\"-\")","v":"-"}]
[null,{"$f":"IFERROR(VLOOKUP(A3490,'18'!$E$7:$I$7,2,FALSE),\"-\")","v":"-"},{"$f":"IFERROR(VLOOKUP(A3490,'18'!E3487:I3487,4,FALSE),\"-\")","v":"-"}]
[null,{"$f":"IFERROR(VLOOKUP(A3490,'18'!$E$8:$I$8,2,FALSE),\"-\")","v":"-"},{"$f":"IFERROR(VLOOKUP(A3490,'18'!E3488:I3488,4,FALSE),\"-\")","v":"-"}]
[null,{"$f":"IFERROR(VLOOKUP(A3490,'18'!$E$9:$I$9,2,FALSE),\"-\")","v":"-"},{"$f":"IFERROR(VLOOKUP(A3490,'18'!E3489:I3489,4,FALSE),\"-\")","v":"-"}]
[null,{"$f":"IFERROR(VLOOKUP(A3490,'18'!$E$10:$I$10,2,FALSE),\"-\")","v":"-"},{"$f":"IFERROR(VLOOKUP(A3490,'18'!E3490:I3490,4,FALSE),\"-\")","v":"-"}]
[null,{"$f":"IFERROR(VLOOKUP(A3490,'18'!$E$11:$I$11,2,FALSE),\"-\")","v":"-"},{"$f":"IFERROR(VLOOKUP(A3490,'18'!E3491:I3491,4,FALSE),\"-\")","v":"-"}]
[null,{"$f":"IFERROR(VLOOKUP(A3490,'18'!$E$12:$I$12,2,FALSE),\"-\")","v":"-"},{"$f":"IFERROR(VLOOKUP(A3490,'18'!E3492:I3492,4,FALSE),\"-\")","v":"-"}]
[null,{"$f":"IFERROR(VLOOKUP(A3490,'18'!$E$13:$I$13,2,FALSE),\"-\")","v":"-"},{"$f":"IFERROR(VLOOKUP(A3490,'18'!E3493:I3493,4,FALSE),\"-\")","v":"-"}]
[null,{"$f":"IFERROR(VLOOKUP(A3490,'18'!$E$14:$I$14,2,FALSE),\"-\")","v":"-"},{"$f":"IFERROR(VLOOKUP(A3490,'18'!E3494:I3494,4,FALSE),\"-\")","v":"-"}]
[null,{"$f":"IFERROR(VLOOKUP(A3490,'18'!$E$15:$I$15,2,FALSE),\"-\")","v":"-"},{"$f":"IFERROR(VLOOKUP(A3490,'18'!E3495:I3495,4,FALSE),\"-\")","v":"-"}]
[null,{"$f":"IFERROR(VLOOKUP(A3490,'18'!$E$16:$I$16,2,FALSE),\"-\")","v":"-"},{"$f":"IFERROR(VLOOKUP(A3490,'18'!E3496:I3496,4,FALSE),\"-\")","v":"-"}]
[null,{"$f":"IFERROR(VLOOKUP(A3490,'18'!$E$17:$I$17,2,FALSE),\"-\")","v":"-"},{"$f":"IFERROR(VLOOKUP(A3490,'18'!E3497:I3497,4,FALSE),\"-\")","v":"-"}]
[null,{"$f":"IFERROR(VLOOKUP(A3490,'18'!$E$18:$I$18,2,FALSE),\"-\")","v":"-"},{"$f":"IFERROR(VLOOKUP(A3490,'18'!E3498:I3498,4,FALSE),\"-\")","v":"-"}]
[null,{"$f":"IFERROR(VLOOKUP(A3490,'18'!$E$19:$I$19,2,FALSE),\"-\")","v":"-"},{"$f":"IFERROR(VLOOKUP(A3490,'18'!E3499:I3499,4,FALSE),\"-\")","v":"-"}]
[null,{"$f":"IFERROR(VLOOKUP(A3490,'18'!$E$20:$I$20,2,FALSE),\"-\")","v":"-"},{"$f":"IFERROR(VLOOKUP(A3490,'18'!E3500:I3500,4,FALSE),\"-\")","v":"-"}]
[null,{"$f":"IFERROR(VLOOKUP(A3490,'18'!$E$21:$I$21,2,FALSE),\"-\")","v":"-"},{"$f":"IFERROR(VLOOKUP(A3490,'18'!E3501:I3501,4,FALSE),\"-\")","v":"-"}]
[null,{"$f":"IFERROR(VLOOKUP(A3490,'18'!$E$22:$I$22,2,FALSE),\"-\")","v":"-"},{"$f":"IFERROR(VLOOKUP(A3490,'18'!E3502:I3502,4,FALSE),\"-\")","v":"-"}]
[null,{"$f":"IFERROR(VLOOKUP(A3490,'18'!$E$23:$I$23,2,FALSE),\"-\")","v":"-"},{"$f":"IFERROR(VLOOKUP(A3490,'18'!E3503:I3503,4,FALSE),\"-\")","v":"-"}]
[null,{"$f":"IFERROR(VLOOKUP(A3490,'18'!$E$24:$I$24,2,FALSE),\"-\")","v":"-"},{"$f":"IFERROR(VLOOKUP(A3490,'18'!E3504:I3504,4,FALSE),\"-\")","v":"-"}]
[null,{"$f":"IFERROR(VLOOKUP(A3490,'18'!$E$25:$I$25,2,FALSE),\"-\")","v":"-"},{"$f":"IFERROR(VLOOKUP(A3490,'18'!E3505:I3505,4,FALSE),\"-\")","v":"-"}]
[null,{"$f":"IFERROR(VLOOKUP(A3490,'18'!$E$26:$I$26,2,FALSE),\"-\")","v":"-"},{"$f":"IFERROR(VLOOKUP(A3490,'18'!E3506:I3506,4,FALSE),\"-\")","v":"-"}]
[null,{"$f":"IFERROR(VLOOKUP(A3490,'18'!$E$27:$I$27,2,FALSE),\"-\")","v":"-"},{"$f":"IFERROR(VLOOKUP(A3490,'18'!E3507:I3507,4,FALSE),\"-\")","v":"-"}]
[null,{"$f":"IFERROR(VLOOKUP(A3490,'18'!$E$28:$I$28,2,FALSE),\"-\")","v":"-"},{"$f":"IFERROR(VLOOKUP(A3490,'18'!E3508:I3508,4,FALSE),\"-\")","v":"-"}]
[null,{"$f":"IFERROR(VLOOKUP(A3490,'18'!$E$29:$I$29,2,FALSE),\"-\")","v":"-"},{"$f":"IFERROR(VLOOKUP(A3490,'18'!E3509:I3509,4,FALSE),\"-\")","v":"-"}]
[null,{"$f":"IFERROR(VLOOKUP(A3490,'18'!$E$30:$I$30,2,FALSE),\"-\")","v":"-"},{"$f":"IFERROR(VLOOKUP(A3490,'18'!E3510:I3510,4,FALSE),\"-\")","v":"-"}]
[null,{"$f":"IFERROR(VLOOKUP(A3490,'18'!$E$31:$I$31,2,FALSE),\"-\")","v":"-"},{"$f":"IFERROR(VLOOKUP(A3490,'18'!E3511:I3511,4,FALSE),\"-\")","v":"-"}]
[null,{"$f":"IFERROR(VLOOKUP(A3490,'19'!$E$4:$I$4,2,FALSE),\"-\")","v":"-"},{"$f":"IFERROR(VLOOKUP(A3490,'19'!E3484:I3484,4,FALSE),\"-\")","v":"-"}]
[null,{"$f":"IFERROR(VLOOKUP(A3490,'19'!$E$5:$I$5,2,FALSE),\"-\")","v":"-"},{"$f":"IFERROR(VLOOKUP(A3490,'19'!E3485:I3485,4,FALSE),\"-\")","v":"-"}]
[null,{"$f":"IFERROR(VLOOKUP(A3490,'19'!$E$6:$I$6,2,FALSE),\"-\")","v":"-"},{"$f":"IFERROR(VLOOKUP(A3490,'19'!E3486:I3486,4,FALSE),\"-\")","v":"-"}]
[null,{"$f":"IFERROR(VLOOKUP(A3490,'19'!$E$7:$I$7,2,FALSE),\"-\")","v":"-"},{"$f":"IFERROR(VLOOKUP(A3490,'19'!E3487:I3487,4,FALSE),\"-\")","v":"-"}]
[null,{"$f":"IFERROR(VLOOKUP(A3490,'19'!$E$8:$I$8,2,FALSE),\"-\")","v":"-"},{"$f":"IFERROR(VLOOKUP(A3490,'19'!E3488:I3488,4,FALSE),\"-\")","v":"-"}]
[null,{"$f":"IFERROR(VLOOKUP(A3490,'19'!$E$9:$I$9,2,FALSE),\"-\")","v":"-"},{"$f":"IFERROR(VLOOKUP(A3490,'19'!E3489:I3489,4,FALSE),\"-\")","v":"-"}]
[null,{"$f":"IFERROR(VLOOKUP(A3490,'19'!$E$10:$I$10,2,FALSE),\"-\")","v":"-"},{"$f":"IFERROR(VLOOKUP(A3490,'19'!E3490:I3490,4,FALSE),\"-\")","v":"-"}]
[null,{"$f":"IFERROR(VLOOKUP(A3490,'19'!$E$11:$I$11,2,FALSE),\"-\")","v":"-"},{"$f":"IFERROR(VLOOKUP(A3490,'19'!E3491:I3491,4,FALSE),\"-\")","v":"-"}]
[null,{"$f":"IFERROR(VLOOKUP(A3490,'19'!$E$12:$I$12,2,FALSE),\"-\")","v":"-"},{"$f":"IFERROR(VLOOKUP(A3490,'19'!E3492:I3492,4,FALSE),\"-\")","v":"-"}]
[null,{"$f":"IFERROR(VLOOKUP(A3490,'19'!$E$13:$I$13,2,FALSE),\"-\")","v":"-"},{"$f":"IFERROR(VLOOKUP(A3490,'19'!E3493:I3493,4,FALSE),\"-\")","v":"-"}]
[null,{"$f":"IFERROR(VLOOKUP(A3490,'19'!$E$14:$I$14,2,FALSE),\"-\")","v":"-"},{"$f":"IFERROR(VLOOKUP(A3490,'19'!E3494:I3494,4,FALSE),\"-\")","v":"-"}]
[null,{"$f":"IFERROR(VLOOKUP(A3490,'19'!$E$15:$I$15,2,FALSE),\"-\")","v":"-"},{"$f":"IFERROR(VLOOKUP(A3490,'19'!E3495:I3495,4,FALSE),\"-\")","v":"-"}]
[null,{"$f":"IFERROR(VLOOKUP(A3490,'19'!$E$16:$I$16,2,FALSE),\"-\")","v":"-"},{"$f":"IFERROR(VLOOKUP(A3490,'19'!E3496:I3496,4,FALSE),\"-\")","v":"-"}]
[null,{"$f":"IFERROR(VLOOKUP(A3490,'19'!$E$17:$I$17,2,FALSE),\"-\")","v":"-"},{"$f":"IFERROR(VLOOKUP(A3490,'19'!E3497:I3497,4,FALSE),\"-\")","v":"-"}]
[null,{"$f":"IFERROR(VLOOKUP(A3490,'19'!$E$18:$I$18,2,FALSE),\"-\")","v":"-"},{"$f":"IFERROR(VLOOKUP(A3490,'19'!E3498:I3498,4,FALSE),\"-\")","v":"-"}]
[null,{"$f":"IFERROR(VLOOKUP(A3490,'19'!$E$19:$I$19,2,FALSE),\"-\")","v":"-"},{"$f":"IFERROR(VLOOKUP(A3490,'19'!E3499:I3499,4,FALSE),\"-\")","v":"-"}]
[null,{"$f":"IFERROR(VLOOKUP(A3490,'19'!$E$20:$I$20,2,FALSE),\"-\")","v":"-"},{"$f":"IFERROR(VLOOKUP(A3490,'19'!E3500:I3500,4,FALSE),\"-\")","v":"-"}]
[null,{"$f":"IFERROR(VLOOKUP(A3490,'19'!$E$21:$I$21,2,FALSE),\"-\")","v":"-"},{"$f":"IFERROR(VLOOKUP(A3490,'19'!E3501:I3501,4,FALSE),\"-\")","v":"-"}]
[null,{"$f":"IFERROR(VLOOKUP(A3490,'19'!$E$22:$I$22,2,FALSE),\"-\")","v":"-"},{"$f":"IFERROR(VLOOKUP(A3490,'19'!E3502:I3502,4,FALSE),\"-\")","v":"-"}]
[null,{"$f":"IFERROR(VLOOKUP(A3490,'19'!$E$23:$I$23,2,FALSE),\"-\")","v":"-"},{"$f":"IFERROR(VLOOKUP(A3490,'19'!E3503:I3503,4,FALSE),\"-\")","v":"-"}]
[null,{"$f":"IFERROR(VLOOKUP(A3490,'19'!$E$24:$I$24,2,FALSE),\"-\")","v":"-"},{"$f":"IFERROR(VLOOKUP(A3490,'19'!E3504:I3504,4,FALSE),\"-\")","v":"-"}]
[null,{"$f":"IFERROR(VLOOKUP(A3490,'19'!$E$25:$I$25,2,FALSE),\"-\")","v":"-"},{"$f":"IFERROR(VLOOKUP(A3490,'19'!E3505:I3505,4,FALSE),\"-\")","v":"-"}]
[null,{"$f":"IFERROR(VLOOKUP(A3490,'19'!$E$26:$I$26,2,FALSE),\"-\")","v":"-"},{"$f":"IFERROR(VLOOKUP(A3490,'19'!E3506:I3506,4,FALSE),\"-\")","v":"-"}]
[null,{"$f":"IFERROR(VLOOKUP(A3490,'19'!$E$27:$I$27,2,FALSE),\"-\")","v":"-"},{"$f":"IFERROR(VLOOKUP(A3490,'19'!E3507:I3507,4,FALSE),\"-\")","v":"-"}]
[null,{"$f":"IFERROR(VLOOKUP(A3490,'19'!$E$28:$I$28,2,FALSE),\"-\")","v":"-"},{"$f":"IFERROR(VLOOKUP(A3490,'19'!E3508:I3508,4,FALSE),\"-\")","v":"-"}]
[null,{"$f":"IFERROR(VLOOKUP(A3490,'19'!$E$29:$I$29,2,FALSE),\"-\")","v":"-"},{"$f":"IFERROR(VLOOKUP(A3490,'19'!E3509:I3509,4,FALSE),\"-\")","v":"-"}]
[null,{"$f":"IFERROR(VLOOKUP(A3490,'19'!$E$30:$I$30,2,FALSE),\"-\")","v":"-"},{"$f":"IFERROR(VLOOKUP(A3490,'19'!E3510:I3510,4,FALSE),\"-\")","v":"-"}]
[null,{"$f":"IFERROR(VLOOKUP(A3490,'19'!$E$31:$I$31,2,FALSE),\"-\")","v":"-"},{"$f":"IFERROR(VLOOKUP(A3490,'19'!E3511:I3511,4,FALSE),\"-\")","v":"-"}]
[null,{"$f":"IFERROR(VLOOKUP(A3490,'20'!$E$4:$I$4,2,FALSE),\"-\")","v":"-"},{"$f":"IFERROR(VLOOKUP(A3490,'20'!E3484:I3484,4,FALSE),\"-\")","v":"-"}]
[null,{"$f":"IFERROR(VLOOKUP(A3490,'20'!$E$5:$I$5,2,FALSE),\"-\")","v":"-"},{"$f":"IFERROR(VLOOKUP(A3490,'20'!E3485:I3485,4,FALSE),\"-\")","v":"-"}]
[null,{"$f":"IFERROR(VLOOKUP(A3490,'20'!$E$6:$I$6,2,FALSE),\"-\")","v":"-"},{"$f":"IFERROR(VLOOKUP(A3490,'20'!E3486:I3486,4,FALSE),\"-\")","v":"-"}]
[null,{"$f":"IFERROR(VLOOKUP(A3490,'20'!$E$7:$I$7,2,FALSE),\"-\")","v":"-"},{"$f":"IFERROR(VLOOKUP(A3490,'20'!E3487:I3487,4,FALSE),\"-\")","v":"-"}]
[null,{"$f":"IFERROR(VLOOKUP(A3490,'20'!$E$8:I3488,2,FALSE),\"-\")","v":"-"},{"$f":"IFERROR(VLOOKUP(A3490,'20'!E3488:I3488,4,FALSE),\"-\")","v":"-"}]
[null,{"$f":"IFERROR(VLOOKUP(A3490,'20'!$E$9:$I$9,2,FALSE),\"-\")","v":"-"},{"$f":"IFERROR(VLOOKUP(A3490,'20'!E3489:I3489,4,FALSE),\"-\")","v":"-"}]
[null,{"$f":"IFERROR(VLOOKUP(A3490,'20'!$E$10:$I$10,2,FALSE),\"-\")","v":"-"},{"$f":"IFERROR(VLOOKUP(A3490,'20'!E3490:I3490,4,FALSE),\"-\")","v":"-"}]
[null,{"$f":"IFERROR(VLOOKUP(A3490,'20'!$E$11:$I$11,2,FALSE),\"-\")","v":"-"},{"$f":"IFERROR(VLOOKUP(A3490,'20'!E3491:I3491,4,FALSE),\"-\")","v":"-"}]
[null,{"$f":"IFERROR(VLOOKUP(A3490,'20'!$E$12:$I$12,2,FALSE),\"-\")","v":"-"},{"$f":"IFERROR(VLOOKUP(A3490,'20'!E3492:I3492,4,FALSE),\"-\")","v":"-"}]
[null,{"$f":"IFERROR(VLOOKUP(A3490,'20'!$E$13:$I$13,2,FALSE),\"-\")","v":"-"},{"$f":"IFERROR(VLOOKUP(A3490,'20'!E3493:I3493,4,FALSE),\"-\")","v":"-"}]
[null,{"$f":"IFERROR(VLOOKUP(A3490,'20'!$E$14:$I$14,2,FALSE),\"-\")","v":"-"},{"$f":"IFERROR(VLOOKUP(A3490,'20'!E3494:I3494,4,FALSE),\"-\")","v":"-"}]
[null,{"$f":"IFERROR(VLOOKUP(A3490,'20'!$E$15:$I$15,2,FALSE),\"-\")","v":"-"},{"$f":"IFERROR(VLOOKUP(A3490,'20'!E3495:I3495,4,FALSE),\"-\")","v":"-"}]
[null,{"$f":"IFERROR(VLOOKUP(A3490,'20'!$E$16:$I$16,2,FALSE),\"-\")","v":"-"},{"$f":"IFERROR(VLOOKUP(A3490,'20'!E3496:I3496,4,FALSE),\"-\")","v":"-"}]
[null,{"$f":"IFERROR(VLOOKUP(A3490,'20'!$E$17:$I$17,2,FALSE),\"-\")","v":"-"},{"$f":"IFERROR(VLOOKUP(A3490,'20'!E3497:I3497,4,FALSE),\"-\")","v":"-"}]
[null,{"$f":"IFERROR(VLOOKUP(A3490,'20'!$E$18:$I$18,2,FALSE),\"-\")","v":"-"},{"$f":"IFERROR(VLOOKUP(A3490,'20'!E3498:I3498,4,FALSE),\"-\")","v":"-"}]
[null,{"$f":"IFERROR(VLOOKUP(A3490,'20'!$E$19:$I$19,2,FALSE),\"-\")","v":"-"},{"$f":"IFERROR(VLOOKUP(A3490,'20'!E3499:I3499,4,FALSE),\"-\")","v":"-"}]
[null,{"$f":"IFERROR(VLOOKUP(A3490,'20'!$E$20:$I$20,2,FALSE),\"-\")","v":"-"},{"$f":"IFERROR(VLOOKUP(A3490,'20'!E3500:I3500,4,FALSE),\"-\")","v":"-"}]
[null,{"$f":"IFERROR(VLOOKUP(A3490,'20'!$E$21:$I$21,2,FALSE),\"-\")","v":"-"},{"$f":"IFERROR(VLOOKUP(A3490,'20'!E3501:I3501,4,FALSE),\"-\")","v":"-"}]
[null,{"$f":"IFERROR(VLOOKUP(A3490,'20'!$E$22:$I$22,2,FALSE),\"-\")","v":"-"},{"$f":"IFERROR(VLOOKUP(A3490,'20'!E3502:I3502,4,FALSE),\"-\")","v":"-"}]
[null,{"$f":"IFERROR(VLOOKUP(A3490,'20'!$E$23:$I$23,2,FALSE),\"-\")","v":"-"},{"$f":"IFERROR(VLOOKUP(A3490,'20'!E3503:I3503,4,FALSE),\"-\")","v":"-"}]
[null,{"$f":"IFERROR(VLOOKUP(A3490,'20'!$E$24:$I$24,2,FALSE),\"-\")","v":"-"},{"$f":"IFERROR(VLOOKUP(A3490,'20'!E3504:I3504,4,FALSE),\"-\")","v":"-"}]
[null,{"$f":"IFERROR(VLOOKUP(A3490,'20'!$E$25:$I$25,2,FALSE),\"-\")","v":"-"},{"$f":"IFERROR(VLOOKUP(A3490,'20'!E3505:I3505,4,FALSE),\"-\")","v":"-"}]
[null,{"$f":"IFERROR(VLOOKUP(A3490,'20'!$E$26:$I$26,2,FALSE),\"-\")","v":"-"},{"$f":"IFERROR(VLOOKUP(A3490,'20'!E3506:I3506,4,FALSE),\"-\")","v":"-"}]
[null,{"$f":"IFERROR(VLOOKUP(A3490,'20'!$E$27:$I$27,2,FALSE),\"-\")","v":"-"},{"$f":"IFERROR(VLOOKUP(A3490,'20'!E3507:I3507,4,FALSE),\"-\")","v":"-"}]
[null,{"$f":"IFERROR(VLOOKUP(A3490,'20'!$E$28:$I$28,2,FALSE),\"-\")","v":"-"},{"$f":"IFERROR(VLOOKUP(A3490,'20'!E3508:I3508,4,FALSE),\"-\")","v":"-"}]
[null,{"$f":"IFERROR(VLOOKUP(A3490,'20'!$E$29:$I$29,2,FALSE),\"-\")","v":"-"},{"$f":"IFERROR(VLOOKUP(A3490,'20'!E3509:I3509,4,FALSE),\"-\")","v":"-"}]
[null,{"$f":"IFERROR(VLOOKUP(A3490,'20'!$E$30:$I$30,2,FALSE),\"-\")","v":"-"},{"$f":"IFERROR(VLOOKUP(A3490,'20'!E3510:I3510,4,FALSE),\"-\")","v":"-"}]
[null,{"$f":"IFERROR(VLOOKUP(A3490,'20'!$E$31:$I$31,2,FALSE),\"-\")","v":"-"},{"$f":"IFERROR(VLOOKUP(A3490,'20'!E3511:I3511,4,FALSE),\"-\")","v":"-"}]
[null,{"$f":"IFERROR(VLOOKUP(A3490,'21'!$E$4:$I$4,2,FALSE),\"-\")","v":"-"},{"$f":"IFERROR(VLOOKUP(A3490,'21'!E3484:I3484,4,FALSE),\"-\")","v":"-"}]
[null,{"$f":"IFERROR(VLOOKUP(A3490,'21'!$E$5:$I$5,2,FALSE),\"-\")","v":"-"},{"$f":"IFERROR(VLOOKUP(A3490,'21'!E3485:I3485,4,FALSE),\"-\")","v":"-"}]
[null,{"$f":"IFERROR(VLOOKUP(A3490,'21'!$E$6:$I$6,2,FALSE),\"-\")","v":"-"},{"$f":"IFERROR(VLOOKUP(A3490,'21'!E3486:I3486,4,FALSE),\"-\")","v":"-"}]
[null,{"$f":"IFERROR(VLOOKUP(A3490,'21'!$E$7:$I$7,2,FALSE),\"-\")","v":"-"},{"$f":"IFERROR(VLOOKUP(A3490,'21'!E3487:I3487,4,FALSE),\"-\")","v":"-"}]
[null,{"$f":"IFERROR(VLOOKUP(A3490,'21'!$E$8:$I$8,2,FALSE),\"-\")","v":"-"},{"$f":"IFERROR(VLOOKUP(A3490,'21'!E3488:I3488,4,FALSE),\"-\")","v":"-"}]
[null,{"$f":"IFERROR(VLOOKUP(A3490,'21'!$E$9:$I$9,2,FALSE),\"-\")","v":"-"},{"$f":"IFERROR(VLOOKUP(A3490,'21'!E3489:I3489,4,FALSE),\"-\")","v":"-"}]
[null,{"$f":"IFERROR(VLOOKUP(A3490,'21'!$E$10:$I$10,2,FALSE),\"-\")","v":"-"},{"$f":"IFERROR(VLOOKUP(A3490,'21'!E3490:I3490,4,FALSE),\"-\")","v":"-"}]
[null,{"$f":"IFERROR(VLOOKUP(A3490,'21'!$E$11:$I$11,2,FALSE),\"-\")","v":"-"},{"$f":"IFERROR(VLOOKUP(A3490,'21'!E3491:I3491,4,FALSE),\"-\")","v":"-"}]
[null,{"$f":"IFERROR(VLOOKUP(A3490,'21'!$E$12:$I$12,2,FALSE),\"-\")","v":"-"},{"$f":"IFERROR(VLOOKUP(A3490,'21'!E3492:I3492,4,FALSE),\"-\")","v":"-"}]
[null,{"$f":"IFERROR(VLOOKUP(A3490,'21'!$E$13:$I$13,2,FALSE),\"-\")","v":"-"},{"$f":"IFERROR(VLOOKUP(A3490,'21'!E3493:I3493,4,FALSE),\"-\")","v":"-"}]
[null,{"$f":"IFERROR(VLOOKUP(A3490,'21'!$E$14:$I$14,2,FALSE),\"-\")","v":"-"},{"$f":"IFERROR(VLOOKUP(A3490,'21'!E3494:I3494,4,FALSE),\"-\")","v":"-"}]
[null,{"$f":"IFERROR(VLOOKUP(A3490,'21'!$E$15:$I$15,2,FALSE),\"-\")","v":"-"},{"$f":"IFERROR(VLOOKUP(A3490,'21'!E3495:I3495,4,FALSE),\"-\")","v":"-"}]
[null,{"$f":"IFERROR(VLOOKUP(A3490,'21'!$E$16:$I$16,2,FALSE),\"-\")","v":"-"},{"$f":"IFERROR(VLOOKUP(A3490,'21'!E3496:I3496,4,FALSE),\"-\")","v":"-"}]
[null,{"$f":"IFERROR(VLOOKUP(A3490,'21'!$E$17:$I$17,2,FALSE),\"-\")","v":"-"},{"$f":"IFERROR(VLOOKUP(A3490,'21'!E3497:I3497,4,FALSE),\"-\")","v":"-"}]
[null,{"$f":"IFERROR(VLOOKUP(A3490,'21'!$E$18:$I$18,2,FALSE),\"-\")","v":"-"},{"$f":"IFERROR(VLOOKUP(A3490,'21'!E3498:I3498,4,FALSE),\"-\")","v":"-"}]
[null,{"$f":"IFERROR(VLOOKUP(A3490,'21'!$E$19:$I$19,2,FALSE),\"-\")","v":"-"},{"$f":"IFERROR(VLOOKUP(A3490,'21'!E3499:I3499,4,FALSE),\"-\")","v":"-"}]
[null,{"$f":"IFERROR(VLOOKUP(A3490,'21'!$E$20:$I$20,2,FALSE),\"-\")","v":"-"},{"$f":"IFERROR(VLOOKUP(A3490,'21'!E3500:I3500,4,FALSE),\"-\")","v":"-"}]
[null,{"$f":"IFERROR(VLOOKUP(A3490,'21'!$E$21:$I$21,2,FALSE),\"-\")","v":"-"},{"$f":"IFERROR(VLOOKUP(A3490,'21'!E3501:I3501,4,FALSE),\"-\")","v":"-"}]
[null,{"$f":"IFERROR(VLOOKUP(A3490,'21'!$E$22:$I$22,2,FALSE),\"-\")","v":"-"},{"$f":"IFERROR(VLOOKUP(A3490,'21'!E3502:I3502,4,FALSE),\"-\")","v":"-"}]
[null,{"$f":"IFERROR(VLOOKUP(A3490,'21'!$E$23:$I$23,2,FALSE),\"-\")","v":"-"},{"$f":"IFERROR(VLOOKUP(A3490,'21'!E3503:I3503,4,FALSE),\"-\")","v":"-"}]
[null,{"$f":"IFERROR(VLOOKUP(A3490,'21'!$E$24:$I$24,2,FALSE),\"-\")","v":"-"},{"$f":"IFERROR(VLOOKUP(A3490,'21'!E3504:I3504,4,FALSE),\"-\")","v":"-"}]
[null,{"$f":"IFERROR(VLOOKUP(A3490,'21'!$E$25:$I$25,2,FALSE),\"-\")","v":"-"},{"$f":"IFERROR(VLOOKUP(A3490,'21'!E3505:I3505,4,FALSE),\"-\")","v":"-"}]
[null,{"$f":"IFERROR(VLOOKUP(A3490,'21'!$E$26:$I$26,2,FALSE),\"-\")","v":"-"},{"$f":"IFERROR(VLOOKUP(A3490,'21'!E3506:I3506,4,FALSE),\"-\")","v":"-"}]
[null,{"$f":"IFERROR(VLOOKUP(A3490,'21'!$E$27:$I$27,2,FALSE),\"-\")","v":"-"},{"$f":"IFERROR(VLOOKUP(A3490,'21'!E3507:I3507,4,FALSE),\"-\")","v":"-"}]
[null,{"$f":"IFERROR(VLOOKUP(A3490,'21'!$E$28:$I$28,2,FALSE),\"-\")","v":"-"},{"$f":"IFERROR(VLOOKUP(A3490,'21'!E3508:I3508,4,FALSE),\"-\")","v":"-"}]
[null,{"$f":"IFERROR(VLOOKUP(A3490,'21'!$E$29:$I$29,2,FALSE),\"-\")","v":"-"},{"$f":"IFERROR(VLOOKUP(A3490,'21'!E3509:I3509,4,FALSE),\"-\")","v":"-"}]
[null,{"$f":"IFERROR(VLOOKUP(A3490,'21'!$E$30:$I$30,2,FALSE),\"-\")","v":"-"},{"$f":"IFERROR(VLOOKUP(A3490,'21'!E3510:I3510,4,FALSE),\"-\")","v":"-"}]
[null,{"$f":"IFERROR(VLOOKUP(A3490,'21'!$E$31:$I$31,2,FALSE),\"-\")","v":"-"},{"$f":"IFERROR(VLOOKUP(A3490,'21'!E3511:I3511,4,FALSE),\"-\")","v":"-"}]
[null,{"$f":"IFERROR(VLOOKUP(A3490,'22'!$E$4:$I$4,2,FALSE),\"-\")","v":"-"},{"$f":"IFERROR(VLOOKUP(A3490,'22'!E3484:I3484,4,FALSE),\"-\")","v":"-"}]
[null,{"$f":"IFERROR(VLOOKUP(A3490,'22'!$E$5:$I$5,2,FALSE),\"-\")","v":"-"},{"$f":"IFERROR(VLOOKUP(A3490,'22'!E3485:I3485,4,FALSE),\"-\")","v":"-"}]
[null,{"$f":"IFERROR(VLOOKUP(A3490,'22'!$E$6:$I$6,2,FALSE),\"-\")","v":"-"},{"$f":"IFERROR(VLOOKUP(A3490,'22'!E3486:I3486,4,FALSE),\"-\")","v":"-"}]
[null,{"$f":"IFERROR(VLOOKUP(A3490,'22'!$E$7:$I$7,2,FALSE),\"-\")","v":"-"},{"$f":"IFERROR(VLOOKUP(A3490,'22'!E3487:I3487,4,FALSE),\"-\")","v":"-"}]
[null,{"$f":"IFERROR(VLOOKUP(A3490,'22'!$E$8:$I$8,2,FALSE),\"-\")","v":"-"},{"$f":"IFERROR(VLOOKUP(A3490,'22'!E3488:I3488,4,FALSE),\"-\")","v":"-"}]
[null,{"$f":"IFERROR(VLOOKUP(A3490,'22'!$E$9:$I$9,2,FALSE),\"-\")","v":"-"},{"$f":"IFERROR(VLOOKUP(A3490,'22'!E3489:I3489,4,FALSE),\"-\")","v":"-"}]
[null,{"$f":"IFERROR(VLOOKUP(A3490,'22'!$E$10:$I$10,2,FALSE),\"-\")","v":"-"},{"$f":"IFERROR(VLOOKUP(A3490,'22'!E3490:I3490,4,FALSE),\"-\")","v":"-"}]
[null,{"$f":"IFERROR(VLOOKUP(A3490,'22'!$E$11:$I$11,2,FALSE),\"-\")","v":"-"},{"$f":"IFERROR(VLOOKUP(A3490,'22'!E3491:I3491,4,FALSE),\"-\")","v":"-"}]
[null,{"$f":"IFERROR(VLOOKUP(A3490,'22'!$E$12:$I$12,2,FALSE),\"-\")","v":"-"},{"$f":"IFERROR(VLOOKUP(A3490,'22'!E3492:I3492,4,FALSE),\"-\")","v":"-"}]
[null,{"$f":"IFERROR(VLOOKUP(A3490,'22'!$E$13:$I$13,2,FALSE),\"-\")","v":"-"},{"$f":"IFERROR(VLOOKUP(A3490,'22'!E3493:I3493,4,FALSE),\"-\")","v":"-"}]
[null,{"$f":"IFERROR(VLOOKUP(A3490,'22'!$E$14:$I$14,2,FALSE),\"-\")","v":"-"},{"$f":"IFERROR(VLOOKUP(A3490,'22'!E3494:I3494,4,FALSE),\"-\")","v":"-"}]
[null,{"$f":"IFERROR(VLOOKUP(A3490,'22'!$E$15:$I$15,2,FALSE),\"-\")","v":"-"},{"$f":"IFERROR(VLOOKUP(A3490,'22'!E3495:I3495,4,FALSE),\"-\")","v":"-"}]
[null,{"$f":"IFERROR(VLOOKUP(A3490,'22'!$E$16:$I$16,2,FALSE),\"-\")","v":"-"},{"$f":"IFERROR(VLOOKUP(A3490,'22'!E3496:I3496,4,FALSE),\"-\")","v":"-"}]
[null,{"$f":"IFERROR(VLOOKUP(A3490,'22'!$E$17:$I$17,2,FALSE),\"-\")","v":"-"},{"$f":"IFERROR(VLOOKUP(A3490,'22'!E3497:I3497,4,FALSE),\"-\")","v":"-"}]
[null,{"$f":"IFERROR(VLOOKUP(A3490,'22'!$E$18:$I$18,2,FALSE),\"-\")","v":"-"},{"$f":"IFERROR(VLOOKUP(A3490,'22'!E3498:I3498,4,FALSE),\"-\")","v":"-"}]
[null,{"$f":"IFERROR(VLOOKUP(A3490,'22'!$E$19:$I$19,2,FALSE),\"-\")","v":"-"},{"$f":"IFERROR(VLOOKUP(A3490,'22'!E3499:I3499,4,FALSE),\"-\")","v":"-"}]
[null,{"$f":"IFERROR(VLOOKUP(A3490,'22'!$E$20:$I$20,2,FALSE),\"-\")","v":"-"},{"$f":"IFERROR(VLOOKUP(A3490,'22'!E3500:I3500,4,FALSE),\"-\")","v":"-"}]
[null,{"$f":"IFERROR(VLOOKUP(A3490,'22'!$E$21:$I$21,2,FALSE),\"-\")","v":"-"},{"$f":"IFERROR(VLOOKUP(A3490,'22'!E3501:I3501,4,FALSE),\"-\")","v":"-"}]
[null,{"$f":"IFERROR(VLOOKUP(A3490,'22'!$E$22:$I$22,2,FALSE),\"-\")","v":"-"},{"$f":"IFERROR(VLOOKUP(A3490,'22'!E3502:I3502,4,FALSE),\"-\")","v":"-"}]
[null,{"$f":"IFERROR(VLOOKUP(A3490,'22'!$E$23:$I$23,2,FALSE),\"-\")","v":"-"},{"$f":"IFERROR(VLOOKUP(A3490,'22'!E3503:I3503,4,FALSE),\"-\")","v":"-"}]
[null,{"$f":"IFERROR(VLOOKUP(A3490,'22'!$E$24:$I$24,2,FALSE),\"-\")","v":"-"},{"$f":"IFERROR(VLOOKUP(A3490,'22'!E3504:I3504,4,FALSE),\"-\")","v":"-"}]
[null,{"$f":"IFERROR(VLOOKUP(A3490,'22'!$E$25:$I$25,2,FALSE),\"-\")","v":"-"},{"$f":"IFERROR(VLOOKUP(A3490,'22'!E3505:I3505,4,FALSE),\"-\")","v":"-"}]
[null,{"$f":"IFERROR(VLOOKUP(A3490,'22'!$E$26:$I$26,2,FALSE),\"-\")","v":"-"},{"$f":"IFERROR(VLOOKUP(A3490,'22'!E3506:I3506,4,FALSE),\"-\")","v":"-"}]
[null,{"$f":"IFERROR(VLOOKUP(A3490,'22'!$E$27:$I$27,2,FALSE),\"-\")","v":"-"},{"$f":"IFERROR(VLOOKUP(A3490,'22'!E3507:I3507,4,FALSE),\"-\")","v":"-"}]
[null,{"$f":"IFERROR(VLOOKUP(A3490,'22'!$E$28:$I$28,2,FALSE),\"-\")","v":"-"},{"$f":"IFERROR(VLOOKUP(A3490,'22'!E3508:I3508,4,FALSE),\"-\")","v":"-"}]
[null,{"$f":"IFERROR(VLOOKUP(A3490,'22'!$E$29:$I$29,2,FALSE),\"-\")","v":"-"},{"$f":"IFERROR(VLOOKUP(A3490,'22'!E3509:I3509,4,FALSE),\"-\")","v":"-"}]
[null,{"$f":"IFERROR(VLOOKUP(A3490,'22'!$E$30:$I$30,2,FALSE),\"-\")","v":"-"},{"$f":"IFERROR(VLOOKUP(A3490,'22'!E3510:I3510,4,FALSE),\"-\")","v":"-"}]
[null,{"$f":"IFERROR(VLOOKUP(A3490,'22'!$E$31:$I$31,2,FALSE),\"-\")","v":"-"},{"$f":"IFERROR(VLOOKUP(A3490,'22'!E3511:I3511,4,FALSE),\"-\")","v":"-"}]
[null,{"$f":"IFERROR(VLOOKUP(A3490,'23'!$E$4:$I$4,2,FALSE),\"-\")","v":"-"},{"$f":"IFERROR(VLOOKUP(A3490,'23'!E3484:I3484,4,FALSE),\"-\")","v":"-"}]
[null,{"$f":"IFERROR(VLOOKUP(A3490,'23'!$E$5:$I$5,2,FALSE),\"-\")","v":"-"},{"$f":"IFERROR(VLOOKUP(A3490,'23'!E3485:I3485,4,FALSE),\"-\")","v":"-"}]
[null,{"$f":"IFERROR(VLOOKUP(A3490,'23'!$E$6:$I$6,2,FALSE),\"-\")","v":"-"},{"$f":"IFERROR(VLOOKUP(A3490,'23'!E3486:I3486,4,FALSE),\"-\")","v":"-"}]
[null,{"$f":"IFERROR(VLOOKUP(A3490,'23'!$E$7:$I$7,2,FALSE),\"-\")","v":"-"},{"$f":"IFERROR(VLOOKUP(A3490,'23'!E3487:I3487,4,FALSE),\"-\")","v":"-"}]
[null,{"$f":"IFERROR(VLOOKUP(A3490,'23'!$E$8:$I$8,2,FALSE),\"-\")","v":"-"},{"$f":"IFERROR(VLOOKUP(A3490,'23'!E3488:I3488,4,FALSE),\"-\")","v":"-"}]
[null,{"$f":"IFERROR(VLOOKUP(A3490,'23'!$E$9:$I$9,2,FALSE),\"-\")","v":"-"},{"$f":"IFERROR(VLOOKUP(A3490,'23'!E3489:I3489,4,FALSE),\"-\")","v":"-"}]
[null,{"$f":"IFERROR(VLOOKUP(A3490,'23'!$E$10:$I$10,2,FALSE),\"-\")","v":"-"},{"$f":"IFERROR(VLOOKUP(A3490,'23'!E3490:I3490,4,FALSE),\"-\")","v":"-"}]
[null,{"$f":"IFERROR(VLOOKUP(A3490,'23'!$E$11:$I$11,2,FALSE),\"-\")","v":"-"},{"$f":"IFERROR(VLOOKUP(A3490,'23'!E3491:I3491,4,FALSE),\"-\")","v":"-"}]
[null,{"$f":"IFERROR(VLOOKUP(A3490,'23'!$E$12:$I$12,2,FALSE),\"-\")","v":"-"},{"$f":"IFERROR(VLOOKUP(A3490,'23'!E3492:I3492,4,FALSE),\"-\")","v":"-"}]
[null,{"$f":"IFERROR(VLOOKUP(A3490,'23'!$E$13:$I$13,2,FALSE),\"-\")","v":"-"},{"$f":"IFERROR(VLOOKUP(A3490,'23'!E3493:I3493,4,FALSE),\"-\")","v":"-"}]
[null,{"$f":"IFERROR(VLOOKUP(A3490,'23'!$E$14:$I$14,2,FALSE),\"-\")","v":"-"},{"$f":"IFERROR(VLOOKUP(A3490,'23'!E3494:I3494,4,FALSE),\"-\")","v":"-"}]
[null,{"$f":"IFERROR(VLOOKUP(A3490,'23'!$E$15:$I$15,2,FALSE),\"-\")","v":"-"},{"$f":"IFERROR(VLOOKUP(A3490,'23'!E3495:I3495,4,FALSE),\"-\")","v":"-"}]
[null,{"$f":"IFERROR(VLOOKUP(A3490,'23'!$E$16:$I$16,2,FALSE),\"-\")","v":"-"},{"$f":"IFERROR(VLOOKUP(A3490,'23'!E3496:I3496,4,FALSE),\"-\")","v":"-"}]
[null,{"$f":"IFERROR(VLOOKUP(A3490,'23'!$E$17:$I$17,2,FALSE),\"-\")","v":"-"},{"$f":"IFERROR(VLOOKUP(A3490,'23'!E3497:I3497,4,FALSE),\"-\")","v":"-"}]
[null,{"$f":"IFERROR(VLOOKUP(A3490,'23'!$E$18:$I$18,2,FALSE),\"-\")","v":"-"},{"$f":"IFERROR(VLOOKUP(A3490,'23'!E3498:I3498,4,FALSE),\"-\")","v":"-"}]
[null,{"$f":"IFERROR(VLOOKUP(A3490,'23'!$E$19:$I$19,2,FALSE),\"-\")","v":"-"},{"$f":"IFERROR(VLOOKUP(A3490,'23'!E3499:I3499,4,FALSE),\"-\")","v":"-"}]
[null,{"$f":"IFERROR(VLOOKUP(A3490,'23'!$E$20:$I$20,2,FALSE),\"-\")","v":"-"},{"$f":"IFERROR(VLOOKUP(A3490,'23'!E3500:I3500,4,FALSE),\"-\")","v":"-"}]
[null,{"$f":"IFERROR(VLOOKUP(A3490,'23'!$E$21:$I$21,2,FALSE),\"-\")","v":"-"},{"$f":"IFERROR(VLOOKUP(A3490,'23'!E3501:I3501,4,FALSE),\"-\")","v":"-"}]
[null,{"$f":"IFERROR(VLOOKUP(A3490,'23'!$E$22:$I$22,2,FALSE),\"-\")","v":"-"},{"$f":"IFERROR(VLOOKUP(A3490,'23'!E3502:I3502,4,FALSE),\"-\")","v":"-"}]
[null,{"$f":"IFERROR(VLOOKUP(A3490,'23'!$E$23:$I$23,2,FALSE),\"-\")","v":"-"},{"$f":"IFERROR(VLOOKUP(A3490,'23'!E3503:I3503,4,FALSE),\"-\")","v":"-"}]
[null,{"$f":"IFERROR(VLOOKUP(A3490,'23'!$E$24:$I$24,2,FALSE),\"-\")","v":"-"},{"$f":"IFERROR(VLOOKUP(A3490,'23'!E3504:I3504,4,FALSE),\"-\")","v":"-"}]
[null,{"$f":"IFERROR(VLOOKUP(A3490,'23'!$E$25:$I$25,2,FALSE),\"-\")","v":"-"},{"$f":"IFERROR(VLOOKUP(A3490,'23'!E3505:I3505,4,FALSE),\"-\")","v":"-"}]
[null,{"$f":"IFERROR(VLOOKUP(A3490,'23'!$E$26:$I$26,2,FALSE),\"-\")","v":"-"},{"$f":"IFERROR(VLOOKUP(A3490,'23'!E3506:I3506,4,FALSE),\"-\")","v":"-"}]
[null,{"$f":"IFERROR(VLOOKUP(A3490,'23'!$E$27:$I$27,2,FALSE),\"-\")","v":"-"},{"$f":"IFERROR(VLOOKUP(A3490,'23'!E3507:I3507,4,FALSE),\"-\")","v":"-"}]
[null,{"$f":"IFERROR(VLOOKUP(A3490,'23'!$E$28:$I$28,2,FALSE),\"-\")","v":"-"},{"$f":"IFERROR(VLOOKUP(A3490,'23'!E3508:I3508,4,FALSE),\"-\")","v":"-"}]
[null,{"$f":"IFERROR(VLOOKUP(A3490,'23'!$E$29:$I$29,2,FALSE),\"-\")","v":"-"},{"$f":"IFERROR(VLOOKUP(A3490,'23'!E3509:I3509,4,FALSE),\"-\")","v":"-"}]
[null,{"$f":"IFERROR(VLOOKUP(A3490,'23'!$E$30:$I$30,2,FALSE),\"-\")","v":"-"},{"$f":"IFERROR(VLOOKUP(A3490,'23'!E3510:I3510,4,FALSE),\"-\")","v":"-"}]
[null,{"$f":"IFERROR(VLOOKUP(A3490,'23'!$E$31:$I$31,2,FALSE),\"-\")","v":"-"},{"$f":"IFERROR(VLOOKUP(A3490,'23'!E3511:I3511,4,FALSE),\"-\")","v":"-"}]
[null,{"$f":"IFERROR(VLOOKUP(A3490,'24'!$E$4:$I$4,2,FALSE),\"-\")","v":"-"},{"$f":"IFERROR(VLOOKUP(A3490,'24'!E3484:I3484,4,FALSE),\"-\")","v":"-"}]
[null,{"$f":"IFERROR(VLOOKUP(A3490,'24'!$E$5:$I$5,2,FALSE),\"-\")","v":"-"},{"$f":"IFERROR(VLOOKUP(A3490,'24'!E3485:I3485,4,FALSE),\"-\")","v":"-"}]
[null,{"$f":"IFERROR(VLOOKUP(A3490,'24'!$E$6:$I$6,2,FALSE),\"-\")","v":"-"},{"$f":"IFERROR(VLOOKUP(A3490,'24'!E3486:I3486,4,FALSE),\"-\")","v":"-"}]
[null,{"$f":"IFERROR(VLOOKUP(A3490,'24'!$E$7:$I$7,2,FALSE),\"-\")","v":"-"},{"$f":"IFERROR(VLOOKUP(A3490,'24'!E3487:I3487,4,FALSE),\"-\")","v":"-"}]
[null,{"$f":"IFERROR(VLOOKUP(A3490,'24'!$E$8:$I$8,2,FALSE),\"-\")","v":"-"},{"$f":"IFERROR(VLOOKUP(A3490,'24'!E3488:I3488,4,FALSE),\"-\")","v":"-"}]
[null,{"$f":"IFERROR(VLOOKUP(A3490,'24'!$E$9:$I$9,2,FALSE),\"-\")","v":"-"},{"$f":"IFERROR(VLOOKUP(A3490,'24'!E3489:I3489,4,FALSE),\"-\")","v":"-"}]
[null,{"$f":"IFERROR(VLOOKUP(A3490,'24'!$E$10:$I$10,2,FALSE),\"-\")","v":"-"},{"$f":"IFERROR(VLOOKUP(A3490,'24'!E3490:I3490,4,FALSE),\"-\")","v":"-"}]
[null,{"$f":"IFERROR(VLOOKUP(A3490,'24'!$E$11:$I$11,2,FALSE),\"-\")","v":"-"},{"$f":"IFERROR(VLOOKUP(A3490,'24'!E3491:I3491,4,FALSE),\"-\")","v":"-"}]
[null,{"$f":"IFERROR(VLOOKUP(A3490,'24'!$E$12:$I$12,2,FALSE),\"-\")","v":"-"},{"$f":"IFERROR(VLOOKUP(A3490,'24'!E3492:I3492,4,FALSE),\"-\")","v":"-"}]
[null,{"$f":"IFERROR(VLOOKUP(A3490,'24'!$E$13:$I$13,2,FALSE),\"-\")","v":"-"},{"$f":"IFERROR(VLOOKUP(A3490,'24'!E3493:I3493,4,FALSE),\"-\")","v":"-"}]
[null,{"$f":"IFERROR(VLOOKUP(A3490,'24'!$E$14:$I$14,2,FALSE),\"-\")","v":"-"},{"$f":"IFERROR(VLOOKUP(A3490,'24'!E3494:I3494,4,FALSE),\"-\")","v":"-"}]
[null,{"$f":"IFERROR(VLOOKUP(A3490,'24'!$E$15:$I$15,2,FALSE),\"-\")","v":"-"},{"$f":"IFERROR(VLOOKUP(A3490,'24'!E3495:I3495,4,FALSE),\"-\")","v":"-"}]
[null,{"$f":"IFERROR(VLOOKUP(A3490,'24'!$E$16:$I$16,2,FALSE),\"-\")","v":"-"},{"$f":"IFERROR(VLOOKUP(A3490,'24'!E3496:I3496,4,FALSE),\"-\")","v":"-"}]
[null,{"$f":"IFERROR(VLOOKUP(A3490,'24'!$E$17:$I$17,2,FALSE),\"-\")","v":"-"},{"$f":"IFERROR(VLOOKUP(A3490,'24'!E3497:I3497,4,FALSE),\"-\")","v":"-"}]
[null,{"$f":"IFERROR(VLOOKUP(A3490,'24'!$E$18:$I$18,2,FALSE),\"-\")","v":"-"},{"$f":"IFERROR(VLOOKUP(A3490,'24'!E3498:I3498,4,FALSE),\"-\")","v":"-"}]
[null,{"$f":"IFERROR(VLOOKUP(A3490,'24'!$E$19:$I$19,2,FALSE),\"-\")","v":"-"},{"$f":"IFERROR(VLOOKUP(A3490,'24'!E3499:I3499,4,FALSE),\"-\")","v":"-"}]
[null,{"$f":"IFERROR(VLOOKUP(A3490,'24'!$E$20:$I$20,2,FALSE),\"-\")","v":"-"},{"$f":"IFERROR(VLOOKUP(A3490,'24'!E3500:I3500,4,FALSE),\"-\")","v":"-"}]
[null,{"$f":"IFERROR(VLOOKUP(A3490,'24'!$E$21:$I$21,2,FALSE),\"-\")","v":"-"},{"$f":"IFERROR(VLOOKUP(A3490,'24'!E3501:I3501,4,FALSE),\"-\")","v":"-"}]
[null,{"$f":"IFERROR(VLOOKUP(A3490,'24'!$E$22:$I$22,2,FALSE),\"-\")","v":"-"},{"$f":"IFERROR(VLOOKUP(A3490,'24'!E3502:I3502,4,FALSE),\"-\")","v":"-"}]
[null,{"$f":"IFERROR(VLOOKUP(A3490,'24'!$E$23:$I$23,2,FALSE),\"-\")","v":"-"},{"$f":"IFERROR(VLOOKUP(A3490,'24'!E3503:I3503,4,FALSE),\"-\")","v":"-"}]
[null,{"$f":"IFERROR(VLOOKUP(A3490,'24'!$E$24:$I$24,2,FALSE),\"-\")","v":"-"},{"$f":"IFERROR(VLOOKUP(A3490,'24'!E3504:I3504,4,FALSE),\"-\")","v":"-"}]
[null,{"$f":"IFERROR(VLOOKUP(A3490,'24'!$E$25:$I$25,2,FALSE),\"-\")","v":"-"},{"$f":"IFERROR(VLOOKUP(A3490,'24'!E3505:I3505,4,FALSE),\"-\")","v":"-"}]
[null,{"$f":"IFERROR(VLOOKUP(A3490,'24'!$E$26:$I$26,2,FALSE),\"-\")","v":"-"},{"$f":"IFERROR(VLOOKUP(A3490,'24'!E3506:I3506,4,FALSE),\"-\")","v":"-"}]
[null,{"$f":"IFERROR(VLOOKUP(A3490,'24'!$E$27:$I$27,2,FALSE),\"-\")","v":"-"},{"$f":"IFERROR(VLOOKUP(A3490,'24'!E3507:I3507,4,FALSE),\"-\")","v":"-"}]
[null,{"$f":"IFERROR(VLOOKUP(A3490,'24'!$E$28:$I$28,2,FALSE),\"-\")","v":"-"},{"$f":"IFERROR(VLOOKUP(A3490,'24'!E3508:I3508,4,FALSE),\"-\")","v":"-"}]
[null,{"$f":"IFERROR(VLOOKUP(A3490,'24'!$E$29:$I$29,2,FALSE),\"-\")","v":"-"},{"$f":"IFERROR(VLOOKUP(A3490,'24'!E3509:I3509,4,FALSE),\"-\")","v":"-"}]
[null,{"$f":"IFERROR(VLOOKUP(A3490,'24'!$E$30:$I$30,2,FALSE),\"-\")","v":"-"},{"$f":"IFERROR(VLOOKUP(A3490,'24'!E3510:I3510,4,FALSE),\"-\")","v":"-"}]
[null,{"$f":"IFERROR(VLOOKUP(A3490,'24'!$E$31:$I$31,2,FALSE),\"-\")","v":"-"},{"$f":"IFERROR(VLOOKUP(A3490,'24'!E3511:I3511,4,FALSE),\"-\")","v":"-"}]
[null,{"$f":"IFERROR(VLOOKUP(A3490,'25'!$E$4:$I$4,2,FALSE),\"-\")","v":"-"},{"$f":"IFERROR(VLOOKUP(A3490,'25'!E3484:I3484,4,FALSE),\"-\")","v":"-"}]
[null,{"$f":"IFERROR(VLOOKUP(A3490,'25'!$E$5:$I$5,2,FALSE),\"-\")","v":"-"},{"$f":"IFERROR(VLOOKUP(A3490,'25'!E3485:I3485,4,FALSE),\"-\")","v":"-"}]
[null,{"$f":"IFERROR(VLOOKUP(A3490,'25'!$E$6:$I$6,2,FALSE),\"-\")","v":"-"},{"$f":"IFERROR(VLOOKUP(A3490,'25'!E3486:I3486,4,FALSE),\"-\")","v":"-"}]
[null,{"$f":"IFERROR(VLOOKUP(A3490,'25'!$E$7:$I$7,2,FALSE),\"-\")","v":"-"},{"$f":"IFERROR(VLOOKUP(A3490,'25'!E3487:I3487,4,FALSE),\"-\")","v":"-"}]
[null,{"$f":"IFERROR(VLOOKUP(A3490,'25'!$E$8:$I$8,2,FALSE),\"-\")","v":"-"},{"$f":"IFERROR(VLOOKUP(A3490,'25'!E3488:I3488,4,FALSE),\"-\")","v":"-"}]
[null,{"$f":"IFERROR(VLOOKUP(A3490,'25'!$E$9:$I$9,2,FALSE),\"-\")","v":"-"},{"$f":"IFERROR(VLOOKUP(A3490,'25'!E3489:I3489,4,FALSE),\"-\")","v":"-"}]
[null,{"$f":"IFERROR(VLOOKUP(A3490,'25'!$E$10:$I$10,2,FALSE),\"-\")","v":"-"},{"$f":"IFERROR(VLOOKUP(A3490,'25'!E3490:I3490,4,FALSE),\"-\")","v":"-"}]
[null,{"$f":"IFERROR(VLOOKUP(A3490,'25'!$E$11:$I$11,2,FALSE),\"-\")","v":"-"},{"$f":"IFERROR(VLOOKUP(A3490,'25'!E3491:I3491,4,FALSE),\"-\")","v":"-"}]
[null,{"$f":"IFERROR(VLOOKUP(A3490,'25'!$E$12:$I$12,2,FALSE),\"-\")","v":"-"},{"$f":"IFERROR(VLOOKUP(A3490,'25'!E3492:I3492,4,FALSE),\"-\")","v":"-"}]
[null,{"$f":"IFERROR(VLOOKUP(A3490,'25'!$E$13:$I$13,2,FALSE),\"-\")","v":"-"},{"$f":"IFERROR(VLOOKUP(A3490,'25'!E3493:I3493,4,FALSE),\"-\")","v":"-"}]
[null,{"$f":"IFERROR(VLOOKUP(A3490,'25'!$E$14:$I$14,2,FALSE),\"-\")","v":"-"},{"$f":"IFERROR(VLOOKUP(A3490,'25'!E3494:I3494,4,FALSE),\"-\")","v":"-"}]
[null,{"$f":"IFERROR(VLOOKUP(A3490,'25'!$E$15:I3495,2,FALSE),\"-\")","v":"-"},{"$f":"IFERROR(VLOOKUP(A3490,'25'!E3495:I3495,4,FALSE),\"-\")","v":"-"}]
[null,{"$f":"IFERROR(VLOOKUP(A3490,'25'!$E$16:$I$16,2,FALSE),\"-\")","v":"-"},{"$f":"IFERROR(VLOOKUP(A3490,'25'!E3496:I3496,4,FALSE),\"-\")","v":"-"}]
[null,{"$f":"IFERROR(VLOOKUP(A3490,'25'!$E$17:$I$17,2,FALSE),\"-\")","v":"-"},{"$f":"IFERROR(VLOOKUP(A3490,'25'!E3497:I3497,4,FALSE),\"-\")","v":"-"}]
[null,{"$f":"IFERROR(VLOOKUP(A3490,'25'!$E$18:$I$18,2,FALSE),\"-\")","v":"-"},{"$f":"IFERROR(VLOOKUP(A3490,'25'!E3498:I3498,4,FALSE),\"-\")","v":"-"}]
[null,{"$f":"IFERROR(VLOOKUP(A3490,'25'!$E$19:$I$19,2,FALSE),\"-\")","v":"-"},{"$f":"IFERROR(VLOOKUP(A3490,'25'!E3499:I3499,4,FALSE),\"-\")","v":"-"}]
[null,{"$f":"IFERROR(VLOOKUP(A3490,'25'!$E$20:$I$20,2,FALSE),\"-\")","v":"-"},{"$f":"IFERROR(VLOOKUP(A3490,'25'!E3500:I3500,4,FALSE),\"-\")","v":"-"}]
[null,{"$f":"IFERROR(VLOOKUP(A3490,'25'!$E$21:$I$21,2,FALSE),\"-\")","v":"-"},{"$f":"IFERROR(VLOOKUP(A3490,'25'!E3501:I3501,4,FALSE),\"-\")","v":"-"}]
[null,{"$f":"IFERROR(VLOOKUP(A3490,'25'!$E$22:$I$22,2,FALSE),\"-\")","v":"-"},{"$f":"IFERROR(VLOOKUP(A3490,'25'!E3502:I3502,4,FALSE),\"-\")","v":"-"}]
[null,{"$f":"IFERROR(VLOOKUP(A3490,'25'!$E$23:$I$23,2,FALSE),\"-\")","v":"-"},{"$f":"IFERROR(VLOOKUP(A3490,'25'!E3503:I3503,4,FALSE),\"-\")","v":"-"}]
[null,{"$f":"IFERROR(VLOOKUP(A3490,'25'!$E$24:$I$24,2,FALSE),\"-\")","v":"-"},{"$f":"IFERROR(VLOOKUP(A3490,'25'!E3504:I3504,4,FALSE),\"-\")","v":"-"}]
[null,{"$f":"IFERROR(VLOOKUP(A3490,'25'!$E$25:$I$25,2,FALSE),\"-\")","v":"-"},{"$f":"IFERROR(VLOOKUP(A3490,'25'!E3505:I3505,4,FALSE),\"-\")","v":"-"}]
[null,{"$f":"IFERROR(VLOOKUP(A3490,'25'!$E$26:$I$26,2,FALSE),\"-\")","v":"-"},{"$f":"IFERROR(VLOOKUP(A3490,'25'!E3506:I3506,4,FALSE),\"-\")","v":"-"}]
[null,{"$f":"IFERROR(VLOOKUP(A3490,'25'!$E$27:$I$27,2,FALSE),\"-\")","v":"-"},{"$f":"IFERROR(VLOOKUP(A3490,'25'!E3507:I3507,4,FALSE),\"-\")","v":"-"}]
[null,{"$f":"IFERROR(VLOOKUP(A3490,'25'!$E$28:$I$28,2,FALSE),\"-\")","v":"-"},{"$f":"IFERROR(VLOOKUP(A3490,'25'!E3508:I3508,4,FALSE),\"-\")","v":"-"}]
[null,{"$f":"IFERROR(VLOOKUP(A3490,'25'!$E$29:$I$29,2,FALSE),\"-\")","v":"-"},{"$f":"IFERROR(VLOOKUP(A3490,'25'!E3509:I3509,4,FALSE),\"-\")","v":"-"}]
[null,{"$f":"IFERROR(VLOOKUP(A3490,'25'!$E$30:$I$30,2,FALSE),\"-\")","v":"-"},{"$f":"IFERROR(VLOOKUP(A3490,'25'!E3510:I3510,4,FALSE),\"-\")","v":"-"}]
[null,{"$f":"IFERROR(VLOOKUP(A3490,'25'!$E$31:$I$31,2,FALSE),\"-\")","v":"-"},{"$f":"IFERROR(VLOOKUP(A3490,'25'!E3511:I3511,4,FALSE),\"-\")","v":"-"}]
[null,{"$f":"IFERROR(VLOOKUP(A3490,'26'!$E$4:$I$4,2,FALSE),\"-\")","v":"-"},{"$f":"IFERROR(VLOOKUP(A3490,'26'!E3484:I3484,4,FALSE),\"-\")","v":"-"}]
[null,{"$f":"IFERROR(VLOOKUP(A3490,'26'!$E$5:$I$5,2,FALSE),\"-\")","v":"-"},{"$f":"IFERROR(VLOOKUP(A3490,'26'!E3485:I3485,4,FALSE),\"-\")","v":"-"}]
[null,{"$f":"IFERROR(VLOOKUP(A3490,'26'!$E$6:$I$6,2,FALSE),\"-\")","v":"-"},{"$f":"IFERROR(VLOOKUP(A3490,'26'!E3486:I3486,4,FALSE),\"-\")","v":"-"}]
[null,{"$f":"IFERROR(VLOOKUP(A3490,'26'!$E$7:$I$7,2,FALSE),\"-\")","v":"-"},{"$f":"IFERROR(VLOOKUP(A3490,'26'!E3487:I3487,4,FALSE),\"-\")","v":"-"}]
[null,{"$f":"IFERROR(VLOOKUP(A3490,'26'!$E$8:$I$8,2,FALSE),\"-\")","v":"-"},{"$f":"IFERROR(VLOOKUP(A3490,'26'!E3488:I3488,4,FALSE),\"-\")","v":"-"}]
[null,{"$f":"IFERROR(VLOOKUP(A3490,'26'!$E$9:$I$9,2,FALSE),\"-\")","v":"-"},{"$f":"IFERROR(VLOOKUP(A3490,'26'!E3489:I3489,4,FALSE),\"-\")","v":"-"}]
[null,{"$f":"IFERROR(VLOOKUP(A3490,'26'!$E$10:$I$10,2,FALSE),\"-\")","v":"-"},{"$f":"IFERROR(VLOOKUP(A3490,'26'!E3490:I3490,4,FALSE),\"-\")","v":"-"}]
[null,{"$f":"IFERROR(VLOOKUP(A3490,'26'!$E$11:$I$11,2,FALSE),\"-\")","v":"-"},{"$f":"IFERROR(VLOOKUP(A3490,'26'!E3491:I3491,4,FALSE),\"-\")","v":"-"}]
[null,{"$f":"IFERROR(VLOOKUP(A3490,'26'!$E$12:$I$12,2,FALSE),\"-\")","v":"-"},{"$f":"IFERROR(VLOOKUP(A3490,'26'!E3492:I3492,4,FALSE),\"-\")","v":"-"}]
[null,{"$f":"IFERROR(VLOOKUP(A3490,'26'!$E$13:$I$13,2,FALSE),\"-\")","v":"-"},{"$f":"IFERROR(VLOOKUP(A3490,'26'!E3493:I3493,4,FALSE),\"-\")","v":"-"}]
[null,{"$f":"IFERROR(VLOOKUP(A3490,'26'!$E$14:$I$14,2,FALSE),\"-\")","v":"-"},{"$f":"IFERROR(VLOOKUP(A3490,'26'!E3494:I3494,4,FALSE),\"-\")","v":"-"}]
[null,{"$f":"IFERROR(VLOOKUP(A3490,'26'!$E$15:$I$15,2,FALSE),\"-\")","v":"-"},{"$f":"IFERROR(VLOOKUP(A3490,'26'!E3495:I3495,4,FALSE),\"-\")","v":"-"}]
[null,{"$f":"IFERROR(VLOOKUP(A3490,'26'!$E$16:$I$16,2,FALSE),\"-\")","v":"-"},{"$f":"IFERROR(VLOOKUP(A3490,'26'!E3496:I3496,4,FALSE),\"-\")","v":"-"}]
[null,{"$f":"IFERROR(VLOOKUP(A3490,'26'!$E$17:$I$17,2,FALSE),\"-\")","v":"-"},{"$f":"IFERROR(VLOOKUP(A3490,'26'!E3497:I3497,4,FALSE),\"-\")","v":"-"}]
[null,{"$f":"IFERROR(VLOOKUP(A3490,'26'!$E$18:$I$18,2,FALSE),\"-\")","v":"-"},{"$f":"IFERROR(VLOOKUP(A3490,'26'!E3498:I3498,4,FALSE),\"-\")","v":"-"}]
[null,{"$f":"IFERROR(VLOOKUP(A3490,'26'!$E$19:$I$19,2,FALSE),\"-\")","v":"-"},{"$f":"IFERROR(VLOOKUP(A3490,'26'!E3499:I3499,4,FALSE),\"-\")","v":"-"}]
[null,{"$f":"IFERROR(VLOOKUP(A3490,'26'!$E$20:$I$20,2,FALSE),\"-\")","v":"-"},{"$f":"IFERROR(VLOOKUP(A3490,'26'!E3500:I3500,4,FALSE),\"-\")","v":"-"}]
[null,{"$f":"IFERROR(VLOOKUP(A3490,'26'!$E$21:$I$21,2,FALSE),\"-\")","v":"-"},{"$f":"IFERROR(VLOOKUP(A3490,'26'!E3501:I3501,4,FALSE),\"-\")","v":"-"}]
[null,{"$f":"IFERROR(VLOOKUP(A3490,'26'!$E$22:$I$22,2,FALSE),\"-\")","v":"-"},{"$f":"IFERROR(VLOOKUP(A3490,'26'!E3502:I3502,4,FALSE),\"-\")","v":"-"}]
[null,{"$f":"IFERROR(VLOOKUP(A3490,'26'!$E$23:$I$23,2,FALSE),\"-\")","v":"-"},{"$f":"IFERROR(VLOOKUP(A3490,'26'!E3503:I3503,4,FALSE),\"-\")","v":"-"}]
[null,{"$f":"IFERROR(VLOOKUP(A3490,'26'!$E$24:$I$24,2,FALSE),\"-\")","v":"-"},{"$f":"IFERROR(VLOOKUP(A3490,'26'!E3504:I3504,4,FALSE),\"-\")","v":"-"}]
[null,{"$f":"IFERROR(VLOOKUP(A3490,'26'!$E$25:$I$25,2,FALSE),\"-\")","v":"-"},{"$f":"IFERROR(VLOOKUP(A3490,'26'!E3505:I3505,4,FALSE),\"-\")","v":"-"}]
[null,{"$f":"IFERROR(VLOOKUP(A3490,'26'!$E$26:$I$26,2,FALSE),\"-\")","v":"-"},{"$f":"IFERROR(VLOOKUP(A3490,'26'!E3506:I3506,4,FALSE),\"-\")","v":"-"}]
[null,{"$f":"IFERROR(VLOOKUP(A3490,'26'!$E$27:$I$27,2,FALSE),\"-\")","v":"-"},{"$f":"IFERROR(VLOOKUP(A3490,'26'!E3507:I3507,4,FALSE),\"-\")","v":"-"}]
[null,{"$f":"IFERROR(VLOOKUP(A3490,'26'!$E$28:$I$28,2,FALSE),\"-\")","v":"-"},{"$f":"IFERROR(VLOOKUP(A3490,'26'!E3508:I3508,4,FALSE),\"-\")","v":"-"}]
[null,{"$f":"IFERROR(VLOOKUP(A3490,'26'!E$29:$I3509,2,FALSE),\"-\")","v":"-"},{"$f":"IFERROR(VLOOKUP(A3490,'26'!E3509:I3509,4,FALSE),\"-\")","v":"-"}]
[null,{"$f":"IFERROR(VLOOKUP(A3490,'26'!$E$30:$I$30,2,FALSE),\"-\")","v":"-"},{"$f":"IFERROR(VLOOKUP(A3490,'26'!E3510:I3510,4,FALSE),\"-\")","v":"-"}]
[null,{"$f":"IFERROR(VLOOKUP(A3490,'26'!$E$31:$I$31,2,FALSE),\"-\")","v":"-"},{"$f":"IFERROR(VLOOKUP(A3490,'26'!E3511:I3511,4,FALSE),\"-\")","v":"-"}]
[null,{"$f":"IFERROR(VLOOKUP(A3490,'27'!$E$4:$I$4,2,FALSE),\"-\")","v":"-"},{"$f":"IFERROR(VLOOKUP(A3490,'27'!E3484:I3484,4,FALSE),\"-\")","v":"-"}]
[null,{"$f":"IFERROR(VLOOKUP(A3490,'27'!$E$5:$I$5,2,FALSE),\"-\")","v":"-"},{"$f":"IFERROR(VLOOKUP(A3490,'27'!E3485:I3485,4,FALSE),\"-\")","v":"-"}]
[null,{"$f":"IFERROR(VLOOKUP(A3490,'27'!$E$6:$I$6,2,FALSE),\"-\")","v":"-"},{"$f":"IFERROR(VLOOKUP(A3490,'27'!E3486:I3486,4,FALSE),\"-\")","v":"-"}]
[null,{"$f":"IFERROR(VLOOKUP(A3490,'27'!$E$7:$I$7,2,FALSE),\"-\")","v":"-"},{"$f":"IFERROR(VLOOKUP(A3490,'27'!E3487:I3487,4,FALSE),\"-\")","v":"-"}]
[null,{"$f":"IFERROR(VLOOKUP(A3490,'27'!$E$8:$I$8,2,FALSE),\"-\")","v":"-"},{"$f":"IFERROR(VLOOKUP(A3490,'27'!E3488:I3488,4,FALSE),\"-\")","v":"-"}]
[null,{"$f":"IFERROR(VLOOKUP(A3490,'27'!$E$9:$I$9,2,FALSE),\"-\")","v":"-"},{"$f":"IFERROR(VLOOKUP(A3490,'27'!E3489:I3489,4,FALSE),\"-\")","v":"-"}]
[null,{"$f":"IFERROR(VLOOKUP(A3490,'27'!$E$10:$I$10,2,FALSE),\"-\")","v":"-"},{"$f":"IFERROR(VLOOKUP(A3490,'27'!E3490:I3490,4,FALSE),\"-\")","v":"-"}]
[null,{"$f":"IFERROR(VLOOKUP(A3490,'27'!$E$11:$I$11,2,FALSE),\"-\")","v":"-"},{"$f":"IFERROR(VLOOKUP(A3490,'27'!E3491:I3491,4,FALSE),\"-\")","v":"-"}]
[null,{"$f":"IFERROR(VLOOKUP(A3490,'27'!$E$12:$I$12,2,FALSE),\"-\")","v":"-"},{"$f":"IFERROR(VLOOKUP(A3490,'27'!E3492:I3492,4,FALSE),\"-\")","v":"-"}]
[null,{"$f":"IFERROR(VLOOKUP(A3490,'27'!$E$13:$I$13,2,FALSE),\"-\")","v":"-"},{"$f":"IFERROR(VLOOKUP(A3490,'27'!E3493:I3493,4,FALSE),\"-\")","v":"-"}]
[null,{"$f":"IFERROR(VLOOKUP(A3490,'27'!$E$14:$I$14,2,FALSE),\"-\")","v":"-"},{"$f":"IFERROR(VLOOKUP(A3490,'27'!E3494:I3494,4,FALSE),\"-\")","v":"-"}]
[null,{"$f":"IFERROR(VLOOKUP(A3490,'27'!$E$15:$I$15,2,FALSE),\"-\")","v":"-"},{"$f":"IFERROR(VLOOKUP(A3490,'27'!E3495:I3495,4,FALSE),\"-\")","v":"-"}]
[null,{"$f":"IFERROR(VLOOKUP(A3490,'27'!$E$16:$I$16,2,FALSE),\"-\")","v":"-"},{"$f":"IFERROR(VLOOKUP(A3490,'27'!E3496:I3496,4,FALSE),\"-\")","v":"-"}]
[null,{"$f":"IFERROR(VLOOKUP(A3490,'27'!$E$17:$I$17,2,FALSE),\"-\")","v":"-"},{"$f":"IFERROR(VLOOKUP(A3490,'27'!E3497:I3497,4,FALSE),\"-\")","v":"-"}]
[null,{"$f":"IFERROR(VLOOKUP(A3490,'27'!$E$18:$I$18,2,FALSE),\"-\")","v":"-"},{"$f":"IFERROR(VLOOKUP(A3490,'27'!E3498:I3498,4,FALSE),\"-\")","v":"-"}]
[null,{"$f":"IFERROR(VLOOKUP(A3490,'27'!$E$19:$I$19,2,FALSE),\"-\")","v":"-"},{"$f":"IFERROR(VLOOKUP(A3490,'27'!E3499:I3499,4,FALSE),\"-\")","v":"-"}]
[null,{"$f":"IFERROR(VLOOKUP(A3490,'27'!$E$20:$I$20,2,FALSE),\"-\")","v":"-"},{"$f":"IFERROR(VLOOKUP(A3490,'27'!E3500:I3500,4,FALSE),\"-\")","v":"-"}]
[null,{"$f":"IFERROR(VLOOKUP(A3490,'27'!$E$21:$I$21,2,FALSE),\"-\")","v":"-"},{"$f":"IFERROR(VLOOKUP(A3490,'27'!E3501:I3501,4,FALSE),\"-\")","v":"-"}]
[null,{"$f":"IFERROR(VLOOKUP(A3490,'27'!$E$22:$I$22,2,FALSE),\"-\")","v":"-"},{"$f":"IFERROR(VLOOKUP(A3490,'27'!E3502:I3502,4,FALSE),\"-\")","v":"-"}]
[null,{"$f":"IFERROR(VLOOKUP(A3490,'27'!$E$23:$I$23,2,FALSE),\"-\")","v":"-"},{"$f":"IFERROR(VLOOKUP(A3490,'27'!E3503:I3503,4,FALSE),\"-\")","v":"-"}]
[null,{"$f":"IFERROR(VLOOKUP(A3490,'27'!$E$24:$I$24,2,FALSE),\"-\")","v":"-"},{"$f":"IFERROR(VLOOKUP(A3490,'27'!E3504:I3504,4,FALSE),\"-\")","v":"-"}]
[null,{"$f":"IFERROR(VLOOKUP(A3490,'27'!$E$25:$I$25,2,FALSE),\"-\")","v":"-"},{"$f":"IFERROR(VLOOKUP(A3490,'27'!E3505:I3505,4,FALSE),\"-\")","v":"-"}]
[null,{"$f":"IFERROR(VLOOKUP(A3490,'27'!$E$26:$I$26,2,FALSE),\"-\")","v":"-"},{"$f":"IFERROR(VLOOKUP(A3490,'27'!E3506:I3506,4,FALSE),\"-\")","v":"-"}]
[null,{"$f":"IFERROR(VLOOKUP(A3490,'27'!$E$27:$I$27,2,FALSE),\"-\")","v":"-"},{"$f":"IFERROR(VLOOKUP(A3490,'27'!E3507:I3507,4,FALSE),\"-\")","v":"-"}]
[null,{"$f":"IFERROR(VLOOKUP(A3490,'27'!$E$28:$I$28,2,FALSE),\"-\")","v":"-"},{"$f":"IFERROR(VLOOKUP(A3490,'27'!E3508:I3508,4,FALSE),\"-\")","v":"-"}]
[null,{"$f":"IFERROR(VLOOKUP(A3490,'27'!$E$29:$I$29,2,FALSE),\"-\")","v":"-"},{"$f":"IFERROR(VLOOKUP(A3490,'27'!E3509:I3509,4,FALSE),\"-\")","v":"-"}]
[null,{"$f":"IFERROR(VLOOKUP(A3490,'27'!$E$30:$I$30,2,FALSE),\"-\")","v":"-"},{"$f":"IFERROR(VLOOKUP(A3490,'27'!E3510:I3510,4,FALSE),\"-\")","v":"-"}]
[null,{"$f":"IFERROR(VLOOKUP(A3490,'27'!$E$31:$I$31,2,FALSE),\"-\")","v":"-"},{"$f":"IFERROR(VLOOKUP(A3490,'27'!E3511:I3511,4,FALSE),\"-\")","v":"-"}]
[null,{"$f":"IFERROR(VLOOKUP(A3490,'28'!$E$4:$I$4,2,FALSE),\"-\")","v":"-"},{"$f":"IFERROR(VLOOKUP(A3490,'28'!E3484:I3484,4,FALSE),\"-\")","v":"-"}]
[null,{"$f":"IFERROR(VLOOKUP(A3490,'28'!$E$5:$I$5,2,FALSE),\"-\")","v":"-"},{"$f":"IFERROR(VLOOKUP(A3490,'28'!E3485:I3485,4,FALSE),\"-\")","v":"-"}]
[null,{"$f":"IFERROR(VLOOKUP(A3490,'28'!$E$6:$I$6,2,FALSE),\"-\")","v":"-"},{"$f":"IFERROR(VLOOKUP(A3490,'28'!E3486:I3486,4,FALSE),\"-\")","v":"-"}]
[null,{"$f":"IFERROR(VLOOKUP(A3490,'28'!$E$7:$I$7,2,FALSE),\"-\")","v":"-"},{"$f":"IFERROR(VLOOKUP(A3490,'28'!E3487:I3487,4,FALSE),\"-\")","v":"-"}]
[null,{"$f":"IFERROR(VLOOKUP(A3490,'28'!$E$8:$I$8,2,FALSE),\"-\")","v":"-"},{"$f":"IFERROR(VLOOKUP(A3490,'28'!E3488:I3488,4,FALSE),\"-\")","v":"-"}]
[null,{"$f":"IFERROR(VLOOKUP(A3490,'28'!$E$9:$I$9,2,FALSE),\"-\")","v":"-"},{"$f":"IFERROR(VLOOKUP(A3490,'28'!E3489:I3489,4,FALSE),\"-\")","v":"-"}]
[null,{"$f":"IFERROR(VLOOKUP(A3490,'28'!$E$10:$I$10,2,FALSE),\"-\")","v":"-"},{"$f":"IFERROR(VLOOKUP(A3490,'28'!E3490:I3490,4,FALSE),\"-\")","v":"-"}]
[null,{"$f":"IFERROR(VLOOKUP(A3490,'28'!$E$11:$I$11,2,FALSE),\"-\")","v":"-"},{"$f":"IFERROR(VLOOKUP(A3490,'28'!E3491:I3491,4,FALSE),\"-\")","v":"-"}]
[null,{"$f":"IFERROR(VLOOKUP(A3490,'28'!$E$12:$I$12,2,FALSE),\"-\")","v":"-"},{"$f":"IFERROR(VLOOKUP(A3490,'28'!E3492:I3492,4,FALSE),\"-\")","v":"-"}]
[null,{"$f":"IFERROR(VLOOKUP(A3490,'28'!$E$13:$I$13,2,FALSE),\"-\")","v":"-"},{"$f":"IFERROR(VLOOKUP(A3490,'28'!E3493:I3493,4,FALSE),\"-\")","v":"-"}]
[null,{"$f":"IFERROR(VLOOKUP(A3490,'28'!$E$14:$I$14,2,FALSE),\"-\")","v":"-"},{"$f":"IFERROR(VLOOKUP(A3490,'28'!E3494:I3494,4,FALSE),\"-\")","v":"-"}]
[null,{"$f":"IFERROR(VLOOKUP(A3490,'28'!$E$15:$I$15,2,FALSE),\"-\")","v":"-"},{"$f":"IFERROR(VLOOKUP(A3490,'28'!E3495:I3495,4,FALSE),\"-\")","v":"-"}]
[null,{"$f":"IFERROR(VLOOKUP(A3490,'28'!$E$16:$I$16,2,FALSE),\"-\")","v":"-"},{"$f":"IFERROR(VLOOKUP(A3490,'28'!E3496:I3496,4,FALSE),\"-\")","v":"-"}]
[null,{"$f":"IFERROR(VLOOKUP(A3490,'28'!$E$17:$I$17,2,FALSE),\"-\")","v":"-"},{"$f":"IFERROR(VLOOKUP(A3490,'28'!E3497:I3497,4,FALSE),\"-\")","v":"-"}]
[null,{"$f":"IFERROR(VLOOKUP(A3490,'28'!$E$18:$I$18,2,FALSE),\"-\")","v":"-"},{"$f":"IFERROR(VLOOKUP(A3490,'28'!E3498:I3498,4,FALSE),\"-\")","v":"-"}]
[null,{"$f":"IFERROR(VLOOKUP(A3490,'28'!$E$19:$I$19,2,FALSE),\"-\")","v":"-"},{"$f":"IFERROR(VLOOKUP(A3490,'28'!E3499:I3499,4,FALSE),\"-\")","v":"-"}]
[null,{"$f":"IFERROR(VLOOKUP(A3490,'28'!$E$20:$I$20,2,FALSE),\"-\")","v":"-"},{"$f":"IFERROR(VLOOKUP(A3490,'28'!E3500:I3500,4,FALSE),\"-\")","v":"-"}]
[null,{"$f":"IFERROR(VLOOKUP(A3490,'28'!$E$21:$I$21,2,FALSE),\"-\")","v":"-"},{"$f":"IFERROR(VLOOKUP(A3490,'28'!E3501:I3501,4,FALSE),\"-\")","v":"-"}]
[null,{"$f":"IFERROR(VLOOKUP(A3490,'28'!$E$22:$I$22,2,FALSE),\"-\")","v":"-"},{"$f":"IFERROR(VLOOKUP(A3490,'28'!E3502:I3502,4,FALSE),\"-\")","v":"-"}]
[null,{"$f":"IFERROR(VLOOKUP(A3490,'28'!$E$23:$I$23,2,FALSE),\"-\")","v":"-"},{"$f":"IFERROR(VLOOKUP(A3490,'28'!E3503:I3503,4,FALSE),\"-\")","v":"-"}]
[null,{"$f":"IFERROR(VLOOKUP(A3490,'28'!$E$24:$I$24,2,FALSE),\"-\")","v":"-"},{"$f":"IFERROR(VLOOKUP(A3490,'28'!E3504:I3504,4,FALSE),\"-\")","v":"-"}]
[null,{"$f":"IFERROR(VLOOKUP(A3490,'28'!$E$25:$I$25,2,FALSE),\"-\")","v":"-"},{"$f":"IFERROR(VLOOKUP(A3490,'28'!E3505:I3505,4,FALSE),\"-\")","v":"-"}]
[null,{"$f":"IFERROR(VLOOKUP(A3490,'28'!$E$26:$I$26,2,FALSE),\"-\")","v":"-"},{"$f":"IFERROR(VLOOKUP(A3490,'28'!E3506:I3506,4,FALSE),\"-\")","v":"-"}]
[null,{"$f":"IFERROR(VLOOKUP(A3490,'28'!$E$27:$I$27,2,FALSE),\"-\")","v":"-"},{"$f":"IFERROR(VLOOKUP(A3490,'28'!E3507:I3507,4,FALSE),\"-\")","v":"-"}]
[null,{"$f":"IFERROR(VLOOKUP(A3490,'28'!$E$28:$I$28,2,FALSE),\"-\")","v":"-"},{"$f":"IFERROR(VLOOKUP(A3490,'28'!E3508:I3508,4,FALSE),\"-\")","v":"-"}]
[null,{"$f":"IFERROR(VLOOKUP(A3490,'28'!$E$29:$I$29,2,FALSE),\"-\")","v":"-"},{"$f":"IFERROR(VLOOKUP(A3490,'28'!E3509:I3509,4,FALSE),\"-\")","v":"-"}]
[null,{"$f":"IFERROR(VLOOKUP(A3490,'28'!$E$30:$I$30,2,FALSE),\"-\")","v":"-"},{"$f":"IFERROR(VLOOKUP(A3490,'28'!E3510:I3510,4,FALSE),\"-\")","v":"-"}]
[null,{"$f":"IFERROR(VLOOKUP(A3490,'28'!$E$31:$I$31,2,FALSE),\"-\")","v":"-"},{"$f":"IFERROR(VLOOKUP(A3490,'28'!E3511:I3511,4,FALSE),\"-\")","v":"-"}]
[null,{"$f":"IFERROR(VLOOKUP(A3490,'29'!$E$4:$I$4,2,FALSE),\"-\")","v":"-"},{"$f":"IFERROR(VLOOKUP(A3490,'29'!E3484:I3484,4,FALSE),\"-\")","v":"-"}]
[null,{"$f":"IFERROR(VLOOKUP(A3490,'29'!$E$5:$I$5,2,FALSE),\"-\")","v":"-"},{"$f":"IFERROR(VLOOKUP(A3490,'29'!E3485:I3485,4,FALSE),\"-\")","v":"-"}]
[null,{"$f":"IFERROR(VLOOKUP(A3490,'29'!$E$6:$I$6,2,FALSE),\"-\")","v":"-"},{"$f":"IFERROR(VLOOKUP(A3490,'29'!E3486:I3486,4,FALSE),\"-\")","v":"-"}]
[null,{"$f":"IFERROR(VLOOKUP(A3490,'29'!$E$7:$I$7,2,FALSE),\"-\")","v":"-"},{"$f":"IFERROR(VLOOKUP(A3490,'29'!E3487:I3487,4,FALSE),\"-\")","v":"-"}]
[null,{"$f":"IFERROR(VLOOKUP(A3490,'29'!$E$8:$I$8,2,FALSE),\"-\")","v":"-"},{"$f":"IFERROR(VLOOKUP(A3490,'29'!E3488:I3488,4,FALSE),\"-\")","v":"-"}]
[null,{"$f":"IFERROR(VLOOKUP(A3490,'29'!$E$9:$I$9,2,FALSE),\"-\")","v":"-"},{"$f":"IFERROR(VLOOKUP(A3490,'29'!E3489:I3489,4,FALSE),\"-\")","v":"-"}]
[null,{"$f":"IFERROR(VLOOKUP(A3490,'29'!$E$10:$I$10,2,FALSE),\"-\")","v":"-"},{"$f":"IFERROR(VLOOKUP(A3490,'29'!E3490:I3490,4,FALSE),\"-\")","v":"-"}]
[null,{"$f":"IFERROR(VLOOKUP(A3490,'29'!$E$11:$I$11,2,FALSE),\"-\")","v":"-"},{"$f":"IFERROR(VLOOKUP(A3490,'29'!E3491:I3491,4,FALSE),\"-\")","v":"-"}]
[null,{"$f":"IFERROR(VLOOKUP(A3490,'29'!$E$12:$I$12,2,FALSE),\"-\")","v":"-"},{"$f":"IFERROR(VLOOKUP(A3490,'29'!E3492:I3492,4,FALSE),\"-\")","v":"-"}]
[null,{"$f":"IFERROR(VLOOKUP(A3490,'29'!$E$13:$I$13,2,FALSE),\"-\")","v":"-"},{"$f":"IFERROR(VLOOKUP(A3490,'29'!E3493:I3493,4,FALSE),\"-\")","v":"-"}]
[null,{"$f":"IFERROR(VLOOKUP(A3490,'29'!$E$14:$I$14,2,FALSE),\"-\")","v":"-"},{"$f":"IFERROR(VLOOKUP(A3490,'29'!E3494:I3494,4,FALSE),\"-\")","v":"-"}]
[null,{"$f":"IFERROR(VLOOKUP(A3490,'29'!$E$15:$I$15,2,FALSE),\"-\")","v":"-"},{"$f":"IFERROR(VLOOKUP(A3490,'29'!E3495:I3495,4,FALSE),\"-\")","v":"-"}]
[null,{"$f":"IFERROR(VLOOKUP(A3490,'29'!$E$16:$I$16,2,FALSE),\"-\")","v":"-"},{"$f":"IFERROR(VLOOKUP(A3490,'29'!E3496:I3496,4,FALSE),\"-\")","v":"-"}]
[null,{"$f":"IFERROR(VLOOKUP(A3490,'29'!$E$17:$I$17,2,FALSE),\"-\")","v":"-"},{"$f":"IFERROR(VLOOKUP(A3490,'29'!E3497:I3497,4,FALSE),\"-\")","v":"-"}]
[null,{"$f":"IFERROR(VLOOKUP(A3490,'29'!$E$18:$I$18,2,FALSE),\"-\")","v":"-"},{"$f":"IFERROR(VLOOKUP(A3490,'29'!E3498:I3498,4,FALSE),\"-\")","v":"-"}]
[null,{"$f":"IFERROR(VLOOKUP(A3490,'29'!$E$19:$I$19,2,FALSE),\"-\")","v":"-"},{"$f":"IFERROR(VLOOKUP(A3490,'29'!E3499:I3499,4,FALSE),\"-\")","v":"-"}]
[null,{"$f":"IFERROR(VLOOKUP(A3490,'29'!$E$20:$I$20,2,FALSE),\"-\")","v":"-"},{"$f":"IFERROR(VLOOKUP(A3490,'29'!E3500:I3500,4,FALSE),\"-\")","v":"-"}]
[null,{"$f":"IFERROR(VLOOKUP(A3490,'29'!$E$21:$I$21,2,FALSE),\"-\")","v":"-"},{"$f":"IFERROR(VLOOKUP(A3490,'29'!E3501:I3501,4,FALSE),\"-\")","v":"-"}]
[null,{"$f":"IFERROR(VLOOKUP(A3490,'29'!$E$22:$I$22,2,FALSE),\"-\")","v":"-"},{"$f":"IFERROR(VLOOKUP(A3490,'29'!E3502:I3502,4,FALSE),\"-\")","v":"-"}]
[null,{"$f":"IFERROR(VLOOKUP(A3490,'29'!$E$23:$I$23,2,FALSE),\"-\")","v":"-"},{"$f":"IFERROR(VLOOKUP(A3490,'29'!E3503:I3503,4,FALSE),\"-\")","v":"-"}]
[null,{"$f":"IFERROR(VLOOKUP(A3490,'29'!$E$24:$I$24,2,FALSE),\"-\")","v":"-"},{"$f":"IFERROR(VLOOKUP(A3490,'29'!E3504:I3504,4,FALSE),\"-\")","v":"-"}]
[null,{"$f":"IFERROR(VLOOKUP(A3490,'29'!$E$25:$I$25,2,FALSE),\"-\")","v":"-"},{"$f":"IFERROR(VLOOKUP(A3490,'29'!E3505:I3505,4,FALSE),\"-\")","v":"-"}]
[null,{"$f":"IFERROR(VLOOKUP(A3490,'29'!$E$26:$I$26,2,FALSE),\"-\")","v":"-"},{"$f":"IFERROR(VLOOKUP(A3490,'29'!E3506:I3506,4,FALSE),\"-\")","v":"-"}]
[null,{"$f":"IFERROR(VLOOKUP(A3490,'29'!$E$27:$I$27,2,FALSE),\"-\")","v":"-"},{"$f":"IFERROR(VLOOKUP(A3490,'29'!E3507:I3507,4,FALSE),\"-\")","v":"-"}]
[null,{"$f":"IFERROR(VLOOKUP(A3490,'29'!$E$28:$I$28,2,FALSE),\"-\")","v":"-"},{"$f":"IFERROR(VLOOKUP(A3490,'29'!E3508:I3508,4,FALSE),\"-\")","v":"-"}]
[null,{"$f":"IFERROR(VLOOKUP(A3490,'29'!$E$29:$I$29,2,FALSE),\"-\")","v":"-"},{"$f":"IFERROR(VLOOKUP(A3490,'29'!E3509:I3509,4,FALSE),\"-\")","v":"-"}]
[null,{"$f":"IFERROR(VLOOKUP(A3490,'29'!$E$30:$I$30,2,FALSE),\"-\")","v":"-"},{"$f":"IFERROR(VLOOKUP(A3490,'29'!E3510:I3510,4,FALSE),\"-\")","v":"-"}]
[null,{"$f":"IFERROR(VLOOKUP(A3490,'29'!$E$31:$I$31,2,FALSE),\"-\")","v":"-"},{"$f":"IFERROR(VLOOKUP(A3490,'29'!E3511:I3511,4,FALSE),\"-\")","v":"-"}]
[null,{"$f":"IFERROR(VLOOKUP(A3490,'30'!$E$4:$I$4,2,FALSE),\"-\")","v":"-"},{"$f":"IFERROR(VLOOKUP(A3490,'30'!E3484:I3484,4,FALSE),\"-\")","v":"-"}]
[null,{"$f":"IFERROR(VLOOKUP(A3490,'30'!$E$5:$I$5,2,FALSE),\"-\")","v":"-"},{"$f":"IFERROR(VLOOKUP(A3490,'30'!E3485:I3485,4,FALSE),\"-\")","v":"-"}]
[null,{"$f":"IFERROR(VLOOKUP(A3490,'30'!$E$6:$I$6,2,FALSE),\"-\")","v":"-"},{"$f":"IFERROR(VLOOKUP(A3490,'30'!E3486:I3486,4,FALSE),\"-\")","v":"-"}]
[null,{"$f":"IFERROR(VLOOKUP(A3490,'30'!$E$7:$I$7,2,FALSE),\"-\")","v":"-"},{"$f":"IFERROR(VLOOKUP(A3490,'30'!E3487:I3487,4,FALSE),\"-\")","v":"-"}]
[null,{"$f":"IFERROR(VLOOKUP(A3490,'30'!$E$8:$I$8,2,FALSE),\"-\")","v":"-"},{"$f":"IFERROR(VLOOKUP(A3490,'30'!E3488:I3488,4,FALSE),\"-\")","v":"-"}]
[null,{"$f":"IFERROR(VLOOKUP(A3490,'30'!$E$9:$I$9,2,FALSE),\"-\")","v":"-"},{"$f":"IFERROR(VLOOKUP(A3490,'30'!E3489:I3489,4,FALSE),\"-\")","v":"-"}]
[null,{"$f":"IFERROR(VLOOKUP(A3490,'30'!$E$10:$I$10,2,FALSE),\"-\")","v":"-"},{"$f":"IFERROR(VLOOKUP(A3490,'30'!E3490:I3490,4,FALSE),\"-\")","v":"-"}]
[null,{"$f":"IFERROR(VLOOKUP(A3490,'30'!$E$11:$I$11,2,FALSE),\"-\")","v":"-"},{"$f":"IFERROR(VLOOKUP(A3490,'30'!E3491:I3491,4,FALSE),\"-\")","v":"-"}]
[null,{"$f":"IFERROR(VLOOKUP(A3490,'30'!$E$12:$I$12,2,FALSE),\"-\")","v":"-"},{"$f":"IFERROR(VLOOKUP(A3490,'30'!E3492:I3492,4,FALSE),\"-\")","v":"-"}]
[null,{"$f":"IFERROR(VLOOKUP(A3490,'30'!$E$13:$I$13,2,FALSE),\"-\")","v":"-"},{"$f":"IFERROR(VLOOKUP(A3490,'30'!E3493:I3493,4,FALSE),\"-\")","v":"-"}]
[null,{"$f":"IFERROR(VLOOKUP(A3490,'30'!$E$14:$I$14,2,FALSE),\"-\")","v":"-"},{"$f":"IFERROR(VLOOKUP(A3490,'30'!E3494:I3494,4,FALSE),\"-\")","v":"-"}]
[null,{"$f":"IFERROR(VLOOKUP(A3490,'30'!$E$15:$I$15,2,FALSE),\"-\")","v":"-"},{"$f":"IFERROR(VLOOKUP(A3490,'30'!E3495:I3495,4,FALSE),\"-\")","v":"-"}]
[null,{"$f":"IFERROR(VLOOKUP(A3490,'30'!$E$16:$I$16,2,FALSE),\"-\")","v":"-"},{"$f":"IFERROR(VLOOKUP(A3490,'30'!E3496:I3496,4,FALSE),\"-\")","v":"-"}]
[null,{"$f":"IFERROR(VLOOKUP(A3490,'30'!$E$17:$I$17,2,FALSE),\"-\")","v":"-"},{"$f":"IFERROR(VLOOKUP(A3490,'30'!E3497:I3497,4,FALSE),\"-\")","v":"-"}]
[null,{"$f":"IFERROR(VLOOKUP(A3490,'30'!$E$18:$I$18,2,FALSE),\"-\")","v":"-"},{"$f":"IFERROR(VLOOKUP(A3490,'30'!E3498:I3498,4,FALSE),\"-\")","v":"-"}]
[null,{"$f":"IFERROR(VLOOKUP(A3490,'30'!$E$19:$I$19,2,FALSE),\"-\")","v":"-"},{"$f":"IFERROR(VLOOKUP(A3490,'30'!E3499:I3499,4,FALSE),\"-\")","v":"-"}]
[null,{"$f":"IFERROR(VLOOKUP(A3490,'30'!$E$20:$I$20,2,FALSE),\"-\")","v":"-"},{"$f":"IFERROR(VLOOKUP(A3490,'30'!E3500:I3500,4,FALSE),\"-\")","v":"-"}]
[null,{"$f":"IFERROR(VLOOKUP(A3490,'30'!$E$21:$I$21,2,FALSE),\"-\")","v":"-"},{"$f":"IFERROR(VLOOKUP(A3490,'30'!E3501:I3501,4,FALSE),\"-\")","v":"-"}]
[null,{"$f":"IFERROR(VLOOKUP(A3490,'30'!$E$22:$I$22,2,FALSE),\"-\")","v":"-"},{"$f":"IFERROR(VLOOKUP(A3490,'30'!E3502:I3502,4,FALSE),\"-\")","v":"-"}]
[null,{"$f":"IFERROR(VLOOKUP(A3490,'30'!$E$23:$I$23,2,FALSE),\"-\")","v":"-"},{"$f":"IFERROR(VLOOKUP(A3490,'30'!E3503:I3503,4,FALSE),\"-\")","v":"-"}]
[null,{"$f":"IFERROR(VLOOKUP(A3490,'30'!$E$24:$I$24,2,FALSE),\"-\")","v":"-"},{"$f":"IFERROR(VLOOKUP(A3490,'30'!E3504:I3504,4,FALSE),\"-\")","v":"-"}]
[null,{"$f":"IFERROR(VLOOKUP(A3490,'30'!$E$25:$I$25,2,FALSE),\"-\")","v":"-"},{"$f":"IFERROR(VLOOKUP(A3490,'30'!E3505:I3505,4,FALSE),\"-\")","v":"-"}]
[null,{"$f":"IFERROR(VLOOKUP(A3490,'30'!$E$26:$I$26,2,FALSE),\"-\")","v":"-"},{"$f":"IFERROR(VLOOKUP(A3490,'30'!E3506:I3506,4,FALSE),\"-\")","v":"-"}]
[null,{"$f":"IFERROR(VLOOKUP(A3490,'30'!$E$27:$I$27,2,FALSE),\"-\")","v":"-"},{"$f":"IFERROR(VLOOKUP(A3490,'30'!E3507:I3507,4,FALSE),\"-\")","v":"-"}]
[null,{"$f":"IFERROR(VLOOKUP(A3490,'30'!$E$28:$I$28,2,FALSE),\"-\")","v":"-"},{"$f":"IFERROR(VLOOKUP(A3490,'30'!E3508:I3508,4,FALSE),\"-\")","v":"-"}]
[null,{"$f":"IFERROR(VLOOKUP(A3490,'30'!$E$29:$I$29,2,FALSE),\"-\")","v":"-"},{"$f":"IFERROR(VLOOKUP(A3490,'30'!E3509:I3509,4,FALSE),\"-\")","v":"-"}]
[null,{"$f":"IFERROR(VLOOKUP(A3490,'30'!$E$30:$I$30,2,FALSE),\"-\")","v":"-"},{"$f":"IFERROR(VLOOKUP(A3490,'30'!E3510:I3510,4,FALSE),\"-\")","v":"-"}]
[null,{"$f":"IFERROR(VLOOKUP(A3490,'30'!$E$31:$I$31,2,FALSE),\"-\")","v":"-"},{"$f":"IFERROR(VLOOKUP(A3490,'30'!E3511:I3511,4,FALSE),\"-\")","v":"-"}]
[null,{"$f":"IFERROR(VLOOKUP(A3490,'31'!$E$4:$I$4,2,FALSE),\"-\")","v":"-"},{"$f":"IFERROR(VLOOKUP(A3490,'31'!E3484:I3484,4,FALSE),\"-\")","v":"-"}]
[null,{"$f":"IFERROR(VLOOKUP(A3490,'31'!$E$5:$I$5,2,FALSE),\"-\")","v":"-"},{"$f":"IFERROR(VLOOKUP(A3490,'31'!E3485:I3485,4,FALSE),\"-\")","v":"-"}]
[null,{"$f":"IFERROR(VLOOKUP(A3490,'31'!$E$6:$I$6,2,FALSE),\"-\")","v":"-"},{"$f":"IFERROR(VLOOKUP(A3490,'31'!E3486:I3486,4,FALSE),\"-\")","v":"-"}]
[null,{"$f":"IFERROR(VLOOKUP(A3490,'31'!$E$7:$I$7,2,FALSE),\"-\")","v":"-"},{"$f":"IFERROR(VLOOKUP(A3490,'31'!E3487:I3487,4,FALSE),\"-\")","v":"-"}]
[null,{"$f":"IFERROR(VLOOKUP(A3490,'31'!$E$8:$I$8,2,FALSE),\"-\")","v":"Fulano"},{"$f":"IFERROR(VLOOKUP(A3490,'31'!E3488:I3488,4,FALSE),\"-\")","v":"-"}]
[null,{"$f":"IFERROR(VLOOKUP(A3490,'31'!$E$9:$I$9,2,FALSE),\"-\")","v":"-"},{"$f":"IFERROR(VLOOKUP(A3490,'31'!E3489:I3489,4,FALSE),\"-\")","v":"-"}]
[null,{"$f":"IFERROR(VLOOKUP(A3490,'31'!$E$10:$I$10,2,FALSE),\"-\")","v":"-"},{"$f":"IFERROR(VLOOKUP(A3490,'31'!E3490:I3490,4,FALSE),\"-\")","v":"-"}]
[null,{"$f":"IFERROR(VLOOKUP(A3490,'31'!$E$11:$I$11,2,FALSE),\"-\")","v":"-"},{"$f":"IFERROR(VLOOKUP(A3490,'31'!E3491:I3491,4,FALSE),\"-\")","v":"-"}]
[null,{"$f":"IFERROR(VLOOKUP(A3490,'31'!$E$12:$I$12,2,FALSE),\"-\")","v":"-"},{"$f":"IFERROR(VLOOKUP(A3490,'31'!E3492:I3492,4,FALSE),\"-\")","v":"-"}]
[null,{"$f":"IFERROR(VLOOKUP(A3490,'31'!$E$13:$I$13,2,FALSE),\"-\")","v":"-"},{"$f":"IFERROR(VLOOKUP(A3490,'31'!E3493:I3493,4,FALSE),\"-\")","v":"-"}]
[null,{"$f":"IFERROR(VLOOKUP(A3490,'31'!$E$14:$I$14,2,FALSE),\"-\")","v":"-"},{"$f":"IFERROR(VLOOKUP(A3490,'31'!E3494:I3494,4,FALSE),\"-\")","v":"-"}]
[null,{"$f":"IFERROR(VLOOKUP(A3490,'31'!$E$15:$I$15,2,FALSE),\"-\")","v":"-"},{"$f":"IFERROR(VLOOKUP(A3490,'31'!E3495:I3495,4,FALSE),\"-\")","v":"-"}]
[null,{"$f":"IFERROR(VLOOKUP(A3490,'31'!$E$16:$I$16,2,FALSE),\"-\")","v":"-"},{"$f":"IFERROR(VLOOKUP(A3490,'31'!E3496:I3496,4,FALSE),\"-\")","v":"-"}]
[null,{"$f":"IFERROR(VLOOKUP(A3490,'31'!$E$17:$I$17,2,FALSE),\"-\")","v":"-"},{"$f":"IFERROR(VLOOKUP(A3490,'31'!E3497:I3497,4,FALSE),\"-\")","v":"-"}]
[null,{"$f":"IFERROR(VLOOKUP(A3490,'31'!$E$18:$I$18,2,FALSE),\"-\")","v":"-"},{"$f":"IFERROR(VLOOKUP(A3490,'31'!E3498:I3498,4,FALSE),\"-\")","v":"-"}]
[null,{"$f":"IFERROR(VLOOKUP(A3490,'31'!$E$19:$I$19,2,FALSE),\"-\")","v":"-"},{"$f":"IFERROR(VLOOKUP(A3490,'31'!E3499:I3499,4,FALSE),\"-\")","v":"-"}]
[null,{"$f":"IFERROR(VLOOKUP(A3490,'31'!$E$20:$I$20,2,FALSE),\"-\")","v":"-"},{"$f":"IFERROR(VLOOKUP(A3490,'31'!E3500:I3500,4,FALSE),\"-\")","v":"-"}]
[null,{"$f":"IFERROR(VLOOKUP(A3490,'31'!$E$21:$I$21,2,FALSE),\"-\")","v":"-"},{"$f":"IFERROR(VLOOKUP(A3490,'31'!E3501:I3501,4,FALSE),\"-\")","v":"-"}]
[null,{"$f":"IFERROR(VLOOKUP(A3490,'31'!$E$22:$I$22,2,FALSE),\"-\")","v":"-"},{"$f":"IFERROR(VLOOKUP(A3490,'31'!E3502:I3502,4,FALSE),\"-\")","v":"-"}]
[null,{"$f":"IFERROR(VLOOKUP(A3490,'31'!$E$23:$I$23,2,FALSE),\"-\")","v":"-"},{"$f":"IFERROR(VLOOKUP(A3490,'31'!E3503:I3503,4,FALSE),\"-\")","v":"-"}]
[null,{"$f":"IFERROR(VLOOKUP(A3490,'31'!$E$24:$I$24,2,FALSE),\"-\")","v":"-"},{"$f":"IFERROR(VLOOKUP(A3490,'31'!E3504:I3504,4,FALSE),\"-\")","v":"-"}]
[null,{"$f":"IFERROR(VLOOKUP(A3490,'31'!$E$25:$I$25,2,FALSE),\"-\")","v":"-"},{"$f":"IFERROR(VLOOKUP(A3490,'31'!E3505:I3505,4,FALSE),\"-\")","v":"-"}]
[null,{"$f":"IFERROR(VLOOKUP(A3490,'31'!$E$26:$I$26,2,FALSE),\"-\")","v":"-"},{"$f":"IFERROR(VLOOKUP(A3490,'31'!E3506:I3506,4,FALSE),\"-\")","v":"-"}]
[null,{"$f":"IFERROR(VLOOKUP(A3490,'31'!$E$27:$I$27,2,FALSE),\"-\")","v":"-"},{"$f":"IFERROR(VLOOKUP(A3490,'31'!E3507:I3507,4,FALSE),\"-\")","v":"-"}]
[null,{"$f":"IFERROR(VLOOKUP(A3490,'31'!$E$28:$I$28,2,FALSE),\"-\")","v":"-"},{"$f":"IFERROR(VLOOKUP(A3490,'31'!E3508:I3508,4,FALSE),\"-\")","v":"-"}]
[null,{"$f":"IFERROR(VLOOKUP(A3490,'31'!$E$29:$I$29,2,FALSE),\"-\")","v":"-"},{"$f":"IFERROR(VLOOKUP(A3490,'31'!E3509:I3509,4,FALSE),\"-\")","v":"-"}]
[null,{"$f":"IFERROR(VLOOKUP(A3490,'31'!$E$30:$I$30,2,FALSE),\"-\")","v":"-"},{"$f":"IFERROR(VLOOKUP(A3490,'31'!E3510:I3510,4,FALSE),\"-\")","v":"-"}]
[null,{"$f":"IFERROR(VLOOKUP(A3490,'31'!$E$31:$I$31,2,FALSE),\"-\")","v":"-"},{"$f":"IFERROR(VLOOKUP(A3490,'31'!E3511:I3511,4,FALSE),\"-\")","v":"-"}]